{"text_format":"2","workbook":"xlsx","n_sheets":2,"sheets":["Výsledky","Mezičasy"],"not_rendered":{"charts":1,"images":0,"macros":0,"external_links":0,"defined_names":3,"comments":0,"pivot_tables":1},"unopened":[],"bounds":{"document_bytes":16777216,"sheet_cells":100000,"run_cost":"one","rows_first":2000,"rows_last":500,"rows_between":2000,"halvings":0,"cell_chars":16384,"cell_head_chars":4096},"cells_cut":0,"cells_raw":0,"read":"whole","date_system":"1900"}

{"sheet":"Výsledky","index":0,"n_rows":60,"n_cols":18,"rows_kept":60,"cut":false,"hidden":false,"merged":[]}
["Pořadí",":","Kategorie","Číslo čipu","Závodník","Chyby ražení","Běžecký čas","Koeficient","Penalizace","Čas po penalizacích","VÝSLEDNÝ čas","-","Pořadí ","Kat.","Závodník ","Běžecký č.","Koef","Výsledný čas "]
[1,null,"MA","8655470","Jiří Doucha",0,2.9710648148148146E-2,0.84199999999999997,0,2.9710648148148146E-2,2.5016365740740738E-2,null,1,"MA","Jiří Doucha",2.9710648148148146E-2,0.84199999999999997,2.5016365740740738E-2]
[2,null,"MA","1396839","Jaroslav Choutka",0,3.4062499999999996E-2,0.79200000000000004,0,3.4062499999999996E-2,2.6977499999999998E-2,null,2,"MA","Jaroslav Choutka",3.4062499999999996E-2,0.79200000000000004,2.6977499999999998E-2]
[3,null,"MA","8005128","Tomáš Jandera",0,3.3495370370370363E-2,0.85199999999999998,0,3.3495370370370363E-2,2.8538055555555549E-2,null,3,"MA","Tomáš Jandera",3.3495370370370363E-2,0.85199999999999998,2.8538055555555549E-2]
[4,null,"MA","8076025","Martin Doucha",0,2.8576388888888884E-2,1,0,2.8576388888888884E-2,2.8576388888888884E-2,null,4,"MA","Martin Doucha",2.8576388888888884E-2,1,2.8576388888888884E-2]
[5,null,"MA","2067886","Magdaléna Randíková",0,3.3356481481481473E-2,0.93300000000000005,0,3.3356481481481473E-2,3.1121597222222217E-2,null,5,"MA","Magdaléna Randíková",3.3356481481481473E-2,0.93300000000000005,3.1121597222222217E-2]
[6,null,"MA","8505711","Ondřej Janeček",0,3.8888888888888883E-2,0.83699999999999997,0,3.8888888888888883E-2,3.2549999999999996E-2,null,6,"MA","Ondřej Janeček",3.8888888888888883E-2,0.83699999999999997,3.2549999999999996E-2]
[7,null,"MA","7201191","Jiří Janeček",0,3.3715277777777768E-2,1,0,3.3715277777777768E-2,3.3715277777777768E-2,null,7,"MA","Jiří Janeček",3.3715277777777768E-2,1,3.3715277777777768E-2]
[8,null,"MA","53099","Roman Drahoňovský",0,4.1273148148148142E-2,0.82199999999999995,0,4.1273148148148142E-2,3.3926527777777771E-2,null,8,"MA","Roman Drahoňovský",4.1273148148148142E-2,0.82199999999999995,3.3926527777777771E-2]
[9,null,"MA","4207","Jan Benda",0,3.8113425925925926E-2,0.89700000000000002,0,3.8113425925925926E-2,3.4187743055555553E-2,null,9,"MA","Jan Benda",3.8113425925925926E-2,0.89700000000000002,3.4187743055555553E-2]
[10,null,"MA","8019416","Tomáš Doucha",0,3.4826388888888886E-2,1,0,3.4826388888888886E-2,3.4826388888888886E-2,null,10,"MA","Tomáš Doucha",3.4826388888888886E-2,1,3.4826388888888886E-2]
[11,null,"MA","8662280","Kryštof Jandera",0,3.6817129629629623E-2,1,0,3.6817129629629623E-2,3.6817129629629623E-2,null,11,"MA","Kryštof Jandera",3.6817129629629623E-2,1,3.6817129629629623E-2]
[12,null,"MA","2090842","Pavel Janík",0,4.4641203703703697E-2,0.82699999999999996,0,4.4641203703703697E-2,3.6918275462962953E-2,null,12,"MA","Pavel Janík",4.4641203703703697E-2,0.82699999999999996,3.6918275462962953E-2]
[13,null,"MA","07957","Vít Ransdorf",0,3.7175925925925918E-2,1,0,3.7175925925925918E-2,3.7175925925925918E-2,null,13,"MA","Vít Ransdorf",3.7175925925925918E-2,1,3.7175925925925918E-2]
[14,null,"MA","53060","Vojtěch Kolenčík",0,4.3194444444444438E-2,0.90700000000000003,0,4.3194444444444438E-2,3.9177361111111107E-2,null,14,"MA","Vojtěch Kolenčík",4.3194444444444438E-2,0.90700000000000003,3.9177361111111107E-2]
[15,null,"MA","53043","Václav Veselý",0,5.8506944444444438E-2,0.92500000000000004,0,5.8506944444444438E-2,5.4118923611111105E-2,null,15,"MA","Václav Veselý",5.8506944444444438E-2,0.92500000000000004,5.4118923611111105E-2]
[1,null,"MB","8512719","Ladislav Kolařík",0,3.1817129629629626E-2,0.877,0,3.1817129629629626E-2,2.7903622685185182E-2,null,1,"MB","Ladislav Kolařík",3.1817129629629626E-2,0.877,2.7903622685185182E-2]
[2,null,"MB","4188","Ondřej Janeček",0,3.0972222222222217E-2,1,0,3.0972222222222217E-2,3.0972222222222217E-2,null,2,"MB","Ondřej Janeček",3.0972222222222217E-2,1,3.0972222222222217E-2]
[3,null,"MB","53044","Karel Hanek",0,4.6342592592592588E-2,0.68200000000000005,0,4.6342592592592588E-2,3.1605648148148147E-2,null,3,"MB","Karel Hanek",4.6342592592592588E-2,0.68200000000000005,3.1605648148148147E-2]
[4,null,"MB","53046","Michal Beneš",0,4.1111111111111105E-2,0.877,0,4.1111111111111105E-2,3.6054444444444438E-2,null,4,"MB","Michal Beneš",4.1111111111111105E-2,0.877,3.6054444444444438E-2]
[5,null,"MB","07934","Miroslav Ransdorf",0,4.2662037037037033E-2,0.85199999999999998,0,4.2662037037037033E-2,3.634805555555555E-2,null,5,"MB","Miroslav Ransdorf",4.2662037037037033E-2,0.85199999999999998,3.634805555555555E-2]
[6,null,"MB","53020","Jaromír Němec",0,3.9641203703703699E-2,1,0,3.9641203703703699E-2,3.9641203703703699E-2,null,6,"MB","Jaromír Němec",3.9641203703703699E-2,1,3.9641203703703699E-2]
[7,null,"MB","53030","Štěpánek Bedřich",0,5.229166666666666E-2,0.81699999999999995,0,5.229166666666666E-2,4.2722291666666662E-2,null,7,"MB","Štěpánek Bedřich",5.229166666666666E-2,0.81699999999999995,4.2722291666666662E-2]
[8,null,"MB","53036","Štěpánek Jiří",0,4.282407407407407E-2,1,0,4.282407407407407E-2,4.282407407407407E-2,null,8,"MB","Štěpánek Jiří",4.282407407407407E-2,1,4.282407407407407E-2]
[9,null,"MB","53064","Josef Sedláček",0,4.4259259259259255E-2,1,0,4.4259259259259255E-2,4.4259259259259255E-2,null,9,"MB","Josef Sedláček",4.4259259259259255E-2,1,4.4259259259259255E-2]
[10,null,"MB","53066","Luděk Sedláček",0,5.4467592592592588E-2,0.86199999999999999,0,5.4467592592592588E-2,4.6951064814814814E-2,null,10,"MB","Luděk Sedláček",5.4467592592592588E-2,0.86199999999999999,4.6951064814814814E-2]
[1,null,"N1","2219004","Matěj Havlíček",0,1.3090277777777777E-2,1,0,1.3090277777777777E-2,1.3090277777777777E-2,null,1,"N1","Matěj Havlíček",1.3090277777777777E-2,1,1.3090277777777777E-2]
[2,null,"N1","53054","Lia Biedermannová",0,1.8900462962962963E-2,1,0,1.8900462962962963E-2,1.8900462962962963E-2,null,2,"N1","Lia Biedermannová",1.8900462962962963E-2,1,1.8900462962962963E-2]
[3,null,"N1","53048","Karin Beneš",0,2.2870370370370367E-2,1,0,2.2870370370370367E-2,2.2870370370370367E-2,null,3,"N1","Karin Beneš",2.2870370370370367E-2,1,2.2870370370370367E-2]
[4,null,"N1","53049","Michal Ženíšek",0,2.8784722222222218E-2,1,0,2.8784722222222218E-2,2.8784722222222218E-2,null,4,"N1","Michal Ženíšek",2.8784722222222218E-2,1,2.8784722222222218E-2]
[5,null,"N1","53055","Maja Biedermannová",0,3.4803240740740739E-2,1,0,3.4803240740740739E-2,3.4803240740740739E-2,null,5,"N1","Maja Biedermannová",3.4803240740740739E-2,1,3.4803240740740739E-2]
[6,null,"N1","53027","Jakub + 2 Randík",0,5.9710648148148138E-2,1,0,5.9710648148148138E-2,5.9710648148148138E-2,null,6,"N1","Jakub + 2 Randík",5.9710648148148138E-2,1,5.9710648148148138E-2]
[7,null,"N1","53051","Magdaléna Skořepová",0,6.1203703703703698E-2,1,0,6.1203703703703698E-2,6.1203703703703698E-2,null,7,"N1","Magdaléna Skořepová",6.1203703703703698E-2,1,6.1203703703703698E-2]
[1,null,"N2","53047","Stanislav Beneš",0,2.1284722222222222E-2,1,0,2.1284722222222222E-2,2.1284722222222222E-2,null,1,"N2","Stanislav Beneš",2.1284722222222222E-2,1,2.1284722222222222E-2]
[2,null,"N2","8502697","Jiří Kolařík",0,2.2268518518518517E-2,1,0,2.2268518518518517E-2,2.2268518518518517E-2,null,2,"N2","Jiří Kolařík",2.2268518518518517E-2,1,2.2268518518518517E-2]
[3,null,"N2","8510910","Jakub Kolařík",0,2.4016203703703699E-2,1,0,2.4016203703703699E-2,2.4016203703703699E-2,null,3,"N2","Jakub Kolařík",2.4016203703703699E-2,1,2.4016203703703699E-2]
[4,null,"N2","53040","Petr / Vitalitas pojišťovna Primus",0,2.5740740740740738E-2,1,0,2.5740740740740738E-2,2.5740740740740738E-2,null,4,"N2","Petr / Vitalitas pojišťovna Primus",2.5740740740740738E-2,1,2.5740740740740738E-2]
[5,null,"N2","53041","Stanislav Lebeda",1,1.9305555555555555E-2,1,6.9444444444444441E-3,2.6249999999999999E-2,2.6249999999999999E-2,null,5,"N2","Stanislav Lebeda",1.9305555555555555E-2,1,2.6249999999999999E-2]
[6,null,"N2","53050","Lenka Thieme",0,3.1562499999999993E-2,1,0,3.1562499999999993E-2,3.1562499999999993E-2,null,6,"N2","Lenka Thieme",3.1562499999999993E-2,1,3.1562499999999993E-2]
[7,null,"N2","53021","Ilona Setničková",0,3.2222222222222222E-2,1,0,3.2222222222222222E-2,3.2222222222222222E-2,null,7,"N2","Ilona Setničková",3.2222222222222222E-2,1,3.2222222222222222E-2]
[8,null,"N2","53042","Veronika + 1 Veselá",0,5.0601851851851849E-2,1,0,5.0601851851851849E-2,5.0601851851851849E-2,null,8,"N2","Veronika + 1 Veselá",5.0601851851851849E-2,1,5.0601851851851849E-2]
[9,null,"N2","53068","Cimbulka Václav",0,6.6678240740740732E-2,1,0,6.6678240740740732E-2,6.6678240740740732E-2,null,9,"N2","Cimbulka Václav",6.6678240740740732E-2,1,6.6678240740740732E-2]
[1,null,"ŽA","8196075","Marie Kolaříková",0,3.1944444444444442E-2,0.877,0,3.1944444444444442E-2,2.8015277777777774E-2,null,1,"ŽA","Marie Kolaříková",3.1944444444444442E-2,0.877,2.8015277777777774E-2]
[2,null,"ŽA","8529580","Veronika Janečková",0,3.4618055555555555E-2,0.84199999999999997,0,3.4618055555555555E-2,2.9148402777777777E-2,null,2,"ŽA","Veronika Janečková",3.4618055555555555E-2,0.84199999999999997,2.9148402777777777E-2]
[3,null,"ŽA","8502678","Alena Brabencová",0,3.8483796296296294E-2,0.84199999999999997,0,3.8483796296296294E-2,3.2403356481481481E-2,null,3,"ŽA","Alena Brabencová",3.8483796296296294E-2,0.84199999999999997,3.2403356481481481E-2]
[4,null,"ŽA","53065","Jana Sedláčková",0,3.6215277777777777E-2,0.90700000000000003,0,3.6215277777777777E-2,3.2847256944444445E-2,null,4,"ŽA","Jana Sedláčková",3.6215277777777777E-2,0.90700000000000003,3.2847256944444445E-2]
[5,null,"ŽA","8662356","Markéta Janderová",0,3.7766203703703705E-2,0.872,0,3.7766203703703705E-2,3.2932129629629631E-2,null,5,"ŽA","Markéta Janderová",3.7766203703703705E-2,0.872,3.2932129629629631E-2]
[6,null,"ŽA","8512632","Jaroslava Douchová",0,4.6597222222222213E-2,0.84199999999999997,0,4.6597222222222213E-2,3.9234861111111102E-2,null,6,"ŽA","Jaroslava Douchová",4.6597222222222213E-2,0.84199999999999997,3.9234861111111102E-2]
[7,null,"ŽA","2090841","Martina Janíková",0,4.9155092592592584E-2,0.82199999999999995,0,4.9155092592592584E-2,4.0405486111111104E-2,null,7,"ŽA","Martina Janíková",4.9155092592592584E-2,0.82199999999999995,4.0405486111111104E-2]
[1,null,"ŽB","53025","Barbora Němcová",0,2.9525462962962962E-2,0.86199999999999999,0,2.9525462962962962E-2,2.5450949074074074E-2,null,1,"ŽB","Barbora Němcová",2.9525462962962962E-2,0.86199999999999999,2.5450949074074074E-2]
[2,null,"ŽB","51261","Marie/ČSOB Vaiglová",0,3.2974537037037031E-2,0.78200000000000003,0,3.2974537037037031E-2,2.5786087962962959E-2,null,2,"ŽB","Marie/ČSOB Vaiglová",3.2974537037037031E-2,0.78200000000000003,2.5786087962962959E-2]
[3,null,"ŽB","53097","Lucie Drahoňovská",0,2.7731481481481478E-2,1,0,2.7731481481481478E-2,2.7731481481481478E-2,null,3,"ŽB","Lucie Drahoňovská",2.7731481481481478E-2,1,2.7731481481481478E-2]
[4,null,"ŽB","2152858","Nina Benešová",0,3.3287037037037032E-2,0.90200000000000002,0,3.3287037037037032E-2,3.0024907407407403E-2,null,4,"ŽB","Nina Benešová",3.3287037037037032E-2,0.90200000000000002,3.0024907407407403E-2]
[5,null,"ŽB","53022","Magdalena Němcová",0,3.0092592592592591E-2,1,0,3.0092592592592591E-2,3.0092592592592591E-2,null,5,"ŽB","Magdalena Němcová",3.0092592592592591E-2,1,3.0092592592592591E-2]
[6,null,"ŽB","07967","Eliška Sedláčková",0,3.3761574074074069E-2,1,0,3.3761574074074069E-2,3.3761574074074069E-2,null,6,"ŽB","Eliška Sedláčková",3.3761574074074069E-2,1,3.3761574074074069E-2]
[7,null,"ŽB","53052","Klára Matušková",0,4.11574074074074E-2,0.86199999999999999,0,4.11574074074074E-2,3.5477685185185175E-2,null,7,"ŽB","Klára Matušková",4.11574074074074E-2,0.86199999999999999,3.5477685185185175E-2]
[8,null,"ŽB","07935","Šárka Ransdorfová",0,4.3217592592592585E-2,0.84699999999999998,0,4.3217592592592585E-2,3.660530092592592E-2,null,8,"ŽB","Šárka Ransdorfová",4.3217592592592585E-2,0.84699999999999998,3.660530092592592E-2]
[9,null,"ŽB","53026","Štěpánková Kateřina",0,4.5624999999999992E-2,0.85199999999999998,0,4.5624999999999992E-2,3.887249999999999E-2,null,9,"ŽB","Štěpánková Kateřina",4.5624999999999992E-2,0.85199999999999998,3.887249999999999E-2]
[10,null,"ŽB","53045","Mája Hanková",0,5.107638888888888E-2,0.76200000000000001,0,5.107638888888888E-2,3.8920208333333324E-2,null,10,"ŽB","Mája Hanková",5.107638888888888E-2,0.76200000000000001,3.8920208333333324E-2]
[11,null,"ŽB","53039","Iva Křivánková",0,6.1956018518518514E-2,0.81200000000000006,0,6.1956018518518514E-2,5.030828703703704E-2,null,11,"ŽB","Iva Křivánková",6.1956018518518514E-2,0.81200000000000006,5.030828703703704E-2]

{"sheet":"Mezičasy","index":1,"n_rows":799,"n_cols":31,"rows_kept":799,"cut":false,"hidden":false,"merged":[]}
["Kategorie","FamilyName","GivenName","PersonId","StartToFinish","ControlCode","SplitTimeSeconds","Závodník","Číslo čipu","Legenda","Kontrola","Čas","Pořadí kontroly",null,"Kategorie","MA"]
["MA","Doucha","Martin","0080003",2469,93,202,{"$f":"ExportXML3_SplitTimes[[#This Row],[GivenName]]&\" \"&ExportXML3_SplitTimes[[#This Row],[FamilyName]]","v":"Martin Doucha"},{"$f":"_xlfn.XLOOKUP(ExportXML3_SplitTimes[[#This Row],[PersonId]],#REF!,#REF!,\"-\")","v":{"$error":"#REF!"}},{"$f":"ExportXML3_SplitTimes[[#This Row],[Kategorie]] & \" - \" & ExportXML3_SplitTimes[[#This Row],[Závodník]] & \" (\" & ExportXML3_SplitTimes[[#This Row],[Číslo čipu]] & \")\"","v":{"$error":"#REF!"}},{"$f":"ExportXML3_SplitTimes[[#This Row],[ControlCode]]","v":93},{"$f":"ExportXML3_SplitTimes[[#This Row],[SplitTimeSeconds]]/3600/24","v":"00:03:22"},{"$f":"COUNTIFS(ExportXML3_SplitTimes[Legenda],ExportXML3_SplitTimes[[#This Row],[Legenda]],ExportXML3_SplitTimes[Čas],\"<=\"&ExportXML3_SplitTimes[[#This Row],[Čas]])","v":5},null,"Závodník","(All)"]
["MA","Doucha","Martin","0080003",2469,55,371,{"$f":"ExportXML3_SplitTimes[[#This Row],[GivenName]]&\" \"&ExportXML3_SplitTimes[[#This Row],[FamilyName]]","v":"Martin Doucha"},{"$f":"_xlfn.XLOOKUP(ExportXML3_SplitTimes[[#This Row],[PersonId]],#REF!,#REF!,\"-\")","v":{"$error":"#REF!"}},{"$f":"ExportXML3_SplitTimes[[#This Row],[Kategorie]] & \" - \" & ExportXML3_SplitTimes[[#This Row],[Závodník]] & \" (\" & ExportXML3_SplitTimes[[#This Row],[Číslo čipu]] & \")\"","v":{"$error":"#REF!"}},{"$f":"ExportXML3_SplitTimes[[#This Row],[ControlCode]]","v":55},{"$f":"ExportXML3_SplitTimes[[#This Row],[SplitTimeSeconds]]/3600/24","v":"00:06:11"},{"$f":"COUNTIFS(ExportXML3_SplitTimes[Legenda],ExportXML3_SplitTimes[[#This Row],[Legenda]],ExportXML3_SplitTimes[Čas],\"<=\"&ExportXML3_SplitTimes[[#This Row],[Čas]])","v":45}]
["MA","Doucha","Martin","0080003",2469,54,408,{"$f":"ExportXML3_SplitTimes[[#This Row],[GivenName]]&\" \"&ExportXML3_SplitTimes[[#This Row],[FamilyName]]","v":"Martin Doucha"},{"$f":"_xlfn.XLOOKUP(ExportXML3_SplitTimes[[#This Row],[PersonId]],#REF!,#REF!,\"-\")","v":{"$error":"#REF!"}},{"$f":"ExportXML3_SplitTimes[[#This Row],[Kategorie]] & \" - \" & ExportXML3_SplitTimes[[#This Row],[Závodník]] & \" (\" & ExportXML3_SplitTimes[[#This Row],[Číslo čipu]] & \")\"","v":{"$error":"#REF!"}},{"$f":"ExportXML3_SplitTimes[[#This Row],[ControlCode]]","v":54},{"$f":"ExportXML3_SplitTimes[[#This Row],[SplitTimeSeconds]]/3600/24","v":"00:06:48"},{"$f":"COUNTIFS(ExportXML3_SplitTimes[Legenda],ExportXML3_SplitTimes[[#This Row],[Legenda]],ExportXML3_SplitTimes[Čas],\"<=\"&ExportXML3_SplitTimes[[#This Row],[Čas]])","v":53},null,"Max of Čas","Column Labels"]
["MA","Doucha","Martin","0080003",2469,53,493,{"$f":"ExportXML3_SplitTimes[[#This Row],[GivenName]]&\" \"&ExportXML3_SplitTimes[[#This Row],[FamilyName]]","v":"Martin Doucha"},{"$f":"_xlfn.XLOOKUP(ExportXML3_SplitTimes[[#This Row],[PersonId]],#REF!,#REF!,\"-\")","v":{"$error":"#REF!"}},{"$f":"ExportXML3_SplitTimes[[#This Row],[Kategorie]] & \" - \" & ExportXML3_SplitTimes[[#This Row],[Závodník]] & \" (\" & ExportXML3_SplitTimes[[#This Row],[Číslo čipu]] & \")\"","v":{"$error":"#REF!"}},{"$f":"ExportXML3_SplitTimes[[#This Row],[ControlCode]]","v":53},{"$f":"ExportXML3_SplitTimes[[#This Row],[SplitTimeSeconds]]/3600/24","v":"00:08:13"},{"$f":"COUNTIFS(ExportXML3_SplitTimes[Legenda],ExportXML3_SplitTimes[[#This Row],[Legenda]],ExportXML3_SplitTimes[Čas],\"<=\"&ExportXML3_SplitTimes[[#This Row],[Čas]])","v":76},null,"Row Labels","MA - Jan Benda (4207)","MA - Jaroslav Choutka (1396839)","MA - Jiří Doucha (8655470)","MA - Jiří Janeček (7201191)","MA - Kryštof Jandera (8662280)","MA - Magdaléna Randíková (2067886)","MA - Martin Doucha (8076025)","MA - Ondřej Janeček (8505711)","MA - Pavel Janík (2090842)","MA - Tomáš Doucha (8019416)","MA - Tomáš Jandera (8005128)","MA - Václav Veselý (53043)","MA - Vít Ransdorf (07957)","MA - Vojtěch Kolenčík (53060)","MA - Roman Drahoňovský (-)","Grand Total"]
["MA","Doucha","Martin","0080003",2469,50,625,{"$f":"ExportXML3_SplitTimes[[#This Row],[GivenName]]&\" \"&ExportXML3_SplitTimes[[#This Row],[FamilyName]]","v":"Martin Doucha"},{"$f":"_xlfn.XLOOKUP(ExportXML3_SplitTimes[[#This Row],[PersonId]],#REF!,#REF!,\"-\")","v":{"$error":"#REF!"}},{"$f":"ExportXML3_SplitTimes[[#This Row],[Kategorie]] & \" - \" & ExportXML3_SplitTimes[[#This Row],[Závodník]] & \" (\" & ExportXML3_SplitTimes[[#This Row],[Číslo čipu]] & \")\"","v":{"$error":"#REF!"}},{"$f":"ExportXML3_SplitTimes[[#This Row],[ControlCode]]","v":50},{"$f":"ExportXML3_SplitTimes[[#This Row],[SplitTimeSeconds]]/3600/24","v":"00:10:25"},{"$f":"COUNTIFS(ExportXML3_SplitTimes[Legenda],ExportXML3_SplitTimes[[#This Row],[Legenda]],ExportXML3_SplitTimes[Čas],\"<=\"&ExportXML3_SplitTimes[[#This Row],[Čas]])","v":117},null,1,"00:04:18","00:04:14","00:03:57","00:06:18","00:03:47","00:04:20","00:03:22","00:05:34","00:06:55","00:04:49","00:04:46","00:12:10","00:06:20","00:06:22","00:08:06","00:12:10"]
["MA","Doucha","Martin","0080003",2469,49,663,{"$f":"ExportXML3_SplitTimes[[#This Row],[GivenName]]&\" \"&ExportXML3_SplitTimes[[#This Row],[FamilyName]]","v":"Martin Doucha"},{"$f":"_xlfn.XLOOKUP(ExportXML3_SplitTimes[[#This Row],[PersonId]],#REF!,#REF!,\"-\")","v":{"$error":"#REF!"}},{"$f":"ExportXML3_SplitTimes[[#This Row],[Kategorie]] & \" - \" & ExportXML3_SplitTimes[[#This Row],[Závodník]] & \" (\" & ExportXML3_SplitTimes[[#This Row],[Číslo čipu]] & \")\"","v":{"$error":"#REF!"}},{"$f":"ExportXML3_SplitTimes[[#This Row],[ControlCode]]","v":49},{"$f":"ExportXML3_SplitTimes[[#This Row],[SplitTimeSeconds]]/3600/24","v":"00:11:03"},{"$f":"COUNTIFS(ExportXML3_SplitTimes[Legenda],ExportXML3_SplitTimes[[#This Row],[Legenda]],ExportXML3_SplitTimes[Čas],\"<=\"&ExportXML3_SplitTimes[[#This Row],[Čas]])","v":133},null,2,"00:07:48","00:08:09","00:07:34","00:09:36","00:06:51","00:07:47","00:06:11","00:10:50","00:11:46","00:09:11","00:08:16","00:18:45","00:10:05","00:11:54","00:14:37","00:18:45"]
["MA","Doucha","Martin","0080003",2469,56,792,{"$f":"ExportXML3_SplitTimes[[#This Row],[GivenName]]&\" \"&ExportXML3_SplitTimes[[#This Row],[FamilyName]]","v":"Martin Doucha"},{"$f":"_xlfn.XLOOKUP(ExportXML3_SplitTimes[[#This Row],[PersonId]],#REF!,#REF!,\"-\")","v":{"$error":"#REF!"}},{"$f":"ExportXML3_SplitTimes[[#This Row],[Kategorie]] & \" - \" & ExportXML3_SplitTimes[[#This Row],[Závodník]] & \" (\" & ExportXML3_SplitTimes[[#This Row],[Číslo čipu]] & \")\"","v":{"$error":"#REF!"}},{"$f":"ExportXML3_SplitTimes[[#This Row],[ControlCode]]","v":56},{"$f":"ExportXML3_SplitTimes[[#This Row],[SplitTimeSeconds]]/3600/24","v":"00:13:12"},{"$f":"COUNTIFS(ExportXML3_SplitTimes[Legenda],ExportXML3_SplitTimes[[#This Row],[Legenda]],ExportXML3_SplitTimes[Čas],\"<=\"&ExportXML3_SplitTimes[[#This Row],[Čas]])","v":166},null,3,"00:10:36","00:09:01","00:08:27","00:10:27","00:07:44","00:08:46","00:06:48","00:11:57","00:12:57","00:10:04","00:08:58","00:20:43","00:10:54","00:13:01","00:15:19","00:20:43"]
["MA","Doucha","Martin","0080003",2469,42,1155,{"$f":"ExportXML3_SplitTimes[[#This Row],[GivenName]]&\" \"&ExportXML3_SplitTimes[[#This Row],[FamilyName]]","v":"Martin Doucha"},{"$f":"_xlfn.XLOOKUP(ExportXML3_SplitTimes[[#This Row],[PersonId]],#REF!,#REF!,\"-\")","v":{"$error":"#REF!"}},{"$f":"ExportXML3_SplitTimes[[#This Row],[Kategorie]] & \" - \" & ExportXML3_SplitTimes[[#This Row],[Závodník]] & \" (\" & ExportXML3_SplitTimes[[#This Row],[Číslo čipu]] & \")\"","v":{"$error":"#REF!"}},{"$f":"ExportXML3_SplitTimes[[#This Row],[ControlCode]]","v":42},{"$f":"ExportXML3_SplitTimes[[#This Row],[SplitTimeSeconds]]/3600/24","v":"00:19:15"},{"$f":"COUNTIFS(ExportXML3_SplitTimes[Legenda],ExportXML3_SplitTimes[[#This Row],[Legenda]],ExportXML3_SplitTimes[Čas],\"<=\"&ExportXML3_SplitTimes[[#This Row],[Čas]])","v":261},null,4,"00:12:20","00:11:39","00:10:05","00:11:53","00:09:41","00:10:36","00:08:13","00:14:09","00:15:15","00:12:17","00:10:38","00:24:59","00:14:24","00:17:19","00:17:29","00:24:59"]
["MA","Doucha","Martin","0080003",2469,47,1356,{"$f":"ExportXML3_SplitTimes[[#This Row],[GivenName]]&\" \"&ExportXML3_SplitTimes[[#This Row],[FamilyName]]","v":"Martin Doucha"},{"$f":"_xlfn.XLOOKUP(ExportXML3_SplitTimes[[#This Row],[PersonId]],#REF!,#REF!,\"-\")","v":{"$error":"#REF!"}},{"$f":"ExportXML3_SplitTimes[[#This Row],[Kategorie]] & \" - \" & ExportXML3_SplitTimes[[#This Row],[Závodník]] & \" (\" & ExportXML3_SplitTimes[[#This Row],[Číslo čipu]] & \")\"","v":{"$error":"#REF!"}},{"$f":"ExportXML3_SplitTimes[[#This Row],[ControlCode]]","v":47},{"$f":"ExportXML3_SplitTimes[[#This Row],[SplitTimeSeconds]]/3600/24","v":"00:22:36"},{"$f":"COUNTIFS(ExportXML3_SplitTimes[Legenda],ExportXML3_SplitTimes[[#This Row],[Legenda]],ExportXML3_SplitTimes[Čas],\"<=\"&ExportXML3_SplitTimes[[#This Row],[Čas]])","v":305},null,5,"00:15:33","00:14:14","00:12:49","00:14:47","00:14:22","00:13:33","00:10:25","00:17:25","00:18:59","00:15:12","00:15:24","00:29:41","00:17:02","00:20:57","00:20:22","00:29:41"]
["MA","Doucha","Martin","0080003",2469,60,1457,{"$f":"ExportXML3_SplitTimes[[#This Row],[GivenName]]&\" \"&ExportXML3_SplitTimes[[#This Row],[FamilyName]]","v":"Martin Doucha"},{"$f":"_xlfn.XLOOKUP(ExportXML3_SplitTimes[[#This Row],[PersonId]],#REF!,#REF!,\"-\")","v":{"$error":"#REF!"}},{"$f":"ExportXML3_SplitTimes[[#This Row],[Kategorie]] & \" - \" & ExportXML3_SplitTimes[[#This Row],[Závodník]] & \" (\" & ExportXML3_SplitTimes[[#This Row],[Číslo čipu]] & \")\"","v":{"$error":"#REF!"}},{"$f":"ExportXML3_SplitTimes[[#This Row],[ControlCode]]","v":60},{"$f":"ExportXML3_SplitTimes[[#This Row],[SplitTimeSeconds]]/3600/24","v":"00:24:17"},{"$f":"COUNTIFS(ExportXML3_SplitTimes[Legenda],ExportXML3_SplitTimes[[#This Row],[Legenda]],ExportXML3_SplitTimes[Čas],\"<=\"&ExportXML3_SplitTimes[[#This Row],[Čas]])","v":325},null,6,"00:16:32","00:15:01","00:13:39","00:15:28","00:15:03","00:14:22","00:11:03","00:18:33","00:20:09","00:16:05","00:16:08","00:31:06","00:17:44","00:21:52","00:21:16","00:31:06"]
["MA","Doucha","Martin","0080003",2469,61,1532,{"$f":"ExportXML3_SplitTimes[[#This Row],[GivenName]]&\" \"&ExportXML3_SplitTimes[[#This Row],[FamilyName]]","v":"Martin Doucha"},{"$f":"_xlfn.XLOOKUP(ExportXML3_SplitTimes[[#This Row],[PersonId]],#REF!,#REF!,\"-\")","v":{"$error":"#REF!"}},{"$f":"ExportXML3_SplitTimes[[#This Row],[Kategorie]] & \" - \" & ExportXML3_SplitTimes[[#This Row],[Závodník]] & \" (\" & ExportXML3_SplitTimes[[#This Row],[Číslo čipu]] & \")\"","v":{"$error":"#REF!"}},{"$f":"ExportXML3_SplitTimes[[#This Row],[ControlCode]]","v":61},{"$f":"ExportXML3_SplitTimes[[#This Row],[SplitTimeSeconds]]/3600/24","v":"00:25:32"},{"$f":"COUNTIFS(ExportXML3_SplitTimes[Legenda],ExportXML3_SplitTimes[[#This Row],[Legenda]],ExportXML3_SplitTimes[Čas],\"<=\"&ExportXML3_SplitTimes[[#This Row],[Čas]])","v":343},null,7,"00:18:51","00:18:13","00:16:14","00:18:40","00:17:53","00:17:22","00:13:12","00:21:34","00:23:23","00:18:54","00:18:49","00:36:16","00:20:03","00:24:49","00:24:00","00:36:16"]
["MA","Doucha","Martin","0080003",2469,80,1664,{"$f":"ExportXML3_SplitTimes[[#This Row],[GivenName]]&\" \"&ExportXML3_SplitTimes[[#This Row],[FamilyName]]","v":"Martin Doucha"},{"$f":"_xlfn.XLOOKUP(ExportXML3_SplitTimes[[#This Row],[PersonId]],#REF!,#REF!,\"-\")","v":{"$error":"#REF!"}},{"$f":"ExportXML3_SplitTimes[[#This Row],[Kategorie]] & \" - \" & ExportXML3_SplitTimes[[#This Row],[Závodník]] & \" (\" & ExportXML3_SplitTimes[[#This Row],[Číslo čipu]] & \")\"","v":{"$error":"#REF!"}},{"$f":"ExportXML3_SplitTimes[[#This Row],[ControlCode]]","v":80},{"$f":"ExportXML3_SplitTimes[[#This Row],[SplitTimeSeconds]]/3600/24","v":"00:27:44"},{"$f":"COUNTIFS(ExportXML3_SplitTimes[Legenda],ExportXML3_SplitTimes[[#This Row],[Legenda]],ExportXML3_SplitTimes[Čas],\"<=\"&ExportXML3_SplitTimes[[#This Row],[Čas]])","v":372},null,8,"00:23:18","00:25:00","00:22:02","00:23:03","00:22:40","00:21:59","00:19:15","00:28:39","00:30:59","00:24:23","00:23:39","00:44:51","00:24:19","00:32:06","00:30:35","00:44:51"]
["MA","Doucha","Martin","0080003",2469,62,1878,{"$f":"ExportXML3_SplitTimes[[#This Row],[GivenName]]&\" \"&ExportXML3_SplitTimes[[#This Row],[FamilyName]]","v":"Martin Doucha"},{"$f":"_xlfn.XLOOKUP(ExportXML3_SplitTimes[[#This Row],[PersonId]],#REF!,#REF!,\"-\")","v":{"$error":"#REF!"}},{"$f":"ExportXML3_SplitTimes[[#This Row],[Kategorie]] & \" - \" & ExportXML3_SplitTimes[[#This Row],[Závodník]] & \" (\" & ExportXML3_SplitTimes[[#This Row],[Číslo čipu]] & \")\"","v":{"$error":"#REF!"}},{"$f":"ExportXML3_SplitTimes[[#This Row],[ControlCode]]","v":62},{"$f":"ExportXML3_SplitTimes[[#This Row],[SplitTimeSeconds]]/3600/24","v":"00:31:18"},{"$f":"COUNTIFS(ExportXML3_SplitTimes[Legenda],ExportXML3_SplitTimes[[#This Row],[Legenda]],ExportXML3_SplitTimes[Čas],\"<=\"&ExportXML3_SplitTimes[[#This Row],[Čas]])","v":431},null,9,"00:25:48","00:27:24","00:24:08","00:25:10","00:27:31","00:24:02","00:22:36","00:31:29","00:34:08","00:26:41","00:25:59","00:47:54","00:26:23","00:35:06","00:32:35","00:47:54"]
["MA","Doucha","Martin","0080003",2469,65,2048,{"$f":"ExportXML3_SplitTimes[[#This Row],[GivenName]]&\" \"&ExportXML3_SplitTimes[[#This Row],[FamilyName]]","v":"Martin Doucha"},{"$f":"_xlfn.XLOOKUP(ExportXML3_SplitTimes[[#This Row],[PersonId]],#REF!,#REF!,\"-\")","v":{"$error":"#REF!"}},{"$f":"ExportXML3_SplitTimes[[#This Row],[Kategorie]] & \" - \" & ExportXML3_SplitTimes[[#This Row],[Závodník]] & \" (\" & ExportXML3_SplitTimes[[#This Row],[Číslo čipu]] & \")\"","v":{"$error":"#REF!"}},{"$f":"ExportXML3_SplitTimes[[#This Row],[ControlCode]]","v":65},{"$f":"ExportXML3_SplitTimes[[#This Row],[SplitTimeSeconds]]/3600/24","v":"00:34:08"},{"$f":"COUNTIFS(ExportXML3_SplitTimes[Legenda],ExportXML3_SplitTimes[[#This Row],[Legenda]],ExportXML3_SplitTimes[Čas],\"<=\"&ExportXML3_SplitTimes[[#This Row],[Čas]])","v":472},null,10,"00:27:57","00:29:28","00:26:12","00:28:07","00:29:07","00:26:15","00:24:17","00:33:46","00:37:37","00:29:06","00:27:58","00:51:41","00:29:28","00:38:02","00:34:47","00:51:41"]
["MA","Doucha","Martin","0080003",2469,76,2147,{"$f":"ExportXML3_SplitTimes[[#This Row],[GivenName]]&\" \"&ExportXML3_SplitTimes[[#This Row],[FamilyName]]","v":"Martin Doucha"},{"$f":"_xlfn.XLOOKUP(ExportXML3_SplitTimes[[#This Row],[PersonId]],#REF!,#REF!,\"-\")","v":{"$error":"#REF!"}},{"$f":"ExportXML3_SplitTimes[[#This Row],[Kategorie]] & \" - \" & ExportXML3_SplitTimes[[#This Row],[Závodník]] & \" (\" & ExportXML3_SplitTimes[[#This Row],[Číslo čipu]] & \")\"","v":{"$error":"#REF!"}},{"$f":"ExportXML3_SplitTimes[[#This Row],[ControlCode]]","v":76},{"$f":"ExportXML3_SplitTimes[[#This Row],[SplitTimeSeconds]]/3600/24","v":"00:35:47"},{"$f":"COUNTIFS(ExportXML3_SplitTimes[Legenda],ExportXML3_SplitTimes[[#This Row],[Legenda]],ExportXML3_SplitTimes[Čas],\"<=\"&ExportXML3_SplitTimes[[#This Row],[Čas]])","v":488},null,11,"00:29:23","00:31:04","00:27:30","00:29:40","00:37:27","00:28:05","00:25:32","00:35:47","00:40:26","00:31:40","00:30:06","00:54:20","00:30:54","00:39:49","00:36:06","00:54:20"]
["MA","Doucha","Martin","0080003",2469,71,2244,{"$f":"ExportXML3_SplitTimes[[#This Row],[GivenName]]&\" \"&ExportXML3_SplitTimes[[#This Row],[FamilyName]]","v":"Martin Doucha"},{"$f":"_xlfn.XLOOKUP(ExportXML3_SplitTimes[[#This Row],[PersonId]],#REF!,#REF!,\"-\")","v":{"$error":"#REF!"}},{"$f":"ExportXML3_SplitTimes[[#This Row],[Kategorie]] & \" - \" & ExportXML3_SplitTimes[[#This Row],[Závodník]] & \" (\" & ExportXML3_SplitTimes[[#This Row],[Číslo čipu]] & \")\"","v":{"$error":"#REF!"}},{"$f":"ExportXML3_SplitTimes[[#This Row],[ControlCode]]","v":71},{"$f":"ExportXML3_SplitTimes[[#This Row],[SplitTimeSeconds]]/3600/24","v":"00:37:24"},{"$f":"COUNTIFS(ExportXML3_SplitTimes[Legenda],ExportXML3_SplitTimes[[#This Row],[Legenda]],ExportXML3_SplitTimes[Čas],\"<=\"&ExportXML3_SplitTimes[[#This Row],[Čas]])","v":508},null,12,"00:32:35","00:33:32","00:29:43","00:32:10","00:39:45","00:30:39","00:27:44","00:38:45","00:44:08","00:34:41","00:32:12","00:58:46","00:33:22","00:42:33","00:38:40","00:58:46"]
["MA","Doucha","Martin","0080003",2469,74,2360,{"$f":"ExportXML3_SplitTimes[[#This Row],[GivenName]]&\" \"&ExportXML3_SplitTimes[[#This Row],[FamilyName]]","v":"Martin Doucha"},{"$f":"_xlfn.XLOOKUP(ExportXML3_SplitTimes[[#This Row],[PersonId]],#REF!,#REF!,\"-\")","v":{"$error":"#REF!"}},{"$f":"ExportXML3_SplitTimes[[#This Row],[Kategorie]] & \" - \" & ExportXML3_SplitTimes[[#This Row],[Závodník]] & \" (\" & ExportXML3_SplitTimes[[#This Row],[Číslo čipu]] & \")\"","v":{"$error":"#REF!"}},{"$f":"ExportXML3_SplitTimes[[#This Row],[ControlCode]]","v":74},{"$f":"ExportXML3_SplitTimes[[#This Row],[SplitTimeSeconds]]/3600/24","v":"00:39:20"},{"$f":"COUNTIFS(ExportXML3_SplitTimes[Legenda],ExportXML3_SplitTimes[[#This Row],[Legenda]],ExportXML3_SplitTimes[Čas],\"<=\"&ExportXML3_SplitTimes[[#This Row],[Čas]])","v":535},null,13,"00:37:01","00:37:49","00:33:09","00:36:27","00:42:50","00:35:01","00:31:18","00:43:26","00:49:38","00:38:52","00:36:53","01:05:09","00:39:24","00:47:27","00:46:24","01:05:09"]
["MA","Doucha","Martin","0080003",2469,100,2454,{"$f":"ExportXML3_SplitTimes[[#This Row],[GivenName]]&\" \"&ExportXML3_SplitTimes[[#This Row],[FamilyName]]","v":"Martin Doucha"},{"$f":"_xlfn.XLOOKUP(ExportXML3_SplitTimes[[#This Row],[PersonId]],#REF!,#REF!,\"-\")","v":{"$error":"#REF!"}},{"$f":"ExportXML3_SplitTimes[[#This Row],[Kategorie]] & \" - \" & ExportXML3_SplitTimes[[#This Row],[Závodník]] & \" (\" & ExportXML3_SplitTimes[[#This Row],[Číslo čipu]] & \")\"","v":{"$error":"#REF!"}},{"$f":"ExportXML3_SplitTimes[[#This Row],[ControlCode]]","v":100},{"$f":"ExportXML3_SplitTimes[[#This Row],[SplitTimeSeconds]]/3600/24","v":"00:40:54"},{"$f":"COUNTIFS(ExportXML3_SplitTimes[Legenda],ExportXML3_SplitTimes[[#This Row],[Legenda]],ExportXML3_SplitTimes[Čas],\"<=\"&ExportXML3_SplitTimes[[#This Row],[Čas]])","v":557},null,14,"00:46:11","00:40:58","00:35:52","00:39:44","00:46:07","00:38:20","00:34:08","00:47:01","00:53:38","00:42:23","00:40:15","01:10:09","00:43:23","00:50:55","00:49:57","01:10:09"]
["MA","Doucha","Jiří","0080001",2567,93,237,{"$f":"ExportXML3_SplitTimes[[#This Row],[GivenName]]&\" \"&ExportXML3_SplitTimes[[#This Row],[FamilyName]]","v":"Jiří Doucha"},{"$f":"_xlfn.XLOOKUP(ExportXML3_SplitTimes[[#This Row],[PersonId]],#REF!,#REF!,\"-\")","v":{"$error":"#REF!"}},{"$f":"ExportXML3_SplitTimes[[#This Row],[Kategorie]] & \" - \" & ExportXML3_SplitTimes[[#This Row],[Závodník]] & \" (\" & ExportXML3_SplitTimes[[#This Row],[Číslo čipu]] & \")\"","v":{"$error":"#REF!"}},{"$f":"ExportXML3_SplitTimes[[#This Row],[ControlCode]]","v":93},{"$f":"ExportXML3_SplitTimes[[#This Row],[SplitTimeSeconds]]/3600/24","v":"00:03:57"},{"$f":"COUNTIFS(ExportXML3_SplitTimes[Legenda],ExportXML3_SplitTimes[[#This Row],[Legenda]],ExportXML3_SplitTimes[Čas],\"<=\"&ExportXML3_SplitTimes[[#This Row],[Čas]])","v":13},null,15,"00:48:07","00:42:44","00:37:38","00:41:40","00:47:38","00:40:21","00:35:47","00:49:01","00:55:43","00:44:07","00:42:07","01:13:07","00:46:06","00:53:30","00:51:54","01:13:07"]
["MA","Doucha","Jiří","0080001",2567,55,454,{"$f":"ExportXML3_SplitTimes[[#This Row],[GivenName]]&\" \"&ExportXML3_SplitTimes[[#This Row],[FamilyName]]","v":"Jiří Doucha"},{"$f":"_xlfn.XLOOKUP(ExportXML3_SplitTimes[[#This Row],[PersonId]],#REF!,#REF!,\"-\")","v":{"$error":"#REF!"}},{"$f":"ExportXML3_SplitTimes[[#This Row],[Kategorie]] & \" - \" & ExportXML3_SplitTimes[[#This Row],[Závodník]] & \" (\" & ExportXML3_SplitTimes[[#This Row],[Číslo čipu]] & \")\"","v":{"$error":"#REF!"}},{"$f":"ExportXML3_SplitTimes[[#This Row],[ControlCode]]","v":55},{"$f":"ExportXML3_SplitTimes[[#This Row],[SplitTimeSeconds]]/3600/24","v":"00:07:34"},{"$f":"COUNTIFS(ExportXML3_SplitTimes[Legenda],ExportXML3_SplitTimes[[#This Row],[Legenda]],ExportXML3_SplitTimes[Čas],\"<=\"&ExportXML3_SplitTimes[[#This Row],[Čas]])","v":63},null,16,"00:49:53","00:44:36","00:39:17","00:43:58","00:49:11","00:42:11","00:37:24","00:51:21","00:58:53","00:46:14","00:44:21","01:16:01","00:48:31","00:55:49","00:54:26","01:16:01"]
["MA","Doucha","Jiří","0080001",2567,54,507,{"$f":"ExportXML3_SplitTimes[[#This Row],[GivenName]]&\" \"&ExportXML3_SplitTimes[[#This Row],[FamilyName]]","v":"Jiří Doucha"},{"$f":"_xlfn.XLOOKUP(ExportXML3_SplitTimes[[#This Row],[PersonId]],#REF!,#REF!,\"-\")","v":{"$error":"#REF!"}},{"$f":"ExportXML3_SplitTimes[[#This Row],[Kategorie]] & \" - \" & ExportXML3_SplitTimes[[#This Row],[Závodník]] & \" (\" & ExportXML3_SplitTimes[[#This Row],[Číslo čipu]] & \")\"","v":{"$error":"#REF!"}},{"$f":"ExportXML3_SplitTimes[[#This Row],[ControlCode]]","v":54},{"$f":"ExportXML3_SplitTimes[[#This Row],[SplitTimeSeconds]]/3600/24","v":"00:08:27"},{"$f":"COUNTIFS(ExportXML3_SplitTimes[Legenda],ExportXML3_SplitTimes[[#This Row],[Legenda]],ExportXML3_SplitTimes[Čas],\"<=\"&ExportXML3_SplitTimes[[#This Row],[Čas]])","v":81},null,17,"00:52:02","00:46:48","00:41:04","00:46:38","00:51:13","00:44:29","00:39:20","00:53:47","01:01:44","00:48:20","00:46:25","01:19:36","00:50:52","00:58:29","00:57:09","01:19:36"]
["MA","Doucha","Jiří","0080001",2567,53,605,{"$f":"ExportXML3_SplitTimes[[#This Row],[GivenName]]&\" \"&ExportXML3_SplitTimes[[#This Row],[FamilyName]]","v":"Jiří Doucha"},{"$f":"_xlfn.XLOOKUP(ExportXML3_SplitTimes[[#This Row],[PersonId]],#REF!,#REF!,\"-\")","v":{"$error":"#REF!"}},{"$f":"ExportXML3_SplitTimes[[#This Row],[Kategorie]] & \" - \" & ExportXML3_SplitTimes[[#This Row],[Závodník]] & \" (\" & ExportXML3_SplitTimes[[#This Row],[Číslo čipu]] & \")\"","v":{"$error":"#REF!"}},{"$f":"ExportXML3_SplitTimes[[#This Row],[ControlCode]]","v":53},{"$f":"ExportXML3_SplitTimes[[#This Row],[SplitTimeSeconds]]/3600/24","v":"00:10:05"},{"$f":"COUNTIFS(ExportXML3_SplitTimes[Legenda],ExportXML3_SplitTimes[[#This Row],[Legenda]],ExportXML3_SplitTimes[Čas],\"<=\"&ExportXML3_SplitTimes[[#This Row],[Čas]])","v":115},null,18,"00:54:38","00:48:42","00:42:32","00:48:20","00:52:46","00:47:44","00:40:54","00:55:42","01:04:00","00:49:55","00:48:01","01:23:55","00:53:14","01:01:54","00:59:02","01:23:55"]
["MA","Doucha","Jiří","0080001",2567,50,769,{"$f":"ExportXML3_SplitTimes[[#This Row],[GivenName]]&\" \"&ExportXML3_SplitTimes[[#This Row],[FamilyName]]","v":"Jiří Doucha"},{"$f":"_xlfn.XLOOKUP(ExportXML3_SplitTimes[[#This Row],[PersonId]],#REF!,#REF!,\"-\")","v":{"$error":"#REF!"}},{"$f":"ExportXML3_SplitTimes[[#This Row],[Kategorie]] & \" - \" & ExportXML3_SplitTimes[[#This Row],[Závodník]] & \" (\" & ExportXML3_SplitTimes[[#This Row],[Číslo čipu]] & \")\"","v":{"$error":"#REF!"}},{"$f":"ExportXML3_SplitTimes[[#This Row],[ControlCode]]","v":50},{"$f":"ExportXML3_SplitTimes[[#This Row],[SplitTimeSeconds]]/3600/24","v":"00:12:49"},{"$f":"COUNTIFS(ExportXML3_SplitTimes[Legenda],ExportXML3_SplitTimes[[#This Row],[Legenda]],ExportXML3_SplitTimes[Čas],\"<=\"&ExportXML3_SplitTimes[[#This Row],[Čas]])","v":161},null,"Grand Total","00:54:38","00:48:42","00:42:32","00:48:20","00:52:46","00:47:44","00:40:54","00:55:42","01:04:00","00:49:55","00:48:01","01:23:55","00:53:14","01:01:54","00:59:02","01:23:55"]
["MA","Doucha","Jiří","0080001",2567,49,819,{"$f":"ExportXML3_SplitTimes[[#This Row],[GivenName]]&\" \"&ExportXML3_SplitTimes[[#This Row],[FamilyName]]","v":"Jiří Doucha"},{"$f":"_xlfn.XLOOKUP(ExportXML3_SplitTimes[[#This Row],[PersonId]],#REF!,#REF!,\"-\")","v":{"$error":"#REF!"}},{"$f":"ExportXML3_SplitTimes[[#This Row],[Kategorie]] & \" - \" & ExportXML3_SplitTimes[[#This Row],[Závodník]] & \" (\" & ExportXML3_SplitTimes[[#This Row],[Číslo čipu]] & \")\"","v":{"$error":"#REF!"}},{"$f":"ExportXML3_SplitTimes[[#This Row],[ControlCode]]","v":49},{"$f":"ExportXML3_SplitTimes[[#This Row],[SplitTimeSeconds]]/3600/24","v":"00:13:39"},{"$f":"COUNTIFS(ExportXML3_SplitTimes[Legenda],ExportXML3_SplitTimes[[#This Row],[Legenda]],ExportXML3_SplitTimes[Čas],\"<=\"&ExportXML3_SplitTimes[[#This Row],[Čas]])","v":173}]
["MA","Doucha","Jiří","0080001",2567,56,974,{"$f":"ExportXML3_SplitTimes[[#This Row],[GivenName]]&\" \"&ExportXML3_SplitTimes[[#This Row],[FamilyName]]","v":"Jiří Doucha"},{"$f":"_xlfn.XLOOKUP(ExportXML3_SplitTimes[[#This Row],[PersonId]],#REF!,#REF!,\"-\")","v":{"$error":"#REF!"}},{"$f":"ExportXML3_SplitTimes[[#This Row],[Kategorie]] & \" - \" & ExportXML3_SplitTimes[[#This Row],[Závodník]] & \" (\" & ExportXML3_SplitTimes[[#This Row],[Číslo čipu]] & \")\"","v":{"$error":"#REF!"}},{"$f":"ExportXML3_SplitTimes[[#This Row],[ControlCode]]","v":56},{"$f":"ExportXML3_SplitTimes[[#This Row],[SplitTimeSeconds]]/3600/24","v":"00:16:14"},{"$f":"COUNTIFS(ExportXML3_SplitTimes[Legenda],ExportXML3_SplitTimes[[#This Row],[Legenda]],ExportXML3_SplitTimes[Čas],\"<=\"&ExportXML3_SplitTimes[[#This Row],[Čas]])","v":218}]
["MA","Doucha","Jiří","0080001",2567,42,1322,{"$f":"ExportXML3_SplitTimes[[#This Row],[GivenName]]&\" \"&ExportXML3_SplitTimes[[#This Row],[FamilyName]]","v":"Jiří Doucha"},{"$f":"_xlfn.XLOOKUP(ExportXML3_SplitTimes[[#This Row],[PersonId]],#REF!,#REF!,\"-\")","v":{"$error":"#REF!"}},{"$f":"ExportXML3_SplitTimes[[#This Row],[Kategorie]] & \" - \" & ExportXML3_SplitTimes[[#This Row],[Závodník]] & \" (\" & ExportXML3_SplitTimes[[#This Row],[Číslo čipu]] & \")\"","v":{"$error":"#REF!"}},{"$f":"ExportXML3_SplitTimes[[#This Row],[ControlCode]]","v":42},{"$f":"ExportXML3_SplitTimes[[#This Row],[SplitTimeSeconds]]/3600/24","v":"00:22:02"},{"$f":"COUNTIFS(ExportXML3_SplitTimes[Legenda],ExportXML3_SplitTimes[[#This Row],[Legenda]],ExportXML3_SplitTimes[Čas],\"<=\"&ExportXML3_SplitTimes[[#This Row],[Čas]])","v":299}]
["MA","Doucha","Jiří","0080001",2567,47,1448,{"$f":"ExportXML3_SplitTimes[[#This Row],[GivenName]]&\" \"&ExportXML3_SplitTimes[[#This Row],[FamilyName]]","v":"Jiří Doucha"},{"$f":"_xlfn.XLOOKUP(ExportXML3_SplitTimes[[#This Row],[PersonId]],#REF!,#REF!,\"-\")","v":{"$error":"#REF!"}},{"$f":"ExportXML3_SplitTimes[[#This Row],[Kategorie]] & \" - \" & ExportXML3_SplitTimes[[#This Row],[Závodník]] & \" (\" & ExportXML3_SplitTimes[[#This Row],[Číslo čipu]] & \")\"","v":{"$error":"#REF!"}},{"$f":"ExportXML3_SplitTimes[[#This Row],[ControlCode]]","v":47},{"$f":"ExportXML3_SplitTimes[[#This Row],[SplitTimeSeconds]]/3600/24","v":"00:24:08"},{"$f":"COUNTIFS(ExportXML3_SplitTimes[Legenda],ExportXML3_SplitTimes[[#This Row],[Legenda]],ExportXML3_SplitTimes[Čas],\"<=\"&ExportXML3_SplitTimes[[#This Row],[Čas]])","v":323}]
["MA","Doucha","Jiří","0080001",2567,60,1572,{"$f":"ExportXML3_SplitTimes[[#This Row],[GivenName]]&\" \"&ExportXML3_SplitTimes[[#This Row],[FamilyName]]","v":"Jiří Doucha"},{"$f":"_xlfn.XLOOKUP(ExportXML3_SplitTimes[[#This Row],[PersonId]],#REF!,#REF!,\"-\")","v":{"$error":"#REF!"}},{"$f":"ExportXML3_SplitTimes[[#This Row],[Kategorie]] & \" - \" & ExportXML3_SplitTimes[[#This Row],[Závodník]] & \" (\" & ExportXML3_SplitTimes[[#This Row],[Číslo čipu]] & \")\"","v":{"$error":"#REF!"}},{"$f":"ExportXML3_SplitTimes[[#This Row],[ControlCode]]","v":60},{"$f":"ExportXML3_SplitTimes[[#This Row],[SplitTimeSeconds]]/3600/24","v":"00:26:12"},{"$f":"COUNTIFS(ExportXML3_SplitTimes[Legenda],ExportXML3_SplitTimes[[#This Row],[Legenda]],ExportXML3_SplitTimes[Čas],\"<=\"&ExportXML3_SplitTimes[[#This Row],[Čas]])","v":354}]
["MA","Doucha","Jiří","0080001",2567,61,1650,{"$f":"ExportXML3_SplitTimes[[#This Row],[GivenName]]&\" \"&ExportXML3_SplitTimes[[#This Row],[FamilyName]]","v":"Jiří Doucha"},{"$f":"_xlfn.XLOOKUP(ExportXML3_SplitTimes[[#This Row],[PersonId]],#REF!,#REF!,\"-\")","v":{"$error":"#REF!"}},{"$f":"ExportXML3_SplitTimes[[#This Row],[Kategorie]] & \" - \" & ExportXML3_SplitTimes[[#This Row],[Závodník]] & \" (\" & ExportXML3_SplitTimes[[#This Row],[Číslo čipu]] & \")\"","v":{"$error":"#REF!"}},{"$f":"ExportXML3_SplitTimes[[#This Row],[ControlCode]]","v":61},{"$f":"ExportXML3_SplitTimes[[#This Row],[SplitTimeSeconds]]/3600/24","v":"00:27:30"},{"$f":"COUNTIFS(ExportXML3_SplitTimes[Legenda],ExportXML3_SplitTimes[[#This Row],[Legenda]],ExportXML3_SplitTimes[Čas],\"<=\"&ExportXML3_SplitTimes[[#This Row],[Čas]])","v":368}]
["MA","Doucha","Jiří","0080001",2567,80,1783,{"$f":"ExportXML3_SplitTimes[[#This Row],[GivenName]]&\" \"&ExportXML3_SplitTimes[[#This Row],[FamilyName]]","v":"Jiří Doucha"},{"$f":"_xlfn.XLOOKUP(ExportXML3_SplitTimes[[#This Row],[PersonId]],#REF!,#REF!,\"-\")","v":{"$error":"#REF!"}},{"$f":"ExportXML3_SplitTimes[[#This Row],[Kategorie]] & \" - \" & ExportXML3_SplitTimes[[#This Row],[Závodník]] & \" (\" & ExportXML3_SplitTimes[[#This Row],[Číslo čipu]] & \")\"","v":{"$error":"#REF!"}},{"$f":"ExportXML3_SplitTimes[[#This Row],[ControlCode]]","v":80},{"$f":"ExportXML3_SplitTimes[[#This Row],[SplitTimeSeconds]]/3600/24","v":"00:29:43"},{"$f":"COUNTIFS(ExportXML3_SplitTimes[Legenda],ExportXML3_SplitTimes[[#This Row],[Legenda]],ExportXML3_SplitTimes[Čas],\"<=\"&ExportXML3_SplitTimes[[#This Row],[Čas]])","v":409}]
["MA","Doucha","Jiří","0080001",2567,62,1989,{"$f":"ExportXML3_SplitTimes[[#This Row],[GivenName]]&\" \"&ExportXML3_SplitTimes[[#This Row],[FamilyName]]","v":"Jiří Doucha"},{"$f":"_xlfn.XLOOKUP(ExportXML3_SplitTimes[[#This Row],[PersonId]],#REF!,#REF!,\"-\")","v":{"$error":"#REF!"}},{"$f":"ExportXML3_SplitTimes[[#This Row],[Kategorie]] & \" - \" & ExportXML3_SplitTimes[[#This Row],[Závodník]] & \" (\" & ExportXML3_SplitTimes[[#This Row],[Číslo čipu]] & \")\"","v":{"$error":"#REF!"}},{"$f":"ExportXML3_SplitTimes[[#This Row],[ControlCode]]","v":62},{"$f":"ExportXML3_SplitTimes[[#This Row],[SplitTimeSeconds]]/3600/24","v":"00:33:09"},{"$f":"COUNTIFS(ExportXML3_SplitTimes[Legenda],ExportXML3_SplitTimes[[#This Row],[Legenda]],ExportXML3_SplitTimes[Čas],\"<=\"&ExportXML3_SplitTimes[[#This Row],[Čas]])","v":458}]
["MA","Doucha","Jiří","0080001",2567,65,2152,{"$f":"ExportXML3_SplitTimes[[#This Row],[GivenName]]&\" \"&ExportXML3_SplitTimes[[#This Row],[FamilyName]]","v":"Jiří Doucha"},{"$f":"_xlfn.XLOOKUP(ExportXML3_SplitTimes[[#This Row],[PersonId]],#REF!,#REF!,\"-\")","v":{"$error":"#REF!"}},{"$f":"ExportXML3_SplitTimes[[#This Row],[Kategorie]] & \" - \" & ExportXML3_SplitTimes[[#This Row],[Závodník]] & \" (\" & ExportXML3_SplitTimes[[#This Row],[Číslo čipu]] & \")\"","v":{"$error":"#REF!"}},{"$f":"ExportXML3_SplitTimes[[#This Row],[ControlCode]]","v":65},{"$f":"ExportXML3_SplitTimes[[#This Row],[SplitTimeSeconds]]/3600/24","v":"00:35:52"},{"$f":"COUNTIFS(ExportXML3_SplitTimes[Legenda],ExportXML3_SplitTimes[[#This Row],[Legenda]],ExportXML3_SplitTimes[Čas],\"<=\"&ExportXML3_SplitTimes[[#This Row],[Čas]])","v":490}]
["MA","Doucha","Jiří","0080001",2567,76,2258,{"$f":"ExportXML3_SplitTimes[[#This Row],[GivenName]]&\" \"&ExportXML3_SplitTimes[[#This Row],[FamilyName]]","v":"Jiří Doucha"},{"$f":"_xlfn.XLOOKUP(ExportXML3_SplitTimes[[#This Row],[PersonId]],#REF!,#REF!,\"-\")","v":{"$error":"#REF!"}},{"$f":"ExportXML3_SplitTimes[[#This Row],[Kategorie]] & \" - \" & ExportXML3_SplitTimes[[#This Row],[Závodník]] & \" (\" & ExportXML3_SplitTimes[[#This Row],[Číslo čipu]] & \")\"","v":{"$error":"#REF!"}},{"$f":"ExportXML3_SplitTimes[[#This Row],[ControlCode]]","v":76},{"$f":"ExportXML3_SplitTimes[[#This Row],[SplitTimeSeconds]]/3600/24","v":"00:37:38"},{"$f":"COUNTIFS(ExportXML3_SplitTimes[Legenda],ExportXML3_SplitTimes[[#This Row],[Legenda]],ExportXML3_SplitTimes[Čas],\"<=\"&ExportXML3_SplitTimes[[#This Row],[Čas]])","v":513}]
["MA","Doucha","Jiří","0080001",2567,71,2357,{"$f":"ExportXML3_SplitTimes[[#This Row],[GivenName]]&\" \"&ExportXML3_SplitTimes[[#This Row],[FamilyName]]","v":"Jiří Doucha"},{"$f":"_xlfn.XLOOKUP(ExportXML3_SplitTimes[[#This Row],[PersonId]],#REF!,#REF!,\"-\")","v":{"$error":"#REF!"}},{"$f":"ExportXML3_SplitTimes[[#This Row],[Kategorie]] & \" - \" & ExportXML3_SplitTimes[[#This Row],[Závodník]] & \" (\" & ExportXML3_SplitTimes[[#This Row],[Číslo čipu]] & \")\"","v":{"$error":"#REF!"}},{"$f":"ExportXML3_SplitTimes[[#This Row],[ControlCode]]","v":71},{"$f":"ExportXML3_SplitTimes[[#This Row],[SplitTimeSeconds]]/3600/24","v":"00:39:17"},{"$f":"COUNTIFS(ExportXML3_SplitTimes[Legenda],ExportXML3_SplitTimes[[#This Row],[Legenda]],ExportXML3_SplitTimes[Čas],\"<=\"&ExportXML3_SplitTimes[[#This Row],[Čas]])","v":533}]
["MA","Doucha","Jiří","0080001",2567,74,2464,{"$f":"ExportXML3_SplitTimes[[#This Row],[GivenName]]&\" \"&ExportXML3_SplitTimes[[#This Row],[FamilyName]]","v":"Jiří Doucha"},{"$f":"_xlfn.XLOOKUP(ExportXML3_SplitTimes[[#This Row],[PersonId]],#REF!,#REF!,\"-\")","v":{"$error":"#REF!"}},{"$f":"ExportXML3_SplitTimes[[#This Row],[Kategorie]] & \" - \" & ExportXML3_SplitTimes[[#This Row],[Závodník]] & \" (\" & ExportXML3_SplitTimes[[#This Row],[Číslo čipu]] & \")\"","v":{"$error":"#REF!"}},{"$f":"ExportXML3_SplitTimes[[#This Row],[ControlCode]]","v":74},{"$f":"ExportXML3_SplitTimes[[#This Row],[SplitTimeSeconds]]/3600/24","v":"00:41:04"},{"$f":"COUNTIFS(ExportXML3_SplitTimes[Legenda],ExportXML3_SplitTimes[[#This Row],[Legenda]],ExportXML3_SplitTimes[Čas],\"<=\"&ExportXML3_SplitTimes[[#This Row],[Čas]])","v":560}]
["MA","Doucha","Jiří","0080001",2567,100,2552,{"$f":"ExportXML3_SplitTimes[[#This Row],[GivenName]]&\" \"&ExportXML3_SplitTimes[[#This Row],[FamilyName]]","v":"Jiří Doucha"},{"$f":"_xlfn.XLOOKUP(ExportXML3_SplitTimes[[#This Row],[PersonId]],#REF!,#REF!,\"-\")","v":{"$error":"#REF!"}},{"$f":"ExportXML3_SplitTimes[[#This Row],[Kategorie]] & \" - \" & ExportXML3_SplitTimes[[#This Row],[Závodník]] & \" (\" & ExportXML3_SplitTimes[[#This Row],[Číslo čipu]] & \")\"","v":{"$error":"#REF!"}},{"$f":"ExportXML3_SplitTimes[[#This Row],[ControlCode]]","v":100},{"$f":"ExportXML3_SplitTimes[[#This Row],[SplitTimeSeconds]]/3600/24","v":"00:42:32"},{"$f":"COUNTIFS(ExportXML3_SplitTimes[Legenda],ExportXML3_SplitTimes[[#This Row],[Legenda]],ExportXML3_SplitTimes[Čas],\"<=\"&ExportXML3_SplitTimes[[#This Row],[Čas]])","v":576}]
["MA","Randíková","Magdaléna","0210001",2882,93,260,{"$f":"ExportXML3_SplitTimes[[#This Row],[GivenName]]&\" \"&ExportXML3_SplitTimes[[#This Row],[FamilyName]]","v":"Magdaléna Randíková"},{"$f":"_xlfn.XLOOKUP(ExportXML3_SplitTimes[[#This Row],[PersonId]],#REF!,#REF!,\"-\")","v":{"$error":"#REF!"}},{"$f":"ExportXML3_SplitTimes[[#This Row],[Kategorie]] & \" - \" & ExportXML3_SplitTimes[[#This Row],[Závodník]] & \" (\" & ExportXML3_SplitTimes[[#This Row],[Číslo čipu]] & \")\"","v":{"$error":"#REF!"}},{"$f":"ExportXML3_SplitTimes[[#This Row],[ControlCode]]","v":93},{"$f":"ExportXML3_SplitTimes[[#This Row],[SplitTimeSeconds]]/3600/24","v":"00:04:20"},{"$f":"COUNTIFS(ExportXML3_SplitTimes[Legenda],ExportXML3_SplitTimes[[#This Row],[Legenda]],ExportXML3_SplitTimes[Čas],\"<=\"&ExportXML3_SplitTimes[[#This Row],[Čas]])","v":20}]
["MA","Randíková","Magdaléna","0210001",2882,55,467,{"$f":"ExportXML3_SplitTimes[[#This Row],[GivenName]]&\" \"&ExportXML3_SplitTimes[[#This Row],[FamilyName]]","v":"Magdaléna Randíková"},{"$f":"_xlfn.XLOOKUP(ExportXML3_SplitTimes[[#This Row],[PersonId]],#REF!,#REF!,\"-\")","v":{"$error":"#REF!"}},{"$f":"ExportXML3_SplitTimes[[#This Row],[Kategorie]] & \" - \" & ExportXML3_SplitTimes[[#This Row],[Závodník]] & \" (\" & ExportXML3_SplitTimes[[#This Row],[Číslo čipu]] & \")\"","v":{"$error":"#REF!"}},{"$f":"ExportXML3_SplitTimes[[#This Row],[ControlCode]]","v":55},{"$f":"ExportXML3_SplitTimes[[#This Row],[SplitTimeSeconds]]/3600/24","v":"00:07:47"},{"$f":"COUNTIFS(ExportXML3_SplitTimes[Legenda],ExportXML3_SplitTimes[[#This Row],[Legenda]],ExportXML3_SplitTimes[Čas],\"<=\"&ExportXML3_SplitTimes[[#This Row],[Čas]])","v":67}]
["MA","Randíková","Magdaléna","0210001",2882,54,526,{"$f":"ExportXML3_SplitTimes[[#This Row],[GivenName]]&\" \"&ExportXML3_SplitTimes[[#This Row],[FamilyName]]","v":"Magdaléna Randíková"},{"$f":"_xlfn.XLOOKUP(ExportXML3_SplitTimes[[#This Row],[PersonId]],#REF!,#REF!,\"-\")","v":{"$error":"#REF!"}},{"$f":"ExportXML3_SplitTimes[[#This Row],[Kategorie]] & \" - \" & ExportXML3_SplitTimes[[#This Row],[Závodník]] & \" (\" & ExportXML3_SplitTimes[[#This Row],[Číslo čipu]] & \")\"","v":{"$error":"#REF!"}},{"$f":"ExportXML3_SplitTimes[[#This Row],[ControlCode]]","v":54},{"$f":"ExportXML3_SplitTimes[[#This Row],[SplitTimeSeconds]]/3600/24","v":"00:08:46"},{"$f":"COUNTIFS(ExportXML3_SplitTimes[Legenda],ExportXML3_SplitTimes[[#This Row],[Legenda]],ExportXML3_SplitTimes[Čas],\"<=\"&ExportXML3_SplitTimes[[#This Row],[Čas]])","v":90}]
["MA","Randíková","Magdaléna","0210001",2882,53,636,{"$f":"ExportXML3_SplitTimes[[#This Row],[GivenName]]&\" \"&ExportXML3_SplitTimes[[#This Row],[FamilyName]]","v":"Magdaléna Randíková"},{"$f":"_xlfn.XLOOKUP(ExportXML3_SplitTimes[[#This Row],[PersonId]],#REF!,#REF!,\"-\")","v":{"$error":"#REF!"}},{"$f":"ExportXML3_SplitTimes[[#This Row],[Kategorie]] & \" - \" & ExportXML3_SplitTimes[[#This Row],[Závodník]] & \" (\" & ExportXML3_SplitTimes[[#This Row],[Číslo čipu]] & \")\"","v":{"$error":"#REF!"}},{"$f":"ExportXML3_SplitTimes[[#This Row],[ControlCode]]","v":53},{"$f":"ExportXML3_SplitTimes[[#This Row],[SplitTimeSeconds]]/3600/24","v":"00:10:36"},{"$f":"COUNTIFS(ExportXML3_SplitTimes[Legenda],ExportXML3_SplitTimes[[#This Row],[Legenda]],ExportXML3_SplitTimes[Čas],\"<=\"&ExportXML3_SplitTimes[[#This Row],[Čas]])","v":122}]
["MA","Randíková","Magdaléna","0210001",2882,50,813,{"$f":"ExportXML3_SplitTimes[[#This Row],[GivenName]]&\" \"&ExportXML3_SplitTimes[[#This Row],[FamilyName]]","v":"Magdaléna Randíková"},{"$f":"_xlfn.XLOOKUP(ExportXML3_SplitTimes[[#This Row],[PersonId]],#REF!,#REF!,\"-\")","v":{"$error":"#REF!"}},{"$f":"ExportXML3_SplitTimes[[#This Row],[Kategorie]] & \" - \" & ExportXML3_SplitTimes[[#This Row],[Závodník]] & \" (\" & ExportXML3_SplitTimes[[#This Row],[Číslo čipu]] & \")\"","v":{"$error":"#REF!"}},{"$f":"ExportXML3_SplitTimes[[#This Row],[ControlCode]]","v":50},{"$f":"ExportXML3_SplitTimes[[#This Row],[SplitTimeSeconds]]/3600/24","v":"00:13:33"},{"$f":"COUNTIFS(ExportXML3_SplitTimes[Legenda],ExportXML3_SplitTimes[[#This Row],[Legenda]],ExportXML3_SplitTimes[Čas],\"<=\"&ExportXML3_SplitTimes[[#This Row],[Čas]])","v":171}]
["MA","Randíková","Magdaléna","0210001",2882,49,862,{"$f":"ExportXML3_SplitTimes[[#This Row],[GivenName]]&\" \"&ExportXML3_SplitTimes[[#This Row],[FamilyName]]","v":"Magdaléna Randíková"},{"$f":"_xlfn.XLOOKUP(ExportXML3_SplitTimes[[#This Row],[PersonId]],#REF!,#REF!,\"-\")","v":{"$error":"#REF!"}},{"$f":"ExportXML3_SplitTimes[[#This Row],[Kategorie]] & \" - \" & ExportXML3_SplitTimes[[#This Row],[Závodník]] & \" (\" & ExportXML3_SplitTimes[[#This Row],[Číslo čipu]] & \")\"","v":{"$error":"#REF!"}},{"$f":"ExportXML3_SplitTimes[[#This Row],[ControlCode]]","v":49},{"$f":"ExportXML3_SplitTimes[[#This Row],[SplitTimeSeconds]]/3600/24","v":"00:14:22"},{"$f":"COUNTIFS(ExportXML3_SplitTimes[Legenda],ExportXML3_SplitTimes[[#This Row],[Legenda]],ExportXML3_SplitTimes[Čas],\"<=\"&ExportXML3_SplitTimes[[#This Row],[Čas]])","v":181}]
["MA","Randíková","Magdaléna","0210001",2882,56,1042,{"$f":"ExportXML3_SplitTimes[[#This Row],[GivenName]]&\" \"&ExportXML3_SplitTimes[[#This Row],[FamilyName]]","v":"Magdaléna Randíková"},{"$f":"_xlfn.XLOOKUP(ExportXML3_SplitTimes[[#This Row],[PersonId]],#REF!,#REF!,\"-\")","v":{"$error":"#REF!"}},{"$f":"ExportXML3_SplitTimes[[#This Row],[Kategorie]] & \" - \" & ExportXML3_SplitTimes[[#This Row],[Závodník]] & \" (\" & ExportXML3_SplitTimes[[#This Row],[Číslo čipu]] & \")\"","v":{"$error":"#REF!"}},{"$f":"ExportXML3_SplitTimes[[#This Row],[ControlCode]]","v":56},{"$f":"ExportXML3_SplitTimes[[#This Row],[SplitTimeSeconds]]/3600/24","v":"00:17:22"},{"$f":"COUNTIFS(ExportXML3_SplitTimes[Legenda],ExportXML3_SplitTimes[[#This Row],[Legenda]],ExportXML3_SplitTimes[Čas],\"<=\"&ExportXML3_SplitTimes[[#This Row],[Čas]])","v":233}]
["MA","Randíková","Magdaléna","0210001",2882,42,1319,{"$f":"ExportXML3_SplitTimes[[#This Row],[GivenName]]&\" \"&ExportXML3_SplitTimes[[#This Row],[FamilyName]]","v":"Magdaléna Randíková"},{"$f":"_xlfn.XLOOKUP(ExportXML3_SplitTimes[[#This Row],[PersonId]],#REF!,#REF!,\"-\")","v":{"$error":"#REF!"}},{"$f":"ExportXML3_SplitTimes[[#This Row],[Kategorie]] & \" - \" & ExportXML3_SplitTimes[[#This Row],[Závodník]] & \" (\" & ExportXML3_SplitTimes[[#This Row],[Číslo čipu]] & \")\"","v":{"$error":"#REF!"}},{"$f":"ExportXML3_SplitTimes[[#This Row],[ControlCode]]","v":42},{"$f":"ExportXML3_SplitTimes[[#This Row],[SplitTimeSeconds]]/3600/24","v":"00:21:59"},{"$f":"COUNTIFS(ExportXML3_SplitTimes[Legenda],ExportXML3_SplitTimes[[#This Row],[Legenda]],ExportXML3_SplitTimes[Čas],\"<=\"&ExportXML3_SplitTimes[[#This Row],[Čas]])","v":298}]
["MA","Randíková","Magdaléna","0210001",2882,47,1442,{"$f":"ExportXML3_SplitTimes[[#This Row],[GivenName]]&\" \"&ExportXML3_SplitTimes[[#This Row],[FamilyName]]","v":"Magdaléna Randíková"},{"$f":"_xlfn.XLOOKUP(ExportXML3_SplitTimes[[#This Row],[PersonId]],#REF!,#REF!,\"-\")","v":{"$error":"#REF!"}},{"$f":"ExportXML3_SplitTimes[[#This Row],[Kategorie]] & \" - \" & ExportXML3_SplitTimes[[#This Row],[Závodník]] & \" (\" & ExportXML3_SplitTimes[[#This Row],[Číslo čipu]] & \")\"","v":{"$error":"#REF!"}},{"$f":"ExportXML3_SplitTimes[[#This Row],[ControlCode]]","v":47},{"$f":"ExportXML3_SplitTimes[[#This Row],[SplitTimeSeconds]]/3600/24","v":"00:24:02"},{"$f":"COUNTIFS(ExportXML3_SplitTimes[Legenda],ExportXML3_SplitTimes[[#This Row],[Legenda]],ExportXML3_SplitTimes[Čas],\"<=\"&ExportXML3_SplitTimes[[#This Row],[Čas]])","v":320}]
["MA","Randíková","Magdaléna","0210001",2882,60,1575,{"$f":"ExportXML3_SplitTimes[[#This Row],[GivenName]]&\" \"&ExportXML3_SplitTimes[[#This Row],[FamilyName]]","v":"Magdaléna Randíková"},{"$f":"_xlfn.XLOOKUP(ExportXML3_SplitTimes[[#This Row],[PersonId]],#REF!,#REF!,\"-\")","v":{"$error":"#REF!"}},{"$f":"ExportXML3_SplitTimes[[#This Row],[Kategorie]] & \" - \" & ExportXML3_SplitTimes[[#This Row],[Závodník]] & \" (\" & ExportXML3_SplitTimes[[#This Row],[Číslo čipu]] & \")\"","v":{"$error":"#REF!"}},{"$f":"ExportXML3_SplitTimes[[#This Row],[ControlCode]]","v":60},{"$f":"ExportXML3_SplitTimes[[#This Row],[SplitTimeSeconds]]/3600/24","v":"00:26:15"},{"$f":"COUNTIFS(ExportXML3_SplitTimes[Legenda],ExportXML3_SplitTimes[[#This Row],[Legenda]],ExportXML3_SplitTimes[Čas],\"<=\"&ExportXML3_SplitTimes[[#This Row],[Čas]])","v":355}]
["MA","Randíková","Magdaléna","0210001",2882,61,1685,{"$f":"ExportXML3_SplitTimes[[#This Row],[GivenName]]&\" \"&ExportXML3_SplitTimes[[#This Row],[FamilyName]]","v":"Magdaléna Randíková"},{"$f":"_xlfn.XLOOKUP(ExportXML3_SplitTimes[[#This Row],[PersonId]],#REF!,#REF!,\"-\")","v":{"$error":"#REF!"}},{"$f":"ExportXML3_SplitTimes[[#This Row],[Kategorie]] & \" - \" & ExportXML3_SplitTimes[[#This Row],[Závodník]] & \" (\" & ExportXML3_SplitTimes[[#This Row],[Číslo čipu]] & \")\"","v":{"$error":"#REF!"}},{"$f":"ExportXML3_SplitTimes[[#This Row],[ControlCode]]","v":61},{"$f":"ExportXML3_SplitTimes[[#This Row],[SplitTimeSeconds]]/3600/24","v":"00:28:05"},{"$f":"COUNTIFS(ExportXML3_SplitTimes[Legenda],ExportXML3_SplitTimes[[#This Row],[Legenda]],ExportXML3_SplitTimes[Čas],\"<=\"&ExportXML3_SplitTimes[[#This Row],[Čas]])","v":378}]
["MA","Randíková","Magdaléna","0210001",2882,80,1839,{"$f":"ExportXML3_SplitTimes[[#This Row],[GivenName]]&\" \"&ExportXML3_SplitTimes[[#This Row],[FamilyName]]","v":"Magdaléna Randíková"},{"$f":"_xlfn.XLOOKUP(ExportXML3_SplitTimes[[#This Row],[PersonId]],#REF!,#REF!,\"-\")","v":{"$error":"#REF!"}},{"$f":"ExportXML3_SplitTimes[[#This Row],[Kategorie]] & \" - \" & ExportXML3_SplitTimes[[#This Row],[Závodník]] & \" (\" & ExportXML3_SplitTimes[[#This Row],[Číslo čipu]] & \")\"","v":{"$error":"#REF!"}},{"$f":"ExportXML3_SplitTimes[[#This Row],[ControlCode]]","v":80},{"$f":"ExportXML3_SplitTimes[[#This Row],[SplitTimeSeconds]]/3600/24","v":"00:30:39"},{"$f":"COUNTIFS(ExportXML3_SplitTimes[Legenda],ExportXML3_SplitTimes[[#This Row],[Legenda]],ExportXML3_SplitTimes[Čas],\"<=\"&ExportXML3_SplitTimes[[#This Row],[Čas]])","v":421}]
["MA","Randíková","Magdaléna","0210001",2882,62,2101,{"$f":"ExportXML3_SplitTimes[[#This Row],[GivenName]]&\" \"&ExportXML3_SplitTimes[[#This Row],[FamilyName]]","v":"Magdaléna Randíková"},{"$f":"_xlfn.XLOOKUP(ExportXML3_SplitTimes[[#This Row],[PersonId]],#REF!,#REF!,\"-\")","v":{"$error":"#REF!"}},{"$f":"ExportXML3_SplitTimes[[#This Row],[Kategorie]] & \" - \" & ExportXML3_SplitTimes[[#This Row],[Závodník]] & \" (\" & ExportXML3_SplitTimes[[#This Row],[Číslo čipu]] & \")\"","v":{"$error":"#REF!"}},{"$f":"ExportXML3_SplitTimes[[#This Row],[ControlCode]]","v":62},{"$f":"ExportXML3_SplitTimes[[#This Row],[SplitTimeSeconds]]/3600/24","v":"00:35:01"},{"$f":"COUNTIFS(ExportXML3_SplitTimes[Legenda],ExportXML3_SplitTimes[[#This Row],[Legenda]],ExportXML3_SplitTimes[Čas],\"<=\"&ExportXML3_SplitTimes[[#This Row],[Čas]])","v":481}]
["MA","Randíková","Magdaléna","0210001",2882,65,2300,{"$f":"ExportXML3_SplitTimes[[#This Row],[GivenName]]&\" \"&ExportXML3_SplitTimes[[#This Row],[FamilyName]]","v":"Magdaléna Randíková"},{"$f":"_xlfn.XLOOKUP(ExportXML3_SplitTimes[[#This Row],[PersonId]],#REF!,#REF!,\"-\")","v":{"$error":"#REF!"}},{"$f":"ExportXML3_SplitTimes[[#This Row],[Kategorie]] & \" - \" & ExportXML3_SplitTimes[[#This Row],[Závodník]] & \" (\" & ExportXML3_SplitTimes[[#This Row],[Číslo čipu]] & \")\"","v":{"$error":"#REF!"}},{"$f":"ExportXML3_SplitTimes[[#This Row],[ControlCode]]","v":65},{"$f":"ExportXML3_SplitTimes[[#This Row],[SplitTimeSeconds]]/3600/24","v":"00:38:20"},{"$f":"COUNTIFS(ExportXML3_SplitTimes[Legenda],ExportXML3_SplitTimes[[#This Row],[Legenda]],ExportXML3_SplitTimes[Čas],\"<=\"&ExportXML3_SplitTimes[[#This Row],[Čas]])","v":523}]
["MA","Randíková","Magdaléna","0210001",2882,76,2421,{"$f":"ExportXML3_SplitTimes[[#This Row],[GivenName]]&\" \"&ExportXML3_SplitTimes[[#This Row],[FamilyName]]","v":"Magdaléna Randíková"},{"$f":"_xlfn.XLOOKUP(ExportXML3_SplitTimes[[#This Row],[PersonId]],#REF!,#REF!,\"-\")","v":{"$error":"#REF!"}},{"$f":"ExportXML3_SplitTimes[[#This Row],[Kategorie]] & \" - \" & ExportXML3_SplitTimes[[#This Row],[Závodník]] & \" (\" & ExportXML3_SplitTimes[[#This Row],[Číslo čipu]] & \")\"","v":{"$error":"#REF!"}},{"$f":"ExportXML3_SplitTimes[[#This Row],[ControlCode]]","v":76},{"$f":"ExportXML3_SplitTimes[[#This Row],[SplitTimeSeconds]]/3600/24","v":"00:40:21"},{"$f":"COUNTIFS(ExportXML3_SplitTimes[Legenda],ExportXML3_SplitTimes[[#This Row],[Legenda]],ExportXML3_SplitTimes[Čas],\"<=\"&ExportXML3_SplitTimes[[#This Row],[Čas]])","v":547}]
["MA","Randíková","Magdaléna","0210001",2882,71,2531,{"$f":"ExportXML3_SplitTimes[[#This Row],[GivenName]]&\" \"&ExportXML3_SplitTimes[[#This Row],[FamilyName]]","v":"Magdaléna Randíková"},{"$f":"_xlfn.XLOOKUP(ExportXML3_SplitTimes[[#This Row],[PersonId]],#REF!,#REF!,\"-\")","v":{"$error":"#REF!"}},{"$f":"ExportXML3_SplitTimes[[#This Row],[Kategorie]] & \" - \" & ExportXML3_SplitTimes[[#This Row],[Závodník]] & \" (\" & ExportXML3_SplitTimes[[#This Row],[Číslo čipu]] & \")\"","v":{"$error":"#REF!"}},{"$f":"ExportXML3_SplitTimes[[#This Row],[ControlCode]]","v":71},{"$f":"ExportXML3_SplitTimes[[#This Row],[SplitTimeSeconds]]/3600/24","v":"00:42:11"},{"$f":"COUNTIFS(ExportXML3_SplitTimes[Legenda],ExportXML3_SplitTimes[[#This Row],[Legenda]],ExportXML3_SplitTimes[Čas],\"<=\"&ExportXML3_SplitTimes[[#This Row],[Čas]])","v":573}]
["MA","Randíková","Magdaléna","0210001",2882,74,2669,{"$f":"ExportXML3_SplitTimes[[#This Row],[GivenName]]&\" \"&ExportXML3_SplitTimes[[#This Row],[FamilyName]]","v":"Magdaléna Randíková"},{"$f":"_xlfn.XLOOKUP(ExportXML3_SplitTimes[[#This Row],[PersonId]],#REF!,#REF!,\"-\")","v":{"$error":"#REF!"}},{"$f":"ExportXML3_SplitTimes[[#This Row],[Kategorie]] & \" - \" & ExportXML3_SplitTimes[[#This Row],[Závodník]] & \" (\" & ExportXML3_SplitTimes[[#This Row],[Číslo čipu]] & \")\"","v":{"$error":"#REF!"}},{"$f":"ExportXML3_SplitTimes[[#This Row],[ControlCode]]","v":74},{"$f":"ExportXML3_SplitTimes[[#This Row],[SplitTimeSeconds]]/3600/24","v":"00:44:29"},{"$f":"COUNTIFS(ExportXML3_SplitTimes[Legenda],ExportXML3_SplitTimes[[#This Row],[Legenda]],ExportXML3_SplitTimes[Čas],\"<=\"&ExportXML3_SplitTimes[[#This Row],[Čas]])","v":601}]
["MA","Randíková","Magdaléna","0210001",2882,100,2864,{"$f":"ExportXML3_SplitTimes[[#This Row],[GivenName]]&\" \"&ExportXML3_SplitTimes[[#This Row],[FamilyName]]","v":"Magdaléna Randíková"},{"$f":"_xlfn.XLOOKUP(ExportXML3_SplitTimes[[#This Row],[PersonId]],#REF!,#REF!,\"-\")","v":{"$error":"#REF!"}},{"$f":"ExportXML3_SplitTimes[[#This Row],[Kategorie]] & \" - \" & ExportXML3_SplitTimes[[#This Row],[Závodník]] & \" (\" & ExportXML3_SplitTimes[[#This Row],[Číslo čipu]] & \")\"","v":{"$error":"#REF!"}},{"$f":"ExportXML3_SplitTimes[[#This Row],[ControlCode]]","v":100},{"$f":"ExportXML3_SplitTimes[[#This Row],[SplitTimeSeconds]]/3600/24","v":"00:47:44"},{"$f":"COUNTIFS(ExportXML3_SplitTimes[Legenda],ExportXML3_SplitTimes[[#This Row],[Legenda]],ExportXML3_SplitTimes[Čas],\"<=\"&ExportXML3_SplitTimes[[#This Row],[Čas]])","v":640}]
["MA","Jandera","Tomáš","0030001",2894,93,286,{"$f":"ExportXML3_SplitTimes[[#This Row],[GivenName]]&\" \"&ExportXML3_SplitTimes[[#This Row],[FamilyName]]","v":"Tomáš Jandera"},{"$f":"_xlfn.XLOOKUP(ExportXML3_SplitTimes[[#This Row],[PersonId]],#REF!,#REF!,\"-\")","v":{"$error":"#REF!"}},{"$f":"ExportXML3_SplitTimes[[#This Row],[Kategorie]] & \" - \" & ExportXML3_SplitTimes[[#This Row],[Závodník]] & \" (\" & ExportXML3_SplitTimes[[#This Row],[Číslo čipu]] & \")\"","v":{"$error":"#REF!"}},{"$f":"ExportXML3_SplitTimes[[#This Row],[ControlCode]]","v":93},{"$f":"ExportXML3_SplitTimes[[#This Row],[SplitTimeSeconds]]/3600/24","v":"00:04:46"},{"$f":"COUNTIFS(ExportXML3_SplitTimes[Legenda],ExportXML3_SplitTimes[[#This Row],[Legenda]],ExportXML3_SplitTimes[Čas],\"<=\"&ExportXML3_SplitTimes[[#This Row],[Čas]])","v":26}]
["MA","Jandera","Tomáš","0030001",2894,55,496,{"$f":"ExportXML3_SplitTimes[[#This Row],[GivenName]]&\" \"&ExportXML3_SplitTimes[[#This Row],[FamilyName]]","v":"Tomáš Jandera"},{"$f":"_xlfn.XLOOKUP(ExportXML3_SplitTimes[[#This Row],[PersonId]],#REF!,#REF!,\"-\")","v":{"$error":"#REF!"}},{"$f":"ExportXML3_SplitTimes[[#This Row],[Kategorie]] & \" - \" & ExportXML3_SplitTimes[[#This Row],[Závodník]] & \" (\" & ExportXML3_SplitTimes[[#This Row],[Číslo čipu]] & \")\"","v":{"$error":"#REF!"}},{"$f":"ExportXML3_SplitTimes[[#This Row],[ControlCode]]","v":55},{"$f":"ExportXML3_SplitTimes[[#This Row],[SplitTimeSeconds]]/3600/24","v":"00:08:16"},{"$f":"COUNTIFS(ExportXML3_SplitTimes[Legenda],ExportXML3_SplitTimes[[#This Row],[Legenda]],ExportXML3_SplitTimes[Čas],\"<=\"&ExportXML3_SplitTimes[[#This Row],[Čas]])","v":77}]
["MA","Jandera","Tomáš","0030001",2894,54,538,{"$f":"ExportXML3_SplitTimes[[#This Row],[GivenName]]&\" \"&ExportXML3_SplitTimes[[#This Row],[FamilyName]]","v":"Tomáš Jandera"},{"$f":"_xlfn.XLOOKUP(ExportXML3_SplitTimes[[#This Row],[PersonId]],#REF!,#REF!,\"-\")","v":{"$error":"#REF!"}},{"$f":"ExportXML3_SplitTimes[[#This Row],[Kategorie]] & \" - \" & ExportXML3_SplitTimes[[#This Row],[Závodník]] & \" (\" & ExportXML3_SplitTimes[[#This Row],[Číslo čipu]] & \")\"","v":{"$error":"#REF!"}},{"$f":"ExportXML3_SplitTimes[[#This Row],[ControlCode]]","v":54},{"$f":"ExportXML3_SplitTimes[[#This Row],[SplitTimeSeconds]]/3600/24","v":"00:08:58"},{"$f":"COUNTIFS(ExportXML3_SplitTimes[Legenda],ExportXML3_SplitTimes[[#This Row],[Legenda]],ExportXML3_SplitTimes[Čas],\"<=\"&ExportXML3_SplitTimes[[#This Row],[Čas]])","v":92}]
["MA","Jandera","Tomáš","0030001",2894,53,638,{"$f":"ExportXML3_SplitTimes[[#This Row],[GivenName]]&\" \"&ExportXML3_SplitTimes[[#This Row],[FamilyName]]","v":"Tomáš Jandera"},{"$f":"_xlfn.XLOOKUP(ExportXML3_SplitTimes[[#This Row],[PersonId]],#REF!,#REF!,\"-\")","v":{"$error":"#REF!"}},{"$f":"ExportXML3_SplitTimes[[#This Row],[Kategorie]] & \" - \" & ExportXML3_SplitTimes[[#This Row],[Závodník]] & \" (\" & ExportXML3_SplitTimes[[#This Row],[Číslo čipu]] & \")\"","v":{"$error":"#REF!"}},{"$f":"ExportXML3_SplitTimes[[#This Row],[ControlCode]]","v":53},{"$f":"ExportXML3_SplitTimes[[#This Row],[SplitTimeSeconds]]/3600/24","v":"00:10:38"},{"$f":"COUNTIFS(ExportXML3_SplitTimes[Legenda],ExportXML3_SplitTimes[[#This Row],[Legenda]],ExportXML3_SplitTimes[Čas],\"<=\"&ExportXML3_SplitTimes[[#This Row],[Čas]])","v":124}]
["MA","Jandera","Tomáš","0030001",2894,50,924,{"$f":"ExportXML3_SplitTimes[[#This Row],[GivenName]]&\" \"&ExportXML3_SplitTimes[[#This Row],[FamilyName]]","v":"Tomáš Jandera"},{"$f":"_xlfn.XLOOKUP(ExportXML3_SplitTimes[[#This Row],[PersonId]],#REF!,#REF!,\"-\")","v":{"$error":"#REF!"}},{"$f":"ExportXML3_SplitTimes[[#This Row],[Kategorie]] & \" - \" & ExportXML3_SplitTimes[[#This Row],[Závodník]] & \" (\" & ExportXML3_SplitTimes[[#This Row],[Číslo čipu]] & \")\"","v":{"$error":"#REF!"}},{"$f":"ExportXML3_SplitTimes[[#This Row],[ControlCode]]","v":50},{"$f":"ExportXML3_SplitTimes[[#This Row],[SplitTimeSeconds]]/3600/24","v":"00:15:24"},{"$f":"COUNTIFS(ExportXML3_SplitTimes[Legenda],ExportXML3_SplitTimes[[#This Row],[Legenda]],ExportXML3_SplitTimes[Čas],\"<=\"&ExportXML3_SplitTimes[[#This Row],[Čas]])","v":199}]
["MA","Jandera","Tomáš","0030001",2894,49,968,{"$f":"ExportXML3_SplitTimes[[#This Row],[GivenName]]&\" \"&ExportXML3_SplitTimes[[#This Row],[FamilyName]]","v":"Tomáš Jandera"},{"$f":"_xlfn.XLOOKUP(ExportXML3_SplitTimes[[#This Row],[PersonId]],#REF!,#REF!,\"-\")","v":{"$error":"#REF!"}},{"$f":"ExportXML3_SplitTimes[[#This Row],[Kategorie]] & \" - \" & ExportXML3_SplitTimes[[#This Row],[Závodník]] & \" (\" & ExportXML3_SplitTimes[[#This Row],[Číslo čipu]] & \")\"","v":{"$error":"#REF!"}},{"$f":"ExportXML3_SplitTimes[[#This Row],[ControlCode]]","v":49},{"$f":"ExportXML3_SplitTimes[[#This Row],[SplitTimeSeconds]]/3600/24","v":"00:16:08"},{"$f":"COUNTIFS(ExportXML3_SplitTimes[Legenda],ExportXML3_SplitTimes[[#This Row],[Legenda]],ExportXML3_SplitTimes[Čas],\"<=\"&ExportXML3_SplitTimes[[#This Row],[Čas]])","v":214}]
["MA","Jandera","Tomáš","0030001",2894,56,1129,{"$f":"ExportXML3_SplitTimes[[#This Row],[GivenName]]&\" \"&ExportXML3_SplitTimes[[#This Row],[FamilyName]]","v":"Tomáš Jandera"},{"$f":"_xlfn.XLOOKUP(ExportXML3_SplitTimes[[#This Row],[PersonId]],#REF!,#REF!,\"-\")","v":{"$error":"#REF!"}},{"$f":"ExportXML3_SplitTimes[[#This Row],[Kategorie]] & \" - \" & ExportXML3_SplitTimes[[#This Row],[Závodník]] & \" (\" & ExportXML3_SplitTimes[[#This Row],[Číslo čipu]] & \")\"","v":{"$error":"#REF!"}},{"$f":"ExportXML3_SplitTimes[[#This Row],[ControlCode]]","v":56},{"$f":"ExportXML3_SplitTimes[[#This Row],[SplitTimeSeconds]]/3600/24","v":"00:18:49"},{"$f":"COUNTIFS(ExportXML3_SplitTimes[Legenda],ExportXML3_SplitTimes[[#This Row],[Legenda]],ExportXML3_SplitTimes[Čas],\"<=\"&ExportXML3_SplitTimes[[#This Row],[Čas]])","v":252}]
["MA","Jandera","Tomáš","0030001",2894,42,1419,{"$f":"ExportXML3_SplitTimes[[#This Row],[GivenName]]&\" \"&ExportXML3_SplitTimes[[#This Row],[FamilyName]]","v":"Tomáš Jandera"},{"$f":"_xlfn.XLOOKUP(ExportXML3_SplitTimes[[#This Row],[PersonId]],#REF!,#REF!,\"-\")","v":{"$error":"#REF!"}},{"$f":"ExportXML3_SplitTimes[[#This Row],[Kategorie]] & \" - \" & ExportXML3_SplitTimes[[#This Row],[Závodník]] & \" (\" & ExportXML3_SplitTimes[[#This Row],[Číslo čipu]] & \")\"","v":{"$error":"#REF!"}},{"$f":"ExportXML3_SplitTimes[[#This Row],[ControlCode]]","v":42},{"$f":"ExportXML3_SplitTimes[[#This Row],[SplitTimeSeconds]]/3600/24","v":"00:23:39"},{"$f":"COUNTIFS(ExportXML3_SplitTimes[Legenda],ExportXML3_SplitTimes[[#This Row],[Legenda]],ExportXML3_SplitTimes[Čas],\"<=\"&ExportXML3_SplitTimes[[#This Row],[Čas]])","v":318}]
["MA","Jandera","Tomáš","0030001",2894,47,1559,{"$f":"ExportXML3_SplitTimes[[#This Row],[GivenName]]&\" \"&ExportXML3_SplitTimes[[#This Row],[FamilyName]]","v":"Tomáš Jandera"},{"$f":"_xlfn.XLOOKUP(ExportXML3_SplitTimes[[#This Row],[PersonId]],#REF!,#REF!,\"-\")","v":{"$error":"#REF!"}},{"$f":"ExportXML3_SplitTimes[[#This Row],[Kategorie]] & \" - \" & ExportXML3_SplitTimes[[#This Row],[Závodník]] & \" (\" & ExportXML3_SplitTimes[[#This Row],[Číslo čipu]] & \")\"","v":{"$error":"#REF!"}},{"$f":"ExportXML3_SplitTimes[[#This Row],[ControlCode]]","v":47},{"$f":"ExportXML3_SplitTimes[[#This Row],[SplitTimeSeconds]]/3600/24","v":"00:25:59"},{"$f":"COUNTIFS(ExportXML3_SplitTimes[Legenda],ExportXML3_SplitTimes[[#This Row],[Legenda]],ExportXML3_SplitTimes[Čas],\"<=\"&ExportXML3_SplitTimes[[#This Row],[Čas]])","v":349}]
["MA","Jandera","Tomáš","0030001",2894,60,1678,{"$f":"ExportXML3_SplitTimes[[#This Row],[GivenName]]&\" \"&ExportXML3_SplitTimes[[#This Row],[FamilyName]]","v":"Tomáš Jandera"},{"$f":"_xlfn.XLOOKUP(ExportXML3_SplitTimes[[#This Row],[PersonId]],#REF!,#REF!,\"-\")","v":{"$error":"#REF!"}},{"$f":"ExportXML3_SplitTimes[[#This Row],[Kategorie]] & \" - \" & ExportXML3_SplitTimes[[#This Row],[Závodník]] & \" (\" & ExportXML3_SplitTimes[[#This Row],[Číslo čipu]] & \")\"","v":{"$error":"#REF!"}},{"$f":"ExportXML3_SplitTimes[[#This Row],[ControlCode]]","v":60},{"$f":"ExportXML3_SplitTimes[[#This Row],[SplitTimeSeconds]]/3600/24","v":"00:27:58"},{"$f":"COUNTIFS(ExportXML3_SplitTimes[Legenda],ExportXML3_SplitTimes[[#This Row],[Legenda]],ExportXML3_SplitTimes[Čas],\"<=\"&ExportXML3_SplitTimes[[#This Row],[Čas]])","v":377}]
["MA","Jandera","Tomáš","0030001",2894,61,1806,{"$f":"ExportXML3_SplitTimes[[#This Row],[GivenName]]&\" \"&ExportXML3_SplitTimes[[#This Row],[FamilyName]]","v":"Tomáš Jandera"},{"$f":"_xlfn.XLOOKUP(ExportXML3_SplitTimes[[#This Row],[PersonId]],#REF!,#REF!,\"-\")","v":{"$error":"#REF!"}},{"$f":"ExportXML3_SplitTimes[[#This Row],[Kategorie]] & \" - \" & ExportXML3_SplitTimes[[#This Row],[Závodník]] & \" (\" & ExportXML3_SplitTimes[[#This Row],[Číslo čipu]] & \")\"","v":{"$error":"#REF!"}},{"$f":"ExportXML3_SplitTimes[[#This Row],[ControlCode]]","v":61},{"$f":"ExportXML3_SplitTimes[[#This Row],[SplitTimeSeconds]]/3600/24","v":"00:30:06"},{"$f":"COUNTIFS(ExportXML3_SplitTimes[Legenda],ExportXML3_SplitTimes[[#This Row],[Legenda]],ExportXML3_SplitTimes[Čas],\"<=\"&ExportXML3_SplitTimes[[#This Row],[Čas]])","v":414}]
["MA","Jandera","Tomáš","0030001",2894,80,1932,{"$f":"ExportXML3_SplitTimes[[#This Row],[GivenName]]&\" \"&ExportXML3_SplitTimes[[#This Row],[FamilyName]]","v":"Tomáš Jandera"},{"$f":"_xlfn.XLOOKUP(ExportXML3_SplitTimes[[#This Row],[PersonId]],#REF!,#REF!,\"-\")","v":{"$error":"#REF!"}},{"$f":"ExportXML3_SplitTimes[[#This Row],[Kategorie]] & \" - \" & ExportXML3_SplitTimes[[#This Row],[Závodník]] & \" (\" & ExportXML3_SplitTimes[[#This Row],[Číslo čipu]] & \")\"","v":{"$error":"#REF!"}},{"$f":"ExportXML3_SplitTimes[[#This Row],[ControlCode]]","v":80},{"$f":"ExportXML3_SplitTimes[[#This Row],[SplitTimeSeconds]]/3600/24","v":"00:32:12"},{"$f":"COUNTIFS(ExportXML3_SplitTimes[Legenda],ExportXML3_SplitTimes[[#This Row],[Legenda]],ExportXML3_SplitTimes[Čas],\"<=\"&ExportXML3_SplitTimes[[#This Row],[Čas]])","v":442}]
["MA","Jandera","Tomáš","0030001",2894,62,2213,{"$f":"ExportXML3_SplitTimes[[#This Row],[GivenName]]&\" \"&ExportXML3_SplitTimes[[#This Row],[FamilyName]]","v":"Tomáš Jandera"},{"$f":"_xlfn.XLOOKUP(ExportXML3_SplitTimes[[#This Row],[PersonId]],#REF!,#REF!,\"-\")","v":{"$error":"#REF!"}},{"$f":"ExportXML3_SplitTimes[[#This Row],[Kategorie]] & \" - \" & ExportXML3_SplitTimes[[#This Row],[Závodník]] & \" (\" & ExportXML3_SplitTimes[[#This Row],[Číslo čipu]] & \")\"","v":{"$error":"#REF!"}},{"$f":"ExportXML3_SplitTimes[[#This Row],[ControlCode]]","v":62},{"$f":"ExportXML3_SplitTimes[[#This Row],[SplitTimeSeconds]]/3600/24","v":"00:36:53"},{"$f":"COUNTIFS(ExportXML3_SplitTimes[Legenda],ExportXML3_SplitTimes[[#This Row],[Legenda]],ExportXML3_SplitTimes[Čas],\"<=\"&ExportXML3_SplitTimes[[#This Row],[Čas]])","v":502}]
["MA","Jandera","Tomáš","0030001",2894,65,2415,{"$f":"ExportXML3_SplitTimes[[#This Row],[GivenName]]&\" \"&ExportXML3_SplitTimes[[#This Row],[FamilyName]]","v":"Tomáš Jandera"},{"$f":"_xlfn.XLOOKUP(ExportXML3_SplitTimes[[#This Row],[PersonId]],#REF!,#REF!,\"-\")","v":{"$error":"#REF!"}},{"$f":"ExportXML3_SplitTimes[[#This Row],[Kategorie]] & \" - \" & ExportXML3_SplitTimes[[#This Row],[Závodník]] & \" (\" & ExportXML3_SplitTimes[[#This Row],[Číslo čipu]] & \")\"","v":{"$error":"#REF!"}},{"$f":"ExportXML3_SplitTimes[[#This Row],[ControlCode]]","v":65},{"$f":"ExportXML3_SplitTimes[[#This Row],[SplitTimeSeconds]]/3600/24","v":"00:40:15"},{"$f":"COUNTIFS(ExportXML3_SplitTimes[Legenda],ExportXML3_SplitTimes[[#This Row],[Legenda]],ExportXML3_SplitTimes[Čas],\"<=\"&ExportXML3_SplitTimes[[#This Row],[Čas]])","v":546}]
["MA","Jandera","Tomáš","0030001",2894,76,2527,{"$f":"ExportXML3_SplitTimes[[#This Row],[GivenName]]&\" \"&ExportXML3_SplitTimes[[#This Row],[FamilyName]]","v":"Tomáš Jandera"},{"$f":"_xlfn.XLOOKUP(ExportXML3_SplitTimes[[#This Row],[PersonId]],#REF!,#REF!,\"-\")","v":{"$error":"#REF!"}},{"$f":"ExportXML3_SplitTimes[[#This Row],[Kategorie]] & \" - \" & ExportXML3_SplitTimes[[#This Row],[Závodník]] & \" (\" & ExportXML3_SplitTimes[[#This Row],[Číslo čipu]] & \")\"","v":{"$error":"#REF!"}},{"$f":"ExportXML3_SplitTimes[[#This Row],[ControlCode]]","v":76},{"$f":"ExportXML3_SplitTimes[[#This Row],[SplitTimeSeconds]]/3600/24","v":"00:42:07"},{"$f":"COUNTIFS(ExportXML3_SplitTimes[Legenda],ExportXML3_SplitTimes[[#This Row],[Legenda]],ExportXML3_SplitTimes[Čas],\"<=\"&ExportXML3_SplitTimes[[#This Row],[Čas]])","v":569}]
["MA","Jandera","Tomáš","0030001",2894,71,2661,{"$f":"ExportXML3_SplitTimes[[#This Row],[GivenName]]&\" \"&ExportXML3_SplitTimes[[#This Row],[FamilyName]]","v":"Tomáš Jandera"},{"$f":"_xlfn.XLOOKUP(ExportXML3_SplitTimes[[#This Row],[PersonId]],#REF!,#REF!,\"-\")","v":{"$error":"#REF!"}},{"$f":"ExportXML3_SplitTimes[[#This Row],[Kategorie]] & \" - \" & ExportXML3_SplitTimes[[#This Row],[Závodník]] & \" (\" & ExportXML3_SplitTimes[[#This Row],[Číslo čipu]] & \")\"","v":{"$error":"#REF!"}},{"$f":"ExportXML3_SplitTimes[[#This Row],[ControlCode]]","v":71},{"$f":"ExportXML3_SplitTimes[[#This Row],[SplitTimeSeconds]]/3600/24","v":"00:44:21"},{"$f":"COUNTIFS(ExportXML3_SplitTimes[Legenda],ExportXML3_SplitTimes[[#This Row],[Legenda]],ExportXML3_SplitTimes[Čas],\"<=\"&ExportXML3_SplitTimes[[#This Row],[Čas]])","v":596}]
["MA","Jandera","Tomáš","0030001",2894,74,2785,{"$f":"ExportXML3_SplitTimes[[#This Row],[GivenName]]&\" \"&ExportXML3_SplitTimes[[#This Row],[FamilyName]]","v":"Tomáš Jandera"},{"$f":"_xlfn.XLOOKUP(ExportXML3_SplitTimes[[#This Row],[PersonId]],#REF!,#REF!,\"-\")","v":{"$error":"#REF!"}},{"$f":"ExportXML3_SplitTimes[[#This Row],[Kategorie]] & \" - \" & ExportXML3_SplitTimes[[#This Row],[Závodník]] & \" (\" & ExportXML3_SplitTimes[[#This Row],[Číslo čipu]] & \")\"","v":{"$error":"#REF!"}},{"$f":"ExportXML3_SplitTimes[[#This Row],[ControlCode]]","v":74},{"$f":"ExportXML3_SplitTimes[[#This Row],[SplitTimeSeconds]]/3600/24","v":"00:46:25"},{"$f":"COUNTIFS(ExportXML3_SplitTimes[Legenda],ExportXML3_SplitTimes[[#This Row],[Legenda]],ExportXML3_SplitTimes[Čas],\"<=\"&ExportXML3_SplitTimes[[#This Row],[Čas]])","v":628}]
["MA","Jandera","Tomáš","0030001",2894,100,2881,{"$f":"ExportXML3_SplitTimes[[#This Row],[GivenName]]&\" \"&ExportXML3_SplitTimes[[#This Row],[FamilyName]]","v":"Tomáš Jandera"},{"$f":"_xlfn.XLOOKUP(ExportXML3_SplitTimes[[#This Row],[PersonId]],#REF!,#REF!,\"-\")","v":{"$error":"#REF!"}},{"$f":"ExportXML3_SplitTimes[[#This Row],[Kategorie]] & \" - \" & ExportXML3_SplitTimes[[#This Row],[Závodník]] & \" (\" & ExportXML3_SplitTimes[[#This Row],[Číslo čipu]] & \")\"","v":{"$error":"#REF!"}},{"$f":"ExportXML3_SplitTimes[[#This Row],[ControlCode]]","v":100},{"$f":"ExportXML3_SplitTimes[[#This Row],[SplitTimeSeconds]]/3600/24","v":"00:48:01"},{"$f":"COUNTIFS(ExportXML3_SplitTimes[Legenda],ExportXML3_SplitTimes[[#This Row],[Legenda]],ExportXML3_SplitTimes[Čas],\"<=\"&ExportXML3_SplitTimes[[#This Row],[Čas]])","v":643}]
["MA","Janeček","Jiří","0010004",2913,93,378,{"$f":"ExportXML3_SplitTimes[[#This Row],[GivenName]]&\" \"&ExportXML3_SplitTimes[[#This Row],[FamilyName]]","v":"Jiří Janeček"},{"$f":"_xlfn.XLOOKUP(ExportXML3_SplitTimes[[#This Row],[PersonId]],#REF!,#REF!,\"-\")","v":{"$error":"#REF!"}},{"$f":"ExportXML3_SplitTimes[[#This Row],[Kategorie]] & \" - \" & ExportXML3_SplitTimes[[#This Row],[Závodník]] & \" (\" & ExportXML3_SplitTimes[[#This Row],[Číslo čipu]] & \")\"","v":{"$error":"#REF!"}},{"$f":"ExportXML3_SplitTimes[[#This Row],[ControlCode]]","v":93},{"$f":"ExportXML3_SplitTimes[[#This Row],[SplitTimeSeconds]]/3600/24","v":"00:06:18"},{"$f":"COUNTIFS(ExportXML3_SplitTimes[Legenda],ExportXML3_SplitTimes[[#This Row],[Legenda]],ExportXML3_SplitTimes[Čas],\"<=\"&ExportXML3_SplitTimes[[#This Row],[Čas]])","v":46}]
["MA","Janeček","Jiří","0010004",2913,55,576,{"$f":"ExportXML3_SplitTimes[[#This Row],[GivenName]]&\" \"&ExportXML3_SplitTimes[[#This Row],[FamilyName]]","v":"Jiří Janeček"},{"$f":"_xlfn.XLOOKUP(ExportXML3_SplitTimes[[#This Row],[PersonId]],#REF!,#REF!,\"-\")","v":{"$error":"#REF!"}},{"$f":"ExportXML3_SplitTimes[[#This Row],[Kategorie]] & \" - \" & ExportXML3_SplitTimes[[#This Row],[Závodník]] & \" (\" & ExportXML3_SplitTimes[[#This Row],[Číslo čipu]] & \")\"","v":{"$error":"#REF!"}},{"$f":"ExportXML3_SplitTimes[[#This Row],[ControlCode]]","v":55},{"$f":"ExportXML3_SplitTimes[[#This Row],[SplitTimeSeconds]]/3600/24","v":"00:09:36"},{"$f":"COUNTIFS(ExportXML3_SplitTimes[Legenda],ExportXML3_SplitTimes[[#This Row],[Legenda]],ExportXML3_SplitTimes[Čas],\"<=\"&ExportXML3_SplitTimes[[#This Row],[Čas]])","v":103}]
["MA","Janeček","Jiří","0010004",2913,54,627,{"$f":"ExportXML3_SplitTimes[[#This Row],[GivenName]]&\" \"&ExportXML3_SplitTimes[[#This Row],[FamilyName]]","v":"Jiří Janeček"},{"$f":"_xlfn.XLOOKUP(ExportXML3_SplitTimes[[#This Row],[PersonId]],#REF!,#REF!,\"-\")","v":{"$error":"#REF!"}},{"$f":"ExportXML3_SplitTimes[[#This Row],[Kategorie]] & \" - \" & ExportXML3_SplitTimes[[#This Row],[Závodník]] & \" (\" & ExportXML3_SplitTimes[[#This Row],[Číslo čipu]] & \")\"","v":{"$error":"#REF!"}},{"$f":"ExportXML3_SplitTimes[[#This Row],[ControlCode]]","v":54},{"$f":"ExportXML3_SplitTimes[[#This Row],[SplitTimeSeconds]]/3600/24","v":"00:10:27"},{"$f":"COUNTIFS(ExportXML3_SplitTimes[Legenda],ExportXML3_SplitTimes[[#This Row],[Legenda]],ExportXML3_SplitTimes[Čas],\"<=\"&ExportXML3_SplitTimes[[#This Row],[Čas]])","v":119}]
["MA","Janeček","Jiří","0010004",2913,53,713,{"$f":"ExportXML3_SplitTimes[[#This Row],[GivenName]]&\" \"&ExportXML3_SplitTimes[[#This Row],[FamilyName]]","v":"Jiří Janeček"},{"$f":"_xlfn.XLOOKUP(ExportXML3_SplitTimes[[#This Row],[PersonId]],#REF!,#REF!,\"-\")","v":{"$error":"#REF!"}},{"$f":"ExportXML3_SplitTimes[[#This Row],[Kategorie]] & \" - \" & ExportXML3_SplitTimes[[#This Row],[Závodník]] & \" (\" & ExportXML3_SplitTimes[[#This Row],[Číslo čipu]] & \")\"","v":{"$error":"#REF!"}},{"$f":"ExportXML3_SplitTimes[[#This Row],[ControlCode]]","v":53},{"$f":"ExportXML3_SplitTimes[[#This Row],[SplitTimeSeconds]]/3600/24","v":"00:11:53"},{"$f":"COUNTIFS(ExportXML3_SplitTimes[Legenda],ExportXML3_SplitTimes[[#This Row],[Legenda]],ExportXML3_SplitTimes[Čas],\"<=\"&ExportXML3_SplitTimes[[#This Row],[Čas]])","v":144}]
["MA","Janeček","Jiří","0010004",2913,50,887,{"$f":"ExportXML3_SplitTimes[[#This Row],[GivenName]]&\" \"&ExportXML3_SplitTimes[[#This Row],[FamilyName]]","v":"Jiří Janeček"},{"$f":"_xlfn.XLOOKUP(ExportXML3_SplitTimes[[#This Row],[PersonId]],#REF!,#REF!,\"-\")","v":{"$error":"#REF!"}},{"$f":"ExportXML3_SplitTimes[[#This Row],[Kategorie]] & \" - \" & ExportXML3_SplitTimes[[#This Row],[Závodník]] & \" (\" & ExportXML3_SplitTimes[[#This Row],[Číslo čipu]] & \")\"","v":{"$error":"#REF!"}},{"$f":"ExportXML3_SplitTimes[[#This Row],[ControlCode]]","v":50},{"$f":"ExportXML3_SplitTimes[[#This Row],[SplitTimeSeconds]]/3600/24","v":"00:14:47"},{"$f":"COUNTIFS(ExportXML3_SplitTimes[Legenda],ExportXML3_SplitTimes[[#This Row],[Legenda]],ExportXML3_SplitTimes[Čas],\"<=\"&ExportXML3_SplitTimes[[#This Row],[Čas]])","v":187}]
["MA","Janeček","Jiří","0010004",2913,49,928,{"$f":"ExportXML3_SplitTimes[[#This Row],[GivenName]]&\" \"&ExportXML3_SplitTimes[[#This Row],[FamilyName]]","v":"Jiří Janeček"},{"$f":"_xlfn.XLOOKUP(ExportXML3_SplitTimes[[#This Row],[PersonId]],#REF!,#REF!,\"-\")","v":{"$error":"#REF!"}},{"$f":"ExportXML3_SplitTimes[[#This Row],[Kategorie]] & \" - \" & ExportXML3_SplitTimes[[#This Row],[Závodník]] & \" (\" & ExportXML3_SplitTimes[[#This Row],[Číslo čipu]] & \")\"","v":{"$error":"#REF!"}},{"$f":"ExportXML3_SplitTimes[[#This Row],[ControlCode]]","v":49},{"$f":"ExportXML3_SplitTimes[[#This Row],[SplitTimeSeconds]]/3600/24","v":"00:15:28"},{"$f":"COUNTIFS(ExportXML3_SplitTimes[Legenda],ExportXML3_SplitTimes[[#This Row],[Legenda]],ExportXML3_SplitTimes[Čas],\"<=\"&ExportXML3_SplitTimes[[#This Row],[Čas]])","v":202}]
["MA","Janeček","Jiří","0010004",2913,56,1120,{"$f":"ExportXML3_SplitTimes[[#This Row],[GivenName]]&\" \"&ExportXML3_SplitTimes[[#This Row],[FamilyName]]","v":"Jiří Janeček"},{"$f":"_xlfn.XLOOKUP(ExportXML3_SplitTimes[[#This Row],[PersonId]],#REF!,#REF!,\"-\")","v":{"$error":"#REF!"}},{"$f":"ExportXML3_SplitTimes[[#This Row],[Kategorie]] & \" - \" & ExportXML3_SplitTimes[[#This Row],[Závodník]] & \" (\" & ExportXML3_SplitTimes[[#This Row],[Číslo čipu]] & \")\"","v":{"$error":"#REF!"}},{"$f":"ExportXML3_SplitTimes[[#This Row],[ControlCode]]","v":56},{"$f":"ExportXML3_SplitTimes[[#This Row],[SplitTimeSeconds]]/3600/24","v":"00:18:40"},{"$f":"COUNTIFS(ExportXML3_SplitTimes[Legenda],ExportXML3_SplitTimes[[#This Row],[Legenda]],ExportXML3_SplitTimes[Čas],\"<=\"&ExportXML3_SplitTimes[[#This Row],[Čas]])","v":249}]
["MA","Janeček","Jiří","0010004",2913,42,1383,{"$f":"ExportXML3_SplitTimes[[#This Row],[GivenName]]&\" \"&ExportXML3_SplitTimes[[#This Row],[FamilyName]]","v":"Jiří Janeček"},{"$f":"_xlfn.XLOOKUP(ExportXML3_SplitTimes[[#This Row],[PersonId]],#REF!,#REF!,\"-\")","v":{"$error":"#REF!"}},{"$f":"ExportXML3_SplitTimes[[#This Row],[Kategorie]] & \" - \" & ExportXML3_SplitTimes[[#This Row],[Závodník]] & \" (\" & ExportXML3_SplitTimes[[#This Row],[Číslo čipu]] & \")\"","v":{"$error":"#REF!"}},{"$f":"ExportXML3_SplitTimes[[#This Row],[ControlCode]]","v":42},{"$f":"ExportXML3_SplitTimes[[#This Row],[SplitTimeSeconds]]/3600/24","v":"00:23:03"},{"$f":"COUNTIFS(ExportXML3_SplitTimes[Legenda],ExportXML3_SplitTimes[[#This Row],[Legenda]],ExportXML3_SplitTimes[Čas],\"<=\"&ExportXML3_SplitTimes[[#This Row],[Čas]])","v":310}]
["MA","Janeček","Jiří","0010004",2913,47,1510,{"$f":"ExportXML3_SplitTimes[[#This Row],[GivenName]]&\" \"&ExportXML3_SplitTimes[[#This Row],[FamilyName]]","v":"Jiří Janeček"},{"$f":"_xlfn.XLOOKUP(ExportXML3_SplitTimes[[#This Row],[PersonId]],#REF!,#REF!,\"-\")","v":{"$error":"#REF!"}},{"$f":"ExportXML3_SplitTimes[[#This Row],[Kategorie]] & \" - \" & ExportXML3_SplitTimes[[#This Row],[Závodník]] & \" (\" & ExportXML3_SplitTimes[[#This Row],[Číslo čipu]] & \")\"","v":{"$error":"#REF!"}},{"$f":"ExportXML3_SplitTimes[[#This Row],[ControlCode]]","v":47},{"$f":"ExportXML3_SplitTimes[[#This Row],[SplitTimeSeconds]]/3600/24","v":"00:25:10"},{"$f":"COUNTIFS(ExportXML3_SplitTimes[Legenda],ExportXML3_SplitTimes[[#This Row],[Legenda]],ExportXML3_SplitTimes[Čas],\"<=\"&ExportXML3_SplitTimes[[#This Row],[Čas]])","v":336}]
["MA","Janeček","Jiří","0010004",2913,60,1687,{"$f":"ExportXML3_SplitTimes[[#This Row],[GivenName]]&\" \"&ExportXML3_SplitTimes[[#This Row],[FamilyName]]","v":"Jiří Janeček"},{"$f":"_xlfn.XLOOKUP(ExportXML3_SplitTimes[[#This Row],[PersonId]],#REF!,#REF!,\"-\")","v":{"$error":"#REF!"}},{"$f":"ExportXML3_SplitTimes[[#This Row],[Kategorie]] & \" - \" & ExportXML3_SplitTimes[[#This Row],[Závodník]] & \" (\" & ExportXML3_SplitTimes[[#This Row],[Číslo čipu]] & \")\"","v":{"$error":"#REF!"}},{"$f":"ExportXML3_SplitTimes[[#This Row],[ControlCode]]","v":60},{"$f":"ExportXML3_SplitTimes[[#This Row],[SplitTimeSeconds]]/3600/24","v":"00:28:07"},{"$f":"COUNTIFS(ExportXML3_SplitTimes[Legenda],ExportXML3_SplitTimes[[#This Row],[Legenda]],ExportXML3_SplitTimes[Čas],\"<=\"&ExportXML3_SplitTimes[[#This Row],[Čas]])","v":379}]
["MA","Janeček","Jiří","0010004",2913,61,1780,{"$f":"ExportXML3_SplitTimes[[#This Row],[GivenName]]&\" \"&ExportXML3_SplitTimes[[#This Row],[FamilyName]]","v":"Jiří Janeček"},{"$f":"_xlfn.XLOOKUP(ExportXML3_SplitTimes[[#This Row],[PersonId]],#REF!,#REF!,\"-\")","v":{"$error":"#REF!"}},{"$f":"ExportXML3_SplitTimes[[#This Row],[Kategorie]] & \" - \" & ExportXML3_SplitTimes[[#This Row],[Závodník]] & \" (\" & ExportXML3_SplitTimes[[#This Row],[Číslo čipu]] & \")\"","v":{"$error":"#REF!"}},{"$f":"ExportXML3_SplitTimes[[#This Row],[ControlCode]]","v":61},{"$f":"ExportXML3_SplitTimes[[#This Row],[SplitTimeSeconds]]/3600/24","v":"00:29:40"},{"$f":"COUNTIFS(ExportXML3_SplitTimes[Legenda],ExportXML3_SplitTimes[[#This Row],[Legenda]],ExportXML3_SplitTimes[Čas],\"<=\"&ExportXML3_SplitTimes[[#This Row],[Čas]])","v":407}]
["MA","Janeček","Jiří","0010004",2913,80,1930,{"$f":"ExportXML3_SplitTimes[[#This Row],[GivenName]]&\" \"&ExportXML3_SplitTimes[[#This Row],[FamilyName]]","v":"Jiří Janeček"},{"$f":"_xlfn.XLOOKUP(ExportXML3_SplitTimes[[#This Row],[PersonId]],#REF!,#REF!,\"-\")","v":{"$error":"#REF!"}},{"$f":"ExportXML3_SplitTimes[[#This Row],[Kategorie]] & \" - \" & ExportXML3_SplitTimes[[#This Row],[Závodník]] & \" (\" & ExportXML3_SplitTimes[[#This Row],[Číslo čipu]] & \")\"","v":{"$error":"#REF!"}},{"$f":"ExportXML3_SplitTimes[[#This Row],[ControlCode]]","v":80},{"$f":"ExportXML3_SplitTimes[[#This Row],[SplitTimeSeconds]]/3600/24","v":"00:32:10"},{"$f":"COUNTIFS(ExportXML3_SplitTimes[Legenda],ExportXML3_SplitTimes[[#This Row],[Legenda]],ExportXML3_SplitTimes[Čas],\"<=\"&ExportXML3_SplitTimes[[#This Row],[Čas]])","v":441}]
["MA","Janeček","Jiří","0010004",2913,62,2187,{"$f":"ExportXML3_SplitTimes[[#This Row],[GivenName]]&\" \"&ExportXML3_SplitTimes[[#This Row],[FamilyName]]","v":"Jiří Janeček"},{"$f":"_xlfn.XLOOKUP(ExportXML3_SplitTimes[[#This Row],[PersonId]],#REF!,#REF!,\"-\")","v":{"$error":"#REF!"}},{"$f":"ExportXML3_SplitTimes[[#This Row],[Kategorie]] & \" - \" & ExportXML3_SplitTimes[[#This Row],[Závodník]] & \" (\" & ExportXML3_SplitTimes[[#This Row],[Číslo čipu]] & \")\"","v":{"$error":"#REF!"}},{"$f":"ExportXML3_SplitTimes[[#This Row],[ControlCode]]","v":62},{"$f":"ExportXML3_SplitTimes[[#This Row],[SplitTimeSeconds]]/3600/24","v":"00:36:27"},{"$f":"COUNTIFS(ExportXML3_SplitTimes[Legenda],ExportXML3_SplitTimes[[#This Row],[Legenda]],ExportXML3_SplitTimes[Čas],\"<=\"&ExportXML3_SplitTimes[[#This Row],[Čas]])","v":496}]
["MA","Janeček","Jiří","0010004",2913,65,2384,{"$f":"ExportXML3_SplitTimes[[#This Row],[GivenName]]&\" \"&ExportXML3_SplitTimes[[#This Row],[FamilyName]]","v":"Jiří Janeček"},{"$f":"_xlfn.XLOOKUP(ExportXML3_SplitTimes[[#This Row],[PersonId]],#REF!,#REF!,\"-\")","v":{"$error":"#REF!"}},{"$f":"ExportXML3_SplitTimes[[#This Row],[Kategorie]] & \" - \" & ExportXML3_SplitTimes[[#This Row],[Závodník]] & \" (\" & ExportXML3_SplitTimes[[#This Row],[Číslo čipu]] & \")\"","v":{"$error":"#REF!"}},{"$f":"ExportXML3_SplitTimes[[#This Row],[ControlCode]]","v":65},{"$f":"ExportXML3_SplitTimes[[#This Row],[SplitTimeSeconds]]/3600/24","v":"00:39:44"},{"$f":"COUNTIFS(ExportXML3_SplitTimes[Legenda],ExportXML3_SplitTimes[[#This Row],[Legenda]],ExportXML3_SplitTimes[Čas],\"<=\"&ExportXML3_SplitTimes[[#This Row],[Čas]])","v":540}]
["MA","Janeček","Jiří","0010004",2913,76,2500,{"$f":"ExportXML3_SplitTimes[[#This Row],[GivenName]]&\" \"&ExportXML3_SplitTimes[[#This Row],[FamilyName]]","v":"Jiří Janeček"},{"$f":"_xlfn.XLOOKUP(ExportXML3_SplitTimes[[#This Row],[PersonId]],#REF!,#REF!,\"-\")","v":{"$error":"#REF!"}},{"$f":"ExportXML3_SplitTimes[[#This Row],[Kategorie]] & \" - \" & ExportXML3_SplitTimes[[#This Row],[Závodník]] & \" (\" & ExportXML3_SplitTimes[[#This Row],[Číslo čipu]] & \")\"","v":{"$error":"#REF!"}},{"$f":"ExportXML3_SplitTimes[[#This Row],[ControlCode]]","v":76},{"$f":"ExportXML3_SplitTimes[[#This Row],[SplitTimeSeconds]]/3600/24","v":"00:41:40"},{"$f":"COUNTIFS(ExportXML3_SplitTimes[Legenda],ExportXML3_SplitTimes[[#This Row],[Legenda]],ExportXML3_SplitTimes[Čas],\"<=\"&ExportXML3_SplitTimes[[#This Row],[Čas]])","v":565}]
["MA","Janeček","Jiří","0010004",2913,71,2638,{"$f":"ExportXML3_SplitTimes[[#This Row],[GivenName]]&\" \"&ExportXML3_SplitTimes[[#This Row],[FamilyName]]","v":"Jiří Janeček"},{"$f":"_xlfn.XLOOKUP(ExportXML3_SplitTimes[[#This Row],[PersonId]],#REF!,#REF!,\"-\")","v":{"$error":"#REF!"}},{"$f":"ExportXML3_SplitTimes[[#This Row],[Kategorie]] & \" - \" & ExportXML3_SplitTimes[[#This Row],[Závodník]] & \" (\" & ExportXML3_SplitTimes[[#This Row],[Číslo čipu]] & \")\"","v":{"$error":"#REF!"}},{"$f":"ExportXML3_SplitTimes[[#This Row],[ControlCode]]","v":71},{"$f":"ExportXML3_SplitTimes[[#This Row],[SplitTimeSeconds]]/3600/24","v":"00:43:58"},{"$f":"COUNTIFS(ExportXML3_SplitTimes[Legenda],ExportXML3_SplitTimes[[#This Row],[Legenda]],ExportXML3_SplitTimes[Čas],\"<=\"&ExportXML3_SplitTimes[[#This Row],[Čas]])","v":589}]
["MA","Janeček","Jiří","0010004",2913,74,2798,{"$f":"ExportXML3_SplitTimes[[#This Row],[GivenName]]&\" \"&ExportXML3_SplitTimes[[#This Row],[FamilyName]]","v":"Jiří Janeček"},{"$f":"_xlfn.XLOOKUP(ExportXML3_SplitTimes[[#This Row],[PersonId]],#REF!,#REF!,\"-\")","v":{"$error":"#REF!"}},{"$f":"ExportXML3_SplitTimes[[#This Row],[Kategorie]] & \" - \" & ExportXML3_SplitTimes[[#This Row],[Závodník]] & \" (\" & ExportXML3_SplitTimes[[#This Row],[Číslo čipu]] & \")\"","v":{"$error":"#REF!"}},{"$f":"ExportXML3_SplitTimes[[#This Row],[ControlCode]]","v":74},{"$f":"ExportXML3_SplitTimes[[#This Row],[SplitTimeSeconds]]/3600/24","v":"00:46:38"},{"$f":"COUNTIFS(ExportXML3_SplitTimes[Legenda],ExportXML3_SplitTimes[[#This Row],[Legenda]],ExportXML3_SplitTimes[Čas],\"<=\"&ExportXML3_SplitTimes[[#This Row],[Čas]])","v":629}]
["MA","Janeček","Jiří","0010004",2913,100,2900,{"$f":"ExportXML3_SplitTimes[[#This Row],[GivenName]]&\" \"&ExportXML3_SplitTimes[[#This Row],[FamilyName]]","v":"Jiří Janeček"},{"$f":"_xlfn.XLOOKUP(ExportXML3_SplitTimes[[#This Row],[PersonId]],#REF!,#REF!,\"-\")","v":{"$error":"#REF!"}},{"$f":"ExportXML3_SplitTimes[[#This Row],[Kategorie]] & \" - \" & ExportXML3_SplitTimes[[#This Row],[Závodník]] & \" (\" & ExportXML3_SplitTimes[[#This Row],[Číslo čipu]] & \")\"","v":{"$error":"#REF!"}},{"$f":"ExportXML3_SplitTimes[[#This Row],[ControlCode]]","v":100},{"$f":"ExportXML3_SplitTimes[[#This Row],[SplitTimeSeconds]]/3600/24","v":"00:48:20"},{"$f":"COUNTIFS(ExportXML3_SplitTimes[Legenda],ExportXML3_SplitTimes[[#This Row],[Legenda]],ExportXML3_SplitTimes[Čas],\"<=\"&ExportXML3_SplitTimes[[#This Row],[Čas]])","v":647}]
["MA","Choutka","Jaroslav","0210007",2943,93,254,{"$f":"ExportXML3_SplitTimes[[#This Row],[GivenName]]&\" \"&ExportXML3_SplitTimes[[#This Row],[FamilyName]]","v":"Jaroslav Choutka"},{"$f":"_xlfn.XLOOKUP(ExportXML3_SplitTimes[[#This Row],[PersonId]],#REF!,#REF!,\"-\")","v":{"$error":"#REF!"}},{"$f":"ExportXML3_SplitTimes[[#This Row],[Kategorie]] & \" - \" & ExportXML3_SplitTimes[[#This Row],[Závodník]] & \" (\" & ExportXML3_SplitTimes[[#This Row],[Číslo čipu]] & \")\"","v":{"$error":"#REF!"}},{"$f":"ExportXML3_SplitTimes[[#This Row],[ControlCode]]","v":93},{"$f":"ExportXML3_SplitTimes[[#This Row],[SplitTimeSeconds]]/3600/24","v":"00:04:14"},{"$f":"COUNTIFS(ExportXML3_SplitTimes[Legenda],ExportXML3_SplitTimes[[#This Row],[Legenda]],ExportXML3_SplitTimes[Čas],\"<=\"&ExportXML3_SplitTimes[[#This Row],[Čas]])","v":18}]
["MA","Choutka","Jaroslav","0210007",2943,55,489,{"$f":"ExportXML3_SplitTimes[[#This Row],[GivenName]]&\" \"&ExportXML3_SplitTimes[[#This Row],[FamilyName]]","v":"Jaroslav Choutka"},{"$f":"_xlfn.XLOOKUP(ExportXML3_SplitTimes[[#This Row],[PersonId]],#REF!,#REF!,\"-\")","v":{"$error":"#REF!"}},{"$f":"ExportXML3_SplitTimes[[#This Row],[Kategorie]] & \" - \" & ExportXML3_SplitTimes[[#This Row],[Závodník]] & \" (\" & ExportXML3_SplitTimes[[#This Row],[Číslo čipu]] & \")\"","v":{"$error":"#REF!"}},{"$f":"ExportXML3_SplitTimes[[#This Row],[ControlCode]]","v":55},{"$f":"ExportXML3_SplitTimes[[#This Row],[SplitTimeSeconds]]/3600/24","v":"00:08:09"},{"$f":"COUNTIFS(ExportXML3_SplitTimes[Legenda],ExportXML3_SplitTimes[[#This Row],[Legenda]],ExportXML3_SplitTimes[Čas],\"<=\"&ExportXML3_SplitTimes[[#This Row],[Čas]])","v":75}]
["MA","Choutka","Jaroslav","0210007",2943,54,541,{"$f":"ExportXML3_SplitTimes[[#This Row],[GivenName]]&\" \"&ExportXML3_SplitTimes[[#This Row],[FamilyName]]","v":"Jaroslav Choutka"},{"$f":"_xlfn.XLOOKUP(ExportXML3_SplitTimes[[#This Row],[PersonId]],#REF!,#REF!,\"-\")","v":{"$error":"#REF!"}},{"$f":"ExportXML3_SplitTimes[[#This Row],[Kategorie]] & \" - \" & ExportXML3_SplitTimes[[#This Row],[Závodník]] & \" (\" & ExportXML3_SplitTimes[[#This Row],[Číslo čipu]] & \")\"","v":{"$error":"#REF!"}},{"$f":"ExportXML3_SplitTimes[[#This Row],[ControlCode]]","v":54},{"$f":"ExportXML3_SplitTimes[[#This Row],[SplitTimeSeconds]]/3600/24","v":"00:09:01"},{"$f":"COUNTIFS(ExportXML3_SplitTimes[Legenda],ExportXML3_SplitTimes[[#This Row],[Legenda]],ExportXML3_SplitTimes[Čas],\"<=\"&ExportXML3_SplitTimes[[#This Row],[Čas]])","v":94}]
["MA","Choutka","Jaroslav","0210007",2943,53,699,{"$f":"ExportXML3_SplitTimes[[#This Row],[GivenName]]&\" \"&ExportXML3_SplitTimes[[#This Row],[FamilyName]]","v":"Jaroslav Choutka"},{"$f":"_xlfn.XLOOKUP(ExportXML3_SplitTimes[[#This Row],[PersonId]],#REF!,#REF!,\"-\")","v":{"$error":"#REF!"}},{"$f":"ExportXML3_SplitTimes[[#This Row],[Kategorie]] & \" - \" & ExportXML3_SplitTimes[[#This Row],[Závodník]] & \" (\" & ExportXML3_SplitTimes[[#This Row],[Číslo čipu]] & \")\"","v":{"$error":"#REF!"}},{"$f":"ExportXML3_SplitTimes[[#This Row],[ControlCode]]","v":53},{"$f":"ExportXML3_SplitTimes[[#This Row],[SplitTimeSeconds]]/3600/24","v":"00:11:39"},{"$f":"COUNTIFS(ExportXML3_SplitTimes[Legenda],ExportXML3_SplitTimes[[#This Row],[Legenda]],ExportXML3_SplitTimes[Čas],\"<=\"&ExportXML3_SplitTimes[[#This Row],[Čas]])","v":141}]
["MA","Choutka","Jaroslav","0210007",2943,50,854,{"$f":"ExportXML3_SplitTimes[[#This Row],[GivenName]]&\" \"&ExportXML3_SplitTimes[[#This Row],[FamilyName]]","v":"Jaroslav Choutka"},{"$f":"_xlfn.XLOOKUP(ExportXML3_SplitTimes[[#This Row],[PersonId]],#REF!,#REF!,\"-\")","v":{"$error":"#REF!"}},{"$f":"ExportXML3_SplitTimes[[#This Row],[Kategorie]] & \" - \" & ExportXML3_SplitTimes[[#This Row],[Závodník]] & \" (\" & ExportXML3_SplitTimes[[#This Row],[Číslo čipu]] & \")\"","v":{"$error":"#REF!"}},{"$f":"ExportXML3_SplitTimes[[#This Row],[ControlCode]]","v":50},{"$f":"ExportXML3_SplitTimes[[#This Row],[SplitTimeSeconds]]/3600/24","v":"00:14:14"},{"$f":"COUNTIFS(ExportXML3_SplitTimes[Legenda],ExportXML3_SplitTimes[[#This Row],[Legenda]],ExportXML3_SplitTimes[Čas],\"<=\"&ExportXML3_SplitTimes[[#This Row],[Čas]])","v":179}]
["MA","Choutka","Jaroslav","0210007",2943,49,901,{"$f":"ExportXML3_SplitTimes[[#This Row],[GivenName]]&\" \"&ExportXML3_SplitTimes[[#This Row],[FamilyName]]","v":"Jaroslav Choutka"},{"$f":"_xlfn.XLOOKUP(ExportXML3_SplitTimes[[#This Row],[PersonId]],#REF!,#REF!,\"-\")","v":{"$error":"#REF!"}},{"$f":"ExportXML3_SplitTimes[[#This Row],[Kategorie]] & \" - \" & ExportXML3_SplitTimes[[#This Row],[Závodník]] & \" (\" & ExportXML3_SplitTimes[[#This Row],[Číslo čipu]] & \")\"","v":{"$error":"#REF!"}},{"$f":"ExportXML3_SplitTimes[[#This Row],[ControlCode]]","v":49},{"$f":"ExportXML3_SplitTimes[[#This Row],[SplitTimeSeconds]]/3600/24","v":"00:15:01"},{"$f":"COUNTIFS(ExportXML3_SplitTimes[Legenda],ExportXML3_SplitTimes[[#This Row],[Legenda]],ExportXML3_SplitTimes[Čas],\"<=\"&ExportXML3_SplitTimes[[#This Row],[Čas]])","v":190}]
["MA","Choutka","Jaroslav","0210007",2943,56,1093,{"$f":"ExportXML3_SplitTimes[[#This Row],[GivenName]]&\" \"&ExportXML3_SplitTimes[[#This Row],[FamilyName]]","v":"Jaroslav Choutka"},{"$f":"_xlfn.XLOOKUP(ExportXML3_SplitTimes[[#This Row],[PersonId]],#REF!,#REF!,\"-\")","v":{"$error":"#REF!"}},{"$f":"ExportXML3_SplitTimes[[#This Row],[Kategorie]] & \" - \" & ExportXML3_SplitTimes[[#This Row],[Závodník]] & \" (\" & ExportXML3_SplitTimes[[#This Row],[Číslo čipu]] & \")\"","v":{"$error":"#REF!"}},{"$f":"ExportXML3_SplitTimes[[#This Row],[ControlCode]]","v":56},{"$f":"ExportXML3_SplitTimes[[#This Row],[SplitTimeSeconds]]/3600/24","v":"00:18:13"},{"$f":"COUNTIFS(ExportXML3_SplitTimes[Legenda],ExportXML3_SplitTimes[[#This Row],[Legenda]],ExportXML3_SplitTimes[Čas],\"<=\"&ExportXML3_SplitTimes[[#This Row],[Čas]])","v":243}]
["MA","Choutka","Jaroslav","0210007",2943,42,1500,{"$f":"ExportXML3_SplitTimes[[#This Row],[GivenName]]&\" \"&ExportXML3_SplitTimes[[#This Row],[FamilyName]]","v":"Jaroslav Choutka"},{"$f":"_xlfn.XLOOKUP(ExportXML3_SplitTimes[[#This Row],[PersonId]],#REF!,#REF!,\"-\")","v":{"$error":"#REF!"}},{"$f":"ExportXML3_SplitTimes[[#This Row],[Kategorie]] & \" - \" & ExportXML3_SplitTimes[[#This Row],[Závodník]] & \" (\" & ExportXML3_SplitTimes[[#This Row],[Číslo čipu]] & \")\"","v":{"$error":"#REF!"}},{"$f":"ExportXML3_SplitTimes[[#This Row],[ControlCode]]","v":42},{"$f":"ExportXML3_SplitTimes[[#This Row],[SplitTimeSeconds]]/3600/24","v":"00:25:00"},{"$f":"COUNTIFS(ExportXML3_SplitTimes[Legenda],ExportXML3_SplitTimes[[#This Row],[Legenda]],ExportXML3_SplitTimes[Čas],\"<=\"&ExportXML3_SplitTimes[[#This Row],[Čas]])","v":335}]
["MA","Choutka","Jaroslav","0210007",2943,47,1644,{"$f":"ExportXML3_SplitTimes[[#This Row],[GivenName]]&\" \"&ExportXML3_SplitTimes[[#This Row],[FamilyName]]","v":"Jaroslav Choutka"},{"$f":"_xlfn.XLOOKUP(ExportXML3_SplitTimes[[#This Row],[PersonId]],#REF!,#REF!,\"-\")","v":{"$error":"#REF!"}},{"$f":"ExportXML3_SplitTimes[[#This Row],[Kategorie]] & \" - \" & ExportXML3_SplitTimes[[#This Row],[Závodník]] & \" (\" & ExportXML3_SplitTimes[[#This Row],[Číslo čipu]] & \")\"","v":{"$error":"#REF!"}},{"$f":"ExportXML3_SplitTimes[[#This Row],[ControlCode]]","v":47},{"$f":"ExportXML3_SplitTimes[[#This Row],[SplitTimeSeconds]]/3600/24","v":"00:27:24"},{"$f":"COUNTIFS(ExportXML3_SplitTimes[Legenda],ExportXML3_SplitTimes[[#This Row],[Legenda]],ExportXML3_SplitTimes[Čas],\"<=\"&ExportXML3_SplitTimes[[#This Row],[Čas]])","v":367}]
["MA","Choutka","Jaroslav","0210007",2943,60,1768,{"$f":"ExportXML3_SplitTimes[[#This Row],[GivenName]]&\" \"&ExportXML3_SplitTimes[[#This Row],[FamilyName]]","v":"Jaroslav Choutka"},{"$f":"_xlfn.XLOOKUP(ExportXML3_SplitTimes[[#This Row],[PersonId]],#REF!,#REF!,\"-\")","v":{"$error":"#REF!"}},{"$f":"ExportXML3_SplitTimes[[#This Row],[Kategorie]] & \" - \" & ExportXML3_SplitTimes[[#This Row],[Závodník]] & \" (\" & ExportXML3_SplitTimes[[#This Row],[Číslo čipu]] & \")\"","v":{"$error":"#REF!"}},{"$f":"ExportXML3_SplitTimes[[#This Row],[ControlCode]]","v":60},{"$f":"ExportXML3_SplitTimes[[#This Row],[SplitTimeSeconds]]/3600/24","v":"00:29:28"},{"$f":"COUNTIFS(ExportXML3_SplitTimes[Legenda],ExportXML3_SplitTimes[[#This Row],[Legenda]],ExportXML3_SplitTimes[Čas],\"<=\"&ExportXML3_SplitTimes[[#This Row],[Čas]])","v":405}]
["MA","Choutka","Jaroslav","0210007",2943,61,1864,{"$f":"ExportXML3_SplitTimes[[#This Row],[GivenName]]&\" \"&ExportXML3_SplitTimes[[#This Row],[FamilyName]]","v":"Jaroslav Choutka"},{"$f":"_xlfn.XLOOKUP(ExportXML3_SplitTimes[[#This Row],[PersonId]],#REF!,#REF!,\"-\")","v":{"$error":"#REF!"}},{"$f":"ExportXML3_SplitTimes[[#This Row],[Kategorie]] & \" - \" & ExportXML3_SplitTimes[[#This Row],[Závodník]] & \" (\" & ExportXML3_SplitTimes[[#This Row],[Číslo čipu]] & \")\"","v":{"$error":"#REF!"}},{"$f":"ExportXML3_SplitTimes[[#This Row],[ControlCode]]","v":61},{"$f":"ExportXML3_SplitTimes[[#This Row],[SplitTimeSeconds]]/3600/24","v":"00:31:04"},{"$f":"COUNTIFS(ExportXML3_SplitTimes[Legenda],ExportXML3_SplitTimes[[#This Row],[Legenda]],ExportXML3_SplitTimes[Čas],\"<=\"&ExportXML3_SplitTimes[[#This Row],[Čas]])","v":426}]
["MA","Choutka","Jaroslav","0210007",2943,80,2012,{"$f":"ExportXML3_SplitTimes[[#This Row],[GivenName]]&\" \"&ExportXML3_SplitTimes[[#This Row],[FamilyName]]","v":"Jaroslav Choutka"},{"$f":"_xlfn.XLOOKUP(ExportXML3_SplitTimes[[#This Row],[PersonId]],#REF!,#REF!,\"-\")","v":{"$error":"#REF!"}},{"$f":"ExportXML3_SplitTimes[[#This Row],[Kategorie]] & \" - \" & ExportXML3_SplitTimes[[#This Row],[Závodník]] & \" (\" & ExportXML3_SplitTimes[[#This Row],[Číslo čipu]] & \")\"","v":{"$error":"#REF!"}},{"$f":"ExportXML3_SplitTimes[[#This Row],[ControlCode]]","v":80},{"$f":"ExportXML3_SplitTimes[[#This Row],[SplitTimeSeconds]]/3600/24","v":"00:33:32"},{"$f":"COUNTIFS(ExportXML3_SplitTimes[Legenda],ExportXML3_SplitTimes[[#This Row],[Legenda]],ExportXML3_SplitTimes[Čas],\"<=\"&ExportXML3_SplitTimes[[#This Row],[Čas]])","v":463}]
["MA","Choutka","Jaroslav","0210007",2943,62,2269,{"$f":"ExportXML3_SplitTimes[[#This Row],[GivenName]]&\" \"&ExportXML3_SplitTimes[[#This Row],[FamilyName]]","v":"Jaroslav Choutka"},{"$f":"_xlfn.XLOOKUP(ExportXML3_SplitTimes[[#This Row],[PersonId]],#REF!,#REF!,\"-\")","v":{"$error":"#REF!"}},{"$f":"ExportXML3_SplitTimes[[#This Row],[Kategorie]] & \" - \" & ExportXML3_SplitTimes[[#This Row],[Závodník]] & \" (\" & ExportXML3_SplitTimes[[#This Row],[Číslo čipu]] & \")\"","v":{"$error":"#REF!"}},{"$f":"ExportXML3_SplitTimes[[#This Row],[ControlCode]]","v":62},{"$f":"ExportXML3_SplitTimes[[#This Row],[SplitTimeSeconds]]/3600/24","v":"00:37:49"},{"$f":"COUNTIFS(ExportXML3_SplitTimes[Legenda],ExportXML3_SplitTimes[[#This Row],[Legenda]],ExportXML3_SplitTimes[Čas],\"<=\"&ExportXML3_SplitTimes[[#This Row],[Čas]])","v":516}]
["MA","Choutka","Jaroslav","0210007",2943,65,2458,{"$f":"ExportXML3_SplitTimes[[#This Row],[GivenName]]&\" \"&ExportXML3_SplitTimes[[#This Row],[FamilyName]]","v":"Jaroslav Choutka"},{"$f":"_xlfn.XLOOKUP(ExportXML3_SplitTimes[[#This Row],[PersonId]],#REF!,#REF!,\"-\")","v":{"$error":"#REF!"}},{"$f":"ExportXML3_SplitTimes[[#This Row],[Kategorie]] & \" - \" & ExportXML3_SplitTimes[[#This Row],[Závodník]] & \" (\" & ExportXML3_SplitTimes[[#This Row],[Číslo čipu]] & \")\"","v":{"$error":"#REF!"}},{"$f":"ExportXML3_SplitTimes[[#This Row],[ControlCode]]","v":65},{"$f":"ExportXML3_SplitTimes[[#This Row],[SplitTimeSeconds]]/3600/24","v":"00:40:58"},{"$f":"COUNTIFS(ExportXML3_SplitTimes[Legenda],ExportXML3_SplitTimes[[#This Row],[Legenda]],ExportXML3_SplitTimes[Čas],\"<=\"&ExportXML3_SplitTimes[[#This Row],[Čas]])","v":558}]
["MA","Choutka","Jaroslav","0210007",2943,76,2564,{"$f":"ExportXML3_SplitTimes[[#This Row],[GivenName]]&\" \"&ExportXML3_SplitTimes[[#This Row],[FamilyName]]","v":"Jaroslav Choutka"},{"$f":"_xlfn.XLOOKUP(ExportXML3_SplitTimes[[#This Row],[PersonId]],#REF!,#REF!,\"-\")","v":{"$error":"#REF!"}},{"$f":"ExportXML3_SplitTimes[[#This Row],[Kategorie]] & \" - \" & ExportXML3_SplitTimes[[#This Row],[Závodník]] & \" (\" & ExportXML3_SplitTimes[[#This Row],[Číslo čipu]] & \")\"","v":{"$error":"#REF!"}},{"$f":"ExportXML3_SplitTimes[[#This Row],[ControlCode]]","v":76},{"$f":"ExportXML3_SplitTimes[[#This Row],[SplitTimeSeconds]]/3600/24","v":"00:42:44"},{"$f":"COUNTIFS(ExportXML3_SplitTimes[Legenda],ExportXML3_SplitTimes[[#This Row],[Legenda]],ExportXML3_SplitTimes[Čas],\"<=\"&ExportXML3_SplitTimes[[#This Row],[Čas]])","v":579}]
["MA","Choutka","Jaroslav","0210007",2943,71,2676,{"$f":"ExportXML3_SplitTimes[[#This Row],[GivenName]]&\" \"&ExportXML3_SplitTimes[[#This Row],[FamilyName]]","v":"Jaroslav Choutka"},{"$f":"_xlfn.XLOOKUP(ExportXML3_SplitTimes[[#This Row],[PersonId]],#REF!,#REF!,\"-\")","v":{"$error":"#REF!"}},{"$f":"ExportXML3_SplitTimes[[#This Row],[Kategorie]] & \" - \" & ExportXML3_SplitTimes[[#This Row],[Závodník]] & \" (\" & ExportXML3_SplitTimes[[#This Row],[Číslo čipu]] & \")\"","v":{"$error":"#REF!"}},{"$f":"ExportXML3_SplitTimes[[#This Row],[ControlCode]]","v":71},{"$f":"ExportXML3_SplitTimes[[#This Row],[SplitTimeSeconds]]/3600/24","v":"00:44:36"},{"$f":"COUNTIFS(ExportXML3_SplitTimes[Legenda],ExportXML3_SplitTimes[[#This Row],[Legenda]],ExportXML3_SplitTimes[Čas],\"<=\"&ExportXML3_SplitTimes[[#This Row],[Čas]])","v":605}]
["MA","Choutka","Jaroslav","0210007",2943,74,2808,{"$f":"ExportXML3_SplitTimes[[#This Row],[GivenName]]&\" \"&ExportXML3_SplitTimes[[#This Row],[FamilyName]]","v":"Jaroslav Choutka"},{"$f":"_xlfn.XLOOKUP(ExportXML3_SplitTimes[[#This Row],[PersonId]],#REF!,#REF!,\"-\")","v":{"$error":"#REF!"}},{"$f":"ExportXML3_SplitTimes[[#This Row],[Kategorie]] & \" - \" & ExportXML3_SplitTimes[[#This Row],[Závodník]] & \" (\" & ExportXML3_SplitTimes[[#This Row],[Číslo čipu]] & \")\"","v":{"$error":"#REF!"}},{"$f":"ExportXML3_SplitTimes[[#This Row],[ControlCode]]","v":74},{"$f":"ExportXML3_SplitTimes[[#This Row],[SplitTimeSeconds]]/3600/24","v":"00:46:48"},{"$f":"COUNTIFS(ExportXML3_SplitTimes[Legenda],ExportXML3_SplitTimes[[#This Row],[Legenda]],ExportXML3_SplitTimes[Čas],\"<=\"&ExportXML3_SplitTimes[[#This Row],[Čas]])","v":631}]
["MA","Choutka","Jaroslav","0210007",2943,100,2922,{"$f":"ExportXML3_SplitTimes[[#This Row],[GivenName]]&\" \"&ExportXML3_SplitTimes[[#This Row],[FamilyName]]","v":"Jaroslav Choutka"},{"$f":"_xlfn.XLOOKUP(ExportXML3_SplitTimes[[#This Row],[PersonId]],#REF!,#REF!,\"-\")","v":{"$error":"#REF!"}},{"$f":"ExportXML3_SplitTimes[[#This Row],[Kategorie]] & \" - \" & ExportXML3_SplitTimes[[#This Row],[Závodník]] & \" (\" & ExportXML3_SplitTimes[[#This Row],[Číslo čipu]] & \")\"","v":{"$error":"#REF!"}},{"$f":"ExportXML3_SplitTimes[[#This Row],[ControlCode]]","v":100},{"$f":"ExportXML3_SplitTimes[[#This Row],[SplitTimeSeconds]]/3600/24","v":"00:48:42"},{"$f":"COUNTIFS(ExportXML3_SplitTimes[Legenda],ExportXML3_SplitTimes[[#This Row],[Legenda]],ExportXML3_SplitTimes[Čas],\"<=\"&ExportXML3_SplitTimes[[#This Row],[Čas]])","v":653}]
["MA","Doucha","Tomáš","0080004",3009,93,289,{"$f":"ExportXML3_SplitTimes[[#This Row],[GivenName]]&\" \"&ExportXML3_SplitTimes[[#This Row],[FamilyName]]","v":"Tomáš Doucha"},{"$f":"_xlfn.XLOOKUP(ExportXML3_SplitTimes[[#This Row],[PersonId]],#REF!,#REF!,\"-\")","v":{"$error":"#REF!"}},{"$f":"ExportXML3_SplitTimes[[#This Row],[Kategorie]] & \" - \" & ExportXML3_SplitTimes[[#This Row],[Závodník]] & \" (\" & ExportXML3_SplitTimes[[#This Row],[Číslo čipu]] & \")\"","v":{"$error":"#REF!"}},{"$f":"ExportXML3_SplitTimes[[#This Row],[ControlCode]]","v":93},{"$f":"ExportXML3_SplitTimes[[#This Row],[SplitTimeSeconds]]/3600/24","v":"00:04:49"},{"$f":"COUNTIFS(ExportXML3_SplitTimes[Legenda],ExportXML3_SplitTimes[[#This Row],[Legenda]],ExportXML3_SplitTimes[Čas],\"<=\"&ExportXML3_SplitTimes[[#This Row],[Čas]])","v":27}]
["MA","Doucha","Tomáš","0080004",3009,55,551,{"$f":"ExportXML3_SplitTimes[[#This Row],[GivenName]]&\" \"&ExportXML3_SplitTimes[[#This Row],[FamilyName]]","v":"Tomáš Doucha"},{"$f":"_xlfn.XLOOKUP(ExportXML3_SplitTimes[[#This Row],[PersonId]],#REF!,#REF!,\"-\")","v":{"$error":"#REF!"}},{"$f":"ExportXML3_SplitTimes[[#This Row],[Kategorie]] & \" - \" & ExportXML3_SplitTimes[[#This Row],[Závodník]] & \" (\" & ExportXML3_SplitTimes[[#This Row],[Číslo čipu]] & \")\"","v":{"$error":"#REF!"}},{"$f":"ExportXML3_SplitTimes[[#This Row],[ControlCode]]","v":55},{"$f":"ExportXML3_SplitTimes[[#This Row],[SplitTimeSeconds]]/3600/24","v":"00:09:11"},{"$f":"COUNTIFS(ExportXML3_SplitTimes[Legenda],ExportXML3_SplitTimes[[#This Row],[Legenda]],ExportXML3_SplitTimes[Čas],\"<=\"&ExportXML3_SplitTimes[[#This Row],[Čas]])","v":97}]
["MA","Doucha","Tomáš","0080004",3009,54,604,{"$f":"ExportXML3_SplitTimes[[#This Row],[GivenName]]&\" \"&ExportXML3_SplitTimes[[#This Row],[FamilyName]]","v":"Tomáš Doucha"},{"$f":"_xlfn.XLOOKUP(ExportXML3_SplitTimes[[#This Row],[PersonId]],#REF!,#REF!,\"-\")","v":{"$error":"#REF!"}},{"$f":"ExportXML3_SplitTimes[[#This Row],[Kategorie]] & \" - \" & ExportXML3_SplitTimes[[#This Row],[Závodník]] & \" (\" & ExportXML3_SplitTimes[[#This Row],[Číslo čipu]] & \")\"","v":{"$error":"#REF!"}},{"$f":"ExportXML3_SplitTimes[[#This Row],[ControlCode]]","v":54},{"$f":"ExportXML3_SplitTimes[[#This Row],[SplitTimeSeconds]]/3600/24","v":"00:10:04"},{"$f":"COUNTIFS(ExportXML3_SplitTimes[Legenda],ExportXML3_SplitTimes[[#This Row],[Legenda]],ExportXML3_SplitTimes[Čas],\"<=\"&ExportXML3_SplitTimes[[#This Row],[Čas]])","v":113}]
["MA","Doucha","Tomáš","0080004",3009,53,737,{"$f":"ExportXML3_SplitTimes[[#This Row],[GivenName]]&\" \"&ExportXML3_SplitTimes[[#This Row],[FamilyName]]","v":"Tomáš Doucha"},{"$f":"_xlfn.XLOOKUP(ExportXML3_SplitTimes[[#This Row],[PersonId]],#REF!,#REF!,\"-\")","v":{"$error":"#REF!"}},{"$f":"ExportXML3_SplitTimes[[#This Row],[Kategorie]] & \" - \" & ExportXML3_SplitTimes[[#This Row],[Závodník]] & \" (\" & ExportXML3_SplitTimes[[#This Row],[Číslo čipu]] & \")\"","v":{"$error":"#REF!"}},{"$f":"ExportXML3_SplitTimes[[#This Row],[ControlCode]]","v":53},{"$f":"ExportXML3_SplitTimes[[#This Row],[SplitTimeSeconds]]/3600/24","v":"00:12:17"},{"$f":"COUNTIFS(ExportXML3_SplitTimes[Legenda],ExportXML3_SplitTimes[[#This Row],[Legenda]],ExportXML3_SplitTimes[Čas],\"<=\"&ExportXML3_SplitTimes[[#This Row],[Čas]])","v":152}]
["MA","Doucha","Tomáš","0080004",3009,50,912,{"$f":"ExportXML3_SplitTimes[[#This Row],[GivenName]]&\" \"&ExportXML3_SplitTimes[[#This Row],[FamilyName]]","v":"Tomáš Doucha"},{"$f":"_xlfn.XLOOKUP(ExportXML3_SplitTimes[[#This Row],[PersonId]],#REF!,#REF!,\"-\")","v":{"$error":"#REF!"}},{"$f":"ExportXML3_SplitTimes[[#This Row],[Kategorie]] & \" - \" & ExportXML3_SplitTimes[[#This Row],[Závodník]] & \" (\" & ExportXML3_SplitTimes[[#This Row],[Číslo čipu]] & \")\"","v":{"$error":"#REF!"}},{"$f":"ExportXML3_SplitTimes[[#This Row],[ControlCode]]","v":50},{"$f":"ExportXML3_SplitTimes[[#This Row],[SplitTimeSeconds]]/3600/24","v":"00:15:12"},{"$f":"COUNTIFS(ExportXML3_SplitTimes[Legenda],ExportXML3_SplitTimes[[#This Row],[Legenda]],ExportXML3_SplitTimes[Čas],\"<=\"&ExportXML3_SplitTimes[[#This Row],[Čas]])","v":196}]
["MA","Doucha","Tomáš","0080004",3009,49,965,{"$f":"ExportXML3_SplitTimes[[#This Row],[GivenName]]&\" \"&ExportXML3_SplitTimes[[#This Row],[FamilyName]]","v":"Tomáš Doucha"},{"$f":"_xlfn.XLOOKUP(ExportXML3_SplitTimes[[#This Row],[PersonId]],#REF!,#REF!,\"-\")","v":{"$error":"#REF!"}},{"$f":"ExportXML3_SplitTimes[[#This Row],[Kategorie]] & \" - \" & ExportXML3_SplitTimes[[#This Row],[Závodník]] & \" (\" & ExportXML3_SplitTimes[[#This Row],[Číslo čipu]] & \")\"","v":{"$error":"#REF!"}},{"$f":"ExportXML3_SplitTimes[[#This Row],[ControlCode]]","v":49},{"$f":"ExportXML3_SplitTimes[[#This Row],[SplitTimeSeconds]]/3600/24","v":"00:16:05"},{"$f":"COUNTIFS(ExportXML3_SplitTimes[Legenda],ExportXML3_SplitTimes[[#This Row],[Legenda]],ExportXML3_SplitTimes[Čas],\"<=\"&ExportXML3_SplitTimes[[#This Row],[Čas]])","v":213}]
["MA","Doucha","Tomáš","0080004",3009,56,1134,{"$f":"ExportXML3_SplitTimes[[#This Row],[GivenName]]&\" \"&ExportXML3_SplitTimes[[#This Row],[FamilyName]]","v":"Tomáš Doucha"},{"$f":"_xlfn.XLOOKUP(ExportXML3_SplitTimes[[#This Row],[PersonId]],#REF!,#REF!,\"-\")","v":{"$error":"#REF!"}},{"$f":"ExportXML3_SplitTimes[[#This Row],[Kategorie]] & \" - \" & ExportXML3_SplitTimes[[#This Row],[Závodník]] & \" (\" & ExportXML3_SplitTimes[[#This Row],[Číslo čipu]] & \")\"","v":{"$error":"#REF!"}},{"$f":"ExportXML3_SplitTimes[[#This Row],[ControlCode]]","v":56},{"$f":"ExportXML3_SplitTimes[[#This Row],[SplitTimeSeconds]]/3600/24","v":"00:18:54"},{"$f":"COUNTIFS(ExportXML3_SplitTimes[Legenda],ExportXML3_SplitTimes[[#This Row],[Legenda]],ExportXML3_SplitTimes[Čas],\"<=\"&ExportXML3_SplitTimes[[#This Row],[Čas]])","v":255}]
["MA","Doucha","Tomáš","0080004",3009,42,1463,{"$f":"ExportXML3_SplitTimes[[#This Row],[GivenName]]&\" \"&ExportXML3_SplitTimes[[#This Row],[FamilyName]]","v":"Tomáš Doucha"},{"$f":"_xlfn.XLOOKUP(ExportXML3_SplitTimes[[#This Row],[PersonId]],#REF!,#REF!,\"-\")","v":{"$error":"#REF!"}},{"$f":"ExportXML3_SplitTimes[[#This Row],[Kategorie]] & \" - \" & ExportXML3_SplitTimes[[#This Row],[Závodník]] & \" (\" & ExportXML3_SplitTimes[[#This Row],[Číslo čipu]] & \")\"","v":{"$error":"#REF!"}},{"$f":"ExportXML3_SplitTimes[[#This Row],[ControlCode]]","v":42},{"$f":"ExportXML3_SplitTimes[[#This Row],[SplitTimeSeconds]]/3600/24","v":"00:24:23"},{"$f":"COUNTIFS(ExportXML3_SplitTimes[Legenda],ExportXML3_SplitTimes[[#This Row],[Legenda]],ExportXML3_SplitTimes[Čas],\"<=\"&ExportXML3_SplitTimes[[#This Row],[Čas]])","v":327}]
["MA","Doucha","Tomáš","0080004",3009,47,1601,{"$f":"ExportXML3_SplitTimes[[#This Row],[GivenName]]&\" \"&ExportXML3_SplitTimes[[#This Row],[FamilyName]]","v":"Tomáš Doucha"},{"$f":"_xlfn.XLOOKUP(ExportXML3_SplitTimes[[#This Row],[PersonId]],#REF!,#REF!,\"-\")","v":{"$error":"#REF!"}},{"$f":"ExportXML3_SplitTimes[[#This Row],[Kategorie]] & \" - \" & ExportXML3_SplitTimes[[#This Row],[Závodník]] & \" (\" & ExportXML3_SplitTimes[[#This Row],[Číslo čipu]] & \")\"","v":{"$error":"#REF!"}},{"$f":"ExportXML3_SplitTimes[[#This Row],[ControlCode]]","v":47},{"$f":"ExportXML3_SplitTimes[[#This Row],[SplitTimeSeconds]]/3600/24","v":"00:26:41"},{"$f":"COUNTIFS(ExportXML3_SplitTimes[Legenda],ExportXML3_SplitTimes[[#This Row],[Legenda]],ExportXML3_SplitTimes[Čas],\"<=\"&ExportXML3_SplitTimes[[#This Row],[Čas]])","v":362}]
["MA","Doucha","Tomáš","0080004",3009,60,1746,{"$f":"ExportXML3_SplitTimes[[#This Row],[GivenName]]&\" \"&ExportXML3_SplitTimes[[#This Row],[FamilyName]]","v":"Tomáš Doucha"},{"$f":"_xlfn.XLOOKUP(ExportXML3_SplitTimes[[#This Row],[PersonId]],#REF!,#REF!,\"-\")","v":{"$error":"#REF!"}},{"$f":"ExportXML3_SplitTimes[[#This Row],[Kategorie]] & \" - \" & ExportXML3_SplitTimes[[#This Row],[Závodník]] & \" (\" & ExportXML3_SplitTimes[[#This Row],[Číslo čipu]] & \")\"","v":{"$error":"#REF!"}},{"$f":"ExportXML3_SplitTimes[[#This Row],[ControlCode]]","v":60},{"$f":"ExportXML3_SplitTimes[[#This Row],[SplitTimeSeconds]]/3600/24","v":"00:29:06"},{"$f":"COUNTIFS(ExportXML3_SplitTimes[Legenda],ExportXML3_SplitTimes[[#This Row],[Legenda]],ExportXML3_SplitTimes[Čas],\"<=\"&ExportXML3_SplitTimes[[#This Row],[Čas]])","v":396}]
["MA","Doucha","Tomáš","0080004",3009,61,1900,{"$f":"ExportXML3_SplitTimes[[#This Row],[GivenName]]&\" \"&ExportXML3_SplitTimes[[#This Row],[FamilyName]]","v":"Tomáš Doucha"},{"$f":"_xlfn.XLOOKUP(ExportXML3_SplitTimes[[#This Row],[PersonId]],#REF!,#REF!,\"-\")","v":{"$error":"#REF!"}},{"$f":"ExportXML3_SplitTimes[[#This Row],[Kategorie]] & \" - \" & ExportXML3_SplitTimes[[#This Row],[Závodník]] & \" (\" & ExportXML3_SplitTimes[[#This Row],[Číslo čipu]] & \")\"","v":{"$error":"#REF!"}},{"$f":"ExportXML3_SplitTimes[[#This Row],[ControlCode]]","v":61},{"$f":"ExportXML3_SplitTimes[[#This Row],[SplitTimeSeconds]]/3600/24","v":"00:31:40"},{"$f":"COUNTIFS(ExportXML3_SplitTimes[Legenda],ExportXML3_SplitTimes[[#This Row],[Legenda]],ExportXML3_SplitTimes[Čas],\"<=\"&ExportXML3_SplitTimes[[#This Row],[Čas]])","v":434}]
["MA","Doucha","Tomáš","0080004",3009,80,2081,{"$f":"ExportXML3_SplitTimes[[#This Row],[GivenName]]&\" \"&ExportXML3_SplitTimes[[#This Row],[FamilyName]]","v":"Tomáš Doucha"},{"$f":"_xlfn.XLOOKUP(ExportXML3_SplitTimes[[#This Row],[PersonId]],#REF!,#REF!,\"-\")","v":{"$error":"#REF!"}},{"$f":"ExportXML3_SplitTimes[[#This Row],[Kategorie]] & \" - \" & ExportXML3_SplitTimes[[#This Row],[Závodník]] & \" (\" & ExportXML3_SplitTimes[[#This Row],[Číslo čipu]] & \")\"","v":{"$error":"#REF!"}},{"$f":"ExportXML3_SplitTimes[[#This Row],[ControlCode]]","v":80},{"$f":"ExportXML3_SplitTimes[[#This Row],[SplitTimeSeconds]]/3600/24","v":"00:34:41"},{"$f":"COUNTIFS(ExportXML3_SplitTimes[Legenda],ExportXML3_SplitTimes[[#This Row],[Legenda]],ExportXML3_SplitTimes[Čas],\"<=\"&ExportXML3_SplitTimes[[#This Row],[Čas]])","v":478}]
["MA","Doucha","Tomáš","0080004",3009,62,2332,{"$f":"ExportXML3_SplitTimes[[#This Row],[GivenName]]&\" \"&ExportXML3_SplitTimes[[#This Row],[FamilyName]]","v":"Tomáš Doucha"},{"$f":"_xlfn.XLOOKUP(ExportXML3_SplitTimes[[#This Row],[PersonId]],#REF!,#REF!,\"-\")","v":{"$error":"#REF!"}},{"$f":"ExportXML3_SplitTimes[[#This Row],[Kategorie]] & \" - \" & ExportXML3_SplitTimes[[#This Row],[Závodník]] & \" (\" & ExportXML3_SplitTimes[[#This Row],[Číslo čipu]] & \")\"","v":{"$error":"#REF!"}},{"$f":"ExportXML3_SplitTimes[[#This Row],[ControlCode]]","v":62},{"$f":"ExportXML3_SplitTimes[[#This Row],[SplitTimeSeconds]]/3600/24","v":"00:38:52"},{"$f":"COUNTIFS(ExportXML3_SplitTimes[Legenda],ExportXML3_SplitTimes[[#This Row],[Legenda]],ExportXML3_SplitTimes[Čas],\"<=\"&ExportXML3_SplitTimes[[#This Row],[Čas]])","v":529}]
["MA","Doucha","Tomáš","0080004",3009,65,2543,{"$f":"ExportXML3_SplitTimes[[#This Row],[GivenName]]&\" \"&ExportXML3_SplitTimes[[#This Row],[FamilyName]]","v":"Tomáš Doucha"},{"$f":"_xlfn.XLOOKUP(ExportXML3_SplitTimes[[#This Row],[PersonId]],#REF!,#REF!,\"-\")","v":{"$error":"#REF!"}},{"$f":"ExportXML3_SplitTimes[[#This Row],[Kategorie]] & \" - \" & ExportXML3_SplitTimes[[#This Row],[Závodník]] & \" (\" & ExportXML3_SplitTimes[[#This Row],[Číslo čipu]] & \")\"","v":{"$error":"#REF!"}},{"$f":"ExportXML3_SplitTimes[[#This Row],[ControlCode]]","v":65},{"$f":"ExportXML3_SplitTimes[[#This Row],[SplitTimeSeconds]]/3600/24","v":"00:42:23"},{"$f":"COUNTIFS(ExportXML3_SplitTimes[Legenda],ExportXML3_SplitTimes[[#This Row],[Legenda]],ExportXML3_SplitTimes[Čas],\"<=\"&ExportXML3_SplitTimes[[#This Row],[Čas]])","v":575}]
["MA","Doucha","Tomáš","0080004",3009,76,2647,{"$f":"ExportXML3_SplitTimes[[#This Row],[GivenName]]&\" \"&ExportXML3_SplitTimes[[#This Row],[FamilyName]]","v":"Tomáš Doucha"},{"$f":"_xlfn.XLOOKUP(ExportXML3_SplitTimes[[#This Row],[PersonId]],#REF!,#REF!,\"-\")","v":{"$error":"#REF!"}},{"$f":"ExportXML3_SplitTimes[[#This Row],[Kategorie]] & \" - \" & ExportXML3_SplitTimes[[#This Row],[Závodník]] & \" (\" & ExportXML3_SplitTimes[[#This Row],[Číslo čipu]] & \")\"","v":{"$error":"#REF!"}},{"$f":"ExportXML3_SplitTimes[[#This Row],[ControlCode]]","v":76},{"$f":"ExportXML3_SplitTimes[[#This Row],[SplitTimeSeconds]]/3600/24","v":"00:44:07"},{"$f":"COUNTIFS(ExportXML3_SplitTimes[Legenda],ExportXML3_SplitTimes[[#This Row],[Legenda]],ExportXML3_SplitTimes[Čas],\"<=\"&ExportXML3_SplitTimes[[#This Row],[Čas]])","v":592}]
["MA","Doucha","Tomáš","0080004",3009,71,2774,{"$f":"ExportXML3_SplitTimes[[#This Row],[GivenName]]&\" \"&ExportXML3_SplitTimes[[#This Row],[FamilyName]]","v":"Tomáš Doucha"},{"$f":"_xlfn.XLOOKUP(ExportXML3_SplitTimes[[#This Row],[PersonId]],#REF!,#REF!,\"-\")","v":{"$error":"#REF!"}},{"$f":"ExportXML3_SplitTimes[[#This Row],[Kategorie]] & \" - \" & ExportXML3_SplitTimes[[#This Row],[Závodník]] & \" (\" & ExportXML3_SplitTimes[[#This Row],[Číslo čipu]] & \")\"","v":{"$error":"#REF!"}},{"$f":"ExportXML3_SplitTimes[[#This Row],[ControlCode]]","v":71},{"$f":"ExportXML3_SplitTimes[[#This Row],[SplitTimeSeconds]]/3600/24","v":"00:46:14"},{"$f":"COUNTIFS(ExportXML3_SplitTimes[Legenda],ExportXML3_SplitTimes[[#This Row],[Legenda]],ExportXML3_SplitTimes[Čas],\"<=\"&ExportXML3_SplitTimes[[#This Row],[Čas]])","v":626}]
["MA","Doucha","Tomáš","0080004",3009,74,2900,{"$f":"ExportXML3_SplitTimes[[#This Row],[GivenName]]&\" \"&ExportXML3_SplitTimes[[#This Row],[FamilyName]]","v":"Tomáš Doucha"},{"$f":"_xlfn.XLOOKUP(ExportXML3_SplitTimes[[#This Row],[PersonId]],#REF!,#REF!,\"-\")","v":{"$error":"#REF!"}},{"$f":"ExportXML3_SplitTimes[[#This Row],[Kategorie]] & \" - \" & ExportXML3_SplitTimes[[#This Row],[Závodník]] & \" (\" & ExportXML3_SplitTimes[[#This Row],[Číslo čipu]] & \")\"","v":{"$error":"#REF!"}},{"$f":"ExportXML3_SplitTimes[[#This Row],[ControlCode]]","v":74},{"$f":"ExportXML3_SplitTimes[[#This Row],[SplitTimeSeconds]]/3600/24","v":"00:48:20"},{"$f":"COUNTIFS(ExportXML3_SplitTimes[Legenda],ExportXML3_SplitTimes[[#This Row],[Legenda]],ExportXML3_SplitTimes[Čas],\"<=\"&ExportXML3_SplitTimes[[#This Row],[Čas]])","v":647}]
["MA","Doucha","Tomáš","0080004",3009,100,2995,{"$f":"ExportXML3_SplitTimes[[#This Row],[GivenName]]&\" \"&ExportXML3_SplitTimes[[#This Row],[FamilyName]]","v":"Tomáš Doucha"},{"$f":"_xlfn.XLOOKUP(ExportXML3_SplitTimes[[#This Row],[PersonId]],#REF!,#REF!,\"-\")","v":{"$error":"#REF!"}},{"$f":"ExportXML3_SplitTimes[[#This Row],[Kategorie]] & \" - \" & ExportXML3_SplitTimes[[#This Row],[Závodník]] & \" (\" & ExportXML3_SplitTimes[[#This Row],[Číslo čipu]] & \")\"","v":{"$error":"#REF!"}},{"$f":"ExportXML3_SplitTimes[[#This Row],[ControlCode]]","v":100},{"$f":"ExportXML3_SplitTimes[[#This Row],[SplitTimeSeconds]]/3600/24","v":"00:49:55"},{"$f":"COUNTIFS(ExportXML3_SplitTimes[Legenda],ExportXML3_SplitTimes[[#This Row],[Legenda]],ExportXML3_SplitTimes[Čas],\"<=\"&ExportXML3_SplitTimes[[#This Row],[Čas]])","v":667}]
["MA","Jandera","Kryštof","0030003",3181,93,227,{"$f":"ExportXML3_SplitTimes[[#This Row],[GivenName]]&\" \"&ExportXML3_SplitTimes[[#This Row],[FamilyName]]","v":"Kryštof Jandera"},{"$f":"_xlfn.XLOOKUP(ExportXML3_SplitTimes[[#This Row],[PersonId]],#REF!,#REF!,\"-\")","v":{"$error":"#REF!"}},{"$f":"ExportXML3_SplitTimes[[#This Row],[Kategorie]] & \" - \" & ExportXML3_SplitTimes[[#This Row],[Závodník]] & \" (\" & ExportXML3_SplitTimes[[#This Row],[Číslo čipu]] & \")\"","v":{"$error":"#REF!"}},{"$f":"ExportXML3_SplitTimes[[#This Row],[ControlCode]]","v":93},{"$f":"ExportXML3_SplitTimes[[#This Row],[SplitTimeSeconds]]/3600/24","v":"00:03:47"},{"$f":"COUNTIFS(ExportXML3_SplitTimes[Legenda],ExportXML3_SplitTimes[[#This Row],[Legenda]],ExportXML3_SplitTimes[Čas],\"<=\"&ExportXML3_SplitTimes[[#This Row],[Čas]])","v":11}]
["MA","Jandera","Kryštof","0030003",3181,55,411,{"$f":"ExportXML3_SplitTimes[[#This Row],[GivenName]]&\" \"&ExportXML3_SplitTimes[[#This Row],[FamilyName]]","v":"Kryštof Jandera"},{"$f":"_xlfn.XLOOKUP(ExportXML3_SplitTimes[[#This Row],[PersonId]],#REF!,#REF!,\"-\")","v":{"$error":"#REF!"}},{"$f":"ExportXML3_SplitTimes[[#This Row],[Kategorie]] & \" - \" & ExportXML3_SplitTimes[[#This Row],[Závodník]] & \" (\" & ExportXML3_SplitTimes[[#This Row],[Číslo čipu]] & \")\"","v":{"$error":"#REF!"}},{"$f":"ExportXML3_SplitTimes[[#This Row],[ControlCode]]","v":55},{"$f":"ExportXML3_SplitTimes[[#This Row],[SplitTimeSeconds]]/3600/24","v":"00:06:51"},{"$f":"COUNTIFS(ExportXML3_SplitTimes[Legenda],ExportXML3_SplitTimes[[#This Row],[Legenda]],ExportXML3_SplitTimes[Čas],\"<=\"&ExportXML3_SplitTimes[[#This Row],[Čas]])","v":55}]
["MA","Jandera","Kryštof","0030003",3181,54,464,{"$f":"ExportXML3_SplitTimes[[#This Row],[GivenName]]&\" \"&ExportXML3_SplitTimes[[#This Row],[FamilyName]]","v":"Kryštof Jandera"},{"$f":"_xlfn.XLOOKUP(ExportXML3_SplitTimes[[#This Row],[PersonId]],#REF!,#REF!,\"-\")","v":{"$error":"#REF!"}},{"$f":"ExportXML3_SplitTimes[[#This Row],[Kategorie]] & \" - \" & ExportXML3_SplitTimes[[#This Row],[Závodník]] & \" (\" & ExportXML3_SplitTimes[[#This Row],[Číslo čipu]] & \")\"","v":{"$error":"#REF!"}},{"$f":"ExportXML3_SplitTimes[[#This Row],[ControlCode]]","v":54},{"$f":"ExportXML3_SplitTimes[[#This Row],[SplitTimeSeconds]]/3600/24","v":"00:07:44"},{"$f":"COUNTIFS(ExportXML3_SplitTimes[Legenda],ExportXML3_SplitTimes[[#This Row],[Legenda]],ExportXML3_SplitTimes[Čas],\"<=\"&ExportXML3_SplitTimes[[#This Row],[Čas]])","v":65}]
["MA","Jandera","Kryštof","0030003",3181,53,581,{"$f":"ExportXML3_SplitTimes[[#This Row],[GivenName]]&\" \"&ExportXML3_SplitTimes[[#This Row],[FamilyName]]","v":"Kryštof Jandera"},{"$f":"_xlfn.XLOOKUP(ExportXML3_SplitTimes[[#This Row],[PersonId]],#REF!,#REF!,\"-\")","v":{"$error":"#REF!"}},{"$f":"ExportXML3_SplitTimes[[#This Row],[Kategorie]] & \" - \" & ExportXML3_SplitTimes[[#This Row],[Závodník]] & \" (\" & ExportXML3_SplitTimes[[#This Row],[Číslo čipu]] & \")\"","v":{"$error":"#REF!"}},{"$f":"ExportXML3_SplitTimes[[#This Row],[ControlCode]]","v":53},{"$f":"ExportXML3_SplitTimes[[#This Row],[SplitTimeSeconds]]/3600/24","v":"00:09:41"},{"$f":"COUNTIFS(ExportXML3_SplitTimes[Legenda],ExportXML3_SplitTimes[[#This Row],[Legenda]],ExportXML3_SplitTimes[Čas],\"<=\"&ExportXML3_SplitTimes[[#This Row],[Čas]])","v":105}]
["MA","Jandera","Kryštof","0030003",3181,50,862,{"$f":"ExportXML3_SplitTimes[[#This Row],[GivenName]]&\" \"&ExportXML3_SplitTimes[[#This Row],[FamilyName]]","v":"Kryštof Jandera"},{"$f":"_xlfn.XLOOKUP(ExportXML3_SplitTimes[[#This Row],[PersonId]],#REF!,#REF!,\"-\")","v":{"$error":"#REF!"}},{"$f":"ExportXML3_SplitTimes[[#This Row],[Kategorie]] & \" - \" & ExportXML3_SplitTimes[[#This Row],[Závodník]] & \" (\" & ExportXML3_SplitTimes[[#This Row],[Číslo čipu]] & \")\"","v":{"$error":"#REF!"}},{"$f":"ExportXML3_SplitTimes[[#This Row],[ControlCode]]","v":50},{"$f":"ExportXML3_SplitTimes[[#This Row],[SplitTimeSeconds]]/3600/24","v":"00:14:22"},{"$f":"COUNTIFS(ExportXML3_SplitTimes[Legenda],ExportXML3_SplitTimes[[#This Row],[Legenda]],ExportXML3_SplitTimes[Čas],\"<=\"&ExportXML3_SplitTimes[[#This Row],[Čas]])","v":181}]
["MA","Jandera","Kryštof","0030003",3181,49,903,{"$f":"ExportXML3_SplitTimes[[#This Row],[GivenName]]&\" \"&ExportXML3_SplitTimes[[#This Row],[FamilyName]]","v":"Kryštof Jandera"},{"$f":"_xlfn.XLOOKUP(ExportXML3_SplitTimes[[#This Row],[PersonId]],#REF!,#REF!,\"-\")","v":{"$error":"#REF!"}},{"$f":"ExportXML3_SplitTimes[[#This Row],[Kategorie]] & \" - \" & ExportXML3_SplitTimes[[#This Row],[Závodník]] & \" (\" & ExportXML3_SplitTimes[[#This Row],[Číslo čipu]] & \")\"","v":{"$error":"#REF!"}},{"$f":"ExportXML3_SplitTimes[[#This Row],[ControlCode]]","v":49},{"$f":"ExportXML3_SplitTimes[[#This Row],[SplitTimeSeconds]]/3600/24","v":"00:15:03"},{"$f":"COUNTIFS(ExportXML3_SplitTimes[Legenda],ExportXML3_SplitTimes[[#This Row],[Legenda]],ExportXML3_SplitTimes[Čas],\"<=\"&ExportXML3_SplitTimes[[#This Row],[Čas]])","v":191}]
["MA","Jandera","Kryštof","0030003",3181,56,1073,{"$f":"ExportXML3_SplitTimes[[#This Row],[GivenName]]&\" \"&ExportXML3_SplitTimes[[#This Row],[FamilyName]]","v":"Kryštof Jandera"},{"$f":"_xlfn.XLOOKUP(ExportXML3_SplitTimes[[#This Row],[PersonId]],#REF!,#REF!,\"-\")","v":{"$error":"#REF!"}},{"$f":"ExportXML3_SplitTimes[[#This Row],[Kategorie]] & \" - \" & ExportXML3_SplitTimes[[#This Row],[Závodník]] & \" (\" & ExportXML3_SplitTimes[[#This Row],[Číslo čipu]] & \")\"","v":{"$error":"#REF!"}},{"$f":"ExportXML3_SplitTimes[[#This Row],[ControlCode]]","v":56},{"$f":"ExportXML3_SplitTimes[[#This Row],[SplitTimeSeconds]]/3600/24","v":"00:17:53"},{"$f":"COUNTIFS(ExportXML3_SplitTimes[Legenda],ExportXML3_SplitTimes[[#This Row],[Legenda]],ExportXML3_SplitTimes[Čas],\"<=\"&ExportXML3_SplitTimes[[#This Row],[Čas]])","v":239}]
["MA","Jandera","Kryštof","0030003",3181,42,1360,{"$f":"ExportXML3_SplitTimes[[#This Row],[GivenName]]&\" \"&ExportXML3_SplitTimes[[#This Row],[FamilyName]]","v":"Kryštof Jandera"},{"$f":"_xlfn.XLOOKUP(ExportXML3_SplitTimes[[#This Row],[PersonId]],#REF!,#REF!,\"-\")","v":{"$error":"#REF!"}},{"$f":"ExportXML3_SplitTimes[[#This Row],[Kategorie]] & \" - \" & ExportXML3_SplitTimes[[#This Row],[Závodník]] & \" (\" & ExportXML3_SplitTimes[[#This Row],[Číslo čipu]] & \")\"","v":{"$error":"#REF!"}},{"$f":"ExportXML3_SplitTimes[[#This Row],[ControlCode]]","v":42},{"$f":"ExportXML3_SplitTimes[[#This Row],[SplitTimeSeconds]]/3600/24","v":"00:22:40"},{"$f":"COUNTIFS(ExportXML3_SplitTimes[Legenda],ExportXML3_SplitTimes[[#This Row],[Legenda]],ExportXML3_SplitTimes[Čas],\"<=\"&ExportXML3_SplitTimes[[#This Row],[Čas]])","v":306}]
["MA","Jandera","Kryštof","0030003",3181,47,1651,{"$f":"ExportXML3_SplitTimes[[#This Row],[GivenName]]&\" \"&ExportXML3_SplitTimes[[#This Row],[FamilyName]]","v":"Kryštof Jandera"},{"$f":"_xlfn.XLOOKUP(ExportXML3_SplitTimes[[#This Row],[PersonId]],#REF!,#REF!,\"-\")","v":{"$error":"#REF!"}},{"$f":"ExportXML3_SplitTimes[[#This Row],[Kategorie]] & \" - \" & ExportXML3_SplitTimes[[#This Row],[Závodník]] & \" (\" & ExportXML3_SplitTimes[[#This Row],[Číslo čipu]] & \")\"","v":{"$error":"#REF!"}},{"$f":"ExportXML3_SplitTimes[[#This Row],[ControlCode]]","v":47},{"$f":"ExportXML3_SplitTimes[[#This Row],[SplitTimeSeconds]]/3600/24","v":"00:27:31"},{"$f":"COUNTIFS(ExportXML3_SplitTimes[Legenda],ExportXML3_SplitTimes[[#This Row],[Legenda]],ExportXML3_SplitTimes[Čas],\"<=\"&ExportXML3_SplitTimes[[#This Row],[Čas]])","v":369}]
["MA","Jandera","Kryštof","0030003",3181,60,1747,{"$f":"ExportXML3_SplitTimes[[#This Row],[GivenName]]&\" \"&ExportXML3_SplitTimes[[#This Row],[FamilyName]]","v":"Kryštof Jandera"},{"$f":"_xlfn.XLOOKUP(ExportXML3_SplitTimes[[#This Row],[PersonId]],#REF!,#REF!,\"-\")","v":{"$error":"#REF!"}},{"$f":"ExportXML3_SplitTimes[[#This Row],[Kategorie]] & \" - \" & ExportXML3_SplitTimes[[#This Row],[Závodník]] & \" (\" & ExportXML3_SplitTimes[[#This Row],[Číslo čipu]] & \")\"","v":{"$error":"#REF!"}},{"$f":"ExportXML3_SplitTimes[[#This Row],[ControlCode]]","v":60},{"$f":"ExportXML3_SplitTimes[[#This Row],[SplitTimeSeconds]]/3600/24","v":"00:29:07"},{"$f":"COUNTIFS(ExportXML3_SplitTimes[Legenda],ExportXML3_SplitTimes[[#This Row],[Legenda]],ExportXML3_SplitTimes[Čas],\"<=\"&ExportXML3_SplitTimes[[#This Row],[Čas]])","v":397}]
["MA","Jandera","Kryštof","0030003",3181,61,2247,{"$f":"ExportXML3_SplitTimes[[#This Row],[GivenName]]&\" \"&ExportXML3_SplitTimes[[#This Row],[FamilyName]]","v":"Kryštof Jandera"},{"$f":"_xlfn.XLOOKUP(ExportXML3_SplitTimes[[#This Row],[PersonId]],#REF!,#REF!,\"-\")","v":{"$error":"#REF!"}},{"$f":"ExportXML3_SplitTimes[[#This Row],[Kategorie]] & \" - \" & ExportXML3_SplitTimes[[#This Row],[Závodník]] & \" (\" & ExportXML3_SplitTimes[[#This Row],[Číslo čipu]] & \")\"","v":{"$error":"#REF!"}},{"$f":"ExportXML3_SplitTimes[[#This Row],[ControlCode]]","v":61},{"$f":"ExportXML3_SplitTimes[[#This Row],[SplitTimeSeconds]]/3600/24","v":"00:37:27"},{"$f":"COUNTIFS(ExportXML3_SplitTimes[Legenda],ExportXML3_SplitTimes[[#This Row],[Legenda]],ExportXML3_SplitTimes[Čas],\"<=\"&ExportXML3_SplitTimes[[#This Row],[Čas]])","v":509}]
["MA","Jandera","Kryštof","0030003",3181,80,2385,{"$f":"ExportXML3_SplitTimes[[#This Row],[GivenName]]&\" \"&ExportXML3_SplitTimes[[#This Row],[FamilyName]]","v":"Kryštof Jandera"},{"$f":"_xlfn.XLOOKUP(ExportXML3_SplitTimes[[#This Row],[PersonId]],#REF!,#REF!,\"-\")","v":{"$error":"#REF!"}},{"$f":"ExportXML3_SplitTimes[[#This Row],[Kategorie]] & \" - \" & ExportXML3_SplitTimes[[#This Row],[Závodník]] & \" (\" & ExportXML3_SplitTimes[[#This Row],[Číslo čipu]] & \")\"","v":{"$error":"#REF!"}},{"$f":"ExportXML3_SplitTimes[[#This Row],[ControlCode]]","v":80},{"$f":"ExportXML3_SplitTimes[[#This Row],[SplitTimeSeconds]]/3600/24","v":"00:39:45"},{"$f":"COUNTIFS(ExportXML3_SplitTimes[Legenda],ExportXML3_SplitTimes[[#This Row],[Legenda]],ExportXML3_SplitTimes[Čas],\"<=\"&ExportXML3_SplitTimes[[#This Row],[Čas]])","v":541}]
["MA","Jandera","Kryštof","0030003",3181,62,2570,{"$f":"ExportXML3_SplitTimes[[#This Row],[GivenName]]&\" \"&ExportXML3_SplitTimes[[#This Row],[FamilyName]]","v":"Kryštof Jandera"},{"$f":"_xlfn.XLOOKUP(ExportXML3_SplitTimes[[#This Row],[PersonId]],#REF!,#REF!,\"-\")","v":{"$error":"#REF!"}},{"$f":"ExportXML3_SplitTimes[[#This Row],[Kategorie]] & \" - \" & ExportXML3_SplitTimes[[#This Row],[Závodník]] & \" (\" & ExportXML3_SplitTimes[[#This Row],[Číslo čipu]] & \")\"","v":{"$error":"#REF!"}},{"$f":"ExportXML3_SplitTimes[[#This Row],[ControlCode]]","v":62},{"$f":"ExportXML3_SplitTimes[[#This Row],[SplitTimeSeconds]]/3600/24","v":"00:42:50"},{"$f":"COUNTIFS(ExportXML3_SplitTimes[Legenda],ExportXML3_SplitTimes[[#This Row],[Legenda]],ExportXML3_SplitTimes[Čas],\"<=\"&ExportXML3_SplitTimes[[#This Row],[Čas]])","v":580}]
["MA","Jandera","Kryštof","0030003",3181,65,2767,{"$f":"ExportXML3_SplitTimes[[#This Row],[GivenName]]&\" \"&ExportXML3_SplitTimes[[#This Row],[FamilyName]]","v":"Kryštof Jandera"},{"$f":"_xlfn.XLOOKUP(ExportXML3_SplitTimes[[#This Row],[PersonId]],#REF!,#REF!,\"-\")","v":{"$error":"#REF!"}},{"$f":"ExportXML3_SplitTimes[[#This Row],[Kategorie]] & \" - \" & ExportXML3_SplitTimes[[#This Row],[Závodník]] & \" (\" & ExportXML3_SplitTimes[[#This Row],[Číslo čipu]] & \")\"","v":{"$error":"#REF!"}},{"$f":"ExportXML3_SplitTimes[[#This Row],[ControlCode]]","v":65},{"$f":"ExportXML3_SplitTimes[[#This Row],[SplitTimeSeconds]]/3600/24","v":"00:46:07"},{"$f":"COUNTIFS(ExportXML3_SplitTimes[Legenda],ExportXML3_SplitTimes[[#This Row],[Legenda]],ExportXML3_SplitTimes[Čas],\"<=\"&ExportXML3_SplitTimes[[#This Row],[Čas]])","v":624}]
["MA","Jandera","Kryštof","0030003",3181,76,2858,{"$f":"ExportXML3_SplitTimes[[#This Row],[GivenName]]&\" \"&ExportXML3_SplitTimes[[#This Row],[FamilyName]]","v":"Kryštof Jandera"},{"$f":"_xlfn.XLOOKUP(ExportXML3_SplitTimes[[#This Row],[PersonId]],#REF!,#REF!,\"-\")","v":{"$error":"#REF!"}},{"$f":"ExportXML3_SplitTimes[[#This Row],[Kategorie]] & \" - \" & ExportXML3_SplitTimes[[#This Row],[Závodník]] & \" (\" & ExportXML3_SplitTimes[[#This Row],[Číslo čipu]] & \")\"","v":{"$error":"#REF!"}},{"$f":"ExportXML3_SplitTimes[[#This Row],[ControlCode]]","v":76},{"$f":"ExportXML3_SplitTimes[[#This Row],[SplitTimeSeconds]]/3600/24","v":"00:47:38"},{"$f":"COUNTIFS(ExportXML3_SplitTimes[Legenda],ExportXML3_SplitTimes[[#This Row],[Legenda]],ExportXML3_SplitTimes[Čas],\"<=\"&ExportXML3_SplitTimes[[#This Row],[Čas]])","v":639}]
["MA","Jandera","Kryštof","0030003",3181,71,2951,{"$f":"ExportXML3_SplitTimes[[#This Row],[GivenName]]&\" \"&ExportXML3_SplitTimes[[#This Row],[FamilyName]]","v":"Kryštof Jandera"},{"$f":"_xlfn.XLOOKUP(ExportXML3_SplitTimes[[#This Row],[PersonId]],#REF!,#REF!,\"-\")","v":{"$error":"#REF!"}},{"$f":"ExportXML3_SplitTimes[[#This Row],[Kategorie]] & \" - \" & ExportXML3_SplitTimes[[#This Row],[Závodník]] & \" (\" & ExportXML3_SplitTimes[[#This Row],[Číslo čipu]] & \")\"","v":{"$error":"#REF!"}},{"$f":"ExportXML3_SplitTimes[[#This Row],[ControlCode]]","v":71},{"$f":"ExportXML3_SplitTimes[[#This Row],[SplitTimeSeconds]]/3600/24","v":"00:49:11"},{"$f":"COUNTIFS(ExportXML3_SplitTimes[Legenda],ExportXML3_SplitTimes[[#This Row],[Legenda]],ExportXML3_SplitTimes[Čas],\"<=\"&ExportXML3_SplitTimes[[#This Row],[Čas]])","v":660}]
["MA","Jandera","Kryštof","0030003",3181,74,3073,{"$f":"ExportXML3_SplitTimes[[#This Row],[GivenName]]&\" \"&ExportXML3_SplitTimes[[#This Row],[FamilyName]]","v":"Kryštof Jandera"},{"$f":"_xlfn.XLOOKUP(ExportXML3_SplitTimes[[#This Row],[PersonId]],#REF!,#REF!,\"-\")","v":{"$error":"#REF!"}},{"$f":"ExportXML3_SplitTimes[[#This Row],[Kategorie]] & \" - \" & ExportXML3_SplitTimes[[#This Row],[Závodník]] & \" (\" & ExportXML3_SplitTimes[[#This Row],[Číslo čipu]] & \")\"","v":{"$error":"#REF!"}},{"$f":"ExportXML3_SplitTimes[[#This Row],[ControlCode]]","v":74},{"$f":"ExportXML3_SplitTimes[[#This Row],[SplitTimeSeconds]]/3600/24","v":"00:51:13"},{"$f":"COUNTIFS(ExportXML3_SplitTimes[Legenda],ExportXML3_SplitTimes[[#This Row],[Legenda]],ExportXML3_SplitTimes[Čas],\"<=\"&ExportXML3_SplitTimes[[#This Row],[Čas]])","v":676}]
["MA","Jandera","Kryštof","0030003",3181,100,3166,{"$f":"ExportXML3_SplitTimes[[#This Row],[GivenName]]&\" \"&ExportXML3_SplitTimes[[#This Row],[FamilyName]]","v":"Kryštof Jandera"},{"$f":"_xlfn.XLOOKUP(ExportXML3_SplitTimes[[#This Row],[PersonId]],#REF!,#REF!,\"-\")","v":{"$error":"#REF!"}},{"$f":"ExportXML3_SplitTimes[[#This Row],[Kategorie]] & \" - \" & ExportXML3_SplitTimes[[#This Row],[Závodník]] & \" (\" & ExportXML3_SplitTimes[[#This Row],[Číslo čipu]] & \")\"","v":{"$error":"#REF!"}},{"$f":"ExportXML3_SplitTimes[[#This Row],[ControlCode]]","v":100},{"$f":"ExportXML3_SplitTimes[[#This Row],[SplitTimeSeconds]]/3600/24","v":"00:52:46"},{"$f":"COUNTIFS(ExportXML3_SplitTimes[Legenda],ExportXML3_SplitTimes[[#This Row],[Legenda]],ExportXML3_SplitTimes[Čas],\"<=\"&ExportXML3_SplitTimes[[#This Row],[Čas]])","v":691}]
["MA","Ransdorf","Vít","0140003",3212,93,380,{"$f":"ExportXML3_SplitTimes[[#This Row],[GivenName]]&\" \"&ExportXML3_SplitTimes[[#This Row],[FamilyName]]","v":"Vít Ransdorf"},{"$f":"_xlfn.XLOOKUP(ExportXML3_SplitTimes[[#This Row],[PersonId]],#REF!,#REF!,\"-\")","v":{"$error":"#REF!"}},{"$f":"ExportXML3_SplitTimes[[#This Row],[Kategorie]] & \" - \" & ExportXML3_SplitTimes[[#This Row],[Závodník]] & \" (\" & ExportXML3_SplitTimes[[#This Row],[Číslo čipu]] & \")\"","v":{"$error":"#REF!"}},{"$f":"ExportXML3_SplitTimes[[#This Row],[ControlCode]]","v":93},{"$f":"ExportXML3_SplitTimes[[#This Row],[SplitTimeSeconds]]/3600/24","v":"00:06:20"},{"$f":"COUNTIFS(ExportXML3_SplitTimes[Legenda],ExportXML3_SplitTimes[[#This Row],[Legenda]],ExportXML3_SplitTimes[Čas],\"<=\"&ExportXML3_SplitTimes[[#This Row],[Čas]])","v":47}]
["MA","Ransdorf","Vít","0140003",3212,55,605,{"$f":"ExportXML3_SplitTimes[[#This Row],[GivenName]]&\" \"&ExportXML3_SplitTimes[[#This Row],[FamilyName]]","v":"Vít Ransdorf"},{"$f":"_xlfn.XLOOKUP(ExportXML3_SplitTimes[[#This Row],[PersonId]],#REF!,#REF!,\"-\")","v":{"$error":"#REF!"}},{"$f":"ExportXML3_SplitTimes[[#This Row],[Kategorie]] & \" - \" & ExportXML3_SplitTimes[[#This Row],[Závodník]] & \" (\" & ExportXML3_SplitTimes[[#This Row],[Číslo čipu]] & \")\"","v":{"$error":"#REF!"}},{"$f":"ExportXML3_SplitTimes[[#This Row],[ControlCode]]","v":55},{"$f":"ExportXML3_SplitTimes[[#This Row],[SplitTimeSeconds]]/3600/24","v":"00:10:05"},{"$f":"COUNTIFS(ExportXML3_SplitTimes[Legenda],ExportXML3_SplitTimes[[#This Row],[Legenda]],ExportXML3_SplitTimes[Čas],\"<=\"&ExportXML3_SplitTimes[[#This Row],[Čas]])","v":115}]
["MA","Ransdorf","Vít","0140003",3212,54,654,{"$f":"ExportXML3_SplitTimes[[#This Row],[GivenName]]&\" \"&ExportXML3_SplitTimes[[#This Row],[FamilyName]]","v":"Vít Ransdorf"},{"$f":"_xlfn.XLOOKUP(ExportXML3_SplitTimes[[#This Row],[PersonId]],#REF!,#REF!,\"-\")","v":{"$error":"#REF!"}},{"$f":"ExportXML3_SplitTimes[[#This Row],[Kategorie]] & \" - \" & ExportXML3_SplitTimes[[#This Row],[Závodník]] & \" (\" & ExportXML3_SplitTimes[[#This Row],[Číslo čipu]] & \")\"","v":{"$error":"#REF!"}},{"$f":"ExportXML3_SplitTimes[[#This Row],[ControlCode]]","v":54},{"$f":"ExportXML3_SplitTimes[[#This Row],[SplitTimeSeconds]]/3600/24","v":"00:10:54"},{"$f":"COUNTIFS(ExportXML3_SplitTimes[Legenda],ExportXML3_SplitTimes[[#This Row],[Legenda]],ExportXML3_SplitTimes[Čas],\"<=\"&ExportXML3_SplitTimes[[#This Row],[Čas]])","v":129}]
["MA","Ransdorf","Vít","0140003",3212,53,864,{"$f":"ExportXML3_SplitTimes[[#This Row],[GivenName]]&\" \"&ExportXML3_SplitTimes[[#This Row],[FamilyName]]","v":"Vít Ransdorf"},{"$f":"_xlfn.XLOOKUP(ExportXML3_SplitTimes[[#This Row],[PersonId]],#REF!,#REF!,\"-\")","v":{"$error":"#REF!"}},{"$f":"ExportXML3_SplitTimes[[#This Row],[Kategorie]] & \" - \" & ExportXML3_SplitTimes[[#This Row],[Závodník]] & \" (\" & ExportXML3_SplitTimes[[#This Row],[Číslo čipu]] & \")\"","v":{"$error":"#REF!"}},{"$f":"ExportXML3_SplitTimes[[#This Row],[ControlCode]]","v":53},{"$f":"ExportXML3_SplitTimes[[#This Row],[SplitTimeSeconds]]/3600/24","v":"00:14:24"},{"$f":"COUNTIFS(ExportXML3_SplitTimes[Legenda],ExportXML3_SplitTimes[[#This Row],[Legenda]],ExportXML3_SplitTimes[Čas],\"<=\"&ExportXML3_SplitTimes[[#This Row],[Čas]])","v":183}]
["MA","Ransdorf","Vít","0140003",3212,50,1022,{"$f":"ExportXML3_SplitTimes[[#This Row],[GivenName]]&\" \"&ExportXML3_SplitTimes[[#This Row],[FamilyName]]","v":"Vít Ransdorf"},{"$f":"_xlfn.XLOOKUP(ExportXML3_SplitTimes[[#This Row],[PersonId]],#REF!,#REF!,\"-\")","v":{"$error":"#REF!"}},{"$f":"ExportXML3_SplitTimes[[#This Row],[Kategorie]] & \" - \" & ExportXML3_SplitTimes[[#This Row],[Závodník]] & \" (\" & ExportXML3_SplitTimes[[#This Row],[Číslo čipu]] & \")\"","v":{"$error":"#REF!"}},{"$f":"ExportXML3_SplitTimes[[#This Row],[ControlCode]]","v":50},{"$f":"ExportXML3_SplitTimes[[#This Row],[SplitTimeSeconds]]/3600/24","v":"00:17:02"},{"$f":"COUNTIFS(ExportXML3_SplitTimes[Legenda],ExportXML3_SplitTimes[[#This Row],[Legenda]],ExportXML3_SplitTimes[Čas],\"<=\"&ExportXML3_SplitTimes[[#This Row],[Čas]])","v":228}]
["MA","Ransdorf","Vít","0140003",3212,49,1064,{"$f":"ExportXML3_SplitTimes[[#This Row],[GivenName]]&\" \"&ExportXML3_SplitTimes[[#This Row],[FamilyName]]","v":"Vít Ransdorf"},{"$f":"_xlfn.XLOOKUP(ExportXML3_SplitTimes[[#This Row],[PersonId]],#REF!,#REF!,\"-\")","v":{"$error":"#REF!"}},{"$f":"ExportXML3_SplitTimes[[#This Row],[Kategorie]] & \" - \" & ExportXML3_SplitTimes[[#This Row],[Závodník]] & \" (\" & ExportXML3_SplitTimes[[#This Row],[Číslo čipu]] & \")\"","v":{"$error":"#REF!"}},{"$f":"ExportXML3_SplitTimes[[#This Row],[ControlCode]]","v":49},{"$f":"ExportXML3_SplitTimes[[#This Row],[SplitTimeSeconds]]/3600/24","v":"00:17:44"},{"$f":"COUNTIFS(ExportXML3_SplitTimes[Legenda],ExportXML3_SplitTimes[[#This Row],[Legenda]],ExportXML3_SplitTimes[Čas],\"<=\"&ExportXML3_SplitTimes[[#This Row],[Čas]])","v":238}]
["MA","Ransdorf","Vít","0140003",3212,56,1203,{"$f":"ExportXML3_SplitTimes[[#This Row],[GivenName]]&\" \"&ExportXML3_SplitTimes[[#This Row],[FamilyName]]","v":"Vít Ransdorf"},{"$f":"_xlfn.XLOOKUP(ExportXML3_SplitTimes[[#This Row],[PersonId]],#REF!,#REF!,\"-\")","v":{"$error":"#REF!"}},{"$f":"ExportXML3_SplitTimes[[#This Row],[Kategorie]] & \" - \" & ExportXML3_SplitTimes[[#This Row],[Závodník]] & \" (\" & ExportXML3_SplitTimes[[#This Row],[Číslo čipu]] & \")\"","v":{"$error":"#REF!"}},{"$f":"ExportXML3_SplitTimes[[#This Row],[ControlCode]]","v":56},{"$f":"ExportXML3_SplitTimes[[#This Row],[SplitTimeSeconds]]/3600/24","v":"00:20:03"},{"$f":"COUNTIFS(ExportXML3_SplitTimes[Legenda],ExportXML3_SplitTimes[[#This Row],[Legenda]],ExportXML3_SplitTimes[Čas],\"<=\"&ExportXML3_SplitTimes[[#This Row],[Čas]])","v":274}]
["MA","Ransdorf","Vít","0140003",3212,42,1459,{"$f":"ExportXML3_SplitTimes[[#This Row],[GivenName]]&\" \"&ExportXML3_SplitTimes[[#This Row],[FamilyName]]","v":"Vít Ransdorf"},{"$f":"_xlfn.XLOOKUP(ExportXML3_SplitTimes[[#This Row],[PersonId]],#REF!,#REF!,\"-\")","v":{"$error":"#REF!"}},{"$f":"ExportXML3_SplitTimes[[#This Row],[Kategorie]] & \" - \" & ExportXML3_SplitTimes[[#This Row],[Závodník]] & \" (\" & ExportXML3_SplitTimes[[#This Row],[Číslo čipu]] & \")\"","v":{"$error":"#REF!"}},{"$f":"ExportXML3_SplitTimes[[#This Row],[ControlCode]]","v":42},{"$f":"ExportXML3_SplitTimes[[#This Row],[SplitTimeSeconds]]/3600/24","v":"00:24:19"},{"$f":"COUNTIFS(ExportXML3_SplitTimes[Legenda],ExportXML3_SplitTimes[[#This Row],[Legenda]],ExportXML3_SplitTimes[Čas],\"<=\"&ExportXML3_SplitTimes[[#This Row],[Čas]])","v":326}]
["MA","Ransdorf","Vít","0140003",3212,47,1583,{"$f":"ExportXML3_SplitTimes[[#This Row],[GivenName]]&\" \"&ExportXML3_SplitTimes[[#This Row],[FamilyName]]","v":"Vít Ransdorf"},{"$f":"_xlfn.XLOOKUP(ExportXML3_SplitTimes[[#This Row],[PersonId]],#REF!,#REF!,\"-\")","v":{"$error":"#REF!"}},{"$f":"ExportXML3_SplitTimes[[#This Row],[Kategorie]] & \" - \" & ExportXML3_SplitTimes[[#This Row],[Závodník]] & \" (\" & ExportXML3_SplitTimes[[#This Row],[Číslo čipu]] & \")\"","v":{"$error":"#REF!"}},{"$f":"ExportXML3_SplitTimes[[#This Row],[ControlCode]]","v":47},{"$f":"ExportXML3_SplitTimes[[#This Row],[SplitTimeSeconds]]/3600/24","v":"00:26:23"},{"$f":"COUNTIFS(ExportXML3_SplitTimes[Legenda],ExportXML3_SplitTimes[[#This Row],[Legenda]],ExportXML3_SplitTimes[Čas],\"<=\"&ExportXML3_SplitTimes[[#This Row],[Čas]])","v":359}]
["MA","Ransdorf","Vít","0140003",3212,60,1768,{"$f":"ExportXML3_SplitTimes[[#This Row],[GivenName]]&\" \"&ExportXML3_SplitTimes[[#This Row],[FamilyName]]","v":"Vít Ransdorf"},{"$f":"_xlfn.XLOOKUP(ExportXML3_SplitTimes[[#This Row],[PersonId]],#REF!,#REF!,\"-\")","v":{"$error":"#REF!"}},{"$f":"ExportXML3_SplitTimes[[#This Row],[Kategorie]] & \" - \" & ExportXML3_SplitTimes[[#This Row],[Závodník]] & \" (\" & ExportXML3_SplitTimes[[#This Row],[Číslo čipu]] & \")\"","v":{"$error":"#REF!"}},{"$f":"ExportXML3_SplitTimes[[#This Row],[ControlCode]]","v":60},{"$f":"ExportXML3_SplitTimes[[#This Row],[SplitTimeSeconds]]/3600/24","v":"00:29:28"},{"$f":"COUNTIFS(ExportXML3_SplitTimes[Legenda],ExportXML3_SplitTimes[[#This Row],[Legenda]],ExportXML3_SplitTimes[Čas],\"<=\"&ExportXML3_SplitTimes[[#This Row],[Čas]])","v":405}]
["MA","Ransdorf","Vít","0140003",3212,61,1854,{"$f":"ExportXML3_SplitTimes[[#This Row],[GivenName]]&\" \"&ExportXML3_SplitTimes[[#This Row],[FamilyName]]","v":"Vít Ransdorf"},{"$f":"_xlfn.XLOOKUP(ExportXML3_SplitTimes[[#This Row],[PersonId]],#REF!,#REF!,\"-\")","v":{"$error":"#REF!"}},{"$f":"ExportXML3_SplitTimes[[#This Row],[Kategorie]] & \" - \" & ExportXML3_SplitTimes[[#This Row],[Závodník]] & \" (\" & ExportXML3_SplitTimes[[#This Row],[Číslo čipu]] & \")\"","v":{"$error":"#REF!"}},{"$f":"ExportXML3_SplitTimes[[#This Row],[ControlCode]]","v":61},{"$f":"ExportXML3_SplitTimes[[#This Row],[SplitTimeSeconds]]/3600/24","v":"00:30:54"},{"$f":"COUNTIFS(ExportXML3_SplitTimes[Legenda],ExportXML3_SplitTimes[[#This Row],[Legenda]],ExportXML3_SplitTimes[Čas],\"<=\"&ExportXML3_SplitTimes[[#This Row],[Čas]])","v":423}]
["MA","Ransdorf","Vít","0140003",3212,80,2002,{"$f":"ExportXML3_SplitTimes[[#This Row],[GivenName]]&\" \"&ExportXML3_SplitTimes[[#This Row],[FamilyName]]","v":"Vít Ransdorf"},{"$f":"_xlfn.XLOOKUP(ExportXML3_SplitTimes[[#This Row],[PersonId]],#REF!,#REF!,\"-\")","v":{"$error":"#REF!"}},{"$f":"ExportXML3_SplitTimes[[#This Row],[Kategorie]] & \" - \" & ExportXML3_SplitTimes[[#This Row],[Závodník]] & \" (\" & ExportXML3_SplitTimes[[#This Row],[Číslo čipu]] & \")\"","v":{"$error":"#REF!"}},{"$f":"ExportXML3_SplitTimes[[#This Row],[ControlCode]]","v":80},{"$f":"ExportXML3_SplitTimes[[#This Row],[SplitTimeSeconds]]/3600/24","v":"00:33:22"},{"$f":"COUNTIFS(ExportXML3_SplitTimes[Legenda],ExportXML3_SplitTimes[[#This Row],[Legenda]],ExportXML3_SplitTimes[Čas],\"<=\"&ExportXML3_SplitTimes[[#This Row],[Čas]])","v":460}]
["MA","Ransdorf","Vít","0140003",3212,62,2364,{"$f":"ExportXML3_SplitTimes[[#This Row],[GivenName]]&\" \"&ExportXML3_SplitTimes[[#This Row],[FamilyName]]","v":"Vít Ransdorf"},{"$f":"_xlfn.XLOOKUP(ExportXML3_SplitTimes[[#This Row],[PersonId]],#REF!,#REF!,\"-\")","v":{"$error":"#REF!"}},{"$f":"ExportXML3_SplitTimes[[#This Row],[Kategorie]] & \" - \" & ExportXML3_SplitTimes[[#This Row],[Závodník]] & \" (\" & ExportXML3_SplitTimes[[#This Row],[Číslo čipu]] & \")\"","v":{"$error":"#REF!"}},{"$f":"ExportXML3_SplitTimes[[#This Row],[ControlCode]]","v":62},{"$f":"ExportXML3_SplitTimes[[#This Row],[SplitTimeSeconds]]/3600/24","v":"00:39:24"},{"$f":"COUNTIFS(ExportXML3_SplitTimes[Legenda],ExportXML3_SplitTimes[[#This Row],[Legenda]],ExportXML3_SplitTimes[Čas],\"<=\"&ExportXML3_SplitTimes[[#This Row],[Čas]])","v":536}]
["MA","Ransdorf","Vít","0140003",3212,65,2603,{"$f":"ExportXML3_SplitTimes[[#This Row],[GivenName]]&\" \"&ExportXML3_SplitTimes[[#This Row],[FamilyName]]","v":"Vít Ransdorf"},{"$f":"_xlfn.XLOOKUP(ExportXML3_SplitTimes[[#This Row],[PersonId]],#REF!,#REF!,\"-\")","v":{"$error":"#REF!"}},{"$f":"ExportXML3_SplitTimes[[#This Row],[Kategorie]] & \" - \" & ExportXML3_SplitTimes[[#This Row],[Závodník]] & \" (\" & ExportXML3_SplitTimes[[#This Row],[Číslo čipu]] & \")\"","v":{"$error":"#REF!"}},{"$f":"ExportXML3_SplitTimes[[#This Row],[ControlCode]]","v":65},{"$f":"ExportXML3_SplitTimes[[#This Row],[SplitTimeSeconds]]/3600/24","v":"00:43:23"},{"$f":"COUNTIFS(ExportXML3_SplitTimes[Legenda],ExportXML3_SplitTimes[[#This Row],[Legenda]],ExportXML3_SplitTimes[Čas],\"<=\"&ExportXML3_SplitTimes[[#This Row],[Čas]])","v":585}]
["MA","Ransdorf","Vít","0140003",3212,76,2766,{"$f":"ExportXML3_SplitTimes[[#This Row],[GivenName]]&\" \"&ExportXML3_SplitTimes[[#This Row],[FamilyName]]","v":"Vít Ransdorf"},{"$f":"_xlfn.XLOOKUP(ExportXML3_SplitTimes[[#This Row],[PersonId]],#REF!,#REF!,\"-\")","v":{"$error":"#REF!"}},{"$f":"ExportXML3_SplitTimes[[#This Row],[Kategorie]] & \" - \" & ExportXML3_SplitTimes[[#This Row],[Závodník]] & \" (\" & ExportXML3_SplitTimes[[#This Row],[Číslo čipu]] & \")\"","v":{"$error":"#REF!"}},{"$f":"ExportXML3_SplitTimes[[#This Row],[ControlCode]]","v":76},{"$f":"ExportXML3_SplitTimes[[#This Row],[SplitTimeSeconds]]/3600/24","v":"00:46:06"},{"$f":"COUNTIFS(ExportXML3_SplitTimes[Legenda],ExportXML3_SplitTimes[[#This Row],[Legenda]],ExportXML3_SplitTimes[Čas],\"<=\"&ExportXML3_SplitTimes[[#This Row],[Čas]])","v":623}]
["MA","Ransdorf","Vít","0140003",3212,71,2911,{"$f":"ExportXML3_SplitTimes[[#This Row],[GivenName]]&\" \"&ExportXML3_SplitTimes[[#This Row],[FamilyName]]","v":"Vít Ransdorf"},{"$f":"_xlfn.XLOOKUP(ExportXML3_SplitTimes[[#This Row],[PersonId]],#REF!,#REF!,\"-\")","v":{"$error":"#REF!"}},{"$f":"ExportXML3_SplitTimes[[#This Row],[Kategorie]] & \" - \" & ExportXML3_SplitTimes[[#This Row],[Závodník]] & \" (\" & ExportXML3_SplitTimes[[#This Row],[Číslo čipu]] & \")\"","v":{"$error":"#REF!"}},{"$f":"ExportXML3_SplitTimes[[#This Row],[ControlCode]]","v":71},{"$f":"ExportXML3_SplitTimes[[#This Row],[SplitTimeSeconds]]/3600/24","v":"00:48:31"},{"$f":"COUNTIFS(ExportXML3_SplitTimes[Legenda],ExportXML3_SplitTimes[[#This Row],[Legenda]],ExportXML3_SplitTimes[Čas],\"<=\"&ExportXML3_SplitTimes[[#This Row],[Čas]])","v":650}]
["MA","Ransdorf","Vít","0140003",3212,74,3052,{"$f":"ExportXML3_SplitTimes[[#This Row],[GivenName]]&\" \"&ExportXML3_SplitTimes[[#This Row],[FamilyName]]","v":"Vít Ransdorf"},{"$f":"_xlfn.XLOOKUP(ExportXML3_SplitTimes[[#This Row],[PersonId]],#REF!,#REF!,\"-\")","v":{"$error":"#REF!"}},{"$f":"ExportXML3_SplitTimes[[#This Row],[Kategorie]] & \" - \" & ExportXML3_SplitTimes[[#This Row],[Závodník]] & \" (\" & ExportXML3_SplitTimes[[#This Row],[Číslo čipu]] & \")\"","v":{"$error":"#REF!"}},{"$f":"ExportXML3_SplitTimes[[#This Row],[ControlCode]]","v":74},{"$f":"ExportXML3_SplitTimes[[#This Row],[SplitTimeSeconds]]/3600/24","v":"00:50:52"},{"$f":"COUNTIFS(ExportXML3_SplitTimes[Legenda],ExportXML3_SplitTimes[[#This Row],[Legenda]],ExportXML3_SplitTimes[Čas],\"<=\"&ExportXML3_SplitTimes[[#This Row],[Čas]])","v":673}]
["MA","Ransdorf","Vít","0140003",3212,100,3194,{"$f":"ExportXML3_SplitTimes[[#This Row],[GivenName]]&\" \"&ExportXML3_SplitTimes[[#This Row],[FamilyName]]","v":"Vít Ransdorf"},{"$f":"_xlfn.XLOOKUP(ExportXML3_SplitTimes[[#This Row],[PersonId]],#REF!,#REF!,\"-\")","v":{"$error":"#REF!"}},{"$f":"ExportXML3_SplitTimes[[#This Row],[Kategorie]] & \" - \" & ExportXML3_SplitTimes[[#This Row],[Závodník]] & \" (\" & ExportXML3_SplitTimes[[#This Row],[Číslo čipu]] & \")\"","v":{"$error":"#REF!"}},{"$f":"ExportXML3_SplitTimes[[#This Row],[ControlCode]]","v":100},{"$f":"ExportXML3_SplitTimes[[#This Row],[SplitTimeSeconds]]/3600/24","v":"00:53:14"},{"$f":"COUNTIFS(ExportXML3_SplitTimes[Legenda],ExportXML3_SplitTimes[[#This Row],[Legenda]],ExportXML3_SplitTimes[Čas],\"<=\"&ExportXML3_SplitTimes[[#This Row],[Čas]])","v":694}]
["MA","Benda","Jan","0110001",3293,93,258,{"$f":"ExportXML3_SplitTimes[[#This Row],[GivenName]]&\" \"&ExportXML3_SplitTimes[[#This Row],[FamilyName]]","v":"Jan Benda"},{"$f":"_xlfn.XLOOKUP(ExportXML3_SplitTimes[[#This Row],[PersonId]],#REF!,#REF!,\"-\")","v":{"$error":"#REF!"}},{"$f":"ExportXML3_SplitTimes[[#This Row],[Kategorie]] & \" - \" & ExportXML3_SplitTimes[[#This Row],[Závodník]] & \" (\" & ExportXML3_SplitTimes[[#This Row],[Číslo čipu]] & \")\"","v":{"$error":"#REF!"}},{"$f":"ExportXML3_SplitTimes[[#This Row],[ControlCode]]","v":93},{"$f":"ExportXML3_SplitTimes[[#This Row],[SplitTimeSeconds]]/3600/24","v":"00:04:18"},{"$f":"COUNTIFS(ExportXML3_SplitTimes[Legenda],ExportXML3_SplitTimes[[#This Row],[Legenda]],ExportXML3_SplitTimes[Čas],\"<=\"&ExportXML3_SplitTimes[[#This Row],[Čas]])","v":19}]
["MA","Benda","Jan","0110001",3293,55,468,{"$f":"ExportXML3_SplitTimes[[#This Row],[GivenName]]&\" \"&ExportXML3_SplitTimes[[#This Row],[FamilyName]]","v":"Jan Benda"},{"$f":"_xlfn.XLOOKUP(ExportXML3_SplitTimes[[#This Row],[PersonId]],#REF!,#REF!,\"-\")","v":{"$error":"#REF!"}},{"$f":"ExportXML3_SplitTimes[[#This Row],[Kategorie]] & \" - \" & ExportXML3_SplitTimes[[#This Row],[Závodník]] & \" (\" & ExportXML3_SplitTimes[[#This Row],[Číslo čipu]] & \")\"","v":{"$error":"#REF!"}},{"$f":"ExportXML3_SplitTimes[[#This Row],[ControlCode]]","v":55},{"$f":"ExportXML3_SplitTimes[[#This Row],[SplitTimeSeconds]]/3600/24","v":"00:07:48"},{"$f":"COUNTIFS(ExportXML3_SplitTimes[Legenda],ExportXML3_SplitTimes[[#This Row],[Legenda]],ExportXML3_SplitTimes[Čas],\"<=\"&ExportXML3_SplitTimes[[#This Row],[Čas]])","v":68}]
["MA","Benda","Jan","0110001",3293,54,636,{"$f":"ExportXML3_SplitTimes[[#This Row],[GivenName]]&\" \"&ExportXML3_SplitTimes[[#This Row],[FamilyName]]","v":"Jan Benda"},{"$f":"_xlfn.XLOOKUP(ExportXML3_SplitTimes[[#This Row],[PersonId]],#REF!,#REF!,\"-\")","v":{"$error":"#REF!"}},{"$f":"ExportXML3_SplitTimes[[#This Row],[Kategorie]] & \" - \" & ExportXML3_SplitTimes[[#This Row],[Závodník]] & \" (\" & ExportXML3_SplitTimes[[#This Row],[Číslo čipu]] & \")\"","v":{"$error":"#REF!"}},{"$f":"ExportXML3_SplitTimes[[#This Row],[ControlCode]]","v":54},{"$f":"ExportXML3_SplitTimes[[#This Row],[SplitTimeSeconds]]/3600/24","v":"00:10:36"},{"$f":"COUNTIFS(ExportXML3_SplitTimes[Legenda],ExportXML3_SplitTimes[[#This Row],[Legenda]],ExportXML3_SplitTimes[Čas],\"<=\"&ExportXML3_SplitTimes[[#This Row],[Čas]])","v":122}]
["MA","Benda","Jan","0110001",3293,53,740,{"$f":"ExportXML3_SplitTimes[[#This Row],[GivenName]]&\" \"&ExportXML3_SplitTimes[[#This Row],[FamilyName]]","v":"Jan Benda"},{"$f":"_xlfn.XLOOKUP(ExportXML3_SplitTimes[[#This Row],[PersonId]],#REF!,#REF!,\"-\")","v":{"$error":"#REF!"}},{"$f":"ExportXML3_SplitTimes[[#This Row],[Kategorie]] & \" - \" & ExportXML3_SplitTimes[[#This Row],[Závodník]] & \" (\" & ExportXML3_SplitTimes[[#This Row],[Číslo čipu]] & \")\"","v":{"$error":"#REF!"}},{"$f":"ExportXML3_SplitTimes[[#This Row],[ControlCode]]","v":53},{"$f":"ExportXML3_SplitTimes[[#This Row],[SplitTimeSeconds]]/3600/24","v":"00:12:20"},{"$f":"COUNTIFS(ExportXML3_SplitTimes[Legenda],ExportXML3_SplitTimes[[#This Row],[Legenda]],ExportXML3_SplitTimes[Čas],\"<=\"&ExportXML3_SplitTimes[[#This Row],[Čas]])","v":154}]
["MA","Benda","Jan","0110001",3293,50,933,{"$f":"ExportXML3_SplitTimes[[#This Row],[GivenName]]&\" \"&ExportXML3_SplitTimes[[#This Row],[FamilyName]]","v":"Jan Benda"},{"$f":"_xlfn.XLOOKUP(ExportXML3_SplitTimes[[#This Row],[PersonId]],#REF!,#REF!,\"-\")","v":{"$error":"#REF!"}},{"$f":"ExportXML3_SplitTimes[[#This Row],[Kategorie]] & \" - \" & ExportXML3_SplitTimes[[#This Row],[Závodník]] & \" (\" & ExportXML3_SplitTimes[[#This Row],[Číslo čipu]] & \")\"","v":{"$error":"#REF!"}},{"$f":"ExportXML3_SplitTimes[[#This Row],[ControlCode]]","v":50},{"$f":"ExportXML3_SplitTimes[[#This Row],[SplitTimeSeconds]]/3600/24","v":"00:15:33"},{"$f":"COUNTIFS(ExportXML3_SplitTimes[Legenda],ExportXML3_SplitTimes[[#This Row],[Legenda]],ExportXML3_SplitTimes[Čas],\"<=\"&ExportXML3_SplitTimes[[#This Row],[Čas]])","v":203}]
["MA","Benda","Jan","0110001",3293,49,992,{"$f":"ExportXML3_SplitTimes[[#This Row],[GivenName]]&\" \"&ExportXML3_SplitTimes[[#This Row],[FamilyName]]","v":"Jan Benda"},{"$f":"_xlfn.XLOOKUP(ExportXML3_SplitTimes[[#This Row],[PersonId]],#REF!,#REF!,\"-\")","v":{"$error":"#REF!"}},{"$f":"ExportXML3_SplitTimes[[#This Row],[Kategorie]] & \" - \" & ExportXML3_SplitTimes[[#This Row],[Závodník]] & \" (\" & ExportXML3_SplitTimes[[#This Row],[Číslo čipu]] & \")\"","v":{"$error":"#REF!"}},{"$f":"ExportXML3_SplitTimes[[#This Row],[ControlCode]]","v":49},{"$f":"ExportXML3_SplitTimes[[#This Row],[SplitTimeSeconds]]/3600/24","v":"00:16:32"},{"$f":"COUNTIFS(ExportXML3_SplitTimes[Legenda],ExportXML3_SplitTimes[[#This Row],[Legenda]],ExportXML3_SplitTimes[Čas],\"<=\"&ExportXML3_SplitTimes[[#This Row],[Čas]])","v":223}]
["MA","Benda","Jan","0110001",3293,56,1131,{"$f":"ExportXML3_SplitTimes[[#This Row],[GivenName]]&\" \"&ExportXML3_SplitTimes[[#This Row],[FamilyName]]","v":"Jan Benda"},{"$f":"_xlfn.XLOOKUP(ExportXML3_SplitTimes[[#This Row],[PersonId]],#REF!,#REF!,\"-\")","v":{"$error":"#REF!"}},{"$f":"ExportXML3_SplitTimes[[#This Row],[Kategorie]] & \" - \" & ExportXML3_SplitTimes[[#This Row],[Závodník]] & \" (\" & ExportXML3_SplitTimes[[#This Row],[Číslo čipu]] & \")\"","v":{"$error":"#REF!"}},{"$f":"ExportXML3_SplitTimes[[#This Row],[ControlCode]]","v":56},{"$f":"ExportXML3_SplitTimes[[#This Row],[SplitTimeSeconds]]/3600/24","v":"00:18:51"},{"$f":"COUNTIFS(ExportXML3_SplitTimes[Legenda],ExportXML3_SplitTimes[[#This Row],[Legenda]],ExportXML3_SplitTimes[Čas],\"<=\"&ExportXML3_SplitTimes[[#This Row],[Čas]])","v":253}]
["MA","Benda","Jan","0110001",3293,42,1398,{"$f":"ExportXML3_SplitTimes[[#This Row],[GivenName]]&\" \"&ExportXML3_SplitTimes[[#This Row],[FamilyName]]","v":"Jan Benda"},{"$f":"_xlfn.XLOOKUP(ExportXML3_SplitTimes[[#This Row],[PersonId]],#REF!,#REF!,\"-\")","v":{"$error":"#REF!"}},{"$f":"ExportXML3_SplitTimes[[#This Row],[Kategorie]] & \" - \" & ExportXML3_SplitTimes[[#This Row],[Závodník]] & \" (\" & ExportXML3_SplitTimes[[#This Row],[Číslo čipu]] & \")\"","v":{"$error":"#REF!"}},{"$f":"ExportXML3_SplitTimes[[#This Row],[ControlCode]]","v":42},{"$f":"ExportXML3_SplitTimes[[#This Row],[SplitTimeSeconds]]/3600/24","v":"00:23:18"},{"$f":"COUNTIFS(ExportXML3_SplitTimes[Legenda],ExportXML3_SplitTimes[[#This Row],[Legenda]],ExportXML3_SplitTimes[Čas],\"<=\"&ExportXML3_SplitTimes[[#This Row],[Čas]])","v":315}]
["MA","Benda","Jan","0110001",3293,47,1548,{"$f":"ExportXML3_SplitTimes[[#This Row],[GivenName]]&\" \"&ExportXML3_SplitTimes[[#This Row],[FamilyName]]","v":"Jan Benda"},{"$f":"_xlfn.XLOOKUP(ExportXML3_SplitTimes[[#This Row],[PersonId]],#REF!,#REF!,\"-\")","v":{"$error":"#REF!"}},{"$f":"ExportXML3_SplitTimes[[#This Row],[Kategorie]] & \" - \" & ExportXML3_SplitTimes[[#This Row],[Závodník]] & \" (\" & ExportXML3_SplitTimes[[#This Row],[Číslo čipu]] & \")\"","v":{"$error":"#REF!"}},{"$f":"ExportXML3_SplitTimes[[#This Row],[ControlCode]]","v":47},{"$f":"ExportXML3_SplitTimes[[#This Row],[SplitTimeSeconds]]/3600/24","v":"00:25:48"},{"$f":"COUNTIFS(ExportXML3_SplitTimes[Legenda],ExportXML3_SplitTimes[[#This Row],[Legenda]],ExportXML3_SplitTimes[Čas],\"<=\"&ExportXML3_SplitTimes[[#This Row],[Čas]])","v":348}]
["MA","Benda","Jan","0110001",3293,60,1677,{"$f":"ExportXML3_SplitTimes[[#This Row],[GivenName]]&\" \"&ExportXML3_SplitTimes[[#This Row],[FamilyName]]","v":"Jan Benda"},{"$f":"_xlfn.XLOOKUP(ExportXML3_SplitTimes[[#This Row],[PersonId]],#REF!,#REF!,\"-\")","v":{"$error":"#REF!"}},{"$f":"ExportXML3_SplitTimes[[#This Row],[Kategorie]] & \" - \" & ExportXML3_SplitTimes[[#This Row],[Závodník]] & \" (\" & ExportXML3_SplitTimes[[#This Row],[Číslo čipu]] & \")\"","v":{"$error":"#REF!"}},{"$f":"ExportXML3_SplitTimes[[#This Row],[ControlCode]]","v":60},{"$f":"ExportXML3_SplitTimes[[#This Row],[SplitTimeSeconds]]/3600/24","v":"00:27:57"},{"$f":"COUNTIFS(ExportXML3_SplitTimes[Legenda],ExportXML3_SplitTimes[[#This Row],[Legenda]],ExportXML3_SplitTimes[Čas],\"<=\"&ExportXML3_SplitTimes[[#This Row],[Čas]])","v":376}]
["MA","Benda","Jan","0110001",3293,61,1763,{"$f":"ExportXML3_SplitTimes[[#This Row],[GivenName]]&\" \"&ExportXML3_SplitTimes[[#This Row],[FamilyName]]","v":"Jan Benda"},{"$f":"_xlfn.XLOOKUP(ExportXML3_SplitTimes[[#This Row],[PersonId]],#REF!,#REF!,\"-\")","v":{"$error":"#REF!"}},{"$f":"ExportXML3_SplitTimes[[#This Row],[Kategorie]] & \" - \" & ExportXML3_SplitTimes[[#This Row],[Závodník]] & \" (\" & ExportXML3_SplitTimes[[#This Row],[Číslo čipu]] & \")\"","v":{"$error":"#REF!"}},{"$f":"ExportXML3_SplitTimes[[#This Row],[ControlCode]]","v":61},{"$f":"ExportXML3_SplitTimes[[#This Row],[SplitTimeSeconds]]/3600/24","v":"00:29:23"},{"$f":"COUNTIFS(ExportXML3_SplitTimes[Legenda],ExportXML3_SplitTimes[[#This Row],[Legenda]],ExportXML3_SplitTimes[Čas],\"<=\"&ExportXML3_SplitTimes[[#This Row],[Čas]])","v":401}]
["MA","Benda","Jan","0110001",3293,80,1955,{"$f":"ExportXML3_SplitTimes[[#This Row],[GivenName]]&\" \"&ExportXML3_SplitTimes[[#This Row],[FamilyName]]","v":"Jan Benda"},{"$f":"_xlfn.XLOOKUP(ExportXML3_SplitTimes[[#This Row],[PersonId]],#REF!,#REF!,\"-\")","v":{"$error":"#REF!"}},{"$f":"ExportXML3_SplitTimes[[#This Row],[Kategorie]] & \" - \" & ExportXML3_SplitTimes[[#This Row],[Závodník]] & \" (\" & ExportXML3_SplitTimes[[#This Row],[Číslo čipu]] & \")\"","v":{"$error":"#REF!"}},{"$f":"ExportXML3_SplitTimes[[#This Row],[ControlCode]]","v":80},{"$f":"ExportXML3_SplitTimes[[#This Row],[SplitTimeSeconds]]/3600/24","v":"00:32:35"},{"$f":"COUNTIFS(ExportXML3_SplitTimes[Legenda],ExportXML3_SplitTimes[[#This Row],[Legenda]],ExportXML3_SplitTimes[Čas],\"<=\"&ExportXML3_SplitTimes[[#This Row],[Čas]])","v":450}]
["MA","Benda","Jan","0110001",3293,62,2221,{"$f":"ExportXML3_SplitTimes[[#This Row],[GivenName]]&\" \"&ExportXML3_SplitTimes[[#This Row],[FamilyName]]","v":"Jan Benda"},{"$f":"_xlfn.XLOOKUP(ExportXML3_SplitTimes[[#This Row],[PersonId]],#REF!,#REF!,\"-\")","v":{"$error":"#REF!"}},{"$f":"ExportXML3_SplitTimes[[#This Row],[Kategorie]] & \" - \" & ExportXML3_SplitTimes[[#This Row],[Závodník]] & \" (\" & ExportXML3_SplitTimes[[#This Row],[Číslo čipu]] & \")\"","v":{"$error":"#REF!"}},{"$f":"ExportXML3_SplitTimes[[#This Row],[ControlCode]]","v":62},{"$f":"ExportXML3_SplitTimes[[#This Row],[SplitTimeSeconds]]/3600/24","v":"00:37:01"},{"$f":"COUNTIFS(ExportXML3_SplitTimes[Legenda],ExportXML3_SplitTimes[[#This Row],[Legenda]],ExportXML3_SplitTimes[Čas],\"<=\"&ExportXML3_SplitTimes[[#This Row],[Čas]])","v":503}]
["MA","Benda","Jan","0110001",3293,65,2771,{"$f":"ExportXML3_SplitTimes[[#This Row],[GivenName]]&\" \"&ExportXML3_SplitTimes[[#This Row],[FamilyName]]","v":"Jan Benda"},{"$f":"_xlfn.XLOOKUP(ExportXML3_SplitTimes[[#This Row],[PersonId]],#REF!,#REF!,\"-\")","v":{"$error":"#REF!"}},{"$f":"ExportXML3_SplitTimes[[#This Row],[Kategorie]] & \" - \" & ExportXML3_SplitTimes[[#This Row],[Závodník]] & \" (\" & ExportXML3_SplitTimes[[#This Row],[Číslo čipu]] & \")\"","v":{"$error":"#REF!"}},{"$f":"ExportXML3_SplitTimes[[#This Row],[ControlCode]]","v":65},{"$f":"ExportXML3_SplitTimes[[#This Row],[SplitTimeSeconds]]/3600/24","v":"00:46:11"},{"$f":"COUNTIFS(ExportXML3_SplitTimes[Legenda],ExportXML3_SplitTimes[[#This Row],[Legenda]],ExportXML3_SplitTimes[Čas],\"<=\"&ExportXML3_SplitTimes[[#This Row],[Čas]])","v":625}]
["MA","Benda","Jan","0110001",3293,76,2887,{"$f":"ExportXML3_SplitTimes[[#This Row],[GivenName]]&\" \"&ExportXML3_SplitTimes[[#This Row],[FamilyName]]","v":"Jan Benda"},{"$f":"_xlfn.XLOOKUP(ExportXML3_SplitTimes[[#This Row],[PersonId]],#REF!,#REF!,\"-\")","v":{"$error":"#REF!"}},{"$f":"ExportXML3_SplitTimes[[#This Row],[Kategorie]] & \" - \" & ExportXML3_SplitTimes[[#This Row],[Závodník]] & \" (\" & ExportXML3_SplitTimes[[#This Row],[Číslo čipu]] & \")\"","v":{"$error":"#REF!"}},{"$f":"ExportXML3_SplitTimes[[#This Row],[ControlCode]]","v":76},{"$f":"ExportXML3_SplitTimes[[#This Row],[SplitTimeSeconds]]/3600/24","v":"00:48:07"},{"$f":"COUNTIFS(ExportXML3_SplitTimes[Legenda],ExportXML3_SplitTimes[[#This Row],[Legenda]],ExportXML3_SplitTimes[Čas],\"<=\"&ExportXML3_SplitTimes[[#This Row],[Čas]])","v":645}]
["MA","Benda","Jan","0110001",3293,71,2993,{"$f":"ExportXML3_SplitTimes[[#This Row],[GivenName]]&\" \"&ExportXML3_SplitTimes[[#This Row],[FamilyName]]","v":"Jan Benda"},{"$f":"_xlfn.XLOOKUP(ExportXML3_SplitTimes[[#This Row],[PersonId]],#REF!,#REF!,\"-\")","v":{"$error":"#REF!"}},{"$f":"ExportXML3_SplitTimes[[#This Row],[Kategorie]] & \" - \" & ExportXML3_SplitTimes[[#This Row],[Závodník]] & \" (\" & ExportXML3_SplitTimes[[#This Row],[Číslo čipu]] & \")\"","v":{"$error":"#REF!"}},{"$f":"ExportXML3_SplitTimes[[#This Row],[ControlCode]]","v":71},{"$f":"ExportXML3_SplitTimes[[#This Row],[SplitTimeSeconds]]/3600/24","v":"00:49:53"},{"$f":"COUNTIFS(ExportXML3_SplitTimes[Legenda],ExportXML3_SplitTimes[[#This Row],[Legenda]],ExportXML3_SplitTimes[Čas],\"<=\"&ExportXML3_SplitTimes[[#This Row],[Čas]])","v":665}]
["MA","Benda","Jan","0110001",3293,74,3122,{"$f":"ExportXML3_SplitTimes[[#This Row],[GivenName]]&\" \"&ExportXML3_SplitTimes[[#This Row],[FamilyName]]","v":"Jan Benda"},{"$f":"_xlfn.XLOOKUP(ExportXML3_SplitTimes[[#This Row],[PersonId]],#REF!,#REF!,\"-\")","v":{"$error":"#REF!"}},{"$f":"ExportXML3_SplitTimes[[#This Row],[Kategorie]] & \" - \" & ExportXML3_SplitTimes[[#This Row],[Závodník]] & \" (\" & ExportXML3_SplitTimes[[#This Row],[Číslo čipu]] & \")\"","v":{"$error":"#REF!"}},{"$f":"ExportXML3_SplitTimes[[#This Row],[ControlCode]]","v":74},{"$f":"ExportXML3_SplitTimes[[#This Row],[SplitTimeSeconds]]/3600/24","v":"00:52:02"},{"$f":"COUNTIFS(ExportXML3_SplitTimes[Legenda],ExportXML3_SplitTimes[[#This Row],[Legenda]],ExportXML3_SplitTimes[Čas],\"<=\"&ExportXML3_SplitTimes[[#This Row],[Čas]])","v":687}]
["MA","Benda","Jan","0110001",3293,100,3278,{"$f":"ExportXML3_SplitTimes[[#This Row],[GivenName]]&\" \"&ExportXML3_SplitTimes[[#This Row],[FamilyName]]","v":"Jan Benda"},{"$f":"_xlfn.XLOOKUP(ExportXML3_SplitTimes[[#This Row],[PersonId]],#REF!,#REF!,\"-\")","v":{"$error":"#REF!"}},{"$f":"ExportXML3_SplitTimes[[#This Row],[Kategorie]] & \" - \" & ExportXML3_SplitTimes[[#This Row],[Závodník]] & \" (\" & ExportXML3_SplitTimes[[#This Row],[Číslo čipu]] & \")\"","v":{"$error":"#REF!"}},{"$f":"ExportXML3_SplitTimes[[#This Row],[ControlCode]]","v":100},{"$f":"ExportXML3_SplitTimes[[#This Row],[SplitTimeSeconds]]/3600/24","v":"00:54:38"},{"$f":"COUNTIFS(ExportXML3_SplitTimes[Legenda],ExportXML3_SplitTimes[[#This Row],[Legenda]],ExportXML3_SplitTimes[Čas],\"<=\"&ExportXML3_SplitTimes[[#This Row],[Čas]])","v":706}]
["MA","Janeček","Ondřej","0010001",3360,93,334,{"$f":"ExportXML3_SplitTimes[[#This Row],[GivenName]]&\" \"&ExportXML3_SplitTimes[[#This Row],[FamilyName]]","v":"Ondřej Janeček"},{"$f":"_xlfn.XLOOKUP(ExportXML3_SplitTimes[[#This Row],[PersonId]],#REF!,#REF!,\"-\")","v":{"$error":"#REF!"}},{"$f":"ExportXML3_SplitTimes[[#This Row],[Kategorie]] & \" - \" & ExportXML3_SplitTimes[[#This Row],[Závodník]] & \" (\" & ExportXML3_SplitTimes[[#This Row],[Číslo čipu]] & \")\"","v":{"$error":"#REF!"}},{"$f":"ExportXML3_SplitTimes[[#This Row],[ControlCode]]","v":93},{"$f":"ExportXML3_SplitTimes[[#This Row],[SplitTimeSeconds]]/3600/24","v":"00:05:34"},{"$f":"COUNTIFS(ExportXML3_SplitTimes[Legenda],ExportXML3_SplitTimes[[#This Row],[Legenda]],ExportXML3_SplitTimes[Čas],\"<=\"&ExportXML3_SplitTimes[[#This Row],[Čas]])","v":32}]
["MA","Janeček","Ondřej","0010001",3360,55,650,{"$f":"ExportXML3_SplitTimes[[#This Row],[GivenName]]&\" \"&ExportXML3_SplitTimes[[#This Row],[FamilyName]]","v":"Ondřej Janeček"},{"$f":"_xlfn.XLOOKUP(ExportXML3_SplitTimes[[#This Row],[PersonId]],#REF!,#REF!,\"-\")","v":{"$error":"#REF!"}},{"$f":"ExportXML3_SplitTimes[[#This Row],[Kategorie]] & \" - \" & ExportXML3_SplitTimes[[#This Row],[Závodník]] & \" (\" & ExportXML3_SplitTimes[[#This Row],[Číslo čipu]] & \")\"","v":{"$error":"#REF!"}},{"$f":"ExportXML3_SplitTimes[[#This Row],[ControlCode]]","v":55},{"$f":"ExportXML3_SplitTimes[[#This Row],[SplitTimeSeconds]]/3600/24","v":"00:10:50"},{"$f":"COUNTIFS(ExportXML3_SplitTimes[Legenda],ExportXML3_SplitTimes[[#This Row],[Legenda]],ExportXML3_SplitTimes[Čas],\"<=\"&ExportXML3_SplitTimes[[#This Row],[Čas]])","v":128}]
["MA","Janeček","Ondřej","0010001",3360,54,717,{"$f":"ExportXML3_SplitTimes[[#This Row],[GivenName]]&\" \"&ExportXML3_SplitTimes[[#This Row],[FamilyName]]","v":"Ondřej Janeček"},{"$f":"_xlfn.XLOOKUP(ExportXML3_SplitTimes[[#This Row],[PersonId]],#REF!,#REF!,\"-\")","v":{"$error":"#REF!"}},{"$f":"ExportXML3_SplitTimes[[#This Row],[Kategorie]] & \" - \" & ExportXML3_SplitTimes[[#This Row],[Závodník]] & \" (\" & ExportXML3_SplitTimes[[#This Row],[Číslo čipu]] & \")\"","v":{"$error":"#REF!"}},{"$f":"ExportXML3_SplitTimes[[#This Row],[ControlCode]]","v":54},{"$f":"ExportXML3_SplitTimes[[#This Row],[SplitTimeSeconds]]/3600/24","v":"00:11:57"},{"$f":"COUNTIFS(ExportXML3_SplitTimes[Legenda],ExportXML3_SplitTimes[[#This Row],[Legenda]],ExportXML3_SplitTimes[Čas],\"<=\"&ExportXML3_SplitTimes[[#This Row],[Čas]])","v":147}]
["MA","Janeček","Ondřej","0010001",3360,53,849,{"$f":"ExportXML3_SplitTimes[[#This Row],[GivenName]]&\" \"&ExportXML3_SplitTimes[[#This Row],[FamilyName]]","v":"Ondřej Janeček"},{"$f":"_xlfn.XLOOKUP(ExportXML3_SplitTimes[[#This Row],[PersonId]],#REF!,#REF!,\"-\")","v":{"$error":"#REF!"}},{"$f":"ExportXML3_SplitTimes[[#This Row],[Kategorie]] & \" - \" & ExportXML3_SplitTimes[[#This Row],[Závodník]] & \" (\" & ExportXML3_SplitTimes[[#This Row],[Číslo čipu]] & \")\"","v":{"$error":"#REF!"}},{"$f":"ExportXML3_SplitTimes[[#This Row],[ControlCode]]","v":53},{"$f":"ExportXML3_SplitTimes[[#This Row],[SplitTimeSeconds]]/3600/24","v":"00:14:09"},{"$f":"COUNTIFS(ExportXML3_SplitTimes[Legenda],ExportXML3_SplitTimes[[#This Row],[Legenda]],ExportXML3_SplitTimes[Čas],\"<=\"&ExportXML3_SplitTimes[[#This Row],[Čas]])","v":177}]
["MA","Janeček","Ondřej","0010001",3360,50,1045,{"$f":"ExportXML3_SplitTimes[[#This Row],[GivenName]]&\" \"&ExportXML3_SplitTimes[[#This Row],[FamilyName]]","v":"Ondřej Janeček"},{"$f":"_xlfn.XLOOKUP(ExportXML3_SplitTimes[[#This Row],[PersonId]],#REF!,#REF!,\"-\")","v":{"$error":"#REF!"}},{"$f":"ExportXML3_SplitTimes[[#This Row],[Kategorie]] & \" - \" & ExportXML3_SplitTimes[[#This Row],[Závodník]] & \" (\" & ExportXML3_SplitTimes[[#This Row],[Číslo čipu]] & \")\"","v":{"$error":"#REF!"}},{"$f":"ExportXML3_SplitTimes[[#This Row],[ControlCode]]","v":50},{"$f":"ExportXML3_SplitTimes[[#This Row],[SplitTimeSeconds]]/3600/24","v":"00:17:25"},{"$f":"COUNTIFS(ExportXML3_SplitTimes[Legenda],ExportXML3_SplitTimes[[#This Row],[Legenda]],ExportXML3_SplitTimes[Čas],\"<=\"&ExportXML3_SplitTimes[[#This Row],[Čas]])","v":234}]
["MA","Janeček","Ondřej","0010001",3360,49,1113,{"$f":"ExportXML3_SplitTimes[[#This Row],[GivenName]]&\" \"&ExportXML3_SplitTimes[[#This Row],[FamilyName]]","v":"Ondřej Janeček"},{"$f":"_xlfn.XLOOKUP(ExportXML3_SplitTimes[[#This Row],[PersonId]],#REF!,#REF!,\"-\")","v":{"$error":"#REF!"}},{"$f":"ExportXML3_SplitTimes[[#This Row],[Kategorie]] & \" - \" & ExportXML3_SplitTimes[[#This Row],[Závodník]] & \" (\" & ExportXML3_SplitTimes[[#This Row],[Číslo čipu]] & \")\"","v":{"$error":"#REF!"}},{"$f":"ExportXML3_SplitTimes[[#This Row],[ControlCode]]","v":49},{"$f":"ExportXML3_SplitTimes[[#This Row],[SplitTimeSeconds]]/3600/24","v":"00:18:33"},{"$f":"COUNTIFS(ExportXML3_SplitTimes[Legenda],ExportXML3_SplitTimes[[#This Row],[Legenda]],ExportXML3_SplitTimes[Čas],\"<=\"&ExportXML3_SplitTimes[[#This Row],[Čas]])","v":246}]
["MA","Janeček","Ondřej","0010001",3360,56,1294,{"$f":"ExportXML3_SplitTimes[[#This Row],[GivenName]]&\" \"&ExportXML3_SplitTimes[[#This Row],[FamilyName]]","v":"Ondřej Janeček"},{"$f":"_xlfn.XLOOKUP(ExportXML3_SplitTimes[[#This Row],[PersonId]],#REF!,#REF!,\"-\")","v":{"$error":"#REF!"}},{"$f":"ExportXML3_SplitTimes[[#This Row],[Kategorie]] & \" - \" & ExportXML3_SplitTimes[[#This Row],[Závodník]] & \" (\" & ExportXML3_SplitTimes[[#This Row],[Číslo čipu]] & \")\"","v":{"$error":"#REF!"}},{"$f":"ExportXML3_SplitTimes[[#This Row],[ControlCode]]","v":56},{"$f":"ExportXML3_SplitTimes[[#This Row],[SplitTimeSeconds]]/3600/24","v":"00:21:34"},{"$f":"COUNTIFS(ExportXML3_SplitTimes[Legenda],ExportXML3_SplitTimes[[#This Row],[Legenda]],ExportXML3_SplitTimes[Čas],\"<=\"&ExportXML3_SplitTimes[[#This Row],[Čas]])","v":293}]
["MA","Janeček","Ondřej","0010001",3360,42,1719,{"$f":"ExportXML3_SplitTimes[[#This Row],[GivenName]]&\" \"&ExportXML3_SplitTimes[[#This Row],[FamilyName]]","v":"Ondřej Janeček"},{"$f":"_xlfn.XLOOKUP(ExportXML3_SplitTimes[[#This Row],[PersonId]],#REF!,#REF!,\"-\")","v":{"$error":"#REF!"}},{"$f":"ExportXML3_SplitTimes[[#This Row],[Kategorie]] & \" - \" & ExportXML3_SplitTimes[[#This Row],[Závodník]] & \" (\" & ExportXML3_SplitTimes[[#This Row],[Číslo čipu]] & \")\"","v":{"$error":"#REF!"}},{"$f":"ExportXML3_SplitTimes[[#This Row],[ControlCode]]","v":42},{"$f":"ExportXML3_SplitTimes[[#This Row],[SplitTimeSeconds]]/3600/24","v":"00:28:39"},{"$f":"COUNTIFS(ExportXML3_SplitTimes[Legenda],ExportXML3_SplitTimes[[#This Row],[Legenda]],ExportXML3_SplitTimes[Čas],\"<=\"&ExportXML3_SplitTimes[[#This Row],[Čas]])","v":390}]
["MA","Janeček","Ondřej","0010001",3360,47,1889,{"$f":"ExportXML3_SplitTimes[[#This Row],[GivenName]]&\" \"&ExportXML3_SplitTimes[[#This Row],[FamilyName]]","v":"Ondřej Janeček"},{"$f":"_xlfn.XLOOKUP(ExportXML3_SplitTimes[[#This Row],[PersonId]],#REF!,#REF!,\"-\")","v":{"$error":"#REF!"}},{"$f":"ExportXML3_SplitTimes[[#This Row],[Kategorie]] & \" - \" & ExportXML3_SplitTimes[[#This Row],[Závodník]] & \" (\" & ExportXML3_SplitTimes[[#This Row],[Číslo čipu]] & \")\"","v":{"$error":"#REF!"}},{"$f":"ExportXML3_SplitTimes[[#This Row],[ControlCode]]","v":47},{"$f":"ExportXML3_SplitTimes[[#This Row],[SplitTimeSeconds]]/3600/24","v":"00:31:29"},{"$f":"COUNTIFS(ExportXML3_SplitTimes[Legenda],ExportXML3_SplitTimes[[#This Row],[Legenda]],ExportXML3_SplitTimes[Čas],\"<=\"&ExportXML3_SplitTimes[[#This Row],[Čas]])","v":433}]
["MA","Janeček","Ondřej","0010001",3360,60,2026,{"$f":"ExportXML3_SplitTimes[[#This Row],[GivenName]]&\" \"&ExportXML3_SplitTimes[[#This Row],[FamilyName]]","v":"Ondřej Janeček"},{"$f":"_xlfn.XLOOKUP(ExportXML3_SplitTimes[[#This Row],[PersonId]],#REF!,#REF!,\"-\")","v":{"$error":"#REF!"}},{"$f":"ExportXML3_SplitTimes[[#This Row],[Kategorie]] & \" - \" & ExportXML3_SplitTimes[[#This Row],[Závodník]] & \" (\" & ExportXML3_SplitTimes[[#This Row],[Číslo čipu]] & \")\"","v":{"$error":"#REF!"}},{"$f":"ExportXML3_SplitTimes[[#This Row],[ControlCode]]","v":60},{"$f":"ExportXML3_SplitTimes[[#This Row],[SplitTimeSeconds]]/3600/24","v":"00:33:46"},{"$f":"COUNTIFS(ExportXML3_SplitTimes[Legenda],ExportXML3_SplitTimes[[#This Row],[Legenda]],ExportXML3_SplitTimes[Čas],\"<=\"&ExportXML3_SplitTimes[[#This Row],[Čas]])","v":468}]
["MA","Janeček","Ondřej","0010001",3360,61,2147,{"$f":"ExportXML3_SplitTimes[[#This Row],[GivenName]]&\" \"&ExportXML3_SplitTimes[[#This Row],[FamilyName]]","v":"Ondřej Janeček"},{"$f":"_xlfn.XLOOKUP(ExportXML3_SplitTimes[[#This Row],[PersonId]],#REF!,#REF!,\"-\")","v":{"$error":"#REF!"}},{"$f":"ExportXML3_SplitTimes[[#This Row],[Kategorie]] & \" - \" & ExportXML3_SplitTimes[[#This Row],[Závodník]] & \" (\" & ExportXML3_SplitTimes[[#This Row],[Číslo čipu]] & \")\"","v":{"$error":"#REF!"}},{"$f":"ExportXML3_SplitTimes[[#This Row],[ControlCode]]","v":61},{"$f":"ExportXML3_SplitTimes[[#This Row],[SplitTimeSeconds]]/3600/24","v":"00:35:47"},{"$f":"COUNTIFS(ExportXML3_SplitTimes[Legenda],ExportXML3_SplitTimes[[#This Row],[Legenda]],ExportXML3_SplitTimes[Čas],\"<=\"&ExportXML3_SplitTimes[[#This Row],[Čas]])","v":488}]
["MA","Janeček","Ondřej","0010001",3360,80,2325,{"$f":"ExportXML3_SplitTimes[[#This Row],[GivenName]]&\" \"&ExportXML3_SplitTimes[[#This Row],[FamilyName]]","v":"Ondřej Janeček"},{"$f":"_xlfn.XLOOKUP(ExportXML3_SplitTimes[[#This Row],[PersonId]],#REF!,#REF!,\"-\")","v":{"$error":"#REF!"}},{"$f":"ExportXML3_SplitTimes[[#This Row],[Kategorie]] & \" - \" & ExportXML3_SplitTimes[[#This Row],[Závodník]] & \" (\" & ExportXML3_SplitTimes[[#This Row],[Číslo čipu]] & \")\"","v":{"$error":"#REF!"}},{"$f":"ExportXML3_SplitTimes[[#This Row],[ControlCode]]","v":80},{"$f":"ExportXML3_SplitTimes[[#This Row],[SplitTimeSeconds]]/3600/24","v":"00:38:45"},{"$f":"COUNTIFS(ExportXML3_SplitTimes[Legenda],ExportXML3_SplitTimes[[#This Row],[Legenda]],ExportXML3_SplitTimes[Čas],\"<=\"&ExportXML3_SplitTimes[[#This Row],[Čas]])","v":528}]
["MA","Janeček","Ondřej","0010001",3360,62,2606,{"$f":"ExportXML3_SplitTimes[[#This Row],[GivenName]]&\" \"&ExportXML3_SplitTimes[[#This Row],[FamilyName]]","v":"Ondřej Janeček"},{"$f":"_xlfn.XLOOKUP(ExportXML3_SplitTimes[[#This Row],[PersonId]],#REF!,#REF!,\"-\")","v":{"$error":"#REF!"}},{"$f":"ExportXML3_SplitTimes[[#This Row],[Kategorie]] & \" - \" & ExportXML3_SplitTimes[[#This Row],[Závodník]] & \" (\" & ExportXML3_SplitTimes[[#This Row],[Číslo čipu]] & \")\"","v":{"$error":"#REF!"}},{"$f":"ExportXML3_SplitTimes[[#This Row],[ControlCode]]","v":62},{"$f":"ExportXML3_SplitTimes[[#This Row],[SplitTimeSeconds]]/3600/24","v":"00:43:26"},{"$f":"COUNTIFS(ExportXML3_SplitTimes[Legenda],ExportXML3_SplitTimes[[#This Row],[Legenda]],ExportXML3_SplitTimes[Čas],\"<=\"&ExportXML3_SplitTimes[[#This Row],[Čas]])","v":586}]
["MA","Janeček","Ondřej","0010001",3360,65,2821,{"$f":"ExportXML3_SplitTimes[[#This Row],[GivenName]]&\" \"&ExportXML3_SplitTimes[[#This Row],[FamilyName]]","v":"Ondřej Janeček"},{"$f":"_xlfn.XLOOKUP(ExportXML3_SplitTimes[[#This Row],[PersonId]],#REF!,#REF!,\"-\")","v":{"$error":"#REF!"}},{"$f":"ExportXML3_SplitTimes[[#This Row],[Kategorie]] & \" - \" & ExportXML3_SplitTimes[[#This Row],[Závodník]] & \" (\" & ExportXML3_SplitTimes[[#This Row],[Číslo čipu]] & \")\"","v":{"$error":"#REF!"}},{"$f":"ExportXML3_SplitTimes[[#This Row],[ControlCode]]","v":65},{"$f":"ExportXML3_SplitTimes[[#This Row],[SplitTimeSeconds]]/3600/24","v":"00:47:01"},{"$f":"COUNTIFS(ExportXML3_SplitTimes[Legenda],ExportXML3_SplitTimes[[#This Row],[Legenda]],ExportXML3_SplitTimes[Čas],\"<=\"&ExportXML3_SplitTimes[[#This Row],[Čas]])","v":633}]
["MA","Janeček","Ondřej","0010001",3360,76,2941,{"$f":"ExportXML3_SplitTimes[[#This Row],[GivenName]]&\" \"&ExportXML3_SplitTimes[[#This Row],[FamilyName]]","v":"Ondřej Janeček"},{"$f":"_xlfn.XLOOKUP(ExportXML3_SplitTimes[[#This Row],[PersonId]],#REF!,#REF!,\"-\")","v":{"$error":"#REF!"}},{"$f":"ExportXML3_SplitTimes[[#This Row],[Kategorie]] & \" - \" & ExportXML3_SplitTimes[[#This Row],[Závodník]] & \" (\" & ExportXML3_SplitTimes[[#This Row],[Číslo čipu]] & \")\"","v":{"$error":"#REF!"}},{"$f":"ExportXML3_SplitTimes[[#This Row],[ControlCode]]","v":76},{"$f":"ExportXML3_SplitTimes[[#This Row],[SplitTimeSeconds]]/3600/24","v":"00:49:01"},{"$f":"COUNTIFS(ExportXML3_SplitTimes[Legenda],ExportXML3_SplitTimes[[#This Row],[Legenda]],ExportXML3_SplitTimes[Čas],\"<=\"&ExportXML3_SplitTimes[[#This Row],[Čas]])","v":658}]
["MA","Janeček","Ondřej","0010001",3360,71,3081,{"$f":"ExportXML3_SplitTimes[[#This Row],[GivenName]]&\" \"&ExportXML3_SplitTimes[[#This Row],[FamilyName]]","v":"Ondřej Janeček"},{"$f":"_xlfn.XLOOKUP(ExportXML3_SplitTimes[[#This Row],[PersonId]],#REF!,#REF!,\"-\")","v":{"$error":"#REF!"}},{"$f":"ExportXML3_SplitTimes[[#This Row],[Kategorie]] & \" - \" & ExportXML3_SplitTimes[[#This Row],[Závodník]] & \" (\" & ExportXML3_SplitTimes[[#This Row],[Číslo čipu]] & \")\"","v":{"$error":"#REF!"}},{"$f":"ExportXML3_SplitTimes[[#This Row],[ControlCode]]","v":71},{"$f":"ExportXML3_SplitTimes[[#This Row],[SplitTimeSeconds]]/3600/24","v":"00:51:21"},{"$f":"COUNTIFS(ExportXML3_SplitTimes[Legenda],ExportXML3_SplitTimes[[#This Row],[Legenda]],ExportXML3_SplitTimes[Čas],\"<=\"&ExportXML3_SplitTimes[[#This Row],[Čas]])","v":679}]
["MA","Janeček","Ondřej","0010001",3360,74,3227,{"$f":"ExportXML3_SplitTimes[[#This Row],[GivenName]]&\" \"&ExportXML3_SplitTimes[[#This Row],[FamilyName]]","v":"Ondřej Janeček"},{"$f":"_xlfn.XLOOKUP(ExportXML3_SplitTimes[[#This Row],[PersonId]],#REF!,#REF!,\"-\")","v":{"$error":"#REF!"}},{"$f":"ExportXML3_SplitTimes[[#This Row],[Kategorie]] & \" - \" & ExportXML3_SplitTimes[[#This Row],[Závodník]] & \" (\" & ExportXML3_SplitTimes[[#This Row],[Číslo čipu]] & \")\"","v":{"$error":"#REF!"}},{"$f":"ExportXML3_SplitTimes[[#This Row],[ControlCode]]","v":74},{"$f":"ExportXML3_SplitTimes[[#This Row],[SplitTimeSeconds]]/3600/24","v":"00:53:47"},{"$f":"COUNTIFS(ExportXML3_SplitTimes[Legenda],ExportXML3_SplitTimes[[#This Row],[Legenda]],ExportXML3_SplitTimes[Čas],\"<=\"&ExportXML3_SplitTimes[[#This Row],[Čas]])","v":698}]
["MA","Janeček","Ondřej","0010001",3360,100,3342,{"$f":"ExportXML3_SplitTimes[[#This Row],[GivenName]]&\" \"&ExportXML3_SplitTimes[[#This Row],[FamilyName]]","v":"Ondřej Janeček"},{"$f":"_xlfn.XLOOKUP(ExportXML3_SplitTimes[[#This Row],[PersonId]],#REF!,#REF!,\"-\")","v":{"$error":"#REF!"}},{"$f":"ExportXML3_SplitTimes[[#This Row],[Kategorie]] & \" - \" & ExportXML3_SplitTimes[[#This Row],[Závodník]] & \" (\" & ExportXML3_SplitTimes[[#This Row],[Číslo čipu]] & \")\"","v":{"$error":"#REF!"}},{"$f":"ExportXML3_SplitTimes[[#This Row],[ControlCode]]","v":100},{"$f":"ExportXML3_SplitTimes[[#This Row],[SplitTimeSeconds]]/3600/24","v":"00:55:42"},{"$f":"COUNTIFS(ExportXML3_SplitTimes[Legenda],ExportXML3_SplitTimes[[#This Row],[Legenda]],ExportXML3_SplitTimes[Čas],\"<=\"&ExportXML3_SplitTimes[[#This Row],[Čas]])","v":713}]
["MA","Drahoňovský","Roman","55305,SOB6700",3566,93,486,{"$f":"ExportXML3_SplitTimes[[#This Row],[GivenName]]&\" \"&ExportXML3_SplitTimes[[#This Row],[FamilyName]]","v":"Roman Drahoňovský"},{"$f":"_xlfn.XLOOKUP(ExportXML3_SplitTimes[[#This Row],[PersonId]],#REF!,#REF!,\"-\")","v":{"$error":"#REF!"}},{"$f":"ExportXML3_SplitTimes[[#This Row],[Kategorie]] & \" - \" & ExportXML3_SplitTimes[[#This Row],[Závodník]] & \" (\" & ExportXML3_SplitTimes[[#This Row],[Číslo čipu]] & \")\"","v":{"$error":"#REF!"}},{"$f":"ExportXML3_SplitTimes[[#This Row],[ControlCode]]","v":93},{"$f":"ExportXML3_SplitTimes[[#This Row],[SplitTimeSeconds]]/3600/24","v":"00:08:06"},{"$f":"COUNTIFS(ExportXML3_SplitTimes[Legenda],ExportXML3_SplitTimes[[#This Row],[Legenda]],ExportXML3_SplitTimes[Čas],\"<=\"&ExportXML3_SplitTimes[[#This Row],[Čas]])","v":74}]
["MA","Drahoňovský","Roman","55305,SOB6700",3566,55,877,{"$f":"ExportXML3_SplitTimes[[#This Row],[GivenName]]&\" \"&ExportXML3_SplitTimes[[#This Row],[FamilyName]]","v":"Roman Drahoňovský"},{"$f":"_xlfn.XLOOKUP(ExportXML3_SplitTimes[[#This Row],[PersonId]],#REF!,#REF!,\"-\")","v":{"$error":"#REF!"}},{"$f":"ExportXML3_SplitTimes[[#This Row],[Kategorie]] & \" - \" & ExportXML3_SplitTimes[[#This Row],[Závodník]] & \" (\" & ExportXML3_SplitTimes[[#This Row],[Číslo čipu]] & \")\"","v":{"$error":"#REF!"}},{"$f":"ExportXML3_SplitTimes[[#This Row],[ControlCode]]","v":55},{"$f":"ExportXML3_SplitTimes[[#This Row],[SplitTimeSeconds]]/3600/24","v":"00:14:37"},{"$f":"COUNTIFS(ExportXML3_SplitTimes[Legenda],ExportXML3_SplitTimes[[#This Row],[Legenda]],ExportXML3_SplitTimes[Čas],\"<=\"&ExportXML3_SplitTimes[[#This Row],[Čas]])","v":185}]
["MA","Drahoňovský","Roman","55305,SOB6700",3566,54,919,{"$f":"ExportXML3_SplitTimes[[#This Row],[GivenName]]&\" \"&ExportXML3_SplitTimes[[#This Row],[FamilyName]]","v":"Roman Drahoňovský"},{"$f":"_xlfn.XLOOKUP(ExportXML3_SplitTimes[[#This Row],[PersonId]],#REF!,#REF!,\"-\")","v":{"$error":"#REF!"}},{"$f":"ExportXML3_SplitTimes[[#This Row],[Kategorie]] & \" - \" & ExportXML3_SplitTimes[[#This Row],[Závodník]] & \" (\" & ExportXML3_SplitTimes[[#This Row],[Číslo čipu]] & \")\"","v":{"$error":"#REF!"}},{"$f":"ExportXML3_SplitTimes[[#This Row],[ControlCode]]","v":54},{"$f":"ExportXML3_SplitTimes[[#This Row],[SplitTimeSeconds]]/3600/24","v":"00:15:19"},{"$f":"COUNTIFS(ExportXML3_SplitTimes[Legenda],ExportXML3_SplitTimes[[#This Row],[Legenda]],ExportXML3_SplitTimes[Čas],\"<=\"&ExportXML3_SplitTimes[[#This Row],[Čas]])","v":198}]
["MA","Drahoňovský","Roman","55305,SOB6700",3566,53,1049,{"$f":"ExportXML3_SplitTimes[[#This Row],[GivenName]]&\" \"&ExportXML3_SplitTimes[[#This Row],[FamilyName]]","v":"Roman Drahoňovský"},{"$f":"_xlfn.XLOOKUP(ExportXML3_SplitTimes[[#This Row],[PersonId]],#REF!,#REF!,\"-\")","v":{"$error":"#REF!"}},{"$f":"ExportXML3_SplitTimes[[#This Row],[Kategorie]] & \" - \" & ExportXML3_SplitTimes[[#This Row],[Závodník]] & \" (\" & ExportXML3_SplitTimes[[#This Row],[Číslo čipu]] & \")\"","v":{"$error":"#REF!"}},{"$f":"ExportXML3_SplitTimes[[#This Row],[ControlCode]]","v":53},{"$f":"ExportXML3_SplitTimes[[#This Row],[SplitTimeSeconds]]/3600/24","v":"00:17:29"},{"$f":"COUNTIFS(ExportXML3_SplitTimes[Legenda],ExportXML3_SplitTimes[[#This Row],[Legenda]],ExportXML3_SplitTimes[Čas],\"<=\"&ExportXML3_SplitTimes[[#This Row],[Čas]])","v":236}]
["MA","Drahoňovský","Roman","55305,SOB6700",3566,50,1222,{"$f":"ExportXML3_SplitTimes[[#This Row],[GivenName]]&\" \"&ExportXML3_SplitTimes[[#This Row],[FamilyName]]","v":"Roman Drahoňovský"},{"$f":"_xlfn.XLOOKUP(ExportXML3_SplitTimes[[#This Row],[PersonId]],#REF!,#REF!,\"-\")","v":{"$error":"#REF!"}},{"$f":"ExportXML3_SplitTimes[[#This Row],[Kategorie]] & \" - \" & ExportXML3_SplitTimes[[#This Row],[Závodník]] & \" (\" & ExportXML3_SplitTimes[[#This Row],[Číslo čipu]] & \")\"","v":{"$error":"#REF!"}},{"$f":"ExportXML3_SplitTimes[[#This Row],[ControlCode]]","v":50},{"$f":"ExportXML3_SplitTimes[[#This Row],[SplitTimeSeconds]]/3600/24","v":"00:20:22"},{"$f":"COUNTIFS(ExportXML3_SplitTimes[Legenda],ExportXML3_SplitTimes[[#This Row],[Legenda]],ExportXML3_SplitTimes[Čas],\"<=\"&ExportXML3_SplitTimes[[#This Row],[Čas]])","v":278}]
["MA","Drahoňovský","Roman","55305,SOB6700",3566,49,1276,{"$f":"ExportXML3_SplitTimes[[#This Row],[GivenName]]&\" \"&ExportXML3_SplitTimes[[#This Row],[FamilyName]]","v":"Roman Drahoňovský"},{"$f":"_xlfn.XLOOKUP(ExportXML3_SplitTimes[[#This Row],[PersonId]],#REF!,#REF!,\"-\")","v":{"$error":"#REF!"}},{"$f":"ExportXML3_SplitTimes[[#This Row],[Kategorie]] & \" - \" & ExportXML3_SplitTimes[[#This Row],[Závodník]] & \" (\" & ExportXML3_SplitTimes[[#This Row],[Číslo čipu]] & \")\"","v":{"$error":"#REF!"}},{"$f":"ExportXML3_SplitTimes[[#This Row],[ControlCode]]","v":49},{"$f":"ExportXML3_SplitTimes[[#This Row],[SplitTimeSeconds]]/3600/24","v":"00:21:16"},{"$f":"COUNTIFS(ExportXML3_SplitTimes[Legenda],ExportXML3_SplitTimes[[#This Row],[Legenda]],ExportXML3_SplitTimes[Čas],\"<=\"&ExportXML3_SplitTimes[[#This Row],[Čas]])","v":290}]
["MA","Drahoňovský","Roman","55305,SOB6700",3566,56,1440,{"$f":"ExportXML3_SplitTimes[[#This Row],[GivenName]]&\" \"&ExportXML3_SplitTimes[[#This Row],[FamilyName]]","v":"Roman Drahoňovský"},{"$f":"_xlfn.XLOOKUP(ExportXML3_SplitTimes[[#This Row],[PersonId]],#REF!,#REF!,\"-\")","v":{"$error":"#REF!"}},{"$f":"ExportXML3_SplitTimes[[#This Row],[Kategorie]] & \" - \" & ExportXML3_SplitTimes[[#This Row],[Závodník]] & \" (\" & ExportXML3_SplitTimes[[#This Row],[Číslo čipu]] & \")\"","v":{"$error":"#REF!"}},{"$f":"ExportXML3_SplitTimes[[#This Row],[ControlCode]]","v":56},{"$f":"ExportXML3_SplitTimes[[#This Row],[SplitTimeSeconds]]/3600/24","v":"00:24:00"},{"$f":"COUNTIFS(ExportXML3_SplitTimes[Legenda],ExportXML3_SplitTimes[[#This Row],[Legenda]],ExportXML3_SplitTimes[Čas],\"<=\"&ExportXML3_SplitTimes[[#This Row],[Čas]])","v":319}]
["MA","Drahoňovský","Roman","55305,SOB6700",3566,42,1835,{"$f":"ExportXML3_SplitTimes[[#This Row],[GivenName]]&\" \"&ExportXML3_SplitTimes[[#This Row],[FamilyName]]","v":"Roman Drahoňovský"},{"$f":"_xlfn.XLOOKUP(ExportXML3_SplitTimes[[#This Row],[PersonId]],#REF!,#REF!,\"-\")","v":{"$error":"#REF!"}},{"$f":"ExportXML3_SplitTimes[[#This Row],[Kategorie]] & \" - \" & ExportXML3_SplitTimes[[#This Row],[Závodník]] & \" (\" & ExportXML3_SplitTimes[[#This Row],[Číslo čipu]] & \")\"","v":{"$error":"#REF!"}},{"$f":"ExportXML3_SplitTimes[[#This Row],[ControlCode]]","v":42},{"$f":"ExportXML3_SplitTimes[[#This Row],[SplitTimeSeconds]]/3600/24","v":"00:30:35"},{"$f":"COUNTIFS(ExportXML3_SplitTimes[Legenda],ExportXML3_SplitTimes[[#This Row],[Legenda]],ExportXML3_SplitTimes[Čas],\"<=\"&ExportXML3_SplitTimes[[#This Row],[Čas]])","v":419}]
["MA","Drahoňovský","Roman","55305,SOB6700",3566,47,1955,{"$f":"ExportXML3_SplitTimes[[#This Row],[GivenName]]&\" \"&ExportXML3_SplitTimes[[#This Row],[FamilyName]]","v":"Roman Drahoňovský"},{"$f":"_xlfn.XLOOKUP(ExportXML3_SplitTimes[[#This Row],[PersonId]],#REF!,#REF!,\"-\")","v":{"$error":"#REF!"}},{"$f":"ExportXML3_SplitTimes[[#This Row],[Kategorie]] & \" - \" & ExportXML3_SplitTimes[[#This Row],[Závodník]] & \" (\" & ExportXML3_SplitTimes[[#This Row],[Číslo čipu]] & \")\"","v":{"$error":"#REF!"}},{"$f":"ExportXML3_SplitTimes[[#This Row],[ControlCode]]","v":47},{"$f":"ExportXML3_SplitTimes[[#This Row],[SplitTimeSeconds]]/3600/24","v":"00:32:35"},{"$f":"COUNTIFS(ExportXML3_SplitTimes[Legenda],ExportXML3_SplitTimes[[#This Row],[Legenda]],ExportXML3_SplitTimes[Čas],\"<=\"&ExportXML3_SplitTimes[[#This Row],[Čas]])","v":450}]
["MA","Drahoňovský","Roman","55305,SOB6700",3566,60,2087,{"$f":"ExportXML3_SplitTimes[[#This Row],[GivenName]]&\" \"&ExportXML3_SplitTimes[[#This Row],[FamilyName]]","v":"Roman Drahoňovský"},{"$f":"_xlfn.XLOOKUP(ExportXML3_SplitTimes[[#This Row],[PersonId]],#REF!,#REF!,\"-\")","v":{"$error":"#REF!"}},{"$f":"ExportXML3_SplitTimes[[#This Row],[Kategorie]] & \" - \" & ExportXML3_SplitTimes[[#This Row],[Závodník]] & \" (\" & ExportXML3_SplitTimes[[#This Row],[Číslo čipu]] & \")\"","v":{"$error":"#REF!"}},{"$f":"ExportXML3_SplitTimes[[#This Row],[ControlCode]]","v":60},{"$f":"ExportXML3_SplitTimes[[#This Row],[SplitTimeSeconds]]/3600/24","v":"00:34:47"},{"$f":"COUNTIFS(ExportXML3_SplitTimes[Legenda],ExportXML3_SplitTimes[[#This Row],[Legenda]],ExportXML3_SplitTimes[Čas],\"<=\"&ExportXML3_SplitTimes[[#This Row],[Čas]])","v":479}]
["MA","Drahoňovský","Roman","55305,SOB6700",3566,61,2166,{"$f":"ExportXML3_SplitTimes[[#This Row],[GivenName]]&\" \"&ExportXML3_SplitTimes[[#This Row],[FamilyName]]","v":"Roman Drahoňovský"},{"$f":"_xlfn.XLOOKUP(ExportXML3_SplitTimes[[#This Row],[PersonId]],#REF!,#REF!,\"-\")","v":{"$error":"#REF!"}},{"$f":"ExportXML3_SplitTimes[[#This Row],[Kategorie]] & \" - \" & ExportXML3_SplitTimes[[#This Row],[Závodník]] & \" (\" & ExportXML3_SplitTimes[[#This Row],[Číslo čipu]] & \")\"","v":{"$error":"#REF!"}},{"$f":"ExportXML3_SplitTimes[[#This Row],[ControlCode]]","v":61},{"$f":"ExportXML3_SplitTimes[[#This Row],[SplitTimeSeconds]]/3600/24","v":"00:36:06"},{"$f":"COUNTIFS(ExportXML3_SplitTimes[Legenda],ExportXML3_SplitTimes[[#This Row],[Legenda]],ExportXML3_SplitTimes[Čas],\"<=\"&ExportXML3_SplitTimes[[#This Row],[Čas]])","v":492}]
["MA","Drahoňovský","Roman","55305,SOB6700",3566,80,2320,{"$f":"ExportXML3_SplitTimes[[#This Row],[GivenName]]&\" \"&ExportXML3_SplitTimes[[#This Row],[FamilyName]]","v":"Roman Drahoňovský"},{"$f":"_xlfn.XLOOKUP(ExportXML3_SplitTimes[[#This Row],[PersonId]],#REF!,#REF!,\"-\")","v":{"$error":"#REF!"}},{"$f":"ExportXML3_SplitTimes[[#This Row],[Kategorie]] & \" - \" & ExportXML3_SplitTimes[[#This Row],[Závodník]] & \" (\" & ExportXML3_SplitTimes[[#This Row],[Číslo čipu]] & \")\"","v":{"$error":"#REF!"}},{"$f":"ExportXML3_SplitTimes[[#This Row],[ControlCode]]","v":80},{"$f":"ExportXML3_SplitTimes[[#This Row],[SplitTimeSeconds]]/3600/24","v":"00:38:40"},{"$f":"COUNTIFS(ExportXML3_SplitTimes[Legenda],ExportXML3_SplitTimes[[#This Row],[Legenda]],ExportXML3_SplitTimes[Čas],\"<=\"&ExportXML3_SplitTimes[[#This Row],[Čas]])","v":527}]
["MA","Drahoňovský","Roman","55305,SOB6700",3566,62,2784,{"$f":"ExportXML3_SplitTimes[[#This Row],[GivenName]]&\" \"&ExportXML3_SplitTimes[[#This Row],[FamilyName]]","v":"Roman Drahoňovský"},{"$f":"_xlfn.XLOOKUP(ExportXML3_SplitTimes[[#This Row],[PersonId]],#REF!,#REF!,\"-\")","v":{"$error":"#REF!"}},{"$f":"ExportXML3_SplitTimes[[#This Row],[Kategorie]] & \" - \" & ExportXML3_SplitTimes[[#This Row],[Závodník]] & \" (\" & ExportXML3_SplitTimes[[#This Row],[Číslo čipu]] & \")\"","v":{"$error":"#REF!"}},{"$f":"ExportXML3_SplitTimes[[#This Row],[ControlCode]]","v":62},{"$f":"ExportXML3_SplitTimes[[#This Row],[SplitTimeSeconds]]/3600/24","v":"00:46:24"},{"$f":"COUNTIFS(ExportXML3_SplitTimes[Legenda],ExportXML3_SplitTimes[[#This Row],[Legenda]],ExportXML3_SplitTimes[Čas],\"<=\"&ExportXML3_SplitTimes[[#This Row],[Čas]])","v":627}]
["MA","Drahoňovský","Roman","55305,SOB6700",3566,65,2997,{"$f":"ExportXML3_SplitTimes[[#This Row],[GivenName]]&\" \"&ExportXML3_SplitTimes[[#This Row],[FamilyName]]","v":"Roman Drahoňovský"},{"$f":"_xlfn.XLOOKUP(ExportXML3_SplitTimes[[#This Row],[PersonId]],#REF!,#REF!,\"-\")","v":{"$error":"#REF!"}},{"$f":"ExportXML3_SplitTimes[[#This Row],[Kategorie]] & \" - \" & ExportXML3_SplitTimes[[#This Row],[Závodník]] & \" (\" & ExportXML3_SplitTimes[[#This Row],[Číslo čipu]] & \")\"","v":{"$error":"#REF!"}},{"$f":"ExportXML3_SplitTimes[[#This Row],[ControlCode]]","v":65},{"$f":"ExportXML3_SplitTimes[[#This Row],[SplitTimeSeconds]]/3600/24","v":"00:49:57"},{"$f":"COUNTIFS(ExportXML3_SplitTimes[Legenda],ExportXML3_SplitTimes[[#This Row],[Legenda]],ExportXML3_SplitTimes[Čas],\"<=\"&ExportXML3_SplitTimes[[#This Row],[Čas]])","v":668}]
["MA","Drahoňovský","Roman","55305,SOB6700",3566,76,3114,{"$f":"ExportXML3_SplitTimes[[#This Row],[GivenName]]&\" \"&ExportXML3_SplitTimes[[#This Row],[FamilyName]]","v":"Roman Drahoňovský"},{"$f":"_xlfn.XLOOKUP(ExportXML3_SplitTimes[[#This Row],[PersonId]],#REF!,#REF!,\"-\")","v":{"$error":"#REF!"}},{"$f":"ExportXML3_SplitTimes[[#This Row],[Kategorie]] & \" - \" & ExportXML3_SplitTimes[[#This Row],[Závodník]] & \" (\" & ExportXML3_SplitTimes[[#This Row],[Číslo čipu]] & \")\"","v":{"$error":"#REF!"}},{"$f":"ExportXML3_SplitTimes[[#This Row],[ControlCode]]","v":76},{"$f":"ExportXML3_SplitTimes[[#This Row],[SplitTimeSeconds]]/3600/24","v":"00:51:54"},{"$f":"COUNTIFS(ExportXML3_SplitTimes[Legenda],ExportXML3_SplitTimes[[#This Row],[Legenda]],ExportXML3_SplitTimes[Čas],\"<=\"&ExportXML3_SplitTimes[[#This Row],[Čas]])","v":684}]
["MA","Drahoňovský","Roman","55305,SOB6700",3566,71,3266,{"$f":"ExportXML3_SplitTimes[[#This Row],[GivenName]]&\" \"&ExportXML3_SplitTimes[[#This Row],[FamilyName]]","v":"Roman Drahoňovský"},{"$f":"_xlfn.XLOOKUP(ExportXML3_SplitTimes[[#This Row],[PersonId]],#REF!,#REF!,\"-\")","v":{"$error":"#REF!"}},{"$f":"ExportXML3_SplitTimes[[#This Row],[Kategorie]] & \" - \" & ExportXML3_SplitTimes[[#This Row],[Závodník]] & \" (\" & ExportXML3_SplitTimes[[#This Row],[Číslo čipu]] & \")\"","v":{"$error":"#REF!"}},{"$f":"ExportXML3_SplitTimes[[#This Row],[ControlCode]]","v":71},{"$f":"ExportXML3_SplitTimes[[#This Row],[SplitTimeSeconds]]/3600/24","v":"00:54:26"},{"$f":"COUNTIFS(ExportXML3_SplitTimes[Legenda],ExportXML3_SplitTimes[[#This Row],[Legenda]],ExportXML3_SplitTimes[Čas],\"<=\"&ExportXML3_SplitTimes[[#This Row],[Čas]])","v":705}]
["MA","Drahoňovský","Roman","55305,SOB6700",3566,74,3429,{"$f":"ExportXML3_SplitTimes[[#This Row],[GivenName]]&\" \"&ExportXML3_SplitTimes[[#This Row],[FamilyName]]","v":"Roman Drahoňovský"},{"$f":"_xlfn.XLOOKUP(ExportXML3_SplitTimes[[#This Row],[PersonId]],#REF!,#REF!,\"-\")","v":{"$error":"#REF!"}},{"$f":"ExportXML3_SplitTimes[[#This Row],[Kategorie]] & \" - \" & ExportXML3_SplitTimes[[#This Row],[Závodník]] & \" (\" & ExportXML3_SplitTimes[[#This Row],[Číslo čipu]] & \")\"","v":{"$error":"#REF!"}},{"$f":"ExportXML3_SplitTimes[[#This Row],[ControlCode]]","v":74},{"$f":"ExportXML3_SplitTimes[[#This Row],[SplitTimeSeconds]]/3600/24","v":"00:57:09"},{"$f":"COUNTIFS(ExportXML3_SplitTimes[Legenda],ExportXML3_SplitTimes[[#This Row],[Legenda]],ExportXML3_SplitTimes[Čas],\"<=\"&ExportXML3_SplitTimes[[#This Row],[Čas]])","v":724}]
["MA","Drahoňovský","Roman","55305,SOB6700",3566,100,3542,{"$f":"ExportXML3_SplitTimes[[#This Row],[GivenName]]&\" \"&ExportXML3_SplitTimes[[#This Row],[FamilyName]]","v":"Roman Drahoňovský"},{"$f":"_xlfn.XLOOKUP(ExportXML3_SplitTimes[[#This Row],[PersonId]],#REF!,#REF!,\"-\")","v":{"$error":"#REF!"}},{"$f":"ExportXML3_SplitTimes[[#This Row],[Kategorie]] & \" - \" & ExportXML3_SplitTimes[[#This Row],[Závodník]] & \" (\" & ExportXML3_SplitTimes[[#This Row],[Číslo čipu]] & \")\"","v":{"$error":"#REF!"}},{"$f":"ExportXML3_SplitTimes[[#This Row],[ControlCode]]","v":100},{"$f":"ExportXML3_SplitTimes[[#This Row],[SplitTimeSeconds]]/3600/24","v":"00:59:02"},{"$f":"COUNTIFS(ExportXML3_SplitTimes[Legenda],ExportXML3_SplitTimes[[#This Row],[Legenda]],ExportXML3_SplitTimes[Čas],\"<=\"&ExportXML3_SplitTimes[[#This Row],[Čas]])","v":737}]
["MA","Kolenčík","Vojtěch","0220002",3732,93,382,{"$f":"ExportXML3_SplitTimes[[#This Row],[GivenName]]&\" \"&ExportXML3_SplitTimes[[#This Row],[FamilyName]]","v":"Vojtěch Kolenčík"},{"$f":"_xlfn.XLOOKUP(ExportXML3_SplitTimes[[#This Row],[PersonId]],#REF!,#REF!,\"-\")","v":{"$error":"#REF!"}},{"$f":"ExportXML3_SplitTimes[[#This Row],[Kategorie]] & \" - \" & ExportXML3_SplitTimes[[#This Row],[Závodník]] & \" (\" & ExportXML3_SplitTimes[[#This Row],[Číslo čipu]] & \")\"","v":{"$error":"#REF!"}},{"$f":"ExportXML3_SplitTimes[[#This Row],[ControlCode]]","v":93},{"$f":"ExportXML3_SplitTimes[[#This Row],[SplitTimeSeconds]]/3600/24","v":"00:06:22"},{"$f":"COUNTIFS(ExportXML3_SplitTimes[Legenda],ExportXML3_SplitTimes[[#This Row],[Legenda]],ExportXML3_SplitTimes[Čas],\"<=\"&ExportXML3_SplitTimes[[#This Row],[Čas]])","v":48}]
["MA","Kolenčík","Vojtěch","0220002",3732,55,714,{"$f":"ExportXML3_SplitTimes[[#This Row],[GivenName]]&\" \"&ExportXML3_SplitTimes[[#This Row],[FamilyName]]","v":"Vojtěch Kolenčík"},{"$f":"_xlfn.XLOOKUP(ExportXML3_SplitTimes[[#This Row],[PersonId]],#REF!,#REF!,\"-\")","v":{"$error":"#REF!"}},{"$f":"ExportXML3_SplitTimes[[#This Row],[Kategorie]] & \" - \" & ExportXML3_SplitTimes[[#This Row],[Závodník]] & \" (\" & ExportXML3_SplitTimes[[#This Row],[Číslo čipu]] & \")\"","v":{"$error":"#REF!"}},{"$f":"ExportXML3_SplitTimes[[#This Row],[ControlCode]]","v":55},{"$f":"ExportXML3_SplitTimes[[#This Row],[SplitTimeSeconds]]/3600/24","v":"00:11:54"},{"$f":"COUNTIFS(ExportXML3_SplitTimes[Legenda],ExportXML3_SplitTimes[[#This Row],[Legenda]],ExportXML3_SplitTimes[Čas],\"<=\"&ExportXML3_SplitTimes[[#This Row],[Čas]])","v":145}]
["MA","Kolenčík","Vojtěch","0220002",3732,54,781,{"$f":"ExportXML3_SplitTimes[[#This Row],[GivenName]]&\" \"&ExportXML3_SplitTimes[[#This Row],[FamilyName]]","v":"Vojtěch Kolenčík"},{"$f":"_xlfn.XLOOKUP(ExportXML3_SplitTimes[[#This Row],[PersonId]],#REF!,#REF!,\"-\")","v":{"$error":"#REF!"}},{"$f":"ExportXML3_SplitTimes[[#This Row],[Kategorie]] & \" - \" & ExportXML3_SplitTimes[[#This Row],[Závodník]] & \" (\" & ExportXML3_SplitTimes[[#This Row],[Číslo čipu]] & \")\"","v":{"$error":"#REF!"}},{"$f":"ExportXML3_SplitTimes[[#This Row],[ControlCode]]","v":54},{"$f":"ExportXML3_SplitTimes[[#This Row],[SplitTimeSeconds]]/3600/24","v":"00:13:01"},{"$f":"COUNTIFS(ExportXML3_SplitTimes[Legenda],ExportXML3_SplitTimes[[#This Row],[Legenda]],ExportXML3_SplitTimes[Čas],\"<=\"&ExportXML3_SplitTimes[[#This Row],[Čas]])","v":163}]
["MA","Kolenčík","Vojtěch","0220002",3732,53,1039,{"$f":"ExportXML3_SplitTimes[[#This Row],[GivenName]]&\" \"&ExportXML3_SplitTimes[[#This Row],[FamilyName]]","v":"Vojtěch Kolenčík"},{"$f":"_xlfn.XLOOKUP(ExportXML3_SplitTimes[[#This Row],[PersonId]],#REF!,#REF!,\"-\")","v":{"$error":"#REF!"}},{"$f":"ExportXML3_SplitTimes[[#This Row],[Kategorie]] & \" - \" & ExportXML3_SplitTimes[[#This Row],[Závodník]] & \" (\" & ExportXML3_SplitTimes[[#This Row],[Číslo čipu]] & \")\"","v":{"$error":"#REF!"}},{"$f":"ExportXML3_SplitTimes[[#This Row],[ControlCode]]","v":53},{"$f":"ExportXML3_SplitTimes[[#This Row],[SplitTimeSeconds]]/3600/24","v":"00:17:19"},{"$f":"COUNTIFS(ExportXML3_SplitTimes[Legenda],ExportXML3_SplitTimes[[#This Row],[Legenda]],ExportXML3_SplitTimes[Čas],\"<=\"&ExportXML3_SplitTimes[[#This Row],[Čas]])","v":232}]
["MA","Kolenčík","Vojtěch","0220002",3732,50,1257,{"$f":"ExportXML3_SplitTimes[[#This Row],[GivenName]]&\" \"&ExportXML3_SplitTimes[[#This Row],[FamilyName]]","v":"Vojtěch Kolenčík"},{"$f":"_xlfn.XLOOKUP(ExportXML3_SplitTimes[[#This Row],[PersonId]],#REF!,#REF!,\"-\")","v":{"$error":"#REF!"}},{"$f":"ExportXML3_SplitTimes[[#This Row],[Kategorie]] & \" - \" & ExportXML3_SplitTimes[[#This Row],[Závodník]] & \" (\" & ExportXML3_SplitTimes[[#This Row],[Číslo čipu]] & \")\"","v":{"$error":"#REF!"}},{"$f":"ExportXML3_SplitTimes[[#This Row],[ControlCode]]","v":50},{"$f":"ExportXML3_SplitTimes[[#This Row],[SplitTimeSeconds]]/3600/24","v":"00:20:57"},{"$f":"COUNTIFS(ExportXML3_SplitTimes[Legenda],ExportXML3_SplitTimes[[#This Row],[Legenda]],ExportXML3_SplitTimes[Čas],\"<=\"&ExportXML3_SplitTimes[[#This Row],[Čas]])","v":285}]
["MA","Kolenčík","Vojtěch","0220002",3732,49,1312,{"$f":"ExportXML3_SplitTimes[[#This Row],[GivenName]]&\" \"&ExportXML3_SplitTimes[[#This Row],[FamilyName]]","v":"Vojtěch Kolenčík"},{"$f":"_xlfn.XLOOKUP(ExportXML3_SplitTimes[[#This Row],[PersonId]],#REF!,#REF!,\"-\")","v":{"$error":"#REF!"}},{"$f":"ExportXML3_SplitTimes[[#This Row],[Kategorie]] & \" - \" & ExportXML3_SplitTimes[[#This Row],[Závodník]] & \" (\" & ExportXML3_SplitTimes[[#This Row],[Číslo čipu]] & \")\"","v":{"$error":"#REF!"}},{"$f":"ExportXML3_SplitTimes[[#This Row],[ControlCode]]","v":49},{"$f":"ExportXML3_SplitTimes[[#This Row],[SplitTimeSeconds]]/3600/24","v":"00:21:52"},{"$f":"COUNTIFS(ExportXML3_SplitTimes[Legenda],ExportXML3_SplitTimes[[#This Row],[Legenda]],ExportXML3_SplitTimes[Čas],\"<=\"&ExportXML3_SplitTimes[[#This Row],[Čas]])","v":295}]
["MA","Kolenčík","Vojtěch","0220002",3732,56,1489,{"$f":"ExportXML3_SplitTimes[[#This Row],[GivenName]]&\" \"&ExportXML3_SplitTimes[[#This Row],[FamilyName]]","v":"Vojtěch Kolenčík"},{"$f":"_xlfn.XLOOKUP(ExportXML3_SplitTimes[[#This Row],[PersonId]],#REF!,#REF!,\"-\")","v":{"$error":"#REF!"}},{"$f":"ExportXML3_SplitTimes[[#This Row],[Kategorie]] & \" - \" & ExportXML3_SplitTimes[[#This Row],[Závodník]] & \" (\" & ExportXML3_SplitTimes[[#This Row],[Číslo čipu]] & \")\"","v":{"$error":"#REF!"}},{"$f":"ExportXML3_SplitTimes[[#This Row],[ControlCode]]","v":56},{"$f":"ExportXML3_SplitTimes[[#This Row],[SplitTimeSeconds]]/3600/24","v":"00:24:49"},{"$f":"COUNTIFS(ExportXML3_SplitTimes[Legenda],ExportXML3_SplitTimes[[#This Row],[Legenda]],ExportXML3_SplitTimes[Čas],\"<=\"&ExportXML3_SplitTimes[[#This Row],[Čas]])","v":332}]
["MA","Kolenčík","Vojtěch","0220002",3732,42,1926,{"$f":"ExportXML3_SplitTimes[[#This Row],[GivenName]]&\" \"&ExportXML3_SplitTimes[[#This Row],[FamilyName]]","v":"Vojtěch Kolenčík"},{"$f":"_xlfn.XLOOKUP(ExportXML3_SplitTimes[[#This Row],[PersonId]],#REF!,#REF!,\"-\")","v":{"$error":"#REF!"}},{"$f":"ExportXML3_SplitTimes[[#This Row],[Kategorie]] & \" - \" & ExportXML3_SplitTimes[[#This Row],[Závodník]] & \" (\" & ExportXML3_SplitTimes[[#This Row],[Číslo čipu]] & \")\"","v":{"$error":"#REF!"}},{"$f":"ExportXML3_SplitTimes[[#This Row],[ControlCode]]","v":42},{"$f":"ExportXML3_SplitTimes[[#This Row],[SplitTimeSeconds]]/3600/24","v":"00:32:06"},{"$f":"COUNTIFS(ExportXML3_SplitTimes[Legenda],ExportXML3_SplitTimes[[#This Row],[Legenda]],ExportXML3_SplitTimes[Čas],\"<=\"&ExportXML3_SplitTimes[[#This Row],[Čas]])","v":438}]
["MA","Kolenčík","Vojtěch","0220002",3732,47,2106,{"$f":"ExportXML3_SplitTimes[[#This Row],[GivenName]]&\" \"&ExportXML3_SplitTimes[[#This Row],[FamilyName]]","v":"Vojtěch Kolenčík"},{"$f":"_xlfn.XLOOKUP(ExportXML3_SplitTimes[[#This Row],[PersonId]],#REF!,#REF!,\"-\")","v":{"$error":"#REF!"}},{"$f":"ExportXML3_SplitTimes[[#This Row],[Kategorie]] & \" - \" & ExportXML3_SplitTimes[[#This Row],[Závodník]] & \" (\" & ExportXML3_SplitTimes[[#This Row],[Číslo čipu]] & \")\"","v":{"$error":"#REF!"}},{"$f":"ExportXML3_SplitTimes[[#This Row],[ControlCode]]","v":47},{"$f":"ExportXML3_SplitTimes[[#This Row],[SplitTimeSeconds]]/3600/24","v":"00:35:06"},{"$f":"COUNTIFS(ExportXML3_SplitTimes[Legenda],ExportXML3_SplitTimes[[#This Row],[Legenda]],ExportXML3_SplitTimes[Čas],\"<=\"&ExportXML3_SplitTimes[[#This Row],[Čas]])","v":483}]
["MA","Kolenčík","Vojtěch","0220002",3732,60,2282,{"$f":"ExportXML3_SplitTimes[[#This Row],[GivenName]]&\" \"&ExportXML3_SplitTimes[[#This Row],[FamilyName]]","v":"Vojtěch Kolenčík"},{"$f":"_xlfn.XLOOKUP(ExportXML3_SplitTimes[[#This Row],[PersonId]],#REF!,#REF!,\"-\")","v":{"$error":"#REF!"}},{"$f":"ExportXML3_SplitTimes[[#This Row],[Kategorie]] & \" - \" & ExportXML3_SplitTimes[[#This Row],[Závodník]] & \" (\" & ExportXML3_SplitTimes[[#This Row],[Číslo čipu]] & \")\"","v":{"$error":"#REF!"}},{"$f":"ExportXML3_SplitTimes[[#This Row],[ControlCode]]","v":60},{"$f":"ExportXML3_SplitTimes[[#This Row],[SplitTimeSeconds]]/3600/24","v":"00:38:02"},{"$f":"COUNTIFS(ExportXML3_SplitTimes[Legenda],ExportXML3_SplitTimes[[#This Row],[Legenda]],ExportXML3_SplitTimes[Čas],\"<=\"&ExportXML3_SplitTimes[[#This Row],[Čas]])","v":521}]
["MA","Kolenčík","Vojtěch","0220002",3732,61,2389,{"$f":"ExportXML3_SplitTimes[[#This Row],[GivenName]]&\" \"&ExportXML3_SplitTimes[[#This Row],[FamilyName]]","v":"Vojtěch Kolenčík"},{"$f":"_xlfn.XLOOKUP(ExportXML3_SplitTimes[[#This Row],[PersonId]],#REF!,#REF!,\"-\")","v":{"$error":"#REF!"}},{"$f":"ExportXML3_SplitTimes[[#This Row],[Kategorie]] & \" - \" & ExportXML3_SplitTimes[[#This Row],[Závodník]] & \" (\" & ExportXML3_SplitTimes[[#This Row],[Číslo čipu]] & \")\"","v":{"$error":"#REF!"}},{"$f":"ExportXML3_SplitTimes[[#This Row],[ControlCode]]","v":61},{"$f":"ExportXML3_SplitTimes[[#This Row],[SplitTimeSeconds]]/3600/24","v":"00:39:49"},{"$f":"COUNTIFS(ExportXML3_SplitTimes[Legenda],ExportXML3_SplitTimes[[#This Row],[Legenda]],ExportXML3_SplitTimes[Čas],\"<=\"&ExportXML3_SplitTimes[[#This Row],[Čas]])","v":543}]
["MA","Kolenčík","Vojtěch","0220002",3732,80,2553,{"$f":"ExportXML3_SplitTimes[[#This Row],[GivenName]]&\" \"&ExportXML3_SplitTimes[[#This Row],[FamilyName]]","v":"Vojtěch Kolenčík"},{"$f":"_xlfn.XLOOKUP(ExportXML3_SplitTimes[[#This Row],[PersonId]],#REF!,#REF!,\"-\")","v":{"$error":"#REF!"}},{"$f":"ExportXML3_SplitTimes[[#This Row],[Kategorie]] & \" - \" & ExportXML3_SplitTimes[[#This Row],[Závodník]] & \" (\" & ExportXML3_SplitTimes[[#This Row],[Číslo čipu]] & \")\"","v":{"$error":"#REF!"}},{"$f":"ExportXML3_SplitTimes[[#This Row],[ControlCode]]","v":80},{"$f":"ExportXML3_SplitTimes[[#This Row],[SplitTimeSeconds]]/3600/24","v":"00:42:33"},{"$f":"COUNTIFS(ExportXML3_SplitTimes[Legenda],ExportXML3_SplitTimes[[#This Row],[Legenda]],ExportXML3_SplitTimes[Čas],\"<=\"&ExportXML3_SplitTimes[[#This Row],[Čas]])","v":577}]
["MA","Kolenčík","Vojtěch","0220002",3732,62,2847,{"$f":"ExportXML3_SplitTimes[[#This Row],[GivenName]]&\" \"&ExportXML3_SplitTimes[[#This Row],[FamilyName]]","v":"Vojtěch Kolenčík"},{"$f":"_xlfn.XLOOKUP(ExportXML3_SplitTimes[[#This Row],[PersonId]],#REF!,#REF!,\"-\")","v":{"$error":"#REF!"}},{"$f":"ExportXML3_SplitTimes[[#This Row],[Kategorie]] & \" - \" & ExportXML3_SplitTimes[[#This Row],[Závodník]] & \" (\" & ExportXML3_SplitTimes[[#This Row],[Číslo čipu]] & \")\"","v":{"$error":"#REF!"}},{"$f":"ExportXML3_SplitTimes[[#This Row],[ControlCode]]","v":62},{"$f":"ExportXML3_SplitTimes[[#This Row],[SplitTimeSeconds]]/3600/24","v":"00:47:27"},{"$f":"COUNTIFS(ExportXML3_SplitTimes[Legenda],ExportXML3_SplitTimes[[#This Row],[Legenda]],ExportXML3_SplitTimes[Čas],\"<=\"&ExportXML3_SplitTimes[[#This Row],[Čas]])","v":636}]
["MA","Kolenčík","Vojtěch","0220002",3732,65,3055,{"$f":"ExportXML3_SplitTimes[[#This Row],[GivenName]]&\" \"&ExportXML3_SplitTimes[[#This Row],[FamilyName]]","v":"Vojtěch Kolenčík"},{"$f":"_xlfn.XLOOKUP(ExportXML3_SplitTimes[[#This Row],[PersonId]],#REF!,#REF!,\"-\")","v":{"$error":"#REF!"}},{"$f":"ExportXML3_SplitTimes[[#This Row],[Kategorie]] & \" - \" & ExportXML3_SplitTimes[[#This Row],[Závodník]] & \" (\" & ExportXML3_SplitTimes[[#This Row],[Číslo čipu]] & \")\"","v":{"$error":"#REF!"}},{"$f":"ExportXML3_SplitTimes[[#This Row],[ControlCode]]","v":65},{"$f":"ExportXML3_SplitTimes[[#This Row],[SplitTimeSeconds]]/3600/24","v":"00:50:55"},{"$f":"COUNTIFS(ExportXML3_SplitTimes[Legenda],ExportXML3_SplitTimes[[#This Row],[Legenda]],ExportXML3_SplitTimes[Čas],\"<=\"&ExportXML3_SplitTimes[[#This Row],[Čas]])","v":675}]
["MA","Kolenčík","Vojtěch","0220002",3732,76,3210,{"$f":"ExportXML3_SplitTimes[[#This Row],[GivenName]]&\" \"&ExportXML3_SplitTimes[[#This Row],[FamilyName]]","v":"Vojtěch Kolenčík"},{"$f":"_xlfn.XLOOKUP(ExportXML3_SplitTimes[[#This Row],[PersonId]],#REF!,#REF!,\"-\")","v":{"$error":"#REF!"}},{"$f":"ExportXML3_SplitTimes[[#This Row],[Kategorie]] & \" - \" & ExportXML3_SplitTimes[[#This Row],[Závodník]] & \" (\" & ExportXML3_SplitTimes[[#This Row],[Číslo čipu]] & \")\"","v":{"$error":"#REF!"}},{"$f":"ExportXML3_SplitTimes[[#This Row],[ControlCode]]","v":76},{"$f":"ExportXML3_SplitTimes[[#This Row],[SplitTimeSeconds]]/3600/24","v":"00:53:30"},{"$f":"COUNTIFS(ExportXML3_SplitTimes[Legenda],ExportXML3_SplitTimes[[#This Row],[Legenda]],ExportXML3_SplitTimes[Čas],\"<=\"&ExportXML3_SplitTimes[[#This Row],[Čas]])","v":696}]
["MA","Kolenčík","Vojtěch","0220002",3732,71,3349,{"$f":"ExportXML3_SplitTimes[[#This Row],[GivenName]]&\" \"&ExportXML3_SplitTimes[[#This Row],[FamilyName]]","v":"Vojtěch Kolenčík"},{"$f":"_xlfn.XLOOKUP(ExportXML3_SplitTimes[[#This Row],[PersonId]],#REF!,#REF!,\"-\")","v":{"$error":"#REF!"}},{"$f":"ExportXML3_SplitTimes[[#This Row],[Kategorie]] & \" - \" & ExportXML3_SplitTimes[[#This Row],[Závodník]] & \" (\" & ExportXML3_SplitTimes[[#This Row],[Číslo čipu]] & \")\"","v":{"$error":"#REF!"}},{"$f":"ExportXML3_SplitTimes[[#This Row],[ControlCode]]","v":71},{"$f":"ExportXML3_SplitTimes[[#This Row],[SplitTimeSeconds]]/3600/24","v":"00:55:49"},{"$f":"COUNTIFS(ExportXML3_SplitTimes[Legenda],ExportXML3_SplitTimes[[#This Row],[Legenda]],ExportXML3_SplitTimes[Čas],\"<=\"&ExportXML3_SplitTimes[[#This Row],[Čas]])","v":716}]
["MA","Kolenčík","Vojtěch","0220002",3732,74,3509,{"$f":"ExportXML3_SplitTimes[[#This Row],[GivenName]]&\" \"&ExportXML3_SplitTimes[[#This Row],[FamilyName]]","v":"Vojtěch Kolenčík"},{"$f":"_xlfn.XLOOKUP(ExportXML3_SplitTimes[[#This Row],[PersonId]],#REF!,#REF!,\"-\")","v":{"$error":"#REF!"}},{"$f":"ExportXML3_SplitTimes[[#This Row],[Kategorie]] & \" - \" & ExportXML3_SplitTimes[[#This Row],[Závodník]] & \" (\" & ExportXML3_SplitTimes[[#This Row],[Číslo čipu]] & \")\"","v":{"$error":"#REF!"}},{"$f":"ExportXML3_SplitTimes[[#This Row],[ControlCode]]","v":74},{"$f":"ExportXML3_SplitTimes[[#This Row],[SplitTimeSeconds]]/3600/24","v":"00:58:29"},{"$f":"COUNTIFS(ExportXML3_SplitTimes[Legenda],ExportXML3_SplitTimes[[#This Row],[Legenda]],ExportXML3_SplitTimes[Čas],\"<=\"&ExportXML3_SplitTimes[[#This Row],[Čas]])","v":727}]
["MA","Kolenčík","Vojtěch","0220002",3732,100,3714,{"$f":"ExportXML3_SplitTimes[[#This Row],[GivenName]]&\" \"&ExportXML3_SplitTimes[[#This Row],[FamilyName]]","v":"Vojtěch Kolenčík"},{"$f":"_xlfn.XLOOKUP(ExportXML3_SplitTimes[[#This Row],[PersonId]],#REF!,#REF!,\"-\")","v":{"$error":"#REF!"}},{"$f":"ExportXML3_SplitTimes[[#This Row],[Kategorie]] & \" - \" & ExportXML3_SplitTimes[[#This Row],[Závodník]] & \" (\" & ExportXML3_SplitTimes[[#This Row],[Číslo čipu]] & \")\"","v":{"$error":"#REF!"}},{"$f":"ExportXML3_SplitTimes[[#This Row],[ControlCode]]","v":100},{"$f":"ExportXML3_SplitTimes[[#This Row],[SplitTimeSeconds]]/3600/24","v":"01:01:54"},{"$f":"COUNTIFS(ExportXML3_SplitTimes[Legenda],ExportXML3_SplitTimes[[#This Row],[Legenda]],ExportXML3_SplitTimes[Čas],\"<=\"&ExportXML3_SplitTimes[[#This Row],[Čas]])","v":749}]
["MA","Janík","Pavel","0130001",3857,93,415,{"$f":"ExportXML3_SplitTimes[[#This Row],[GivenName]]&\" \"&ExportXML3_SplitTimes[[#This Row],[FamilyName]]","v":"Pavel Janík"},{"$f":"_xlfn.XLOOKUP(ExportXML3_SplitTimes[[#This Row],[PersonId]],#REF!,#REF!,\"-\")","v":{"$error":"#REF!"}},{"$f":"ExportXML3_SplitTimes[[#This Row],[Kategorie]] & \" - \" & ExportXML3_SplitTimes[[#This Row],[Závodník]] & \" (\" & ExportXML3_SplitTimes[[#This Row],[Číslo čipu]] & \")\"","v":{"$error":"#REF!"}},{"$f":"ExportXML3_SplitTimes[[#This Row],[ControlCode]]","v":93},{"$f":"ExportXML3_SplitTimes[[#This Row],[SplitTimeSeconds]]/3600/24","v":"00:06:55"},{"$f":"COUNTIFS(ExportXML3_SplitTimes[Legenda],ExportXML3_SplitTimes[[#This Row],[Legenda]],ExportXML3_SplitTimes[Čas],\"<=\"&ExportXML3_SplitTimes[[#This Row],[Čas]])","v":56}]
["MA","Janík","Pavel","0130001",3857,55,706,{"$f":"ExportXML3_SplitTimes[[#This Row],[GivenName]]&\" \"&ExportXML3_SplitTimes[[#This Row],[FamilyName]]","v":"Pavel Janík"},{"$f":"_xlfn.XLOOKUP(ExportXML3_SplitTimes[[#This Row],[PersonId]],#REF!,#REF!,\"-\")","v":{"$error":"#REF!"}},{"$f":"ExportXML3_SplitTimes[[#This Row],[Kategorie]] & \" - \" & ExportXML3_SplitTimes[[#This Row],[Závodník]] & \" (\" & ExportXML3_SplitTimes[[#This Row],[Číslo čipu]] & \")\"","v":{"$error":"#REF!"}},{"$f":"ExportXML3_SplitTimes[[#This Row],[ControlCode]]","v":55},{"$f":"ExportXML3_SplitTimes[[#This Row],[SplitTimeSeconds]]/3600/24","v":"00:11:46"},{"$f":"COUNTIFS(ExportXML3_SplitTimes[Legenda],ExportXML3_SplitTimes[[#This Row],[Legenda]],ExportXML3_SplitTimes[Čas],\"<=\"&ExportXML3_SplitTimes[[#This Row],[Čas]])","v":142}]
["MA","Janík","Pavel","0130001",3857,54,777,{"$f":"ExportXML3_SplitTimes[[#This Row],[GivenName]]&\" \"&ExportXML3_SplitTimes[[#This Row],[FamilyName]]","v":"Pavel Janík"},{"$f":"_xlfn.XLOOKUP(ExportXML3_SplitTimes[[#This Row],[PersonId]],#REF!,#REF!,\"-\")","v":{"$error":"#REF!"}},{"$f":"ExportXML3_SplitTimes[[#This Row],[Kategorie]] & \" - \" & ExportXML3_SplitTimes[[#This Row],[Závodník]] & \" (\" & ExportXML3_SplitTimes[[#This Row],[Číslo čipu]] & \")\"","v":{"$error":"#REF!"}},{"$f":"ExportXML3_SplitTimes[[#This Row],[ControlCode]]","v":54},{"$f":"ExportXML3_SplitTimes[[#This Row],[SplitTimeSeconds]]/3600/24","v":"00:12:57"},{"$f":"COUNTIFS(ExportXML3_SplitTimes[Legenda],ExportXML3_SplitTimes[[#This Row],[Legenda]],ExportXML3_SplitTimes[Čas],\"<=\"&ExportXML3_SplitTimes[[#This Row],[Čas]])","v":162}]
["MA","Janík","Pavel","0130001",3857,53,915,{"$f":"ExportXML3_SplitTimes[[#This Row],[GivenName]]&\" \"&ExportXML3_SplitTimes[[#This Row],[FamilyName]]","v":"Pavel Janík"},{"$f":"_xlfn.XLOOKUP(ExportXML3_SplitTimes[[#This Row],[PersonId]],#REF!,#REF!,\"-\")","v":{"$error":"#REF!"}},{"$f":"ExportXML3_SplitTimes[[#This Row],[Kategorie]] & \" - \" & ExportXML3_SplitTimes[[#This Row],[Závodník]] & \" (\" & ExportXML3_SplitTimes[[#This Row],[Číslo čipu]] & \")\"","v":{"$error":"#REF!"}},{"$f":"ExportXML3_SplitTimes[[#This Row],[ControlCode]]","v":53},{"$f":"ExportXML3_SplitTimes[[#This Row],[SplitTimeSeconds]]/3600/24","v":"00:15:15"},{"$f":"COUNTIFS(ExportXML3_SplitTimes[Legenda],ExportXML3_SplitTimes[[#This Row],[Legenda]],ExportXML3_SplitTimes[Čas],\"<=\"&ExportXML3_SplitTimes[[#This Row],[Čas]])","v":197}]
["MA","Janík","Pavel","0130001",3857,50,1139,{"$f":"ExportXML3_SplitTimes[[#This Row],[GivenName]]&\" \"&ExportXML3_SplitTimes[[#This Row],[FamilyName]]","v":"Pavel Janík"},{"$f":"_xlfn.XLOOKUP(ExportXML3_SplitTimes[[#This Row],[PersonId]],#REF!,#REF!,\"-\")","v":{"$error":"#REF!"}},{"$f":"ExportXML3_SplitTimes[[#This Row],[Kategorie]] & \" - \" & ExportXML3_SplitTimes[[#This Row],[Závodník]] & \" (\" & ExportXML3_SplitTimes[[#This Row],[Číslo čipu]] & \")\"","v":{"$error":"#REF!"}},{"$f":"ExportXML3_SplitTimes[[#This Row],[ControlCode]]","v":50},{"$f":"ExportXML3_SplitTimes[[#This Row],[SplitTimeSeconds]]/3600/24","v":"00:18:59"},{"$f":"COUNTIFS(ExportXML3_SplitTimes[Legenda],ExportXML3_SplitTimes[[#This Row],[Legenda]],ExportXML3_SplitTimes[Čas],\"<=\"&ExportXML3_SplitTimes[[#This Row],[Čas]])","v":258}]
["MA","Janík","Pavel","0130001",3857,49,1209,{"$f":"ExportXML3_SplitTimes[[#This Row],[GivenName]]&\" \"&ExportXML3_SplitTimes[[#This Row],[FamilyName]]","v":"Pavel Janík"},{"$f":"_xlfn.XLOOKUP(ExportXML3_SplitTimes[[#This Row],[PersonId]],#REF!,#REF!,\"-\")","v":{"$error":"#REF!"}},{"$f":"ExportXML3_SplitTimes[[#This Row],[Kategorie]] & \" - \" & ExportXML3_SplitTimes[[#This Row],[Závodník]] & \" (\" & ExportXML3_SplitTimes[[#This Row],[Číslo čipu]] & \")\"","v":{"$error":"#REF!"}},{"$f":"ExportXML3_SplitTimes[[#This Row],[ControlCode]]","v":49},{"$f":"ExportXML3_SplitTimes[[#This Row],[SplitTimeSeconds]]/3600/24","v":"00:20:09"},{"$f":"COUNTIFS(ExportXML3_SplitTimes[Legenda],ExportXML3_SplitTimes[[#This Row],[Legenda]],ExportXML3_SplitTimes[Čas],\"<=\"&ExportXML3_SplitTimes[[#This Row],[Čas]])","v":275}]
["MA","Janík","Pavel","0130001",3857,56,1403,{"$f":"ExportXML3_SplitTimes[[#This Row],[GivenName]]&\" \"&ExportXML3_SplitTimes[[#This Row],[FamilyName]]","v":"Pavel Janík"},{"$f":"_xlfn.XLOOKUP(ExportXML3_SplitTimes[[#This Row],[PersonId]],#REF!,#REF!,\"-\")","v":{"$error":"#REF!"}},{"$f":"ExportXML3_SplitTimes[[#This Row],[Kategorie]] & \" - \" & ExportXML3_SplitTimes[[#This Row],[Závodník]] & \" (\" & ExportXML3_SplitTimes[[#This Row],[Číslo čipu]] & \")\"","v":{"$error":"#REF!"}},{"$f":"ExportXML3_SplitTimes[[#This Row],[ControlCode]]","v":56},{"$f":"ExportXML3_SplitTimes[[#This Row],[SplitTimeSeconds]]/3600/24","v":"00:23:23"},{"$f":"COUNTIFS(ExportXML3_SplitTimes[Legenda],ExportXML3_SplitTimes[[#This Row],[Legenda]],ExportXML3_SplitTimes[Čas],\"<=\"&ExportXML3_SplitTimes[[#This Row],[Čas]])","v":316}]
["MA","Janík","Pavel","0130001",3857,42,1859,{"$f":"ExportXML3_SplitTimes[[#This Row],[GivenName]]&\" \"&ExportXML3_SplitTimes[[#This Row],[FamilyName]]","v":"Pavel Janík"},{"$f":"_xlfn.XLOOKUP(ExportXML3_SplitTimes[[#This Row],[PersonId]],#REF!,#REF!,\"-\")","v":{"$error":"#REF!"}},{"$f":"ExportXML3_SplitTimes[[#This Row],[Kategorie]] & \" - \" & ExportXML3_SplitTimes[[#This Row],[Závodník]] & \" (\" & ExportXML3_SplitTimes[[#This Row],[Číslo čipu]] & \")\"","v":{"$error":"#REF!"}},{"$f":"ExportXML3_SplitTimes[[#This Row],[ControlCode]]","v":42},{"$f":"ExportXML3_SplitTimes[[#This Row],[SplitTimeSeconds]]/3600/24","v":"00:30:59"},{"$f":"COUNTIFS(ExportXML3_SplitTimes[Legenda],ExportXML3_SplitTimes[[#This Row],[Legenda]],ExportXML3_SplitTimes[Čas],\"<=\"&ExportXML3_SplitTimes[[#This Row],[Čas]])","v":424}]
["MA","Janík","Pavel","0130001",3857,47,2048,{"$f":"ExportXML3_SplitTimes[[#This Row],[GivenName]]&\" \"&ExportXML3_SplitTimes[[#This Row],[FamilyName]]","v":"Pavel Janík"},{"$f":"_xlfn.XLOOKUP(ExportXML3_SplitTimes[[#This Row],[PersonId]],#REF!,#REF!,\"-\")","v":{"$error":"#REF!"}},{"$f":"ExportXML3_SplitTimes[[#This Row],[Kategorie]] & \" - \" & ExportXML3_SplitTimes[[#This Row],[Závodník]] & \" (\" & ExportXML3_SplitTimes[[#This Row],[Číslo čipu]] & \")\"","v":{"$error":"#REF!"}},{"$f":"ExportXML3_SplitTimes[[#This Row],[ControlCode]]","v":47},{"$f":"ExportXML3_SplitTimes[[#This Row],[SplitTimeSeconds]]/3600/24","v":"00:34:08"},{"$f":"COUNTIFS(ExportXML3_SplitTimes[Legenda],ExportXML3_SplitTimes[[#This Row],[Legenda]],ExportXML3_SplitTimes[Čas],\"<=\"&ExportXML3_SplitTimes[[#This Row],[Čas]])","v":472}]
["MA","Janík","Pavel","0130001",3857,60,2257,{"$f":"ExportXML3_SplitTimes[[#This Row],[GivenName]]&\" \"&ExportXML3_SplitTimes[[#This Row],[FamilyName]]","v":"Pavel Janík"},{"$f":"_xlfn.XLOOKUP(ExportXML3_SplitTimes[[#This Row],[PersonId]],#REF!,#REF!,\"-\")","v":{"$error":"#REF!"}},{"$f":"ExportXML3_SplitTimes[[#This Row],[Kategorie]] & \" - \" & ExportXML3_SplitTimes[[#This Row],[Závodník]] & \" (\" & ExportXML3_SplitTimes[[#This Row],[Číslo čipu]] & \")\"","v":{"$error":"#REF!"}},{"$f":"ExportXML3_SplitTimes[[#This Row],[ControlCode]]","v":60},{"$f":"ExportXML3_SplitTimes[[#This Row],[SplitTimeSeconds]]/3600/24","v":"00:37:37"},{"$f":"COUNTIFS(ExportXML3_SplitTimes[Legenda],ExportXML3_SplitTimes[[#This Row],[Legenda]],ExportXML3_SplitTimes[Čas],\"<=\"&ExportXML3_SplitTimes[[#This Row],[Čas]])","v":512}]
["MA","Janík","Pavel","0130001",3857,61,2426,{"$f":"ExportXML3_SplitTimes[[#This Row],[GivenName]]&\" \"&ExportXML3_SplitTimes[[#This Row],[FamilyName]]","v":"Pavel Janík"},{"$f":"_xlfn.XLOOKUP(ExportXML3_SplitTimes[[#This Row],[PersonId]],#REF!,#REF!,\"-\")","v":{"$error":"#REF!"}},{"$f":"ExportXML3_SplitTimes[[#This Row],[Kategorie]] & \" - \" & ExportXML3_SplitTimes[[#This Row],[Závodník]] & \" (\" & ExportXML3_SplitTimes[[#This Row],[Číslo čipu]] & \")\"","v":{"$error":"#REF!"}},{"$f":"ExportXML3_SplitTimes[[#This Row],[ControlCode]]","v":61},{"$f":"ExportXML3_SplitTimes[[#This Row],[SplitTimeSeconds]]/3600/24","v":"00:40:26"},{"$f":"COUNTIFS(ExportXML3_SplitTimes[Legenda],ExportXML3_SplitTimes[[#This Row],[Legenda]],ExportXML3_SplitTimes[Čas],\"<=\"&ExportXML3_SplitTimes[[#This Row],[Čas]])","v":552}]
["MA","Janík","Pavel","0130001",3857,80,2648,{"$f":"ExportXML3_SplitTimes[[#This Row],[GivenName]]&\" \"&ExportXML3_SplitTimes[[#This Row],[FamilyName]]","v":"Pavel Janík"},{"$f":"_xlfn.XLOOKUP(ExportXML3_SplitTimes[[#This Row],[PersonId]],#REF!,#REF!,\"-\")","v":{"$error":"#REF!"}},{"$f":"ExportXML3_SplitTimes[[#This Row],[Kategorie]] & \" - \" & ExportXML3_SplitTimes[[#This Row],[Závodník]] & \" (\" & ExportXML3_SplitTimes[[#This Row],[Číslo čipu]] & \")\"","v":{"$error":"#REF!"}},{"$f":"ExportXML3_SplitTimes[[#This Row],[ControlCode]]","v":80},{"$f":"ExportXML3_SplitTimes[[#This Row],[SplitTimeSeconds]]/3600/24","v":"00:44:08"},{"$f":"COUNTIFS(ExportXML3_SplitTimes[Legenda],ExportXML3_SplitTimes[[#This Row],[Legenda]],ExportXML3_SplitTimes[Čas],\"<=\"&ExportXML3_SplitTimes[[#This Row],[Čas]])","v":593}]
["MA","Janík","Pavel","0130001",3857,62,2978,{"$f":"ExportXML3_SplitTimes[[#This Row],[GivenName]]&\" \"&ExportXML3_SplitTimes[[#This Row],[FamilyName]]","v":"Pavel Janík"},{"$f":"_xlfn.XLOOKUP(ExportXML3_SplitTimes[[#This Row],[PersonId]],#REF!,#REF!,\"-\")","v":{"$error":"#REF!"}},{"$f":"ExportXML3_SplitTimes[[#This Row],[Kategorie]] & \" - \" & ExportXML3_SplitTimes[[#This Row],[Závodník]] & \" (\" & ExportXML3_SplitTimes[[#This Row],[Číslo čipu]] & \")\"","v":{"$error":"#REF!"}},{"$f":"ExportXML3_SplitTimes[[#This Row],[ControlCode]]","v":62},{"$f":"ExportXML3_SplitTimes[[#This Row],[SplitTimeSeconds]]/3600/24","v":"00:49:38"},{"$f":"COUNTIFS(ExportXML3_SplitTimes[Legenda],ExportXML3_SplitTimes[[#This Row],[Legenda]],ExportXML3_SplitTimes[Čas],\"<=\"&ExportXML3_SplitTimes[[#This Row],[Čas]])","v":663}]
["MA","Janík","Pavel","0130001",3857,65,3218,{"$f":"ExportXML3_SplitTimes[[#This Row],[GivenName]]&\" \"&ExportXML3_SplitTimes[[#This Row],[FamilyName]]","v":"Pavel Janík"},{"$f":"_xlfn.XLOOKUP(ExportXML3_SplitTimes[[#This Row],[PersonId]],#REF!,#REF!,\"-\")","v":{"$error":"#REF!"}},{"$f":"ExportXML3_SplitTimes[[#This Row],[Kategorie]] & \" - \" & ExportXML3_SplitTimes[[#This Row],[Závodník]] & \" (\" & ExportXML3_SplitTimes[[#This Row],[Číslo čipu]] & \")\"","v":{"$error":"#REF!"}},{"$f":"ExportXML3_SplitTimes[[#This Row],[ControlCode]]","v":65},{"$f":"ExportXML3_SplitTimes[[#This Row],[SplitTimeSeconds]]/3600/24","v":"00:53:38"},{"$f":"COUNTIFS(ExportXML3_SplitTimes[Legenda],ExportXML3_SplitTimes[[#This Row],[Legenda]],ExportXML3_SplitTimes[Čas],\"<=\"&ExportXML3_SplitTimes[[#This Row],[Čas]])","v":697}]
["MA","Janík","Pavel","0130001",3857,76,3343,{"$f":"ExportXML3_SplitTimes[[#This Row],[GivenName]]&\" \"&ExportXML3_SplitTimes[[#This Row],[FamilyName]]","v":"Pavel Janík"},{"$f":"_xlfn.XLOOKUP(ExportXML3_SplitTimes[[#This Row],[PersonId]],#REF!,#REF!,\"-\")","v":{"$error":"#REF!"}},{"$f":"ExportXML3_SplitTimes[[#This Row],[Kategorie]] & \" - \" & ExportXML3_SplitTimes[[#This Row],[Závodník]] & \" (\" & ExportXML3_SplitTimes[[#This Row],[Číslo čipu]] & \")\"","v":{"$error":"#REF!"}},{"$f":"ExportXML3_SplitTimes[[#This Row],[ControlCode]]","v":76},{"$f":"ExportXML3_SplitTimes[[#This Row],[SplitTimeSeconds]]/3600/24","v":"00:55:43"},{"$f":"COUNTIFS(ExportXML3_SplitTimes[Legenda],ExportXML3_SplitTimes[[#This Row],[Legenda]],ExportXML3_SplitTimes[Čas],\"<=\"&ExportXML3_SplitTimes[[#This Row],[Čas]])","v":714}]
["MA","Janík","Pavel","0130001",3857,71,3533,{"$f":"ExportXML3_SplitTimes[[#This Row],[GivenName]]&\" \"&ExportXML3_SplitTimes[[#This Row],[FamilyName]]","v":"Pavel Janík"},{"$f":"_xlfn.XLOOKUP(ExportXML3_SplitTimes[[#This Row],[PersonId]],#REF!,#REF!,\"-\")","v":{"$error":"#REF!"}},{"$f":"ExportXML3_SplitTimes[[#This Row],[Kategorie]] & \" - \" & ExportXML3_SplitTimes[[#This Row],[Závodník]] & \" (\" & ExportXML3_SplitTimes[[#This Row],[Číslo čipu]] & \")\"","v":{"$error":"#REF!"}},{"$f":"ExportXML3_SplitTimes[[#This Row],[ControlCode]]","v":71},{"$f":"ExportXML3_SplitTimes[[#This Row],[SplitTimeSeconds]]/3600/24","v":"00:58:53"},{"$f":"COUNTIFS(ExportXML3_SplitTimes[Legenda],ExportXML3_SplitTimes[[#This Row],[Legenda]],ExportXML3_SplitTimes[Čas],\"<=\"&ExportXML3_SplitTimes[[#This Row],[Čas]])","v":736}]
["MA","Janík","Pavel","0130001",3857,74,3704,{"$f":"ExportXML3_SplitTimes[[#This Row],[GivenName]]&\" \"&ExportXML3_SplitTimes[[#This Row],[FamilyName]]","v":"Pavel Janík"},{"$f":"_xlfn.XLOOKUP(ExportXML3_SplitTimes[[#This Row],[PersonId]],#REF!,#REF!,\"-\")","v":{"$error":"#REF!"}},{"$f":"ExportXML3_SplitTimes[[#This Row],[Kategorie]] & \" - \" & ExportXML3_SplitTimes[[#This Row],[Závodník]] & \" (\" & ExportXML3_SplitTimes[[#This Row],[Číslo čipu]] & \")\"","v":{"$error":"#REF!"}},{"$f":"ExportXML3_SplitTimes[[#This Row],[ControlCode]]","v":74},{"$f":"ExportXML3_SplitTimes[[#This Row],[SplitTimeSeconds]]/3600/24","v":"01:01:44"},{"$f":"COUNTIFS(ExportXML3_SplitTimes[Legenda],ExportXML3_SplitTimes[[#This Row],[Legenda]],ExportXML3_SplitTimes[Čas],\"<=\"&ExportXML3_SplitTimes[[#This Row],[Čas]])","v":747}]
["MA","Janík","Pavel","0130001",3857,100,3840,{"$f":"ExportXML3_SplitTimes[[#This Row],[GivenName]]&\" \"&ExportXML3_SplitTimes[[#This Row],[FamilyName]]","v":"Pavel Janík"},{"$f":"_xlfn.XLOOKUP(ExportXML3_SplitTimes[[#This Row],[PersonId]],#REF!,#REF!,\"-\")","v":{"$error":"#REF!"}},{"$f":"ExportXML3_SplitTimes[[#This Row],[Kategorie]] & \" - \" & ExportXML3_SplitTimes[[#This Row],[Závodník]] & \" (\" & ExportXML3_SplitTimes[[#This Row],[Číslo čipu]] & \")\"","v":{"$error":"#REF!"}},{"$f":"ExportXML3_SplitTimes[[#This Row],[ControlCode]]","v":100},{"$f":"ExportXML3_SplitTimes[[#This Row],[SplitTimeSeconds]]/3600/24","v":"01:04:00"},{"$f":"COUNTIFS(ExportXML3_SplitTimes[Legenda],ExportXML3_SplitTimes[[#This Row],[Legenda]],ExportXML3_SplitTimes[Čas],\"<=\"&ExportXML3_SplitTimes[[#This Row],[Čas]])","v":755}]
["MA","Veselý","Václav","0100002",5055,93,730,{"$f":"ExportXML3_SplitTimes[[#This Row],[GivenName]]&\" \"&ExportXML3_SplitTimes[[#This Row],[FamilyName]]","v":"Václav Veselý"},{"$f":"_xlfn.XLOOKUP(ExportXML3_SplitTimes[[#This Row],[PersonId]],#REF!,#REF!,\"-\")","v":{"$error":"#REF!"}},{"$f":"ExportXML3_SplitTimes[[#This Row],[Kategorie]] & \" - \" & ExportXML3_SplitTimes[[#This Row],[Závodník]] & \" (\" & ExportXML3_SplitTimes[[#This Row],[Číslo čipu]] & \")\"","v":{"$error":"#REF!"}},{"$f":"ExportXML3_SplitTimes[[#This Row],[ControlCode]]","v":93},{"$f":"ExportXML3_SplitTimes[[#This Row],[SplitTimeSeconds]]/3600/24","v":"00:12:10"},{"$f":"COUNTIFS(ExportXML3_SplitTimes[Legenda],ExportXML3_SplitTimes[[#This Row],[Legenda]],ExportXML3_SplitTimes[Čas],\"<=\"&ExportXML3_SplitTimes[[#This Row],[Čas]])","v":149}]
["MA","Veselý","Václav","0100002",5055,55,1125,{"$f":"ExportXML3_SplitTimes[[#This Row],[GivenName]]&\" \"&ExportXML3_SplitTimes[[#This Row],[FamilyName]]","v":"Václav Veselý"},{"$f":"_xlfn.XLOOKUP(ExportXML3_SplitTimes[[#This Row],[PersonId]],#REF!,#REF!,\"-\")","v":{"$error":"#REF!"}},{"$f":"ExportXML3_SplitTimes[[#This Row],[Kategorie]] & \" - \" & ExportXML3_SplitTimes[[#This Row],[Závodník]] & \" (\" & ExportXML3_SplitTimes[[#This Row],[Číslo čipu]] & \")\"","v":{"$error":"#REF!"}},{"$f":"ExportXML3_SplitTimes[[#This Row],[ControlCode]]","v":55},{"$f":"ExportXML3_SplitTimes[[#This Row],[SplitTimeSeconds]]/3600/24","v":"00:18:45"},{"$f":"COUNTIFS(ExportXML3_SplitTimes[Legenda],ExportXML3_SplitTimes[[#This Row],[Legenda]],ExportXML3_SplitTimes[Čas],\"<=\"&ExportXML3_SplitTimes[[#This Row],[Čas]])","v":251}]
["MA","Veselý","Václav","0100002",5055,54,1243,{"$f":"ExportXML3_SplitTimes[[#This Row],[GivenName]]&\" \"&ExportXML3_SplitTimes[[#This Row],[FamilyName]]","v":"Václav Veselý"},{"$f":"_xlfn.XLOOKUP(ExportXML3_SplitTimes[[#This Row],[PersonId]],#REF!,#REF!,\"-\")","v":{"$error":"#REF!"}},{"$f":"ExportXML3_SplitTimes[[#This Row],[Kategorie]] & \" - \" & ExportXML3_SplitTimes[[#This Row],[Závodník]] & \" (\" & ExportXML3_SplitTimes[[#This Row],[Číslo čipu]] & \")\"","v":{"$error":"#REF!"}},{"$f":"ExportXML3_SplitTimes[[#This Row],[ControlCode]]","v":54},{"$f":"ExportXML3_SplitTimes[[#This Row],[SplitTimeSeconds]]/3600/24","v":"00:20:43"},{"$f":"COUNTIFS(ExportXML3_SplitTimes[Legenda],ExportXML3_SplitTimes[[#This Row],[Legenda]],ExportXML3_SplitTimes[Čas],\"<=\"&ExportXML3_SplitTimes[[#This Row],[Čas]])","v":282}]
["MA","Veselý","Václav","0100002",5055,53,1499,{"$f":"ExportXML3_SplitTimes[[#This Row],[GivenName]]&\" \"&ExportXML3_SplitTimes[[#This Row],[FamilyName]]","v":"Václav Veselý"},{"$f":"_xlfn.XLOOKUP(ExportXML3_SplitTimes[[#This Row],[PersonId]],#REF!,#REF!,\"-\")","v":{"$error":"#REF!"}},{"$f":"ExportXML3_SplitTimes[[#This Row],[Kategorie]] & \" - \" & ExportXML3_SplitTimes[[#This Row],[Závodník]] & \" (\" & ExportXML3_SplitTimes[[#This Row],[Číslo čipu]] & \")\"","v":{"$error":"#REF!"}},{"$f":"ExportXML3_SplitTimes[[#This Row],[ControlCode]]","v":53},{"$f":"ExportXML3_SplitTimes[[#This Row],[SplitTimeSeconds]]/3600/24","v":"00:24:59"},{"$f":"COUNTIFS(ExportXML3_SplitTimes[Legenda],ExportXML3_SplitTimes[[#This Row],[Legenda]],ExportXML3_SplitTimes[Čas],\"<=\"&ExportXML3_SplitTimes[[#This Row],[Čas]])","v":334}]
["MA","Veselý","Václav","0100002",5055,50,1781,{"$f":"ExportXML3_SplitTimes[[#This Row],[GivenName]]&\" \"&ExportXML3_SplitTimes[[#This Row],[FamilyName]]","v":"Václav Veselý"},{"$f":"_xlfn.XLOOKUP(ExportXML3_SplitTimes[[#This Row],[PersonId]],#REF!,#REF!,\"-\")","v":{"$error":"#REF!"}},{"$f":"ExportXML3_SplitTimes[[#This Row],[Kategorie]] & \" - \" & ExportXML3_SplitTimes[[#This Row],[Závodník]] & \" (\" & ExportXML3_SplitTimes[[#This Row],[Číslo čipu]] & \")\"","v":{"$error":"#REF!"}},{"$f":"ExportXML3_SplitTimes[[#This Row],[ControlCode]]","v":50},{"$f":"ExportXML3_SplitTimes[[#This Row],[SplitTimeSeconds]]/3600/24","v":"00:29:41"},{"$f":"COUNTIFS(ExportXML3_SplitTimes[Legenda],ExportXML3_SplitTimes[[#This Row],[Legenda]],ExportXML3_SplitTimes[Čas],\"<=\"&ExportXML3_SplitTimes[[#This Row],[Čas]])","v":408}]
["MA","Veselý","Václav","0100002",5055,49,1866,{"$f":"ExportXML3_SplitTimes[[#This Row],[GivenName]]&\" \"&ExportXML3_SplitTimes[[#This Row],[FamilyName]]","v":"Václav Veselý"},{"$f":"_xlfn.XLOOKUP(ExportXML3_SplitTimes[[#This Row],[PersonId]],#REF!,#REF!,\"-\")","v":{"$error":"#REF!"}},{"$f":"ExportXML3_SplitTimes[[#This Row],[Kategorie]] & \" - \" & ExportXML3_SplitTimes[[#This Row],[Závodník]] & \" (\" & ExportXML3_SplitTimes[[#This Row],[Číslo čipu]] & \")\"","v":{"$error":"#REF!"}},{"$f":"ExportXML3_SplitTimes[[#This Row],[ControlCode]]","v":49},{"$f":"ExportXML3_SplitTimes[[#This Row],[SplitTimeSeconds]]/3600/24","v":"00:31:06"},{"$f":"COUNTIFS(ExportXML3_SplitTimes[Legenda],ExportXML3_SplitTimes[[#This Row],[Legenda]],ExportXML3_SplitTimes[Čas],\"<=\"&ExportXML3_SplitTimes[[#This Row],[Čas]])","v":427}]
["MA","Veselý","Václav","0100002",5055,56,2176,{"$f":"ExportXML3_SplitTimes[[#This Row],[GivenName]]&\" \"&ExportXML3_SplitTimes[[#This Row],[FamilyName]]","v":"Václav Veselý"},{"$f":"_xlfn.XLOOKUP(ExportXML3_SplitTimes[[#This Row],[PersonId]],#REF!,#REF!,\"-\")","v":{"$error":"#REF!"}},{"$f":"ExportXML3_SplitTimes[[#This Row],[Kategorie]] & \" - \" & ExportXML3_SplitTimes[[#This Row],[Závodník]] & \" (\" & ExportXML3_SplitTimes[[#This Row],[Číslo čipu]] & \")\"","v":{"$error":"#REF!"}},{"$f":"ExportXML3_SplitTimes[[#This Row],[ControlCode]]","v":56},{"$f":"ExportXML3_SplitTimes[[#This Row],[SplitTimeSeconds]]/3600/24","v":"00:36:16"},{"$f":"COUNTIFS(ExportXML3_SplitTimes[Legenda],ExportXML3_SplitTimes[[#This Row],[Legenda]],ExportXML3_SplitTimes[Čas],\"<=\"&ExportXML3_SplitTimes[[#This Row],[Čas]])","v":494}]
["MA","Veselý","Václav","0100002",5055,42,2691,{"$f":"ExportXML3_SplitTimes[[#This Row],[GivenName]]&\" \"&ExportXML3_SplitTimes[[#This Row],[FamilyName]]","v":"Václav Veselý"},{"$f":"_xlfn.XLOOKUP(ExportXML3_SplitTimes[[#This Row],[PersonId]],#REF!,#REF!,\"-\")","v":{"$error":"#REF!"}},{"$f":"ExportXML3_SplitTimes[[#This Row],[Kategorie]] & \" - \" & ExportXML3_SplitTimes[[#This Row],[Závodník]] & \" (\" & ExportXML3_SplitTimes[[#This Row],[Číslo čipu]] & \")\"","v":{"$error":"#REF!"}},{"$f":"ExportXML3_SplitTimes[[#This Row],[ControlCode]]","v":42},{"$f":"ExportXML3_SplitTimes[[#This Row],[SplitTimeSeconds]]/3600/24","v":"00:44:51"},{"$f":"COUNTIFS(ExportXML3_SplitTimes[Legenda],ExportXML3_SplitTimes[[#This Row],[Legenda]],ExportXML3_SplitTimes[Čas],\"<=\"&ExportXML3_SplitTimes[[#This Row],[Čas]])","v":607}]
["MA","Veselý","Václav","0100002",5055,47,2874,{"$f":"ExportXML3_SplitTimes[[#This Row],[GivenName]]&\" \"&ExportXML3_SplitTimes[[#This Row],[FamilyName]]","v":"Václav Veselý"},{"$f":"_xlfn.XLOOKUP(ExportXML3_SplitTimes[[#This Row],[PersonId]],#REF!,#REF!,\"-\")","v":{"$error":"#REF!"}},{"$f":"ExportXML3_SplitTimes[[#This Row],[Kategorie]] & \" - \" & ExportXML3_SplitTimes[[#This Row],[Závodník]] & \" (\" & ExportXML3_SplitTimes[[#This Row],[Číslo čipu]] & \")\"","v":{"$error":"#REF!"}},{"$f":"ExportXML3_SplitTimes[[#This Row],[ControlCode]]","v":47},{"$f":"ExportXML3_SplitTimes[[#This Row],[SplitTimeSeconds]]/3600/24","v":"00:47:54"},{"$f":"COUNTIFS(ExportXML3_SplitTimes[Legenda],ExportXML3_SplitTimes[[#This Row],[Legenda]],ExportXML3_SplitTimes[Čas],\"<=\"&ExportXML3_SplitTimes[[#This Row],[Čas]])","v":642}]
["MA","Veselý","Václav","0100002",5055,60,3101,{"$f":"ExportXML3_SplitTimes[[#This Row],[GivenName]]&\" \"&ExportXML3_SplitTimes[[#This Row],[FamilyName]]","v":"Václav Veselý"},{"$f":"_xlfn.XLOOKUP(ExportXML3_SplitTimes[[#This Row],[PersonId]],#REF!,#REF!,\"-\")","v":{"$error":"#REF!"}},{"$f":"ExportXML3_SplitTimes[[#This Row],[Kategorie]] & \" - \" & ExportXML3_SplitTimes[[#This Row],[Závodník]] & \" (\" & ExportXML3_SplitTimes[[#This Row],[Číslo čipu]] & \")\"","v":{"$error":"#REF!"}},{"$f":"ExportXML3_SplitTimes[[#This Row],[ControlCode]]","v":60},{"$f":"ExportXML3_SplitTimes[[#This Row],[SplitTimeSeconds]]/3600/24","v":"00:51:41"},{"$f":"COUNTIFS(ExportXML3_SplitTimes[Legenda],ExportXML3_SplitTimes[[#This Row],[Legenda]],ExportXML3_SplitTimes[Čas],\"<=\"&ExportXML3_SplitTimes[[#This Row],[Čas]])","v":682}]
["MA","Veselý","Václav","0100002",5055,61,3260,{"$f":"ExportXML3_SplitTimes[[#This Row],[GivenName]]&\" \"&ExportXML3_SplitTimes[[#This Row],[FamilyName]]","v":"Václav Veselý"},{"$f":"_xlfn.XLOOKUP(ExportXML3_SplitTimes[[#This Row],[PersonId]],#REF!,#REF!,\"-\")","v":{"$error":"#REF!"}},{"$f":"ExportXML3_SplitTimes[[#This Row],[Kategorie]] & \" - \" & ExportXML3_SplitTimes[[#This Row],[Závodník]] & \" (\" & ExportXML3_SplitTimes[[#This Row],[Číslo čipu]] & \")\"","v":{"$error":"#REF!"}},{"$f":"ExportXML3_SplitTimes[[#This Row],[ControlCode]]","v":61},{"$f":"ExportXML3_SplitTimes[[#This Row],[SplitTimeSeconds]]/3600/24","v":"00:54:20"},{"$f":"COUNTIFS(ExportXML3_SplitTimes[Legenda],ExportXML3_SplitTimes[[#This Row],[Legenda]],ExportXML3_SplitTimes[Čas],\"<=\"&ExportXML3_SplitTimes[[#This Row],[Čas]])","v":703}]
["MA","Veselý","Václav","0100002",5055,80,3526,{"$f":"ExportXML3_SplitTimes[[#This Row],[GivenName]]&\" \"&ExportXML3_SplitTimes[[#This Row],[FamilyName]]","v":"Václav Veselý"},{"$f":"_xlfn.XLOOKUP(ExportXML3_SplitTimes[[#This Row],[PersonId]],#REF!,#REF!,\"-\")","v":{"$error":"#REF!"}},{"$f":"ExportXML3_SplitTimes[[#This Row],[Kategorie]] & \" - \" & ExportXML3_SplitTimes[[#This Row],[Závodník]] & \" (\" & ExportXML3_SplitTimes[[#This Row],[Číslo čipu]] & \")\"","v":{"$error":"#REF!"}},{"$f":"ExportXML3_SplitTimes[[#This Row],[ControlCode]]","v":80},{"$f":"ExportXML3_SplitTimes[[#This Row],[SplitTimeSeconds]]/3600/24","v":"00:58:46"},{"$f":"COUNTIFS(ExportXML3_SplitTimes[Legenda],ExportXML3_SplitTimes[[#This Row],[Legenda]],ExportXML3_SplitTimes[Čas],\"<=\"&ExportXML3_SplitTimes[[#This Row],[Čas]])","v":732}]
["MA","Veselý","Václav","0100002",5055,62,3909,{"$f":"ExportXML3_SplitTimes[[#This Row],[GivenName]]&\" \"&ExportXML3_SplitTimes[[#This Row],[FamilyName]]","v":"Václav Veselý"},{"$f":"_xlfn.XLOOKUP(ExportXML3_SplitTimes[[#This Row],[PersonId]],#REF!,#REF!,\"-\")","v":{"$error":"#REF!"}},{"$f":"ExportXML3_SplitTimes[[#This Row],[Kategorie]] & \" - \" & ExportXML3_SplitTimes[[#This Row],[Závodník]] & \" (\" & ExportXML3_SplitTimes[[#This Row],[Číslo čipu]] & \")\"","v":{"$error":"#REF!"}},{"$f":"ExportXML3_SplitTimes[[#This Row],[ControlCode]]","v":62},{"$f":"ExportXML3_SplitTimes[[#This Row],[SplitTimeSeconds]]/3600/24","v":"01:05:09"},{"$f":"COUNTIFS(ExportXML3_SplitTimes[Legenda],ExportXML3_SplitTimes[[#This Row],[Legenda]],ExportXML3_SplitTimes[Čas],\"<=\"&ExportXML3_SplitTimes[[#This Row],[Čas]])","v":760}]
["MA","Veselý","Václav","0100002",5055,65,4209,{"$f":"ExportXML3_SplitTimes[[#This Row],[GivenName]]&\" \"&ExportXML3_SplitTimes[[#This Row],[FamilyName]]","v":"Václav Veselý"},{"$f":"_xlfn.XLOOKUP(ExportXML3_SplitTimes[[#This Row],[PersonId]],#REF!,#REF!,\"-\")","v":{"$error":"#REF!"}},{"$f":"ExportXML3_SplitTimes[[#This Row],[Kategorie]] & \" - \" & ExportXML3_SplitTimes[[#This Row],[Závodník]] & \" (\" & ExportXML3_SplitTimes[[#This Row],[Číslo čipu]] & \")\"","v":{"$error":"#REF!"}},{"$f":"ExportXML3_SplitTimes[[#This Row],[ControlCode]]","v":65},{"$f":"ExportXML3_SplitTimes[[#This Row],[SplitTimeSeconds]]/3600/24","v":"01:10:09"},{"$f":"COUNTIFS(ExportXML3_SplitTimes[Legenda],ExportXML3_SplitTimes[[#This Row],[Legenda]],ExportXML3_SplitTimes[Čas],\"<=\"&ExportXML3_SplitTimes[[#This Row],[Čas]])","v":770}]
["MA","Veselý","Václav","0100002",5055,76,4387,{"$f":"ExportXML3_SplitTimes[[#This Row],[GivenName]]&\" \"&ExportXML3_SplitTimes[[#This Row],[FamilyName]]","v":"Václav Veselý"},{"$f":"_xlfn.XLOOKUP(ExportXML3_SplitTimes[[#This Row],[PersonId]],#REF!,#REF!,\"-\")","v":{"$error":"#REF!"}},{"$f":"ExportXML3_SplitTimes[[#This Row],[Kategorie]] & \" - \" & ExportXML3_SplitTimes[[#This Row],[Závodník]] & \" (\" & ExportXML3_SplitTimes[[#This Row],[Číslo čipu]] & \")\"","v":{"$error":"#REF!"}},{"$f":"ExportXML3_SplitTimes[[#This Row],[ControlCode]]","v":76},{"$f":"ExportXML3_SplitTimes[[#This Row],[SplitTimeSeconds]]/3600/24","v":"01:13:07"},{"$f":"COUNTIFS(ExportXML3_SplitTimes[Legenda],ExportXML3_SplitTimes[[#This Row],[Legenda]],ExportXML3_SplitTimes[Čas],\"<=\"&ExportXML3_SplitTimes[[#This Row],[Čas]])","v":777}]
["MA","Veselý","Václav","0100002",5055,71,4561,{"$f":"ExportXML3_SplitTimes[[#This Row],[GivenName]]&\" \"&ExportXML3_SplitTimes[[#This Row],[FamilyName]]","v":"Václav Veselý"},{"$f":"_xlfn.XLOOKUP(ExportXML3_SplitTimes[[#This Row],[PersonId]],#REF!,#REF!,\"-\")","v":{"$error":"#REF!"}},{"$f":"ExportXML3_SplitTimes[[#This Row],[Kategorie]] & \" - \" & ExportXML3_SplitTimes[[#This Row],[Závodník]] & \" (\" & ExportXML3_SplitTimes[[#This Row],[Číslo čipu]] & \")\"","v":{"$error":"#REF!"}},{"$f":"ExportXML3_SplitTimes[[#This Row],[ControlCode]]","v":71},{"$f":"ExportXML3_SplitTimes[[#This Row],[SplitTimeSeconds]]/3600/24","v":"01:16:01"},{"$f":"COUNTIFS(ExportXML3_SplitTimes[Legenda],ExportXML3_SplitTimes[[#This Row],[Legenda]],ExportXML3_SplitTimes[Čas],\"<=\"&ExportXML3_SplitTimes[[#This Row],[Čas]])","v":782}]
["MA","Veselý","Václav","0100002",5055,74,4776,{"$f":"ExportXML3_SplitTimes[[#This Row],[GivenName]]&\" \"&ExportXML3_SplitTimes[[#This Row],[FamilyName]]","v":"Václav Veselý"},{"$f":"_xlfn.XLOOKUP(ExportXML3_SplitTimes[[#This Row],[PersonId]],#REF!,#REF!,\"-\")","v":{"$error":"#REF!"}},{"$f":"ExportXML3_SplitTimes[[#This Row],[Kategorie]] & \" - \" & ExportXML3_SplitTimes[[#This Row],[Závodník]] & \" (\" & ExportXML3_SplitTimes[[#This Row],[Číslo čipu]] & \")\"","v":{"$error":"#REF!"}},{"$f":"ExportXML3_SplitTimes[[#This Row],[ControlCode]]","v":74},{"$f":"ExportXML3_SplitTimes[[#This Row],[SplitTimeSeconds]]/3600/24","v":"01:19:36"},{"$f":"COUNTIFS(ExportXML3_SplitTimes[Legenda],ExportXML3_SplitTimes[[#This Row],[Legenda]],ExportXML3_SplitTimes[Čas],\"<=\"&ExportXML3_SplitTimes[[#This Row],[Čas]])","v":788}]
["MA","Veselý","Václav","0100002",5055,100,5035,{"$f":"ExportXML3_SplitTimes[[#This Row],[GivenName]]&\" \"&ExportXML3_SplitTimes[[#This Row],[FamilyName]]","v":"Václav Veselý"},{"$f":"_xlfn.XLOOKUP(ExportXML3_SplitTimes[[#This Row],[PersonId]],#REF!,#REF!,\"-\")","v":{"$error":"#REF!"}},{"$f":"ExportXML3_SplitTimes[[#This Row],[Kategorie]] & \" - \" & ExportXML3_SplitTimes[[#This Row],[Závodník]] & \" (\" & ExportXML3_SplitTimes[[#This Row],[Číslo čipu]] & \")\"","v":{"$error":"#REF!"}},{"$f":"ExportXML3_SplitTimes[[#This Row],[ControlCode]]","v":100},{"$f":"ExportXML3_SplitTimes[[#This Row],[SplitTimeSeconds]]/3600/24","v":"01:23:55"},{"$f":"COUNTIFS(ExportXML3_SplitTimes[Legenda],ExportXML3_SplitTimes[[#This Row],[Legenda]],ExportXML3_SplitTimes[Čas],\"<=\"&ExportXML3_SplitTimes[[#This Row],[Čas]])","v":792}]
["MB","Janeček","Ondřej","0010003",2676,31,108,{"$f":"ExportXML3_SplitTimes[[#This Row],[GivenName]]&\" \"&ExportXML3_SplitTimes[[#This Row],[FamilyName]]","v":"Ondřej Janeček"},{"$f":"_xlfn.XLOOKUP(ExportXML3_SplitTimes[[#This Row],[PersonId]],#REF!,#REF!,\"-\")","v":{"$error":"#REF!"}},{"$f":"ExportXML3_SplitTimes[[#This Row],[Kategorie]] & \" - \" & ExportXML3_SplitTimes[[#This Row],[Závodník]] & \" (\" & ExportXML3_SplitTimes[[#This Row],[Číslo čipu]] & \")\"","v":{"$error":"#REF!"}},{"$f":"ExportXML3_SplitTimes[[#This Row],[ControlCode]]","v":31},{"$f":"ExportXML3_SplitTimes[[#This Row],[SplitTimeSeconds]]/3600/24","v":"00:01:48"},{"$f":"COUNTIFS(ExportXML3_SplitTimes[Legenda],ExportXML3_SplitTimes[[#This Row],[Legenda]],ExportXML3_SplitTimes[Čas],\"<=\"&ExportXML3_SplitTimes[[#This Row],[Čas]])","v":2}]
["MB","Janeček","Ondřej","0010003",2676,93,545,{"$f":"ExportXML3_SplitTimes[[#This Row],[GivenName]]&\" \"&ExportXML3_SplitTimes[[#This Row],[FamilyName]]","v":"Ondřej Janeček"},{"$f":"_xlfn.XLOOKUP(ExportXML3_SplitTimes[[#This Row],[PersonId]],#REF!,#REF!,\"-\")","v":{"$error":"#REF!"}},{"$f":"ExportXML3_SplitTimes[[#This Row],[Kategorie]] & \" - \" & ExportXML3_SplitTimes[[#This Row],[Závodník]] & \" (\" & ExportXML3_SplitTimes[[#This Row],[Číslo čipu]] & \")\"","v":{"$error":"#REF!"}},{"$f":"ExportXML3_SplitTimes[[#This Row],[ControlCode]]","v":93},{"$f":"ExportXML3_SplitTimes[[#This Row],[SplitTimeSeconds]]/3600/24","v":"00:09:05"},{"$f":"COUNTIFS(ExportXML3_SplitTimes[Legenda],ExportXML3_SplitTimes[[#This Row],[Legenda]],ExportXML3_SplitTimes[Čas],\"<=\"&ExportXML3_SplitTimes[[#This Row],[Čas]])","v":95}]
["MB","Janeček","Ondřej","0010003",2676,56,711,{"$f":"ExportXML3_SplitTimes[[#This Row],[GivenName]]&\" \"&ExportXML3_SplitTimes[[#This Row],[FamilyName]]","v":"Ondřej Janeček"},{"$f":"_xlfn.XLOOKUP(ExportXML3_SplitTimes[[#This Row],[PersonId]],#REF!,#REF!,\"-\")","v":{"$error":"#REF!"}},{"$f":"ExportXML3_SplitTimes[[#This Row],[Kategorie]] & \" - \" & ExportXML3_SplitTimes[[#This Row],[Závodník]] & \" (\" & ExportXML3_SplitTimes[[#This Row],[Číslo čipu]] & \")\"","v":{"$error":"#REF!"}},{"$f":"ExportXML3_SplitTimes[[#This Row],[ControlCode]]","v":56},{"$f":"ExportXML3_SplitTimes[[#This Row],[SplitTimeSeconds]]/3600/24","v":"00:11:51"},{"$f":"COUNTIFS(ExportXML3_SplitTimes[Legenda],ExportXML3_SplitTimes[[#This Row],[Legenda]],ExportXML3_SplitTimes[Čas],\"<=\"&ExportXML3_SplitTimes[[#This Row],[Čas]])","v":143}]
["MB","Janeček","Ondřej","0010003",2676,45,896,{"$f":"ExportXML3_SplitTimes[[#This Row],[GivenName]]&\" \"&ExportXML3_SplitTimes[[#This Row],[FamilyName]]","v":"Ondřej Janeček"},{"$f":"_xlfn.XLOOKUP(ExportXML3_SplitTimes[[#This Row],[PersonId]],#REF!,#REF!,\"-\")","v":{"$error":"#REF!"}},{"$f":"ExportXML3_SplitTimes[[#This Row],[Kategorie]] & \" - \" & ExportXML3_SplitTimes[[#This Row],[Závodník]] & \" (\" & ExportXML3_SplitTimes[[#This Row],[Číslo čipu]] & \")\"","v":{"$error":"#REF!"}},{"$f":"ExportXML3_SplitTimes[[#This Row],[ControlCode]]","v":45},{"$f":"ExportXML3_SplitTimes[[#This Row],[SplitTimeSeconds]]/3600/24","v":"00:14:56"},{"$f":"COUNTIFS(ExportXML3_SplitTimes[Legenda],ExportXML3_SplitTimes[[#This Row],[Legenda]],ExportXML3_SplitTimes[Čas],\"<=\"&ExportXML3_SplitTimes[[#This Row],[Čas]])","v":189}]
["MB","Janeček","Ondřej","0010003",2676,43,1049,{"$f":"ExportXML3_SplitTimes[[#This Row],[GivenName]]&\" \"&ExportXML3_SplitTimes[[#This Row],[FamilyName]]","v":"Ondřej Janeček"},{"$f":"_xlfn.XLOOKUP(ExportXML3_SplitTimes[[#This Row],[PersonId]],#REF!,#REF!,\"-\")","v":{"$error":"#REF!"}},{"$f":"ExportXML3_SplitTimes[[#This Row],[Kategorie]] & \" - \" & ExportXML3_SplitTimes[[#This Row],[Závodník]] & \" (\" & ExportXML3_SplitTimes[[#This Row],[Číslo čipu]] & \")\"","v":{"$error":"#REF!"}},{"$f":"ExportXML3_SplitTimes[[#This Row],[ControlCode]]","v":43},{"$f":"ExportXML3_SplitTimes[[#This Row],[SplitTimeSeconds]]/3600/24","v":"00:17:29"},{"$f":"COUNTIFS(ExportXML3_SplitTimes[Legenda],ExportXML3_SplitTimes[[#This Row],[Legenda]],ExportXML3_SplitTimes[Čas],\"<=\"&ExportXML3_SplitTimes[[#This Row],[Čas]])","v":236}]
["MB","Janeček","Ondřej","0010003",2676,47,1179,{"$f":"ExportXML3_SplitTimes[[#This Row],[GivenName]]&\" \"&ExportXML3_SplitTimes[[#This Row],[FamilyName]]","v":"Ondřej Janeček"},{"$f":"_xlfn.XLOOKUP(ExportXML3_SplitTimes[[#This Row],[PersonId]],#REF!,#REF!,\"-\")","v":{"$error":"#REF!"}},{"$f":"ExportXML3_SplitTimes[[#This Row],[Kategorie]] & \" - \" & ExportXML3_SplitTimes[[#This Row],[Závodník]] & \" (\" & ExportXML3_SplitTimes[[#This Row],[Číslo čipu]] & \")\"","v":{"$error":"#REF!"}},{"$f":"ExportXML3_SplitTimes[[#This Row],[ControlCode]]","v":47},{"$f":"ExportXML3_SplitTimes[[#This Row],[SplitTimeSeconds]]/3600/24","v":"00:19:39"},{"$f":"COUNTIFS(ExportXML3_SplitTimes[Legenda],ExportXML3_SplitTimes[[#This Row],[Legenda]],ExportXML3_SplitTimes[Čas],\"<=\"&ExportXML3_SplitTimes[[#This Row],[Čas]])","v":269}]
["MB","Janeček","Ondřej","0010003",2676,79,1448,{"$f":"ExportXML3_SplitTimes[[#This Row],[GivenName]]&\" \"&ExportXML3_SplitTimes[[#This Row],[FamilyName]]","v":"Ondřej Janeček"},{"$f":"_xlfn.XLOOKUP(ExportXML3_SplitTimes[[#This Row],[PersonId]],#REF!,#REF!,\"-\")","v":{"$error":"#REF!"}},{"$f":"ExportXML3_SplitTimes[[#This Row],[Kategorie]] & \" - \" & ExportXML3_SplitTimes[[#This Row],[Závodník]] & \" (\" & ExportXML3_SplitTimes[[#This Row],[Číslo čipu]] & \")\"","v":{"$error":"#REF!"}},{"$f":"ExportXML3_SplitTimes[[#This Row],[ControlCode]]","v":79},{"$f":"ExportXML3_SplitTimes[[#This Row],[SplitTimeSeconds]]/3600/24","v":"00:24:08"},{"$f":"COUNTIFS(ExportXML3_SplitTimes[Legenda],ExportXML3_SplitTimes[[#This Row],[Legenda]],ExportXML3_SplitTimes[Čas],\"<=\"&ExportXML3_SplitTimes[[#This Row],[Čas]])","v":323}]
["MB","Janeček","Ondřej","0010003",2676,81,1624,{"$f":"ExportXML3_SplitTimes[[#This Row],[GivenName]]&\" \"&ExportXML3_SplitTimes[[#This Row],[FamilyName]]","v":"Ondřej Janeček"},{"$f":"_xlfn.XLOOKUP(ExportXML3_SplitTimes[[#This Row],[PersonId]],#REF!,#REF!,\"-\")","v":{"$error":"#REF!"}},{"$f":"ExportXML3_SplitTimes[[#This Row],[Kategorie]] & \" - \" & ExportXML3_SplitTimes[[#This Row],[Závodník]] & \" (\" & ExportXML3_SplitTimes[[#This Row],[Číslo čipu]] & \")\"","v":{"$error":"#REF!"}},{"$f":"ExportXML3_SplitTimes[[#This Row],[ControlCode]]","v":81},{"$f":"ExportXML3_SplitTimes[[#This Row],[SplitTimeSeconds]]/3600/24","v":"00:27:04"},{"$f":"COUNTIFS(ExportXML3_SplitTimes[Legenda],ExportXML3_SplitTimes[[#This Row],[Legenda]],ExportXML3_SplitTimes[Čas],\"<=\"&ExportXML3_SplitTimes[[#This Row],[Čas]])","v":366}]
["MB","Janeček","Ondřej","0010003",2676,63,1944,{"$f":"ExportXML3_SplitTimes[[#This Row],[GivenName]]&\" \"&ExportXML3_SplitTimes[[#This Row],[FamilyName]]","v":"Ondřej Janeček"},{"$f":"_xlfn.XLOOKUP(ExportXML3_SplitTimes[[#This Row],[PersonId]],#REF!,#REF!,\"-\")","v":{"$error":"#REF!"}},{"$f":"ExportXML3_SplitTimes[[#This Row],[Kategorie]] & \" - \" & ExportXML3_SplitTimes[[#This Row],[Závodník]] & \" (\" & ExportXML3_SplitTimes[[#This Row],[Číslo čipu]] & \")\"","v":{"$error":"#REF!"}},{"$f":"ExportXML3_SplitTimes[[#This Row],[ControlCode]]","v":63},{"$f":"ExportXML3_SplitTimes[[#This Row],[SplitTimeSeconds]]/3600/24","v":"00:32:24"},{"$f":"COUNTIFS(ExportXML3_SplitTimes[Legenda],ExportXML3_SplitTimes[[#This Row],[Legenda]],ExportXML3_SplitTimes[Čas],\"<=\"&ExportXML3_SplitTimes[[#This Row],[Čas]])","v":444}]
["MB","Janeček","Ondřej","0010003",2676,64,2092,{"$f":"ExportXML3_SplitTimes[[#This Row],[GivenName]]&\" \"&ExportXML3_SplitTimes[[#This Row],[FamilyName]]","v":"Ondřej Janeček"},{"$f":"_xlfn.XLOOKUP(ExportXML3_SplitTimes[[#This Row],[PersonId]],#REF!,#REF!,\"-\")","v":{"$error":"#REF!"}},{"$f":"ExportXML3_SplitTimes[[#This Row],[Kategorie]] & \" - \" & ExportXML3_SplitTimes[[#This Row],[Závodník]] & \" (\" & ExportXML3_SplitTimes[[#This Row],[Číslo čipu]] & \")\"","v":{"$error":"#REF!"}},{"$f":"ExportXML3_SplitTimes[[#This Row],[ControlCode]]","v":64},{"$f":"ExportXML3_SplitTimes[[#This Row],[SplitTimeSeconds]]/3600/24","v":"00:34:52"},{"$f":"COUNTIFS(ExportXML3_SplitTimes[Legenda],ExportXML3_SplitTimes[[#This Row],[Legenda]],ExportXML3_SplitTimes[Čas],\"<=\"&ExportXML3_SplitTimes[[#This Row],[Čas]])","v":480}]
["MB","Janeček","Ondřej","0010003",2676,76,2277,{"$f":"ExportXML3_SplitTimes[[#This Row],[GivenName]]&\" \"&ExportXML3_SplitTimes[[#This Row],[FamilyName]]","v":"Ondřej Janeček"},{"$f":"_xlfn.XLOOKUP(ExportXML3_SplitTimes[[#This Row],[PersonId]],#REF!,#REF!,\"-\")","v":{"$error":"#REF!"}},{"$f":"ExportXML3_SplitTimes[[#This Row],[Kategorie]] & \" - \" & ExportXML3_SplitTimes[[#This Row],[Závodník]] & \" (\" & ExportXML3_SplitTimes[[#This Row],[Číslo čipu]] & \")\"","v":{"$error":"#REF!"}},{"$f":"ExportXML3_SplitTimes[[#This Row],[ControlCode]]","v":76},{"$f":"ExportXML3_SplitTimes[[#This Row],[SplitTimeSeconds]]/3600/24","v":"00:37:57"},{"$f":"COUNTIFS(ExportXML3_SplitTimes[Legenda],ExportXML3_SplitTimes[[#This Row],[Legenda]],ExportXML3_SplitTimes[Čas],\"<=\"&ExportXML3_SplitTimes[[#This Row],[Čas]])","v":518}]
["MB","Janeček","Ondřej","0010003",2676,84,2423,{"$f":"ExportXML3_SplitTimes[[#This Row],[GivenName]]&\" \"&ExportXML3_SplitTimes[[#This Row],[FamilyName]]","v":"Ondřej Janeček"},{"$f":"_xlfn.XLOOKUP(ExportXML3_SplitTimes[[#This Row],[PersonId]],#REF!,#REF!,\"-\")","v":{"$error":"#REF!"}},{"$f":"ExportXML3_SplitTimes[[#This Row],[Kategorie]] & \" - \" & ExportXML3_SplitTimes[[#This Row],[Závodník]] & \" (\" & ExportXML3_SplitTimes[[#This Row],[Číslo čipu]] & \")\"","v":{"$error":"#REF!"}},{"$f":"ExportXML3_SplitTimes[[#This Row],[ControlCode]]","v":84},{"$f":"ExportXML3_SplitTimes[[#This Row],[SplitTimeSeconds]]/3600/24","v":"00:40:23"},{"$f":"COUNTIFS(ExportXML3_SplitTimes[Legenda],ExportXML3_SplitTimes[[#This Row],[Legenda]],ExportXML3_SplitTimes[Čas],\"<=\"&ExportXML3_SplitTimes[[#This Row],[Čas]])","v":549}]
["MB","Janeček","Ondřej","0010003",2676,78,2529,{"$f":"ExportXML3_SplitTimes[[#This Row],[GivenName]]&\" \"&ExportXML3_SplitTimes[[#This Row],[FamilyName]]","v":"Ondřej Janeček"},{"$f":"_xlfn.XLOOKUP(ExportXML3_SplitTimes[[#This Row],[PersonId]],#REF!,#REF!,\"-\")","v":{"$error":"#REF!"}},{"$f":"ExportXML3_SplitTimes[[#This Row],[Kategorie]] & \" - \" & ExportXML3_SplitTimes[[#This Row],[Závodník]] & \" (\" & ExportXML3_SplitTimes[[#This Row],[Číslo čipu]] & \")\"","v":{"$error":"#REF!"}},{"$f":"ExportXML3_SplitTimes[[#This Row],[ControlCode]]","v":78},{"$f":"ExportXML3_SplitTimes[[#This Row],[SplitTimeSeconds]]/3600/24","v":"00:42:09"},{"$f":"COUNTIFS(ExportXML3_SplitTimes[Legenda],ExportXML3_SplitTimes[[#This Row],[Legenda]],ExportXML3_SplitTimes[Čas],\"<=\"&ExportXML3_SplitTimes[[#This Row],[Čas]])","v":571}]
["MB","Janeček","Ondřej","0010003",2676,100,2657,{"$f":"ExportXML3_SplitTimes[[#This Row],[GivenName]]&\" \"&ExportXML3_SplitTimes[[#This Row],[FamilyName]]","v":"Ondřej Janeček"},{"$f":"_xlfn.XLOOKUP(ExportXML3_SplitTimes[[#This Row],[PersonId]],#REF!,#REF!,\"-\")","v":{"$error":"#REF!"}},{"$f":"ExportXML3_SplitTimes[[#This Row],[Kategorie]] & \" - \" & ExportXML3_SplitTimes[[#This Row],[Závodník]] & \" (\" & ExportXML3_SplitTimes[[#This Row],[Číslo čipu]] & \")\"","v":{"$error":"#REF!"}},{"$f":"ExportXML3_SplitTimes[[#This Row],[ControlCode]]","v":100},{"$f":"ExportXML3_SplitTimes[[#This Row],[SplitTimeSeconds]]/3600/24","v":"00:44:17"},{"$f":"COUNTIFS(ExportXML3_SplitTimes[Legenda],ExportXML3_SplitTimes[[#This Row],[Legenda]],ExportXML3_SplitTimes[Čas],\"<=\"&ExportXML3_SplitTimes[[#This Row],[Čas]])","v":594}]
["MB","Kolařík","Ladislav","0020002",2749,31,237,{"$f":"ExportXML3_SplitTimes[[#This Row],[GivenName]]&\" \"&ExportXML3_SplitTimes[[#This Row],[FamilyName]]","v":"Ladislav Kolařík"},{"$f":"_xlfn.XLOOKUP(ExportXML3_SplitTimes[[#This Row],[PersonId]],#REF!,#REF!,\"-\")","v":{"$error":"#REF!"}},{"$f":"ExportXML3_SplitTimes[[#This Row],[Kategorie]] & \" - \" & ExportXML3_SplitTimes[[#This Row],[Závodník]] & \" (\" & ExportXML3_SplitTimes[[#This Row],[Číslo čipu]] & \")\"","v":{"$error":"#REF!"}},{"$f":"ExportXML3_SplitTimes[[#This Row],[ControlCode]]","v":31},{"$f":"ExportXML3_SplitTimes[[#This Row],[SplitTimeSeconds]]/3600/24","v":"00:03:57"},{"$f":"COUNTIFS(ExportXML3_SplitTimes[Legenda],ExportXML3_SplitTimes[[#This Row],[Legenda]],ExportXML3_SplitTimes[Čas],\"<=\"&ExportXML3_SplitTimes[[#This Row],[Čas]])","v":13}]
["MB","Kolařík","Ladislav","0020002",2749,93,521,{"$f":"ExportXML3_SplitTimes[[#This Row],[GivenName]]&\" \"&ExportXML3_SplitTimes[[#This Row],[FamilyName]]","v":"Ladislav Kolařík"},{"$f":"_xlfn.XLOOKUP(ExportXML3_SplitTimes[[#This Row],[PersonId]],#REF!,#REF!,\"-\")","v":{"$error":"#REF!"}},{"$f":"ExportXML3_SplitTimes[[#This Row],[Kategorie]] & \" - \" & ExportXML3_SplitTimes[[#This Row],[Závodník]] & \" (\" & ExportXML3_SplitTimes[[#This Row],[Číslo čipu]] & \")\"","v":{"$error":"#REF!"}},{"$f":"ExportXML3_SplitTimes[[#This Row],[ControlCode]]","v":93},{"$f":"ExportXML3_SplitTimes[[#This Row],[SplitTimeSeconds]]/3600/24","v":"00:08:41"},{"$f":"COUNTIFS(ExportXML3_SplitTimes[Legenda],ExportXML3_SplitTimes[[#This Row],[Legenda]],ExportXML3_SplitTimes[Čas],\"<=\"&ExportXML3_SplitTimes[[#This Row],[Čas]])","v":88}]
["MB","Kolařík","Ladislav","0020002",2749,56,756,{"$f":"ExportXML3_SplitTimes[[#This Row],[GivenName]]&\" \"&ExportXML3_SplitTimes[[#This Row],[FamilyName]]","v":"Ladislav Kolařík"},{"$f":"_xlfn.XLOOKUP(ExportXML3_SplitTimes[[#This Row],[PersonId]],#REF!,#REF!,\"-\")","v":{"$error":"#REF!"}},{"$f":"ExportXML3_SplitTimes[[#This Row],[Kategorie]] & \" - \" & ExportXML3_SplitTimes[[#This Row],[Závodník]] & \" (\" & ExportXML3_SplitTimes[[#This Row],[Číslo čipu]] & \")\"","v":{"$error":"#REF!"}},{"$f":"ExportXML3_SplitTimes[[#This Row],[ControlCode]]","v":56},{"$f":"ExportXML3_SplitTimes[[#This Row],[SplitTimeSeconds]]/3600/24","v":"00:12:36"},{"$f":"COUNTIFS(ExportXML3_SplitTimes[Legenda],ExportXML3_SplitTimes[[#This Row],[Legenda]],ExportXML3_SplitTimes[Čas],\"<=\"&ExportXML3_SplitTimes[[#This Row],[Čas]])","v":159}]
["MB","Kolařík","Ladislav","0020002",2749,45,955,{"$f":"ExportXML3_SplitTimes[[#This Row],[GivenName]]&\" \"&ExportXML3_SplitTimes[[#This Row],[FamilyName]]","v":"Ladislav Kolařík"},{"$f":"_xlfn.XLOOKUP(ExportXML3_SplitTimes[[#This Row],[PersonId]],#REF!,#REF!,\"-\")","v":{"$error":"#REF!"}},{"$f":"ExportXML3_SplitTimes[[#This Row],[Kategorie]] & \" - \" & ExportXML3_SplitTimes[[#This Row],[Závodník]] & \" (\" & ExportXML3_SplitTimes[[#This Row],[Číslo čipu]] & \")\"","v":{"$error":"#REF!"}},{"$f":"ExportXML3_SplitTimes[[#This Row],[ControlCode]]","v":45},{"$f":"ExportXML3_SplitTimes[[#This Row],[SplitTimeSeconds]]/3600/24","v":"00:15:55"},{"$f":"COUNTIFS(ExportXML3_SplitTimes[Legenda],ExportXML3_SplitTimes[[#This Row],[Legenda]],ExportXML3_SplitTimes[Čas],\"<=\"&ExportXML3_SplitTimes[[#This Row],[Čas]])","v":210}]
["MB","Kolařík","Ladislav","0020002",2749,43,1166,{"$f":"ExportXML3_SplitTimes[[#This Row],[GivenName]]&\" \"&ExportXML3_SplitTimes[[#This Row],[FamilyName]]","v":"Ladislav Kolařík"},{"$f":"_xlfn.XLOOKUP(ExportXML3_SplitTimes[[#This Row],[PersonId]],#REF!,#REF!,\"-\")","v":{"$error":"#REF!"}},{"$f":"ExportXML3_SplitTimes[[#This Row],[Kategorie]] & \" - \" & ExportXML3_SplitTimes[[#This Row],[Závodník]] & \" (\" & ExportXML3_SplitTimes[[#This Row],[Číslo čipu]] & \")\"","v":{"$error":"#REF!"}},{"$f":"ExportXML3_SplitTimes[[#This Row],[ControlCode]]","v":43},{"$f":"ExportXML3_SplitTimes[[#This Row],[SplitTimeSeconds]]/3600/24","v":"00:19:26"},{"$f":"COUNTIFS(ExportXML3_SplitTimes[Legenda],ExportXML3_SplitTimes[[#This Row],[Legenda]],ExportXML3_SplitTimes[Čas],\"<=\"&ExportXML3_SplitTimes[[#This Row],[Čas]])","v":265}]
["MB","Kolařík","Ladislav","0020002",2749,47,1296,{"$f":"ExportXML3_SplitTimes[[#This Row],[GivenName]]&\" \"&ExportXML3_SplitTimes[[#This Row],[FamilyName]]","v":"Ladislav Kolařík"},{"$f":"_xlfn.XLOOKUP(ExportXML3_SplitTimes[[#This Row],[PersonId]],#REF!,#REF!,\"-\")","v":{"$error":"#REF!"}},{"$f":"ExportXML3_SplitTimes[[#This Row],[Kategorie]] & \" - \" & ExportXML3_SplitTimes[[#This Row],[Závodník]] & \" (\" & ExportXML3_SplitTimes[[#This Row],[Číslo čipu]] & \")\"","v":{"$error":"#REF!"}},{"$f":"ExportXML3_SplitTimes[[#This Row],[ControlCode]]","v":47},{"$f":"ExportXML3_SplitTimes[[#This Row],[SplitTimeSeconds]]/3600/24","v":"00:21:36"},{"$f":"COUNTIFS(ExportXML3_SplitTimes[Legenda],ExportXML3_SplitTimes[[#This Row],[Legenda]],ExportXML3_SplitTimes[Čas],\"<=\"&ExportXML3_SplitTimes[[#This Row],[Čas]])","v":294}]
["MB","Kolařík","Ladislav","0020002",2749,79,1512,{"$f":"ExportXML3_SplitTimes[[#This Row],[GivenName]]&\" \"&ExportXML3_SplitTimes[[#This Row],[FamilyName]]","v":"Ladislav Kolařík"},{"$f":"_xlfn.XLOOKUP(ExportXML3_SplitTimes[[#This Row],[PersonId]],#REF!,#REF!,\"-\")","v":{"$error":"#REF!"}},{"$f":"ExportXML3_SplitTimes[[#This Row],[Kategorie]] & \" - \" & ExportXML3_SplitTimes[[#This Row],[Závodník]] & \" (\" & ExportXML3_SplitTimes[[#This Row],[Číslo čipu]] & \")\"","v":{"$error":"#REF!"}},{"$f":"ExportXML3_SplitTimes[[#This Row],[ControlCode]]","v":79},{"$f":"ExportXML3_SplitTimes[[#This Row],[SplitTimeSeconds]]/3600/24","v":"00:25:12"},{"$f":"COUNTIFS(ExportXML3_SplitTimes[Legenda],ExportXML3_SplitTimes[[#This Row],[Legenda]],ExportXML3_SplitTimes[Čas],\"<=\"&ExportXML3_SplitTimes[[#This Row],[Čas]])","v":338}]
["MB","Kolařík","Ladislav","0020002",2749,81,1737,{"$f":"ExportXML3_SplitTimes[[#This Row],[GivenName]]&\" \"&ExportXML3_SplitTimes[[#This Row],[FamilyName]]","v":"Ladislav Kolařík"},{"$f":"_xlfn.XLOOKUP(ExportXML3_SplitTimes[[#This Row],[PersonId]],#REF!,#REF!,\"-\")","v":{"$error":"#REF!"}},{"$f":"ExportXML3_SplitTimes[[#This Row],[Kategorie]] & \" - \" & ExportXML3_SplitTimes[[#This Row],[Závodník]] & \" (\" & ExportXML3_SplitTimes[[#This Row],[Číslo čipu]] & \")\"","v":{"$error":"#REF!"}},{"$f":"ExportXML3_SplitTimes[[#This Row],[ControlCode]]","v":81},{"$f":"ExportXML3_SplitTimes[[#This Row],[SplitTimeSeconds]]/3600/24","v":"00:28:57"},{"$f":"COUNTIFS(ExportXML3_SplitTimes[Legenda],ExportXML3_SplitTimes[[#This Row],[Legenda]],ExportXML3_SplitTimes[Čas],\"<=\"&ExportXML3_SplitTimes[[#This Row],[Čas]])","v":394}]
["MB","Kolařík","Ladislav","0020002",2749,63,2019,{"$f":"ExportXML3_SplitTimes[[#This Row],[GivenName]]&\" \"&ExportXML3_SplitTimes[[#This Row],[FamilyName]]","v":"Ladislav Kolařík"},{"$f":"_xlfn.XLOOKUP(ExportXML3_SplitTimes[[#This Row],[PersonId]],#REF!,#REF!,\"-\")","v":{"$error":"#REF!"}},{"$f":"ExportXML3_SplitTimes[[#This Row],[Kategorie]] & \" - \" & ExportXML3_SplitTimes[[#This Row],[Závodník]] & \" (\" & ExportXML3_SplitTimes[[#This Row],[Číslo čipu]] & \")\"","v":{"$error":"#REF!"}},{"$f":"ExportXML3_SplitTimes[[#This Row],[ControlCode]]","v":63},{"$f":"ExportXML3_SplitTimes[[#This Row],[SplitTimeSeconds]]/3600/24","v":"00:33:39"},{"$f":"COUNTIFS(ExportXML3_SplitTimes[Legenda],ExportXML3_SplitTimes[[#This Row],[Legenda]],ExportXML3_SplitTimes[Čas],\"<=\"&ExportXML3_SplitTimes[[#This Row],[Čas]])","v":466}]
["MB","Kolařík","Ladislav","0020002",2749,64,2155,{"$f":"ExportXML3_SplitTimes[[#This Row],[GivenName]]&\" \"&ExportXML3_SplitTimes[[#This Row],[FamilyName]]","v":"Ladislav Kolařík"},{"$f":"_xlfn.XLOOKUP(ExportXML3_SplitTimes[[#This Row],[PersonId]],#REF!,#REF!,\"-\")","v":{"$error":"#REF!"}},{"$f":"ExportXML3_SplitTimes[[#This Row],[Kategorie]] & \" - \" & ExportXML3_SplitTimes[[#This Row],[Závodník]] & \" (\" & ExportXML3_SplitTimes[[#This Row],[Číslo čipu]] & \")\"","v":{"$error":"#REF!"}},{"$f":"ExportXML3_SplitTimes[[#This Row],[ControlCode]]","v":64},{"$f":"ExportXML3_SplitTimes[[#This Row],[SplitTimeSeconds]]/3600/24","v":"00:35:55"},{"$f":"COUNTIFS(ExportXML3_SplitTimes[Legenda],ExportXML3_SplitTimes[[#This Row],[Legenda]],ExportXML3_SplitTimes[Čas],\"<=\"&ExportXML3_SplitTimes[[#This Row],[Čas]])","v":491}]
["MB","Kolařík","Ladislav","0020002",2749,76,2394,{"$f":"ExportXML3_SplitTimes[[#This Row],[GivenName]]&\" \"&ExportXML3_SplitTimes[[#This Row],[FamilyName]]","v":"Ladislav Kolařík"},{"$f":"_xlfn.XLOOKUP(ExportXML3_SplitTimes[[#This Row],[PersonId]],#REF!,#REF!,\"-\")","v":{"$error":"#REF!"}},{"$f":"ExportXML3_SplitTimes[[#This Row],[Kategorie]] & \" - \" & ExportXML3_SplitTimes[[#This Row],[Závodník]] & \" (\" & ExportXML3_SplitTimes[[#This Row],[Číslo čipu]] & \")\"","v":{"$error":"#REF!"}},{"$f":"ExportXML3_SplitTimes[[#This Row],[ControlCode]]","v":76},{"$f":"ExportXML3_SplitTimes[[#This Row],[SplitTimeSeconds]]/3600/24","v":"00:39:54"},{"$f":"COUNTIFS(ExportXML3_SplitTimes[Legenda],ExportXML3_SplitTimes[[#This Row],[Legenda]],ExportXML3_SplitTimes[Čas],\"<=\"&ExportXML3_SplitTimes[[#This Row],[Čas]])","v":544}]
["MB","Kolařík","Ladislav","0020002",2749,84,2559,{"$f":"ExportXML3_SplitTimes[[#This Row],[GivenName]]&\" \"&ExportXML3_SplitTimes[[#This Row],[FamilyName]]","v":"Ladislav Kolařík"},{"$f":"_xlfn.XLOOKUP(ExportXML3_SplitTimes[[#This Row],[PersonId]],#REF!,#REF!,\"-\")","v":{"$error":"#REF!"}},{"$f":"ExportXML3_SplitTimes[[#This Row],[Kategorie]] & \" - \" & ExportXML3_SplitTimes[[#This Row],[Závodník]] & \" (\" & ExportXML3_SplitTimes[[#This Row],[Číslo čipu]] & \")\"","v":{"$error":"#REF!"}},{"$f":"ExportXML3_SplitTimes[[#This Row],[ControlCode]]","v":84},{"$f":"ExportXML3_SplitTimes[[#This Row],[SplitTimeSeconds]]/3600/24","v":"00:42:39"},{"$f":"COUNTIFS(ExportXML3_SplitTimes[Legenda],ExportXML3_SplitTimes[[#This Row],[Legenda]],ExportXML3_SplitTimes[Čas],\"<=\"&ExportXML3_SplitTimes[[#This Row],[Čas]])","v":578}]
["MB","Kolařík","Ladislav","0020002",2749,78,2642,{"$f":"ExportXML3_SplitTimes[[#This Row],[GivenName]]&\" \"&ExportXML3_SplitTimes[[#This Row],[FamilyName]]","v":"Ladislav Kolařík"},{"$f":"_xlfn.XLOOKUP(ExportXML3_SplitTimes[[#This Row],[PersonId]],#REF!,#REF!,\"-\")","v":{"$error":"#REF!"}},{"$f":"ExportXML3_SplitTimes[[#This Row],[Kategorie]] & \" - \" & ExportXML3_SplitTimes[[#This Row],[Závodník]] & \" (\" & ExportXML3_SplitTimes[[#This Row],[Číslo čipu]] & \")\"","v":{"$error":"#REF!"}},{"$f":"ExportXML3_SplitTimes[[#This Row],[ControlCode]]","v":78},{"$f":"ExportXML3_SplitTimes[[#This Row],[SplitTimeSeconds]]/3600/24","v":"00:44:02"},{"$f":"COUNTIFS(ExportXML3_SplitTimes[Legenda],ExportXML3_SplitTimes[[#This Row],[Legenda]],ExportXML3_SplitTimes[Čas],\"<=\"&ExportXML3_SplitTimes[[#This Row],[Čas]])","v":590}]
["MB","Kolařík","Ladislav","0020002",2749,100,2735,{"$f":"ExportXML3_SplitTimes[[#This Row],[GivenName]]&\" \"&ExportXML3_SplitTimes[[#This Row],[FamilyName]]","v":"Ladislav Kolařík"},{"$f":"_xlfn.XLOOKUP(ExportXML3_SplitTimes[[#This Row],[PersonId]],#REF!,#REF!,\"-\")","v":{"$error":"#REF!"}},{"$f":"ExportXML3_SplitTimes[[#This Row],[Kategorie]] & \" - \" & ExportXML3_SplitTimes[[#This Row],[Závodník]] & \" (\" & ExportXML3_SplitTimes[[#This Row],[Číslo čipu]] & \")\"","v":{"$error":"#REF!"}},{"$f":"ExportXML3_SplitTimes[[#This Row],[ControlCode]]","v":100},{"$f":"ExportXML3_SplitTimes[[#This Row],[SplitTimeSeconds]]/3600/24","v":"00:45:35"},{"$f":"COUNTIFS(ExportXML3_SplitTimes[Legenda],ExportXML3_SplitTimes[[#This Row],[Legenda]],ExportXML3_SplitTimes[Čas],\"<=\"&ExportXML3_SplitTimes[[#This Row],[Čas]])","v":615}]
["MB","Němec","Jaromír","0120004",3425,31,359,{"$f":"ExportXML3_SplitTimes[[#This Row],[GivenName]]&\" \"&ExportXML3_SplitTimes[[#This Row],[FamilyName]]","v":"Jaromír Němec"},{"$f":"_xlfn.XLOOKUP(ExportXML3_SplitTimes[[#This Row],[PersonId]],#REF!,#REF!,\"-\")","v":{"$error":"#REF!"}},{"$f":"ExportXML3_SplitTimes[[#This Row],[Kategorie]] & \" - \" & ExportXML3_SplitTimes[[#This Row],[Závodník]] & \" (\" & ExportXML3_SplitTimes[[#This Row],[Číslo čipu]] & \")\"","v":{"$error":"#REF!"}},{"$f":"ExportXML3_SplitTimes[[#This Row],[ControlCode]]","v":31},{"$f":"ExportXML3_SplitTimes[[#This Row],[SplitTimeSeconds]]/3600/24","v":"00:05:59"},{"$f":"COUNTIFS(ExportXML3_SplitTimes[Legenda],ExportXML3_SplitTimes[[#This Row],[Legenda]],ExportXML3_SplitTimes[Čas],\"<=\"&ExportXML3_SplitTimes[[#This Row],[Čas]])","v":40}]
["MB","Němec","Jaromír","0120004",3425,93,983,{"$f":"ExportXML3_SplitTimes[[#This Row],[GivenName]]&\" \"&ExportXML3_SplitTimes[[#This Row],[FamilyName]]","v":"Jaromír Němec"},{"$f":"_xlfn.XLOOKUP(ExportXML3_SplitTimes[[#This Row],[PersonId]],#REF!,#REF!,\"-\")","v":{"$error":"#REF!"}},{"$f":"ExportXML3_SplitTimes[[#This Row],[Kategorie]] & \" - \" & ExportXML3_SplitTimes[[#This Row],[Závodník]] & \" (\" & ExportXML3_SplitTimes[[#This Row],[Číslo čipu]] & \")\"","v":{"$error":"#REF!"}},{"$f":"ExportXML3_SplitTimes[[#This Row],[ControlCode]]","v":93},{"$f":"ExportXML3_SplitTimes[[#This Row],[SplitTimeSeconds]]/3600/24","v":"00:16:23"},{"$f":"COUNTIFS(ExportXML3_SplitTimes[Legenda],ExportXML3_SplitTimes[[#This Row],[Legenda]],ExportXML3_SplitTimes[Čas],\"<=\"&ExportXML3_SplitTimes[[#This Row],[Čas]])","v":221}]
["MB","Němec","Jaromír","0120004",3425,56,1172,{"$f":"ExportXML3_SplitTimes[[#This Row],[GivenName]]&\" \"&ExportXML3_SplitTimes[[#This Row],[FamilyName]]","v":"Jaromír Němec"},{"$f":"_xlfn.XLOOKUP(ExportXML3_SplitTimes[[#This Row],[PersonId]],#REF!,#REF!,\"-\")","v":{"$error":"#REF!"}},{"$f":"ExportXML3_SplitTimes[[#This Row],[Kategorie]] & \" - \" & ExportXML3_SplitTimes[[#This Row],[Závodník]] & \" (\" & ExportXML3_SplitTimes[[#This Row],[Číslo čipu]] & \")\"","v":{"$error":"#REF!"}},{"$f":"ExportXML3_SplitTimes[[#This Row],[ControlCode]]","v":56},{"$f":"ExportXML3_SplitTimes[[#This Row],[SplitTimeSeconds]]/3600/24","v":"00:19:32"},{"$f":"COUNTIFS(ExportXML3_SplitTimes[Legenda],ExportXML3_SplitTimes[[#This Row],[Legenda]],ExportXML3_SplitTimes[Čas],\"<=\"&ExportXML3_SplitTimes[[#This Row],[Čas]])","v":266}]
["MB","Němec","Jaromír","0120004",3425,45,1331,{"$f":"ExportXML3_SplitTimes[[#This Row],[GivenName]]&\" \"&ExportXML3_SplitTimes[[#This Row],[FamilyName]]","v":"Jaromír Němec"},{"$f":"_xlfn.XLOOKUP(ExportXML3_SplitTimes[[#This Row],[PersonId]],#REF!,#REF!,\"-\")","v":{"$error":"#REF!"}},{"$f":"ExportXML3_SplitTimes[[#This Row],[Kategorie]] & \" - \" & ExportXML3_SplitTimes[[#This Row],[Závodník]] & \" (\" & ExportXML3_SplitTimes[[#This Row],[Číslo čipu]] & \")\"","v":{"$error":"#REF!"}},{"$f":"ExportXML3_SplitTimes[[#This Row],[ControlCode]]","v":45},{"$f":"ExportXML3_SplitTimes[[#This Row],[SplitTimeSeconds]]/3600/24","v":"00:22:11"},{"$f":"COUNTIFS(ExportXML3_SplitTimes[Legenda],ExportXML3_SplitTimes[[#This Row],[Legenda]],ExportXML3_SplitTimes[Čas],\"<=\"&ExportXML3_SplitTimes[[#This Row],[Čas]])","v":301}]
["MB","Němec","Jaromír","0120004",3425,43,1579,{"$f":"ExportXML3_SplitTimes[[#This Row],[GivenName]]&\" \"&ExportXML3_SplitTimes[[#This Row],[FamilyName]]","v":"Jaromír Němec"},{"$f":"_xlfn.XLOOKUP(ExportXML3_SplitTimes[[#This Row],[PersonId]],#REF!,#REF!,\"-\")","v":{"$error":"#REF!"}},{"$f":"ExportXML3_SplitTimes[[#This Row],[Kategorie]] & \" - \" & ExportXML3_SplitTimes[[#This Row],[Závodník]] & \" (\" & ExportXML3_SplitTimes[[#This Row],[Číslo čipu]] & \")\"","v":{"$error":"#REF!"}},{"$f":"ExportXML3_SplitTimes[[#This Row],[ControlCode]]","v":43},{"$f":"ExportXML3_SplitTimes[[#This Row],[SplitTimeSeconds]]/3600/24","v":"00:26:19"},{"$f":"COUNTIFS(ExportXML3_SplitTimes[Legenda],ExportXML3_SplitTimes[[#This Row],[Legenda]],ExportXML3_SplitTimes[Čas],\"<=\"&ExportXML3_SplitTimes[[#This Row],[Čas]])","v":357}]
["MB","Němec","Jaromír","0120004",3425,47,1672,{"$f":"ExportXML3_SplitTimes[[#This Row],[GivenName]]&\" \"&ExportXML3_SplitTimes[[#This Row],[FamilyName]]","v":"Jaromír Němec"},{"$f":"_xlfn.XLOOKUP(ExportXML3_SplitTimes[[#This Row],[PersonId]],#REF!,#REF!,\"-\")","v":{"$error":"#REF!"}},{"$f":"ExportXML3_SplitTimes[[#This Row],[Kategorie]] & \" - \" & ExportXML3_SplitTimes[[#This Row],[Závodník]] & \" (\" & ExportXML3_SplitTimes[[#This Row],[Číslo čipu]] & \")\"","v":{"$error":"#REF!"}},{"$f":"ExportXML3_SplitTimes[[#This Row],[ControlCode]]","v":47},{"$f":"ExportXML3_SplitTimes[[#This Row],[SplitTimeSeconds]]/3600/24","v":"00:27:52"},{"$f":"COUNTIFS(ExportXML3_SplitTimes[Legenda],ExportXML3_SplitTimes[[#This Row],[Legenda]],ExportXML3_SplitTimes[Čas],\"<=\"&ExportXML3_SplitTimes[[#This Row],[Čas]])","v":374}]
["MB","Němec","Jaromír","0120004",3425,79,1967,{"$f":"ExportXML3_SplitTimes[[#This Row],[GivenName]]&\" \"&ExportXML3_SplitTimes[[#This Row],[FamilyName]]","v":"Jaromír Němec"},{"$f":"_xlfn.XLOOKUP(ExportXML3_SplitTimes[[#This Row],[PersonId]],#REF!,#REF!,\"-\")","v":{"$error":"#REF!"}},{"$f":"ExportXML3_SplitTimes[[#This Row],[Kategorie]] & \" - \" & ExportXML3_SplitTimes[[#This Row],[Závodník]] & \" (\" & ExportXML3_SplitTimes[[#This Row],[Číslo čipu]] & \")\"","v":{"$error":"#REF!"}},{"$f":"ExportXML3_SplitTimes[[#This Row],[ControlCode]]","v":79},{"$f":"ExportXML3_SplitTimes[[#This Row],[SplitTimeSeconds]]/3600/24","v":"00:32:47"},{"$f":"COUNTIFS(ExportXML3_SplitTimes[Legenda],ExportXML3_SplitTimes[[#This Row],[Legenda]],ExportXML3_SplitTimes[Čas],\"<=\"&ExportXML3_SplitTimes[[#This Row],[Čas]])","v":455}]
["MB","Němec","Jaromír","0120004",3425,81,2189,{"$f":"ExportXML3_SplitTimes[[#This Row],[GivenName]]&\" \"&ExportXML3_SplitTimes[[#This Row],[FamilyName]]","v":"Jaromír Němec"},{"$f":"_xlfn.XLOOKUP(ExportXML3_SplitTimes[[#This Row],[PersonId]],#REF!,#REF!,\"-\")","v":{"$error":"#REF!"}},{"$f":"ExportXML3_SplitTimes[[#This Row],[Kategorie]] & \" - \" & ExportXML3_SplitTimes[[#This Row],[Závodník]] & \" (\" & ExportXML3_SplitTimes[[#This Row],[Číslo čipu]] & \")\"","v":{"$error":"#REF!"}},{"$f":"ExportXML3_SplitTimes[[#This Row],[ControlCode]]","v":81},{"$f":"ExportXML3_SplitTimes[[#This Row],[SplitTimeSeconds]]/3600/24","v":"00:36:29"},{"$f":"COUNTIFS(ExportXML3_SplitTimes[Legenda],ExportXML3_SplitTimes[[#This Row],[Legenda]],ExportXML3_SplitTimes[Čas],\"<=\"&ExportXML3_SplitTimes[[#This Row],[Čas]])","v":497}]
["MB","Němec","Jaromír","0120004",3425,63,2685,{"$f":"ExportXML3_SplitTimes[[#This Row],[GivenName]]&\" \"&ExportXML3_SplitTimes[[#This Row],[FamilyName]]","v":"Jaromír Němec"},{"$f":"_xlfn.XLOOKUP(ExportXML3_SplitTimes[[#This Row],[PersonId]],#REF!,#REF!,\"-\")","v":{"$error":"#REF!"}},{"$f":"ExportXML3_SplitTimes[[#This Row],[Kategorie]] & \" - \" & ExportXML3_SplitTimes[[#This Row],[Závodník]] & \" (\" & ExportXML3_SplitTimes[[#This Row],[Číslo čipu]] & \")\"","v":{"$error":"#REF!"}},{"$f":"ExportXML3_SplitTimes[[#This Row],[ControlCode]]","v":63},{"$f":"ExportXML3_SplitTimes[[#This Row],[SplitTimeSeconds]]/3600/24","v":"00:44:45"},{"$f":"COUNTIFS(ExportXML3_SplitTimes[Legenda],ExportXML3_SplitTimes[[#This Row],[Legenda]],ExportXML3_SplitTimes[Čas],\"<=\"&ExportXML3_SplitTimes[[#This Row],[Čas]])","v":606}]
["MB","Němec","Jaromír","0120004",3425,64,2872,{"$f":"ExportXML3_SplitTimes[[#This Row],[GivenName]]&\" \"&ExportXML3_SplitTimes[[#This Row],[FamilyName]]","v":"Jaromír Němec"},{"$f":"_xlfn.XLOOKUP(ExportXML3_SplitTimes[[#This Row],[PersonId]],#REF!,#REF!,\"-\")","v":{"$error":"#REF!"}},{"$f":"ExportXML3_SplitTimes[[#This Row],[Kategorie]] & \" - \" & ExportXML3_SplitTimes[[#This Row],[Závodník]] & \" (\" & ExportXML3_SplitTimes[[#This Row],[Číslo čipu]] & \")\"","v":{"$error":"#REF!"}},{"$f":"ExportXML3_SplitTimes[[#This Row],[ControlCode]]","v":64},{"$f":"ExportXML3_SplitTimes[[#This Row],[SplitTimeSeconds]]/3600/24","v":"00:47:52"},{"$f":"COUNTIFS(ExportXML3_SplitTimes[Legenda],ExportXML3_SplitTimes[[#This Row],[Legenda]],ExportXML3_SplitTimes[Čas],\"<=\"&ExportXML3_SplitTimes[[#This Row],[Čas]])","v":641}]
["MB","Němec","Jaromír","0120004",3425,76,3076,{"$f":"ExportXML3_SplitTimes[[#This Row],[GivenName]]&\" \"&ExportXML3_SplitTimes[[#This Row],[FamilyName]]","v":"Jaromír Němec"},{"$f":"_xlfn.XLOOKUP(ExportXML3_SplitTimes[[#This Row],[PersonId]],#REF!,#REF!,\"-\")","v":{"$error":"#REF!"}},{"$f":"ExportXML3_SplitTimes[[#This Row],[Kategorie]] & \" - \" & ExportXML3_SplitTimes[[#This Row],[Závodník]] & \" (\" & ExportXML3_SplitTimes[[#This Row],[Číslo čipu]] & \")\"","v":{"$error":"#REF!"}},{"$f":"ExportXML3_SplitTimes[[#This Row],[ControlCode]]","v":76},{"$f":"ExportXML3_SplitTimes[[#This Row],[SplitTimeSeconds]]/3600/24","v":"00:51:16"},{"$f":"COUNTIFS(ExportXML3_SplitTimes[Legenda],ExportXML3_SplitTimes[[#This Row],[Legenda]],ExportXML3_SplitTimes[Čas],\"<=\"&ExportXML3_SplitTimes[[#This Row],[Čas]])","v":678}]
["MB","Němec","Jaromír","0120004",3425,84,3206,{"$f":"ExportXML3_SplitTimes[[#This Row],[GivenName]]&\" \"&ExportXML3_SplitTimes[[#This Row],[FamilyName]]","v":"Jaromír Němec"},{"$f":"_xlfn.XLOOKUP(ExportXML3_SplitTimes[[#This Row],[PersonId]],#REF!,#REF!,\"-\")","v":{"$error":"#REF!"}},{"$f":"ExportXML3_SplitTimes[[#This Row],[Kategorie]] & \" - \" & ExportXML3_SplitTimes[[#This Row],[Závodník]] & \" (\" & ExportXML3_SplitTimes[[#This Row],[Číslo čipu]] & \")\"","v":{"$error":"#REF!"}},{"$f":"ExportXML3_SplitTimes[[#This Row],[ControlCode]]","v":84},{"$f":"ExportXML3_SplitTimes[[#This Row],[SplitTimeSeconds]]/3600/24","v":"00:53:26"},{"$f":"COUNTIFS(ExportXML3_SplitTimes[Legenda],ExportXML3_SplitTimes[[#This Row],[Legenda]],ExportXML3_SplitTimes[Čas],\"<=\"&ExportXML3_SplitTimes[[#This Row],[Čas]])","v":695}]
["MB","Němec","Jaromír","0120004",3425,78,3288,{"$f":"ExportXML3_SplitTimes[[#This Row],[GivenName]]&\" \"&ExportXML3_SplitTimes[[#This Row],[FamilyName]]","v":"Jaromír Němec"},{"$f":"_xlfn.XLOOKUP(ExportXML3_SplitTimes[[#This Row],[PersonId]],#REF!,#REF!,\"-\")","v":{"$error":"#REF!"}},{"$f":"ExportXML3_SplitTimes[[#This Row],[Kategorie]] & \" - \" & ExportXML3_SplitTimes[[#This Row],[Závodník]] & \" (\" & ExportXML3_SplitTimes[[#This Row],[Číslo čipu]] & \")\"","v":{"$error":"#REF!"}},{"$f":"ExportXML3_SplitTimes[[#This Row],[ControlCode]]","v":78},{"$f":"ExportXML3_SplitTimes[[#This Row],[SplitTimeSeconds]]/3600/24","v":"00:54:48"},{"$f":"COUNTIFS(ExportXML3_SplitTimes[Legenda],ExportXML3_SplitTimes[[#This Row],[Legenda]],ExportXML3_SplitTimes[Čas],\"<=\"&ExportXML3_SplitTimes[[#This Row],[Čas]])","v":708}]
["MB","Němec","Jaromír","0120004",3425,100,3409,{"$f":"ExportXML3_SplitTimes[[#This Row],[GivenName]]&\" \"&ExportXML3_SplitTimes[[#This Row],[FamilyName]]","v":"Jaromír Němec"},{"$f":"_xlfn.XLOOKUP(ExportXML3_SplitTimes[[#This Row],[PersonId]],#REF!,#REF!,\"-\")","v":{"$error":"#REF!"}},{"$f":"ExportXML3_SplitTimes[[#This Row],[Kategorie]] & \" - \" & ExportXML3_SplitTimes[[#This Row],[Závodník]] & \" (\" & ExportXML3_SplitTimes[[#This Row],[Číslo čipu]] & \")\"","v":{"$error":"#REF!"}},{"$f":"ExportXML3_SplitTimes[[#This Row],[ControlCode]]","v":100},{"$f":"ExportXML3_SplitTimes[[#This Row],[SplitTimeSeconds]]/3600/24","v":"00:56:49"},{"$f":"COUNTIFS(ExportXML3_SplitTimes[Legenda],ExportXML3_SplitTimes[[#This Row],[Legenda]],ExportXML3_SplitTimes[Čas],\"<=\"&ExportXML3_SplitTimes[[#This Row],[Čas]])","v":721}]
["MB","Beneš","Michal","0180001",3552,31,245,{"$f":"ExportXML3_SplitTimes[[#This Row],[GivenName]]&\" \"&ExportXML3_SplitTimes[[#This Row],[FamilyName]]","v":"Michal Beneš"},{"$f":"_xlfn.XLOOKUP(ExportXML3_SplitTimes[[#This Row],[PersonId]],#REF!,#REF!,\"-\")","v":{"$error":"#REF!"}},{"$f":"ExportXML3_SplitTimes[[#This Row],[Kategorie]] & \" - \" & ExportXML3_SplitTimes[[#This Row],[Závodník]] & \" (\" & ExportXML3_SplitTimes[[#This Row],[Číslo čipu]] & \")\"","v":{"$error":"#REF!"}},{"$f":"ExportXML3_SplitTimes[[#This Row],[ControlCode]]","v":31},{"$f":"ExportXML3_SplitTimes[[#This Row],[SplitTimeSeconds]]/3600/24","v":"00:04:05"},{"$f":"COUNTIFS(ExportXML3_SplitTimes[Legenda],ExportXML3_SplitTimes[[#This Row],[Legenda]],ExportXML3_SplitTimes[Čas],\"<=\"&ExportXML3_SplitTimes[[#This Row],[Čas]])","v":15}]
["MB","Beneš","Michal","0180001",3552,93,589,{"$f":"ExportXML3_SplitTimes[[#This Row],[GivenName]]&\" \"&ExportXML3_SplitTimes[[#This Row],[FamilyName]]","v":"Michal Beneš"},{"$f":"_xlfn.XLOOKUP(ExportXML3_SplitTimes[[#This Row],[PersonId]],#REF!,#REF!,\"-\")","v":{"$error":"#REF!"}},{"$f":"ExportXML3_SplitTimes[[#This Row],[Kategorie]] & \" - \" & ExportXML3_SplitTimes[[#This Row],[Závodník]] & \" (\" & ExportXML3_SplitTimes[[#This Row],[Číslo čipu]] & \")\"","v":{"$error":"#REF!"}},{"$f":"ExportXML3_SplitTimes[[#This Row],[ControlCode]]","v":93},{"$f":"ExportXML3_SplitTimes[[#This Row],[SplitTimeSeconds]]/3600/24","v":"00:09:49"},{"$f":"COUNTIFS(ExportXML3_SplitTimes[Legenda],ExportXML3_SplitTimes[[#This Row],[Legenda]],ExportXML3_SplitTimes[Čas],\"<=\"&ExportXML3_SplitTimes[[#This Row],[Čas]])","v":109}]
["MB","Beneš","Michal","0180001",3552,56,759,{"$f":"ExportXML3_SplitTimes[[#This Row],[GivenName]]&\" \"&ExportXML3_SplitTimes[[#This Row],[FamilyName]]","v":"Michal Beneš"},{"$f":"_xlfn.XLOOKUP(ExportXML3_SplitTimes[[#This Row],[PersonId]],#REF!,#REF!,\"-\")","v":{"$error":"#REF!"}},{"$f":"ExportXML3_SplitTimes[[#This Row],[Kategorie]] & \" - \" & ExportXML3_SplitTimes[[#This Row],[Závodník]] & \" (\" & ExportXML3_SplitTimes[[#This Row],[Číslo čipu]] & \")\"","v":{"$error":"#REF!"}},{"$f":"ExportXML3_SplitTimes[[#This Row],[ControlCode]]","v":56},{"$f":"ExportXML3_SplitTimes[[#This Row],[SplitTimeSeconds]]/3600/24","v":"00:12:39"},{"$f":"COUNTIFS(ExportXML3_SplitTimes[Legenda],ExportXML3_SplitTimes[[#This Row],[Legenda]],ExportXML3_SplitTimes[Čas],\"<=\"&ExportXML3_SplitTimes[[#This Row],[Čas]])","v":160}]
["MB","Beneš","Michal","0180001",3552,45,952,{"$f":"ExportXML3_SplitTimes[[#This Row],[GivenName]]&\" \"&ExportXML3_SplitTimes[[#This Row],[FamilyName]]","v":"Michal Beneš"},{"$f":"_xlfn.XLOOKUP(ExportXML3_SplitTimes[[#This Row],[PersonId]],#REF!,#REF!,\"-\")","v":{"$error":"#REF!"}},{"$f":"ExportXML3_SplitTimes[[#This Row],[Kategorie]] & \" - \" & ExportXML3_SplitTimes[[#This Row],[Závodník]] & \" (\" & ExportXML3_SplitTimes[[#This Row],[Číslo čipu]] & \")\"","v":{"$error":"#REF!"}},{"$f":"ExportXML3_SplitTimes[[#This Row],[ControlCode]]","v":45},{"$f":"ExportXML3_SplitTimes[[#This Row],[SplitTimeSeconds]]/3600/24","v":"00:15:52"},{"$f":"COUNTIFS(ExportXML3_SplitTimes[Legenda],ExportXML3_SplitTimes[[#This Row],[Legenda]],ExportXML3_SplitTimes[Čas],\"<=\"&ExportXML3_SplitTimes[[#This Row],[Čas]])","v":209}]
["MB","Beneš","Michal","0180001",3552,43,1138,{"$f":"ExportXML3_SplitTimes[[#This Row],[GivenName]]&\" \"&ExportXML3_SplitTimes[[#This Row],[FamilyName]]","v":"Michal Beneš"},{"$f":"_xlfn.XLOOKUP(ExportXML3_SplitTimes[[#This Row],[PersonId]],#REF!,#REF!,\"-\")","v":{"$error":"#REF!"}},{"$f":"ExportXML3_SplitTimes[[#This Row],[Kategorie]] & \" - \" & ExportXML3_SplitTimes[[#This Row],[Závodník]] & \" (\" & ExportXML3_SplitTimes[[#This Row],[Číslo čipu]] & \")\"","v":{"$error":"#REF!"}},{"$f":"ExportXML3_SplitTimes[[#This Row],[ControlCode]]","v":43},{"$f":"ExportXML3_SplitTimes[[#This Row],[SplitTimeSeconds]]/3600/24","v":"00:18:58"},{"$f":"COUNTIFS(ExportXML3_SplitTimes[Legenda],ExportXML3_SplitTimes[[#This Row],[Legenda]],ExportXML3_SplitTimes[Čas],\"<=\"&ExportXML3_SplitTimes[[#This Row],[Čas]])","v":257}]
["MB","Beneš","Michal","0180001",3552,47,1259,{"$f":"ExportXML3_SplitTimes[[#This Row],[GivenName]]&\" \"&ExportXML3_SplitTimes[[#This Row],[FamilyName]]","v":"Michal Beneš"},{"$f":"_xlfn.XLOOKUP(ExportXML3_SplitTimes[[#This Row],[PersonId]],#REF!,#REF!,\"-\")","v":{"$error":"#REF!"}},{"$f":"ExportXML3_SplitTimes[[#This Row],[Kategorie]] & \" - \" & ExportXML3_SplitTimes[[#This Row],[Závodník]] & \" (\" & ExportXML3_SplitTimes[[#This Row],[Číslo čipu]] & \")\"","v":{"$error":"#REF!"}},{"$f":"ExportXML3_SplitTimes[[#This Row],[ControlCode]]","v":47},{"$f":"ExportXML3_SplitTimes[[#This Row],[SplitTimeSeconds]]/3600/24","v":"00:20:59"},{"$f":"COUNTIFS(ExportXML3_SplitTimes[Legenda],ExportXML3_SplitTimes[[#This Row],[Legenda]],ExportXML3_SplitTimes[Čas],\"<=\"&ExportXML3_SplitTimes[[#This Row],[Čas]])","v":286}]
["MB","Beneš","Michal","0180001",3552,79,1511,{"$f":"ExportXML3_SplitTimes[[#This Row],[GivenName]]&\" \"&ExportXML3_SplitTimes[[#This Row],[FamilyName]]","v":"Michal Beneš"},{"$f":"_xlfn.XLOOKUP(ExportXML3_SplitTimes[[#This Row],[PersonId]],#REF!,#REF!,\"-\")","v":{"$error":"#REF!"}},{"$f":"ExportXML3_SplitTimes[[#This Row],[Kategorie]] & \" - \" & ExportXML3_SplitTimes[[#This Row],[Závodník]] & \" (\" & ExportXML3_SplitTimes[[#This Row],[Číslo čipu]] & \")\"","v":{"$error":"#REF!"}},{"$f":"ExportXML3_SplitTimes[[#This Row],[ControlCode]]","v":79},{"$f":"ExportXML3_SplitTimes[[#This Row],[SplitTimeSeconds]]/3600/24","v":"00:25:11"},{"$f":"COUNTIFS(ExportXML3_SplitTimes[Legenda],ExportXML3_SplitTimes[[#This Row],[Legenda]],ExportXML3_SplitTimes[Čas],\"<=\"&ExportXML3_SplitTimes[[#This Row],[Čas]])","v":337}]
["MB","Beneš","Michal","0180001",3552,81,1736,{"$f":"ExportXML3_SplitTimes[[#This Row],[GivenName]]&\" \"&ExportXML3_SplitTimes[[#This Row],[FamilyName]]","v":"Michal Beneš"},{"$f":"_xlfn.XLOOKUP(ExportXML3_SplitTimes[[#This Row],[PersonId]],#REF!,#REF!,\"-\")","v":{"$error":"#REF!"}},{"$f":"ExportXML3_SplitTimes[[#This Row],[Kategorie]] & \" - \" & ExportXML3_SplitTimes[[#This Row],[Závodník]] & \" (\" & ExportXML3_SplitTimes[[#This Row],[Číslo čipu]] & \")\"","v":{"$error":"#REF!"}},{"$f":"ExportXML3_SplitTimes[[#This Row],[ControlCode]]","v":81},{"$f":"ExportXML3_SplitTimes[[#This Row],[SplitTimeSeconds]]/3600/24","v":"00:28:56"},{"$f":"COUNTIFS(ExportXML3_SplitTimes[Legenda],ExportXML3_SplitTimes[[#This Row],[Legenda]],ExportXML3_SplitTimes[Čas],\"<=\"&ExportXML3_SplitTimes[[#This Row],[Čas]])","v":392}]
["MB","Beneš","Michal","0180001",3552,63,2266,{"$f":"ExportXML3_SplitTimes[[#This Row],[GivenName]]&\" \"&ExportXML3_SplitTimes[[#This Row],[FamilyName]]","v":"Michal Beneš"},{"$f":"_xlfn.XLOOKUP(ExportXML3_SplitTimes[[#This Row],[PersonId]],#REF!,#REF!,\"-\")","v":{"$error":"#REF!"}},{"$f":"ExportXML3_SplitTimes[[#This Row],[Kategorie]] & \" - \" & ExportXML3_SplitTimes[[#This Row],[Závodník]] & \" (\" & ExportXML3_SplitTimes[[#This Row],[Číslo čipu]] & \")\"","v":{"$error":"#REF!"}},{"$f":"ExportXML3_SplitTimes[[#This Row],[ControlCode]]","v":63},{"$f":"ExportXML3_SplitTimes[[#This Row],[SplitTimeSeconds]]/3600/24","v":"00:37:46"},{"$f":"COUNTIFS(ExportXML3_SplitTimes[Legenda],ExportXML3_SplitTimes[[#This Row],[Legenda]],ExportXML3_SplitTimes[Čas],\"<=\"&ExportXML3_SplitTimes[[#This Row],[Čas]])","v":515}]
["MB","Beneš","Michal","0180001",3552,64,2474,{"$f":"ExportXML3_SplitTimes[[#This Row],[GivenName]]&\" \"&ExportXML3_SplitTimes[[#This Row],[FamilyName]]","v":"Michal Beneš"},{"$f":"_xlfn.XLOOKUP(ExportXML3_SplitTimes[[#This Row],[PersonId]],#REF!,#REF!,\"-\")","v":{"$error":"#REF!"}},{"$f":"ExportXML3_SplitTimes[[#This Row],[Kategorie]] & \" - \" & ExportXML3_SplitTimes[[#This Row],[Závodník]] & \" (\" & ExportXML3_SplitTimes[[#This Row],[Číslo čipu]] & \")\"","v":{"$error":"#REF!"}},{"$f":"ExportXML3_SplitTimes[[#This Row],[ControlCode]]","v":64},{"$f":"ExportXML3_SplitTimes[[#This Row],[SplitTimeSeconds]]/3600/24","v":"00:41:14"},{"$f":"COUNTIFS(ExportXML3_SplitTimes[Legenda],ExportXML3_SplitTimes[[#This Row],[Legenda]],ExportXML3_SplitTimes[Čas],\"<=\"&ExportXML3_SplitTimes[[#This Row],[Čas]])","v":562}]
["MB","Beneš","Michal","0180001",3552,76,2738,{"$f":"ExportXML3_SplitTimes[[#This Row],[GivenName]]&\" \"&ExportXML3_SplitTimes[[#This Row],[FamilyName]]","v":"Michal Beneš"},{"$f":"_xlfn.XLOOKUP(ExportXML3_SplitTimes[[#This Row],[PersonId]],#REF!,#REF!,\"-\")","v":{"$error":"#REF!"}},{"$f":"ExportXML3_SplitTimes[[#This Row],[Kategorie]] & \" - \" & ExportXML3_SplitTimes[[#This Row],[Závodník]] & \" (\" & ExportXML3_SplitTimes[[#This Row],[Číslo čipu]] & \")\"","v":{"$error":"#REF!"}},{"$f":"ExportXML3_SplitTimes[[#This Row],[ControlCode]]","v":76},{"$f":"ExportXML3_SplitTimes[[#This Row],[SplitTimeSeconds]]/3600/24","v":"00:45:38"},{"$f":"COUNTIFS(ExportXML3_SplitTimes[Legenda],ExportXML3_SplitTimes[[#This Row],[Legenda]],ExportXML3_SplitTimes[Čas],\"<=\"&ExportXML3_SplitTimes[[#This Row],[Čas]])","v":616}]
["MB","Beneš","Michal","0180001",3552,84,3260,{"$f":"ExportXML3_SplitTimes[[#This Row],[GivenName]]&\" \"&ExportXML3_SplitTimes[[#This Row],[FamilyName]]","v":"Michal Beneš"},{"$f":"_xlfn.XLOOKUP(ExportXML3_SplitTimes[[#This Row],[PersonId]],#REF!,#REF!,\"-\")","v":{"$error":"#REF!"}},{"$f":"ExportXML3_SplitTimes[[#This Row],[Kategorie]] & \" - \" & ExportXML3_SplitTimes[[#This Row],[Závodník]] & \" (\" & ExportXML3_SplitTimes[[#This Row],[Číslo čipu]] & \")\"","v":{"$error":"#REF!"}},{"$f":"ExportXML3_SplitTimes[[#This Row],[ControlCode]]","v":84},{"$f":"ExportXML3_SplitTimes[[#This Row],[SplitTimeSeconds]]/3600/24","v":"00:54:20"},{"$f":"COUNTIFS(ExportXML3_SplitTimes[Legenda],ExportXML3_SplitTimes[[#This Row],[Legenda]],ExportXML3_SplitTimes[Čas],\"<=\"&ExportXML3_SplitTimes[[#This Row],[Čas]])","v":703}]
["MB","Beneš","Michal","0180001",3552,78,3382,{"$f":"ExportXML3_SplitTimes[[#This Row],[GivenName]]&\" \"&ExportXML3_SplitTimes[[#This Row],[FamilyName]]","v":"Michal Beneš"},{"$f":"_xlfn.XLOOKUP(ExportXML3_SplitTimes[[#This Row],[PersonId]],#REF!,#REF!,\"-\")","v":{"$error":"#REF!"}},{"$f":"ExportXML3_SplitTimes[[#This Row],[Kategorie]] & \" - \" & ExportXML3_SplitTimes[[#This Row],[Závodník]] & \" (\" & ExportXML3_SplitTimes[[#This Row],[Číslo čipu]] & \")\"","v":{"$error":"#REF!"}},{"$f":"ExportXML3_SplitTimes[[#This Row],[ControlCode]]","v":78},{"$f":"ExportXML3_SplitTimes[[#This Row],[SplitTimeSeconds]]/3600/24","v":"00:56:22"},{"$f":"COUNTIFS(ExportXML3_SplitTimes[Legenda],ExportXML3_SplitTimes[[#This Row],[Legenda]],ExportXML3_SplitTimes[Čas],\"<=\"&ExportXML3_SplitTimes[[#This Row],[Čas]])","v":719}]
["MB","Beneš","Michal","0180001",3552,100,3532,{"$f":"ExportXML3_SplitTimes[[#This Row],[GivenName]]&\" \"&ExportXML3_SplitTimes[[#This Row],[FamilyName]]","v":"Michal Beneš"},{"$f":"_xlfn.XLOOKUP(ExportXML3_SplitTimes[[#This Row],[PersonId]],#REF!,#REF!,\"-\")","v":{"$error":"#REF!"}},{"$f":"ExportXML3_SplitTimes[[#This Row],[Kategorie]] & \" - \" & ExportXML3_SplitTimes[[#This Row],[Závodník]] & \" (\" & ExportXML3_SplitTimes[[#This Row],[Číslo čipu]] & \")\"","v":{"$error":"#REF!"}},{"$f":"ExportXML3_SplitTimes[[#This Row],[ControlCode]]","v":100},{"$f":"ExportXML3_SplitTimes[[#This Row],[SplitTimeSeconds]]/3600/24","v":"00:58:52"},{"$f":"COUNTIFS(ExportXML3_SplitTimes[Legenda],ExportXML3_SplitTimes[[#This Row],[Legenda]],ExportXML3_SplitTimes[Čas],\"<=\"&ExportXML3_SplitTimes[[#This Row],[Čas]])","v":734}]
["MB","Ransdorf","Miroslav","0140001",3686,31,243,{"$f":"ExportXML3_SplitTimes[[#This Row],[GivenName]]&\" \"&ExportXML3_SplitTimes[[#This Row],[FamilyName]]","v":"Miroslav Ransdorf"},{"$f":"_xlfn.XLOOKUP(ExportXML3_SplitTimes[[#This Row],[PersonId]],#REF!,#REF!,\"-\")","v":{"$error":"#REF!"}},{"$f":"ExportXML3_SplitTimes[[#This Row],[Kategorie]] & \" - \" & ExportXML3_SplitTimes[[#This Row],[Závodník]] & \" (\" & ExportXML3_SplitTimes[[#This Row],[Číslo čipu]] & \")\"","v":{"$error":"#REF!"}},{"$f":"ExportXML3_SplitTimes[[#This Row],[ControlCode]]","v":31},{"$f":"ExportXML3_SplitTimes[[#This Row],[SplitTimeSeconds]]/3600/24","v":"00:04:03"},{"$f":"COUNTIFS(ExportXML3_SplitTimes[Legenda],ExportXML3_SplitTimes[[#This Row],[Legenda]],ExportXML3_SplitTimes[Čas],\"<=\"&ExportXML3_SplitTimes[[#This Row],[Čas]])","v":14}]
["MB","Ransdorf","Miroslav","0140001",3686,93,500,{"$f":"ExportXML3_SplitTimes[[#This Row],[GivenName]]&\" \"&ExportXML3_SplitTimes[[#This Row],[FamilyName]]","v":"Miroslav Ransdorf"},{"$f":"_xlfn.XLOOKUP(ExportXML3_SplitTimes[[#This Row],[PersonId]],#REF!,#REF!,\"-\")","v":{"$error":"#REF!"}},{"$f":"ExportXML3_SplitTimes[[#This Row],[Kategorie]] & \" - \" & ExportXML3_SplitTimes[[#This Row],[Závodník]] & \" (\" & ExportXML3_SplitTimes[[#This Row],[Číslo čipu]] & \")\"","v":{"$error":"#REF!"}},{"$f":"ExportXML3_SplitTimes[[#This Row],[ControlCode]]","v":93},{"$f":"ExportXML3_SplitTimes[[#This Row],[SplitTimeSeconds]]/3600/24","v":"00:08:20"},{"$f":"COUNTIFS(ExportXML3_SplitTimes[Legenda],ExportXML3_SplitTimes[[#This Row],[Legenda]],ExportXML3_SplitTimes[Čas],\"<=\"&ExportXML3_SplitTimes[[#This Row],[Čas]])","v":78}]
["MB","Ransdorf","Miroslav","0140001",3686,56,659,{"$f":"ExportXML3_SplitTimes[[#This Row],[GivenName]]&\" \"&ExportXML3_SplitTimes[[#This Row],[FamilyName]]","v":"Miroslav Ransdorf"},{"$f":"_xlfn.XLOOKUP(ExportXML3_SplitTimes[[#This Row],[PersonId]],#REF!,#REF!,\"-\")","v":{"$error":"#REF!"}},{"$f":"ExportXML3_SplitTimes[[#This Row],[Kategorie]] & \" - \" & ExportXML3_SplitTimes[[#This Row],[Závodník]] & \" (\" & ExportXML3_SplitTimes[[#This Row],[Číslo čipu]] & \")\"","v":{"$error":"#REF!"}},{"$f":"ExportXML3_SplitTimes[[#This Row],[ControlCode]]","v":56},{"$f":"ExportXML3_SplitTimes[[#This Row],[SplitTimeSeconds]]/3600/24","v":"00:10:59"},{"$f":"COUNTIFS(ExportXML3_SplitTimes[Legenda],ExportXML3_SplitTimes[[#This Row],[Legenda]],ExportXML3_SplitTimes[Čas],\"<=\"&ExportXML3_SplitTimes[[#This Row],[Čas]])","v":131}]
["MB","Ransdorf","Miroslav","0140001",3686,45,927,{"$f":"ExportXML3_SplitTimes[[#This Row],[GivenName]]&\" \"&ExportXML3_SplitTimes[[#This Row],[FamilyName]]","v":"Miroslav Ransdorf"},{"$f":"_xlfn.XLOOKUP(ExportXML3_SplitTimes[[#This Row],[PersonId]],#REF!,#REF!,\"-\")","v":{"$error":"#REF!"}},{"$f":"ExportXML3_SplitTimes[[#This Row],[Kategorie]] & \" - \" & ExportXML3_SplitTimes[[#This Row],[Závodník]] & \" (\" & ExportXML3_SplitTimes[[#This Row],[Číslo čipu]] & \")\"","v":{"$error":"#REF!"}},{"$f":"ExportXML3_SplitTimes[[#This Row],[ControlCode]]","v":45},{"$f":"ExportXML3_SplitTimes[[#This Row],[SplitTimeSeconds]]/3600/24","v":"00:15:27"},{"$f":"COUNTIFS(ExportXML3_SplitTimes[Legenda],ExportXML3_SplitTimes[[#This Row],[Legenda]],ExportXML3_SplitTimes[Čas],\"<=\"&ExportXML3_SplitTimes[[#This Row],[Čas]])","v":201}]
["MB","Ransdorf","Miroslav","0140001",3686,43,1544,{"$f":"ExportXML3_SplitTimes[[#This Row],[GivenName]]&\" \"&ExportXML3_SplitTimes[[#This Row],[FamilyName]]","v":"Miroslav Ransdorf"},{"$f":"_xlfn.XLOOKUP(ExportXML3_SplitTimes[[#This Row],[PersonId]],#REF!,#REF!,\"-\")","v":{"$error":"#REF!"}},{"$f":"ExportXML3_SplitTimes[[#This Row],[Kategorie]] & \" - \" & ExportXML3_SplitTimes[[#This Row],[Závodník]] & \" (\" & ExportXML3_SplitTimes[[#This Row],[Číslo čipu]] & \")\"","v":{"$error":"#REF!"}},{"$f":"ExportXML3_SplitTimes[[#This Row],[ControlCode]]","v":43},{"$f":"ExportXML3_SplitTimes[[#This Row],[SplitTimeSeconds]]/3600/24","v":"00:25:44"},{"$f":"COUNTIFS(ExportXML3_SplitTimes[Legenda],ExportXML3_SplitTimes[[#This Row],[Legenda]],ExportXML3_SplitTimes[Čas],\"<=\"&ExportXML3_SplitTimes[[#This Row],[Čas]])","v":347}]
["MB","Ransdorf","Miroslav","0140001",3686,47,1711,{"$f":"ExportXML3_SplitTimes[[#This Row],[GivenName]]&\" \"&ExportXML3_SplitTimes[[#This Row],[FamilyName]]","v":"Miroslav Ransdorf"},{"$f":"_xlfn.XLOOKUP(ExportXML3_SplitTimes[[#This Row],[PersonId]],#REF!,#REF!,\"-\")","v":{"$error":"#REF!"}},{"$f":"ExportXML3_SplitTimes[[#This Row],[Kategorie]] & \" - \" & ExportXML3_SplitTimes[[#This Row],[Závodník]] & \" (\" & ExportXML3_SplitTimes[[#This Row],[Číslo čipu]] & \")\"","v":{"$error":"#REF!"}},{"$f":"ExportXML3_SplitTimes[[#This Row],[ControlCode]]","v":47},{"$f":"ExportXML3_SplitTimes[[#This Row],[SplitTimeSeconds]]/3600/24","v":"00:28:31"},{"$f":"COUNTIFS(ExportXML3_SplitTimes[Legenda],ExportXML3_SplitTimes[[#This Row],[Legenda]],ExportXML3_SplitTimes[Čas],\"<=\"&ExportXML3_SplitTimes[[#This Row],[Čas]])","v":387}]
["MB","Ransdorf","Miroslav","0140001",3686,79,2005,{"$f":"ExportXML3_SplitTimes[[#This Row],[GivenName]]&\" \"&ExportXML3_SplitTimes[[#This Row],[FamilyName]]","v":"Miroslav Ransdorf"},{"$f":"_xlfn.XLOOKUP(ExportXML3_SplitTimes[[#This Row],[PersonId]],#REF!,#REF!,\"-\")","v":{"$error":"#REF!"}},{"$f":"ExportXML3_SplitTimes[[#This Row],[Kategorie]] & \" - \" & ExportXML3_SplitTimes[[#This Row],[Závodník]] & \" (\" & ExportXML3_SplitTimes[[#This Row],[Číslo čipu]] & \")\"","v":{"$error":"#REF!"}},{"$f":"ExportXML3_SplitTimes[[#This Row],[ControlCode]]","v":79},{"$f":"ExportXML3_SplitTimes[[#This Row],[SplitTimeSeconds]]/3600/24","v":"00:33:25"},{"$f":"COUNTIFS(ExportXML3_SplitTimes[Legenda],ExportXML3_SplitTimes[[#This Row],[Legenda]],ExportXML3_SplitTimes[Čas],\"<=\"&ExportXML3_SplitTimes[[#This Row],[Čas]])","v":462}]
["MB","Ransdorf","Miroslav","0140001",3686,81,2278,{"$f":"ExportXML3_SplitTimes[[#This Row],[GivenName]]&\" \"&ExportXML3_SplitTimes[[#This Row],[FamilyName]]","v":"Miroslav Ransdorf"},{"$f":"_xlfn.XLOOKUP(ExportXML3_SplitTimes[[#This Row],[PersonId]],#REF!,#REF!,\"-\")","v":{"$error":"#REF!"}},{"$f":"ExportXML3_SplitTimes[[#This Row],[Kategorie]] & \" - \" & ExportXML3_SplitTimes[[#This Row],[Závodník]] & \" (\" & ExportXML3_SplitTimes[[#This Row],[Číslo čipu]] & \")\"","v":{"$error":"#REF!"}},{"$f":"ExportXML3_SplitTimes[[#This Row],[ControlCode]]","v":81},{"$f":"ExportXML3_SplitTimes[[#This Row],[SplitTimeSeconds]]/3600/24","v":"00:37:58"},{"$f":"COUNTIFS(ExportXML3_SplitTimes[Legenda],ExportXML3_SplitTimes[[#This Row],[Legenda]],ExportXML3_SplitTimes[Čas],\"<=\"&ExportXML3_SplitTimes[[#This Row],[Čas]])","v":520}]
["MB","Ransdorf","Miroslav","0140001",3686,63,2728,{"$f":"ExportXML3_SplitTimes[[#This Row],[GivenName]]&\" \"&ExportXML3_SplitTimes[[#This Row],[FamilyName]]","v":"Miroslav Ransdorf"},{"$f":"_xlfn.XLOOKUP(ExportXML3_SplitTimes[[#This Row],[PersonId]],#REF!,#REF!,\"-\")","v":{"$error":"#REF!"}},{"$f":"ExportXML3_SplitTimes[[#This Row],[Kategorie]] & \" - \" & ExportXML3_SplitTimes[[#This Row],[Závodník]] & \" (\" & ExportXML3_SplitTimes[[#This Row],[Číslo čipu]] & \")\"","v":{"$error":"#REF!"}},{"$f":"ExportXML3_SplitTimes[[#This Row],[ControlCode]]","v":63},{"$f":"ExportXML3_SplitTimes[[#This Row],[SplitTimeSeconds]]/3600/24","v":"00:45:28"},{"$f":"COUNTIFS(ExportXML3_SplitTimes[Legenda],ExportXML3_SplitTimes[[#This Row],[Legenda]],ExportXML3_SplitTimes[Čas],\"<=\"&ExportXML3_SplitTimes[[#This Row],[Čas]])","v":612}]
["MB","Ransdorf","Miroslav","0140001",3686,64,2909,{"$f":"ExportXML3_SplitTimes[[#This Row],[GivenName]]&\" \"&ExportXML3_SplitTimes[[#This Row],[FamilyName]]","v":"Miroslav Ransdorf"},{"$f":"_xlfn.XLOOKUP(ExportXML3_SplitTimes[[#This Row],[PersonId]],#REF!,#REF!,\"-\")","v":{"$error":"#REF!"}},{"$f":"ExportXML3_SplitTimes[[#This Row],[Kategorie]] & \" - \" & ExportXML3_SplitTimes[[#This Row],[Závodník]] & \" (\" & ExportXML3_SplitTimes[[#This Row],[Číslo čipu]] & \")\"","v":{"$error":"#REF!"}},{"$f":"ExportXML3_SplitTimes[[#This Row],[ControlCode]]","v":64},{"$f":"ExportXML3_SplitTimes[[#This Row],[SplitTimeSeconds]]/3600/24","v":"00:48:29"},{"$f":"COUNTIFS(ExportXML3_SplitTimes[Legenda],ExportXML3_SplitTimes[[#This Row],[Legenda]],ExportXML3_SplitTimes[Čas],\"<=\"&ExportXML3_SplitTimes[[#This Row],[Čas]])","v":649}]
["MB","Ransdorf","Miroslav","0140001",3686,76,3122,{"$f":"ExportXML3_SplitTimes[[#This Row],[GivenName]]&\" \"&ExportXML3_SplitTimes[[#This Row],[FamilyName]]","v":"Miroslav Ransdorf"},{"$f":"_xlfn.XLOOKUP(ExportXML3_SplitTimes[[#This Row],[PersonId]],#REF!,#REF!,\"-\")","v":{"$error":"#REF!"}},{"$f":"ExportXML3_SplitTimes[[#This Row],[Kategorie]] & \" - \" & ExportXML3_SplitTimes[[#This Row],[Závodník]] & \" (\" & ExportXML3_SplitTimes[[#This Row],[Číslo čipu]] & \")\"","v":{"$error":"#REF!"}},{"$f":"ExportXML3_SplitTimes[[#This Row],[ControlCode]]","v":76},{"$f":"ExportXML3_SplitTimes[[#This Row],[SplitTimeSeconds]]/3600/24","v":"00:52:02"},{"$f":"COUNTIFS(ExportXML3_SplitTimes[Legenda],ExportXML3_SplitTimes[[#This Row],[Legenda]],ExportXML3_SplitTimes[Čas],\"<=\"&ExportXML3_SplitTimes[[#This Row],[Čas]])","v":687}]
["MB","Ransdorf","Miroslav","0140001",3686,84,3380,{"$f":"ExportXML3_SplitTimes[[#This Row],[GivenName]]&\" \"&ExportXML3_SplitTimes[[#This Row],[FamilyName]]","v":"Miroslav Ransdorf"},{"$f":"_xlfn.XLOOKUP(ExportXML3_SplitTimes[[#This Row],[PersonId]],#REF!,#REF!,\"-\")","v":{"$error":"#REF!"}},{"$f":"ExportXML3_SplitTimes[[#This Row],[Kategorie]] & \" - \" & ExportXML3_SplitTimes[[#This Row],[Závodník]] & \" (\" & ExportXML3_SplitTimes[[#This Row],[Číslo čipu]] & \")\"","v":{"$error":"#REF!"}},{"$f":"ExportXML3_SplitTimes[[#This Row],[ControlCode]]","v":84},{"$f":"ExportXML3_SplitTimes[[#This Row],[SplitTimeSeconds]]/3600/24","v":"00:56:20"},{"$f":"COUNTIFS(ExportXML3_SplitTimes[Legenda],ExportXML3_SplitTimes[[#This Row],[Legenda]],ExportXML3_SplitTimes[Čas],\"<=\"&ExportXML3_SplitTimes[[#This Row],[Čas]])","v":718}]
["MB","Ransdorf","Miroslav","0140001",3686,78,3516,{"$f":"ExportXML3_SplitTimes[[#This Row],[GivenName]]&\" \"&ExportXML3_SplitTimes[[#This Row],[FamilyName]]","v":"Miroslav Ransdorf"},{"$f":"_xlfn.XLOOKUP(ExportXML3_SplitTimes[[#This Row],[PersonId]],#REF!,#REF!,\"-\")","v":{"$error":"#REF!"}},{"$f":"ExportXML3_SplitTimes[[#This Row],[Kategorie]] & \" - \" & ExportXML3_SplitTimes[[#This Row],[Závodník]] & \" (\" & ExportXML3_SplitTimes[[#This Row],[Číslo čipu]] & \")\"","v":{"$error":"#REF!"}},{"$f":"ExportXML3_SplitTimes[[#This Row],[ControlCode]]","v":78},{"$f":"ExportXML3_SplitTimes[[#This Row],[SplitTimeSeconds]]/3600/24","v":"00:58:36"},{"$f":"COUNTIFS(ExportXML3_SplitTimes[Legenda],ExportXML3_SplitTimes[[#This Row],[Legenda]],ExportXML3_SplitTimes[Čas],\"<=\"&ExportXML3_SplitTimes[[#This Row],[Čas]])","v":729}]
["MB","Ransdorf","Miroslav","0140001",3686,100,3658,{"$f":"ExportXML3_SplitTimes[[#This Row],[GivenName]]&\" \"&ExportXML3_SplitTimes[[#This Row],[FamilyName]]","v":"Miroslav Ransdorf"},{"$f":"_xlfn.XLOOKUP(ExportXML3_SplitTimes[[#This Row],[PersonId]],#REF!,#REF!,\"-\")","v":{"$error":"#REF!"}},{"$f":"ExportXML3_SplitTimes[[#This Row],[Kategorie]] & \" - \" & ExportXML3_SplitTimes[[#This Row],[Závodník]] & \" (\" & ExportXML3_SplitTimes[[#This Row],[Číslo čipu]] & \")\"","v":{"$error":"#REF!"}},{"$f":"ExportXML3_SplitTimes[[#This Row],[ControlCode]]","v":100},{"$f":"ExportXML3_SplitTimes[[#This Row],[SplitTimeSeconds]]/3600/24","v":"01:00:58"},{"$f":"COUNTIFS(ExportXML3_SplitTimes[Legenda],ExportXML3_SplitTimes[[#This Row],[Legenda]],ExportXML3_SplitTimes[Čas],\"<=\"&ExportXML3_SplitTimes[[#This Row],[Čas]])","v":744}]
["MB","Jiří","Štěpánek","0190002",3700,31,129,{"$f":"ExportXML3_SplitTimes[[#This Row],[GivenName]]&\" \"&ExportXML3_SplitTimes[[#This Row],[FamilyName]]","v":"Štěpánek Jiří"},{"$f":"_xlfn.XLOOKUP(ExportXML3_SplitTimes[[#This Row],[PersonId]],#REF!,#REF!,\"-\")","v":{"$error":"#REF!"}},{"$f":"ExportXML3_SplitTimes[[#This Row],[Kategorie]] & \" - \" & ExportXML3_SplitTimes[[#This Row],[Závodník]] & \" (\" & ExportXML3_SplitTimes[[#This Row],[Číslo čipu]] & \")\"","v":{"$error":"#REF!"}},{"$f":"ExportXML3_SplitTimes[[#This Row],[ControlCode]]","v":31},{"$f":"ExportXML3_SplitTimes[[#This Row],[SplitTimeSeconds]]/3600/24","v":"00:02:09"},{"$f":"COUNTIFS(ExportXML3_SplitTimes[Legenda],ExportXML3_SplitTimes[[#This Row],[Legenda]],ExportXML3_SplitTimes[Čas],\"<=\"&ExportXML3_SplitTimes[[#This Row],[Čas]])","v":3}]
["MB","Jiří","Štěpánek","0190002",3700,93,515,{"$f":"ExportXML3_SplitTimes[[#This Row],[GivenName]]&\" \"&ExportXML3_SplitTimes[[#This Row],[FamilyName]]","v":"Štěpánek Jiří"},{"$f":"_xlfn.XLOOKUP(ExportXML3_SplitTimes[[#This Row],[PersonId]],#REF!,#REF!,\"-\")","v":{"$error":"#REF!"}},{"$f":"ExportXML3_SplitTimes[[#This Row],[Kategorie]] & \" - \" & ExportXML3_SplitTimes[[#This Row],[Závodník]] & \" (\" & ExportXML3_SplitTimes[[#This Row],[Číslo čipu]] & \")\"","v":{"$error":"#REF!"}},{"$f":"ExportXML3_SplitTimes[[#This Row],[ControlCode]]","v":93},{"$f":"ExportXML3_SplitTimes[[#This Row],[SplitTimeSeconds]]/3600/24","v":"00:08:35"},{"$f":"COUNTIFS(ExportXML3_SplitTimes[Legenda],ExportXML3_SplitTimes[[#This Row],[Legenda]],ExportXML3_SplitTimes[Čas],\"<=\"&ExportXML3_SplitTimes[[#This Row],[Čas]])","v":84}]
["MB","Jiří","Štěpánek","0190002",3700,56,909,{"$f":"ExportXML3_SplitTimes[[#This Row],[GivenName]]&\" \"&ExportXML3_SplitTimes[[#This Row],[FamilyName]]","v":"Štěpánek Jiří"},{"$f":"_xlfn.XLOOKUP(ExportXML3_SplitTimes[[#This Row],[PersonId]],#REF!,#REF!,\"-\")","v":{"$error":"#REF!"}},{"$f":"ExportXML3_SplitTimes[[#This Row],[Kategorie]] & \" - \" & ExportXML3_SplitTimes[[#This Row],[Závodník]] & \" (\" & ExportXML3_SplitTimes[[#This Row],[Číslo čipu]] & \")\"","v":{"$error":"#REF!"}},{"$f":"ExportXML3_SplitTimes[[#This Row],[ControlCode]]","v":56},{"$f":"ExportXML3_SplitTimes[[#This Row],[SplitTimeSeconds]]/3600/24","v":"00:15:09"},{"$f":"COUNTIFS(ExportXML3_SplitTimes[Legenda],ExportXML3_SplitTimes[[#This Row],[Legenda]],ExportXML3_SplitTimes[Čas],\"<=\"&ExportXML3_SplitTimes[[#This Row],[Čas]])","v":194}]
["MB","Jiří","Štěpánek","0190002",3700,45,1051,{"$f":"ExportXML3_SplitTimes[[#This Row],[GivenName]]&\" \"&ExportXML3_SplitTimes[[#This Row],[FamilyName]]","v":"Štěpánek Jiří"},{"$f":"_xlfn.XLOOKUP(ExportXML3_SplitTimes[[#This Row],[PersonId]],#REF!,#REF!,\"-\")","v":{"$error":"#REF!"}},{"$f":"ExportXML3_SplitTimes[[#This Row],[Kategorie]] & \" - \" & ExportXML3_SplitTimes[[#This Row],[Závodník]] & \" (\" & ExportXML3_SplitTimes[[#This Row],[Číslo čipu]] & \")\"","v":{"$error":"#REF!"}},{"$f":"ExportXML3_SplitTimes[[#This Row],[ControlCode]]","v":45},{"$f":"ExportXML3_SplitTimes[[#This Row],[SplitTimeSeconds]]/3600/24","v":"00:17:31"},{"$f":"COUNTIFS(ExportXML3_SplitTimes[Legenda],ExportXML3_SplitTimes[[#This Row],[Legenda]],ExportXML3_SplitTimes[Čas],\"<=\"&ExportXML3_SplitTimes[[#This Row],[Čas]])","v":237}]
["MB","Jiří","Štěpánek","0190002",3700,43,1396,{"$f":"ExportXML3_SplitTimes[[#This Row],[GivenName]]&\" \"&ExportXML3_SplitTimes[[#This Row],[FamilyName]]","v":"Štěpánek Jiří"},{"$f":"_xlfn.XLOOKUP(ExportXML3_SplitTimes[[#This Row],[PersonId]],#REF!,#REF!,\"-\")","v":{"$error":"#REF!"}},{"$f":"ExportXML3_SplitTimes[[#This Row],[Kategorie]] & \" - \" & ExportXML3_SplitTimes[[#This Row],[Závodník]] & \" (\" & ExportXML3_SplitTimes[[#This Row],[Číslo čipu]] & \")\"","v":{"$error":"#REF!"}},{"$f":"ExportXML3_SplitTimes[[#This Row],[ControlCode]]","v":43},{"$f":"ExportXML3_SplitTimes[[#This Row],[SplitTimeSeconds]]/3600/24","v":"00:23:16"},{"$f":"COUNTIFS(ExportXML3_SplitTimes[Legenda],ExportXML3_SplitTimes[[#This Row],[Legenda]],ExportXML3_SplitTimes[Čas],\"<=\"&ExportXML3_SplitTimes[[#This Row],[Čas]])","v":314}]
["MB","Jiří","Štěpánek","0190002",3700,47,1520,{"$f":"ExportXML3_SplitTimes[[#This Row],[GivenName]]&\" \"&ExportXML3_SplitTimes[[#This Row],[FamilyName]]","v":"Štěpánek Jiří"},{"$f":"_xlfn.XLOOKUP(ExportXML3_SplitTimes[[#This Row],[PersonId]],#REF!,#REF!,\"-\")","v":{"$error":"#REF!"}},{"$f":"ExportXML3_SplitTimes[[#This Row],[Kategorie]] & \" - \" & ExportXML3_SplitTimes[[#This Row],[Závodník]] & \" (\" & ExportXML3_SplitTimes[[#This Row],[Číslo čipu]] & \")\"","v":{"$error":"#REF!"}},{"$f":"ExportXML3_SplitTimes[[#This Row],[ControlCode]]","v":47},{"$f":"ExportXML3_SplitTimes[[#This Row],[SplitTimeSeconds]]/3600/24","v":"00:25:20"},{"$f":"COUNTIFS(ExportXML3_SplitTimes[Legenda],ExportXML3_SplitTimes[[#This Row],[Legenda]],ExportXML3_SplitTimes[Čas],\"<=\"&ExportXML3_SplitTimes[[#This Row],[Čas]])","v":339}]
["MB","Jiří","Štěpánek","0190002",3700,79,1854,{"$f":"ExportXML3_SplitTimes[[#This Row],[GivenName]]&\" \"&ExportXML3_SplitTimes[[#This Row],[FamilyName]]","v":"Štěpánek Jiří"},{"$f":"_xlfn.XLOOKUP(ExportXML3_SplitTimes[[#This Row],[PersonId]],#REF!,#REF!,\"-\")","v":{"$error":"#REF!"}},{"$f":"ExportXML3_SplitTimes[[#This Row],[Kategorie]] & \" - \" & ExportXML3_SplitTimes[[#This Row],[Závodník]] & \" (\" & ExportXML3_SplitTimes[[#This Row],[Číslo čipu]] & \")\"","v":{"$error":"#REF!"}},{"$f":"ExportXML3_SplitTimes[[#This Row],[ControlCode]]","v":79},{"$f":"ExportXML3_SplitTimes[[#This Row],[SplitTimeSeconds]]/3600/24","v":"00:30:54"},{"$f":"COUNTIFS(ExportXML3_SplitTimes[Legenda],ExportXML3_SplitTimes[[#This Row],[Legenda]],ExportXML3_SplitTimes[Čas],\"<=\"&ExportXML3_SplitTimes[[#This Row],[Čas]])","v":423}]
["MB","Jiří","Štěpánek","0190002",3700,81,2424,{"$f":"ExportXML3_SplitTimes[[#This Row],[GivenName]]&\" \"&ExportXML3_SplitTimes[[#This Row],[FamilyName]]","v":"Štěpánek Jiří"},{"$f":"_xlfn.XLOOKUP(ExportXML3_SplitTimes[[#This Row],[PersonId]],#REF!,#REF!,\"-\")","v":{"$error":"#REF!"}},{"$f":"ExportXML3_SplitTimes[[#This Row],[Kategorie]] & \" - \" & ExportXML3_SplitTimes[[#This Row],[Závodník]] & \" (\" & ExportXML3_SplitTimes[[#This Row],[Číslo čipu]] & \")\"","v":{"$error":"#REF!"}},{"$f":"ExportXML3_SplitTimes[[#This Row],[ControlCode]]","v":81},{"$f":"ExportXML3_SplitTimes[[#This Row],[SplitTimeSeconds]]/3600/24","v":"00:40:24"},{"$f":"COUNTIFS(ExportXML3_SplitTimes[Legenda],ExportXML3_SplitTimes[[#This Row],[Legenda]],ExportXML3_SplitTimes[Čas],\"<=\"&ExportXML3_SplitTimes[[#This Row],[Čas]])","v":550}]
["MB","Jiří","Štěpánek","0190002",3700,63,2748,{"$f":"ExportXML3_SplitTimes[[#This Row],[GivenName]]&\" \"&ExportXML3_SplitTimes[[#This Row],[FamilyName]]","v":"Štěpánek Jiří"},{"$f":"_xlfn.XLOOKUP(ExportXML3_SplitTimes[[#This Row],[PersonId]],#REF!,#REF!,\"-\")","v":{"$error":"#REF!"}},{"$f":"ExportXML3_SplitTimes[[#This Row],[Kategorie]] & \" - \" & ExportXML3_SplitTimes[[#This Row],[Závodník]] & \" (\" & ExportXML3_SplitTimes[[#This Row],[Číslo čipu]] & \")\"","v":{"$error":"#REF!"}},{"$f":"ExportXML3_SplitTimes[[#This Row],[ControlCode]]","v":63},{"$f":"ExportXML3_SplitTimes[[#This Row],[SplitTimeSeconds]]/3600/24","v":"00:45:48"},{"$f":"COUNTIFS(ExportXML3_SplitTimes[Legenda],ExportXML3_SplitTimes[[#This Row],[Legenda]],ExportXML3_SplitTimes[Čas],\"<=\"&ExportXML3_SplitTimes[[#This Row],[Čas]])","v":618}]
["MB","Jiří","Štěpánek","0190002",3700,64,2922,{"$f":"ExportXML3_SplitTimes[[#This Row],[GivenName]]&\" \"&ExportXML3_SplitTimes[[#This Row],[FamilyName]]","v":"Štěpánek Jiří"},{"$f":"_xlfn.XLOOKUP(ExportXML3_SplitTimes[[#This Row],[PersonId]],#REF!,#REF!,\"-\")","v":{"$error":"#REF!"}},{"$f":"ExportXML3_SplitTimes[[#This Row],[Kategorie]] & \" - \" & ExportXML3_SplitTimes[[#This Row],[Závodník]] & \" (\" & ExportXML3_SplitTimes[[#This Row],[Číslo čipu]] & \")\"","v":{"$error":"#REF!"}},{"$f":"ExportXML3_SplitTimes[[#This Row],[ControlCode]]","v":64},{"$f":"ExportXML3_SplitTimes[[#This Row],[SplitTimeSeconds]]/3600/24","v":"00:48:42"},{"$f":"COUNTIFS(ExportXML3_SplitTimes[Legenda],ExportXML3_SplitTimes[[#This Row],[Legenda]],ExportXML3_SplitTimes[Čas],\"<=\"&ExportXML3_SplitTimes[[#This Row],[Čas]])","v":653}]
["MB","Jiří","Štěpánek","0190002",3700,76,3149,{"$f":"ExportXML3_SplitTimes[[#This Row],[GivenName]]&\" \"&ExportXML3_SplitTimes[[#This Row],[FamilyName]]","v":"Štěpánek Jiří"},{"$f":"_xlfn.XLOOKUP(ExportXML3_SplitTimes[[#This Row],[PersonId]],#REF!,#REF!,\"-\")","v":{"$error":"#REF!"}},{"$f":"ExportXML3_SplitTimes[[#This Row],[Kategorie]] & \" - \" & ExportXML3_SplitTimes[[#This Row],[Závodník]] & \" (\" & ExportXML3_SplitTimes[[#This Row],[Číslo čipu]] & \")\"","v":{"$error":"#REF!"}},{"$f":"ExportXML3_SplitTimes[[#This Row],[ControlCode]]","v":76},{"$f":"ExportXML3_SplitTimes[[#This Row],[SplitTimeSeconds]]/3600/24","v":"00:52:29"},{"$f":"COUNTIFS(ExportXML3_SplitTimes[Legenda],ExportXML3_SplitTimes[[#This Row],[Legenda]],ExportXML3_SplitTimes[Čas],\"<=\"&ExportXML3_SplitTimes[[#This Row],[Čas]])","v":689}]
["MB","Jiří","Štěpánek","0190002",3700,84,3473,{"$f":"ExportXML3_SplitTimes[[#This Row],[GivenName]]&\" \"&ExportXML3_SplitTimes[[#This Row],[FamilyName]]","v":"Štěpánek Jiří"},{"$f":"_xlfn.XLOOKUP(ExportXML3_SplitTimes[[#This Row],[PersonId]],#REF!,#REF!,\"-\")","v":{"$error":"#REF!"}},{"$f":"ExportXML3_SplitTimes[[#This Row],[Kategorie]] & \" - \" & ExportXML3_SplitTimes[[#This Row],[Závodník]] & \" (\" & ExportXML3_SplitTimes[[#This Row],[Číslo čipu]] & \")\"","v":{"$error":"#REF!"}},{"$f":"ExportXML3_SplitTimes[[#This Row],[ControlCode]]","v":84},{"$f":"ExportXML3_SplitTimes[[#This Row],[SplitTimeSeconds]]/3600/24","v":"00:57:53"},{"$f":"COUNTIFS(ExportXML3_SplitTimes[Legenda],ExportXML3_SplitTimes[[#This Row],[Legenda]],ExportXML3_SplitTimes[Čas],\"<=\"&ExportXML3_SplitTimes[[#This Row],[Čas]])","v":725}]
["MB","Jiří","Štěpánek","0190002",3700,78,3572,{"$f":"ExportXML3_SplitTimes[[#This Row],[GivenName]]&\" \"&ExportXML3_SplitTimes[[#This Row],[FamilyName]]","v":"Štěpánek Jiří"},{"$f":"_xlfn.XLOOKUP(ExportXML3_SplitTimes[[#This Row],[PersonId]],#REF!,#REF!,\"-\")","v":{"$error":"#REF!"}},{"$f":"ExportXML3_SplitTimes[[#This Row],[Kategorie]] & \" - \" & ExportXML3_SplitTimes[[#This Row],[Závodník]] & \" (\" & ExportXML3_SplitTimes[[#This Row],[Číslo čipu]] & \")\"","v":{"$error":"#REF!"}},{"$f":"ExportXML3_SplitTimes[[#This Row],[ControlCode]]","v":78},{"$f":"ExportXML3_SplitTimes[[#This Row],[SplitTimeSeconds]]/3600/24","v":"00:59:32"},{"$f":"COUNTIFS(ExportXML3_SplitTimes[Legenda],ExportXML3_SplitTimes[[#This Row],[Legenda]],ExportXML3_SplitTimes[Čas],\"<=\"&ExportXML3_SplitTimes[[#This Row],[Čas]])","v":739}]
["MB","Jiří","Štěpánek","0190002",3700,100,3685,{"$f":"ExportXML3_SplitTimes[[#This Row],[GivenName]]&\" \"&ExportXML3_SplitTimes[[#This Row],[FamilyName]]","v":"Štěpánek Jiří"},{"$f":"_xlfn.XLOOKUP(ExportXML3_SplitTimes[[#This Row],[PersonId]],#REF!,#REF!,\"-\")","v":{"$error":"#REF!"}},{"$f":"ExportXML3_SplitTimes[[#This Row],[Kategorie]] & \" - \" & ExportXML3_SplitTimes[[#This Row],[Závodník]] & \" (\" & ExportXML3_SplitTimes[[#This Row],[Číslo čipu]] & \")\"","v":{"$error":"#REF!"}},{"$f":"ExportXML3_SplitTimes[[#This Row],[ControlCode]]","v":100},{"$f":"ExportXML3_SplitTimes[[#This Row],[SplitTimeSeconds]]/3600/24","v":"01:01:25"},{"$f":"COUNTIFS(ExportXML3_SplitTimes[Legenda],ExportXML3_SplitTimes[[#This Row],[Legenda]],ExportXML3_SplitTimes[Čas],\"<=\"&ExportXML3_SplitTimes[[#This Row],[Čas]])","v":746}]
["MB","Sedláček","Josef","0060003",3824,31,147,{"$f":"ExportXML3_SplitTimes[[#This Row],[GivenName]]&\" \"&ExportXML3_SplitTimes[[#This Row],[FamilyName]]","v":"Josef Sedláček"},{"$f":"_xlfn.XLOOKUP(ExportXML3_SplitTimes[[#This Row],[PersonId]],#REF!,#REF!,\"-\")","v":{"$error":"#REF!"}},{"$f":"ExportXML3_SplitTimes[[#This Row],[Kategorie]] & \" - \" & ExportXML3_SplitTimes[[#This Row],[Závodník]] & \" (\" & ExportXML3_SplitTimes[[#This Row],[Číslo čipu]] & \")\"","v":{"$error":"#REF!"}},{"$f":"ExportXML3_SplitTimes[[#This Row],[ControlCode]]","v":31},{"$f":"ExportXML3_SplitTimes[[#This Row],[SplitTimeSeconds]]/3600/24","v":"00:02:27"},{"$f":"COUNTIFS(ExportXML3_SplitTimes[Legenda],ExportXML3_SplitTimes[[#This Row],[Legenda]],ExportXML3_SplitTimes[Čas],\"<=\"&ExportXML3_SplitTimes[[#This Row],[Čas]])","v":4}]
["MB","Sedláček","Josef","0060003",3824,93,428,{"$f":"ExportXML3_SplitTimes[[#This Row],[GivenName]]&\" \"&ExportXML3_SplitTimes[[#This Row],[FamilyName]]","v":"Josef Sedláček"},{"$f":"_xlfn.XLOOKUP(ExportXML3_SplitTimes[[#This Row],[PersonId]],#REF!,#REF!,\"-\")","v":{"$error":"#REF!"}},{"$f":"ExportXML3_SplitTimes[[#This Row],[Kategorie]] & \" - \" & ExportXML3_SplitTimes[[#This Row],[Závodník]] & \" (\" & ExportXML3_SplitTimes[[#This Row],[Číslo čipu]] & \")\"","v":{"$error":"#REF!"}},{"$f":"ExportXML3_SplitTimes[[#This Row],[ControlCode]]","v":93},{"$f":"ExportXML3_SplitTimes[[#This Row],[SplitTimeSeconds]]/3600/24","v":"00:07:08"},{"$f":"COUNTIFS(ExportXML3_SplitTimes[Legenda],ExportXML3_SplitTimes[[#This Row],[Legenda]],ExportXML3_SplitTimes[Čas],\"<=\"&ExportXML3_SplitTimes[[#This Row],[Čas]])","v":59}]
["MB","Sedláček","Josef","0060003",3824,56,589,{"$f":"ExportXML3_SplitTimes[[#This Row],[GivenName]]&\" \"&ExportXML3_SplitTimes[[#This Row],[FamilyName]]","v":"Josef Sedláček"},{"$f":"_xlfn.XLOOKUP(ExportXML3_SplitTimes[[#This Row],[PersonId]],#REF!,#REF!,\"-\")","v":{"$error":"#REF!"}},{"$f":"ExportXML3_SplitTimes[[#This Row],[Kategorie]] & \" - \" & ExportXML3_SplitTimes[[#This Row],[Závodník]] & \" (\" & ExportXML3_SplitTimes[[#This Row],[Číslo čipu]] & \")\"","v":{"$error":"#REF!"}},{"$f":"ExportXML3_SplitTimes[[#This Row],[ControlCode]]","v":56},{"$f":"ExportXML3_SplitTimes[[#This Row],[SplitTimeSeconds]]/3600/24","v":"00:09:49"},{"$f":"COUNTIFS(ExportXML3_SplitTimes[Legenda],ExportXML3_SplitTimes[[#This Row],[Legenda]],ExportXML3_SplitTimes[Čas],\"<=\"&ExportXML3_SplitTimes[[#This Row],[Čas]])","v":109}]
["MB","Sedláček","Josef","0060003",3824,45,1771,{"$f":"ExportXML3_SplitTimes[[#This Row],[GivenName]]&\" \"&ExportXML3_SplitTimes[[#This Row],[FamilyName]]","v":"Josef Sedláček"},{"$f":"_xlfn.XLOOKUP(ExportXML3_SplitTimes[[#This Row],[PersonId]],#REF!,#REF!,\"-\")","v":{"$error":"#REF!"}},{"$f":"ExportXML3_SplitTimes[[#This Row],[Kategorie]] & \" - \" & ExportXML3_SplitTimes[[#This Row],[Závodník]] & \" (\" & ExportXML3_SplitTimes[[#This Row],[Číslo čipu]] & \")\"","v":{"$error":"#REF!"}},{"$f":"ExportXML3_SplitTimes[[#This Row],[ControlCode]]","v":45},{"$f":"ExportXML3_SplitTimes[[#This Row],[SplitTimeSeconds]]/3600/24","v":"00:29:31"},{"$f":"COUNTIFS(ExportXML3_SplitTimes[Legenda],ExportXML3_SplitTimes[[#This Row],[Legenda]],ExportXML3_SplitTimes[Čas],\"<=\"&ExportXML3_SplitTimes[[#This Row],[Čas]])","v":406}]
["MB","Sedláček","Josef","0060003",3824,43,1975,{"$f":"ExportXML3_SplitTimes[[#This Row],[GivenName]]&\" \"&ExportXML3_SplitTimes[[#This Row],[FamilyName]]","v":"Josef Sedláček"},{"$f":"_xlfn.XLOOKUP(ExportXML3_SplitTimes[[#This Row],[PersonId]],#REF!,#REF!,\"-\")","v":{"$error":"#REF!"}},{"$f":"ExportXML3_SplitTimes[[#This Row],[Kategorie]] & \" - \" & ExportXML3_SplitTimes[[#This Row],[Závodník]] & \" (\" & ExportXML3_SplitTimes[[#This Row],[Číslo čipu]] & \")\"","v":{"$error":"#REF!"}},{"$f":"ExportXML3_SplitTimes[[#This Row],[ControlCode]]","v":43},{"$f":"ExportXML3_SplitTimes[[#This Row],[SplitTimeSeconds]]/3600/24","v":"00:32:55"},{"$f":"COUNTIFS(ExportXML3_SplitTimes[Legenda],ExportXML3_SplitTimes[[#This Row],[Legenda]],ExportXML3_SplitTimes[Čas],\"<=\"&ExportXML3_SplitTimes[[#This Row],[Čas]])","v":457}]
["MB","Sedláček","Josef","0060003",3824,47,2174,{"$f":"ExportXML3_SplitTimes[[#This Row],[GivenName]]&\" \"&ExportXML3_SplitTimes[[#This Row],[FamilyName]]","v":"Josef Sedláček"},{"$f":"_xlfn.XLOOKUP(ExportXML3_SplitTimes[[#This Row],[PersonId]],#REF!,#REF!,\"-\")","v":{"$error":"#REF!"}},{"$f":"ExportXML3_SplitTimes[[#This Row],[Kategorie]] & \" - \" & ExportXML3_SplitTimes[[#This Row],[Závodník]] & \" (\" & ExportXML3_SplitTimes[[#This Row],[Číslo čipu]] & \")\"","v":{"$error":"#REF!"}},{"$f":"ExportXML3_SplitTimes[[#This Row],[ControlCode]]","v":47},{"$f":"ExportXML3_SplitTimes[[#This Row],[SplitTimeSeconds]]/3600/24","v":"00:36:14"},{"$f":"COUNTIFS(ExportXML3_SplitTimes[Legenda],ExportXML3_SplitTimes[[#This Row],[Legenda]],ExportXML3_SplitTimes[Čas],\"<=\"&ExportXML3_SplitTimes[[#This Row],[Čas]])","v":493}]
["MB","Sedláček","Josef","0060003",3824,79,2435,{"$f":"ExportXML3_SplitTimes[[#This Row],[GivenName]]&\" \"&ExportXML3_SplitTimes[[#This Row],[FamilyName]]","v":"Josef Sedláček"},{"$f":"_xlfn.XLOOKUP(ExportXML3_SplitTimes[[#This Row],[PersonId]],#REF!,#REF!,\"-\")","v":{"$error":"#REF!"}},{"$f":"ExportXML3_SplitTimes[[#This Row],[Kategorie]] & \" - \" & ExportXML3_SplitTimes[[#This Row],[Závodník]] & \" (\" & ExportXML3_SplitTimes[[#This Row],[Číslo čipu]] & \")\"","v":{"$error":"#REF!"}},{"$f":"ExportXML3_SplitTimes[[#This Row],[ControlCode]]","v":79},{"$f":"ExportXML3_SplitTimes[[#This Row],[SplitTimeSeconds]]/3600/24","v":"00:40:35"},{"$f":"COUNTIFS(ExportXML3_SplitTimes[Legenda],ExportXML3_SplitTimes[[#This Row],[Legenda]],ExportXML3_SplitTimes[Čas],\"<=\"&ExportXML3_SplitTimes[[#This Row],[Čas]])","v":554}]
["MB","Sedláček","Josef","0060003",3824,81,2694,{"$f":"ExportXML3_SplitTimes[[#This Row],[GivenName]]&\" \"&ExportXML3_SplitTimes[[#This Row],[FamilyName]]","v":"Josef Sedláček"},{"$f":"_xlfn.XLOOKUP(ExportXML3_SplitTimes[[#This Row],[PersonId]],#REF!,#REF!,\"-\")","v":{"$error":"#REF!"}},{"$f":"ExportXML3_SplitTimes[[#This Row],[Kategorie]] & \" - \" & ExportXML3_SplitTimes[[#This Row],[Závodník]] & \" (\" & ExportXML3_SplitTimes[[#This Row],[Číslo čipu]] & \")\"","v":{"$error":"#REF!"}},{"$f":"ExportXML3_SplitTimes[[#This Row],[ControlCode]]","v":81},{"$f":"ExportXML3_SplitTimes[[#This Row],[SplitTimeSeconds]]/3600/24","v":"00:44:54"},{"$f":"COUNTIFS(ExportXML3_SplitTimes[Legenda],ExportXML3_SplitTimes[[#This Row],[Legenda]],ExportXML3_SplitTimes[Čas],\"<=\"&ExportXML3_SplitTimes[[#This Row],[Čas]])","v":608}]
["MB","Sedláček","Josef","0060003",3824,63,2995,{"$f":"ExportXML3_SplitTimes[[#This Row],[GivenName]]&\" \"&ExportXML3_SplitTimes[[#This Row],[FamilyName]]","v":"Josef Sedláček"},{"$f":"_xlfn.XLOOKUP(ExportXML3_SplitTimes[[#This Row],[PersonId]],#REF!,#REF!,\"-\")","v":{"$error":"#REF!"}},{"$f":"ExportXML3_SplitTimes[[#This Row],[Kategorie]] & \" - \" & ExportXML3_SplitTimes[[#This Row],[Závodník]] & \" (\" & ExportXML3_SplitTimes[[#This Row],[Číslo čipu]] & \")\"","v":{"$error":"#REF!"}},{"$f":"ExportXML3_SplitTimes[[#This Row],[ControlCode]]","v":63},{"$f":"ExportXML3_SplitTimes[[#This Row],[SplitTimeSeconds]]/3600/24","v":"00:49:55"},{"$f":"COUNTIFS(ExportXML3_SplitTimes[Legenda],ExportXML3_SplitTimes[[#This Row],[Legenda]],ExportXML3_SplitTimes[Čas],\"<=\"&ExportXML3_SplitTimes[[#This Row],[Čas]])","v":667}]
["MB","Sedláček","Josef","0060003",3824,64,3171,{"$f":"ExportXML3_SplitTimes[[#This Row],[GivenName]]&\" \"&ExportXML3_SplitTimes[[#This Row],[FamilyName]]","v":"Josef Sedláček"},{"$f":"_xlfn.XLOOKUP(ExportXML3_SplitTimes[[#This Row],[PersonId]],#REF!,#REF!,\"-\")","v":{"$error":"#REF!"}},{"$f":"ExportXML3_SplitTimes[[#This Row],[Kategorie]] & \" - \" & ExportXML3_SplitTimes[[#This Row],[Závodník]] & \" (\" & ExportXML3_SplitTimes[[#This Row],[Číslo čipu]] & \")\"","v":{"$error":"#REF!"}},{"$f":"ExportXML3_SplitTimes[[#This Row],[ControlCode]]","v":64},{"$f":"ExportXML3_SplitTimes[[#This Row],[SplitTimeSeconds]]/3600/24","v":"00:52:51"},{"$f":"COUNTIFS(ExportXML3_SplitTimes[Legenda],ExportXML3_SplitTimes[[#This Row],[Legenda]],ExportXML3_SplitTimes[Čas],\"<=\"&ExportXML3_SplitTimes[[#This Row],[Čas]])","v":692}]
["MB","Sedláček","Josef","0060003",3824,76,3359,{"$f":"ExportXML3_SplitTimes[[#This Row],[GivenName]]&\" \"&ExportXML3_SplitTimes[[#This Row],[FamilyName]]","v":"Josef Sedláček"},{"$f":"_xlfn.XLOOKUP(ExportXML3_SplitTimes[[#This Row],[PersonId]],#REF!,#REF!,\"-\")","v":{"$error":"#REF!"}},{"$f":"ExportXML3_SplitTimes[[#This Row],[Kategorie]] & \" - \" & ExportXML3_SplitTimes[[#This Row],[Závodník]] & \" (\" & ExportXML3_SplitTimes[[#This Row],[Číslo čipu]] & \")\"","v":{"$error":"#REF!"}},{"$f":"ExportXML3_SplitTimes[[#This Row],[ControlCode]]","v":76},{"$f":"ExportXML3_SplitTimes[[#This Row],[SplitTimeSeconds]]/3600/24","v":"00:55:59"},{"$f":"COUNTIFS(ExportXML3_SplitTimes[Legenda],ExportXML3_SplitTimes[[#This Row],[Legenda]],ExportXML3_SplitTimes[Čas],\"<=\"&ExportXML3_SplitTimes[[#This Row],[Čas]])","v":717}]
["MB","Sedláček","Josef","0060003",3824,84,3525,{"$f":"ExportXML3_SplitTimes[[#This Row],[GivenName]]&\" \"&ExportXML3_SplitTimes[[#This Row],[FamilyName]]","v":"Josef Sedláček"},{"$f":"_xlfn.XLOOKUP(ExportXML3_SplitTimes[[#This Row],[PersonId]],#REF!,#REF!,\"-\")","v":{"$error":"#REF!"}},{"$f":"ExportXML3_SplitTimes[[#This Row],[Kategorie]] & \" - \" & ExportXML3_SplitTimes[[#This Row],[Závodník]] & \" (\" & ExportXML3_SplitTimes[[#This Row],[Číslo čipu]] & \")\"","v":{"$error":"#REF!"}},{"$f":"ExportXML3_SplitTimes[[#This Row],[ControlCode]]","v":84},{"$f":"ExportXML3_SplitTimes[[#This Row],[SplitTimeSeconds]]/3600/24","v":"00:58:45"},{"$f":"COUNTIFS(ExportXML3_SplitTimes[Legenda],ExportXML3_SplitTimes[[#This Row],[Legenda]],ExportXML3_SplitTimes[Čas],\"<=\"&ExportXML3_SplitTimes[[#This Row],[Čas]])","v":731}]
["MB","Sedláček","Josef","0060003",3824,78,3649,{"$f":"ExportXML3_SplitTimes[[#This Row],[GivenName]]&\" \"&ExportXML3_SplitTimes[[#This Row],[FamilyName]]","v":"Josef Sedláček"},{"$f":"_xlfn.XLOOKUP(ExportXML3_SplitTimes[[#This Row],[PersonId]],#REF!,#REF!,\"-\")","v":{"$error":"#REF!"}},{"$f":"ExportXML3_SplitTimes[[#This Row],[Kategorie]] & \" - \" & ExportXML3_SplitTimes[[#This Row],[Závodník]] & \" (\" & ExportXML3_SplitTimes[[#This Row],[Číslo čipu]] & \")\"","v":{"$error":"#REF!"}},{"$f":"ExportXML3_SplitTimes[[#This Row],[ControlCode]]","v":78},{"$f":"ExportXML3_SplitTimes[[#This Row],[SplitTimeSeconds]]/3600/24","v":"01:00:49"},{"$f":"COUNTIFS(ExportXML3_SplitTimes[Legenda],ExportXML3_SplitTimes[[#This Row],[Legenda]],ExportXML3_SplitTimes[Čas],\"<=\"&ExportXML3_SplitTimes[[#This Row],[Čas]])","v":742}]
["MB","Sedláček","Josef","0060003",3824,100,3809,{"$f":"ExportXML3_SplitTimes[[#This Row],[GivenName]]&\" \"&ExportXML3_SplitTimes[[#This Row],[FamilyName]]","v":"Josef Sedláček"},{"$f":"_xlfn.XLOOKUP(ExportXML3_SplitTimes[[#This Row],[PersonId]],#REF!,#REF!,\"-\")","v":{"$error":"#REF!"}},{"$f":"ExportXML3_SplitTimes[[#This Row],[Kategorie]] & \" - \" & ExportXML3_SplitTimes[[#This Row],[Závodník]] & \" (\" & ExportXML3_SplitTimes[[#This Row],[Číslo čipu]] & \")\"","v":{"$error":"#REF!"}},{"$f":"ExportXML3_SplitTimes[[#This Row],[ControlCode]]","v":100},{"$f":"ExportXML3_SplitTimes[[#This Row],[SplitTimeSeconds]]/3600/24","v":"01:03:29"},{"$f":"COUNTIFS(ExportXML3_SplitTimes[Legenda],ExportXML3_SplitTimes[[#This Row],[Legenda]],ExportXML3_SplitTimes[Čas],\"<=\"&ExportXML3_SplitTimes[[#This Row],[Čas]])","v":752}]
["MB","Hanek","Karel","0170001",4004,31,391,{"$f":"ExportXML3_SplitTimes[[#This Row],[GivenName]]&\" \"&ExportXML3_SplitTimes[[#This Row],[FamilyName]]","v":"Karel Hanek"},{"$f":"_xlfn.XLOOKUP(ExportXML3_SplitTimes[[#This Row],[PersonId]],#REF!,#REF!,\"-\")","v":{"$error":"#REF!"}},{"$f":"ExportXML3_SplitTimes[[#This Row],[Kategorie]] & \" - \" & ExportXML3_SplitTimes[[#This Row],[Závodník]] & \" (\" & ExportXML3_SplitTimes[[#This Row],[Číslo čipu]] & \")\"","v":{"$error":"#REF!"}},{"$f":"ExportXML3_SplitTimes[[#This Row],[ControlCode]]","v":31},{"$f":"ExportXML3_SplitTimes[[#This Row],[SplitTimeSeconds]]/3600/24","v":"00:06:31"},{"$f":"COUNTIFS(ExportXML3_SplitTimes[Legenda],ExportXML3_SplitTimes[[#This Row],[Legenda]],ExportXML3_SplitTimes[Čas],\"<=\"&ExportXML3_SplitTimes[[#This Row],[Čas]])","v":50}]
["MB","Hanek","Karel","0170001",4004,93,814,{"$f":"ExportXML3_SplitTimes[[#This Row],[GivenName]]&\" \"&ExportXML3_SplitTimes[[#This Row],[FamilyName]]","v":"Karel Hanek"},{"$f":"_xlfn.XLOOKUP(ExportXML3_SplitTimes[[#This Row],[PersonId]],#REF!,#REF!,\"-\")","v":{"$error":"#REF!"}},{"$f":"ExportXML3_SplitTimes[[#This Row],[Kategorie]] & \" - \" & ExportXML3_SplitTimes[[#This Row],[Závodník]] & \" (\" & ExportXML3_SplitTimes[[#This Row],[Číslo čipu]] & \")\"","v":{"$error":"#REF!"}},{"$f":"ExportXML3_SplitTimes[[#This Row],[ControlCode]]","v":93},{"$f":"ExportXML3_SplitTimes[[#This Row],[SplitTimeSeconds]]/3600/24","v":"00:13:34"},{"$f":"COUNTIFS(ExportXML3_SplitTimes[Legenda],ExportXML3_SplitTimes[[#This Row],[Legenda]],ExportXML3_SplitTimes[Čas],\"<=\"&ExportXML3_SplitTimes[[#This Row],[Čas]])","v":172}]
["MB","Hanek","Karel","0170001",4004,56,972,{"$f":"ExportXML3_SplitTimes[[#This Row],[GivenName]]&\" \"&ExportXML3_SplitTimes[[#This Row],[FamilyName]]","v":"Karel Hanek"},{"$f":"_xlfn.XLOOKUP(ExportXML3_SplitTimes[[#This Row],[PersonId]],#REF!,#REF!,\"-\")","v":{"$error":"#REF!"}},{"$f":"ExportXML3_SplitTimes[[#This Row],[Kategorie]] & \" - \" & ExportXML3_SplitTimes[[#This Row],[Závodník]] & \" (\" & ExportXML3_SplitTimes[[#This Row],[Číslo čipu]] & \")\"","v":{"$error":"#REF!"}},{"$f":"ExportXML3_SplitTimes[[#This Row],[ControlCode]]","v":56},{"$f":"ExportXML3_SplitTimes[[#This Row],[SplitTimeSeconds]]/3600/24","v":"00:16:12"},{"$f":"COUNTIFS(ExportXML3_SplitTimes[Legenda],ExportXML3_SplitTimes[[#This Row],[Legenda]],ExportXML3_SplitTimes[Čas],\"<=\"&ExportXML3_SplitTimes[[#This Row],[Čas]])","v":216}]
["MB","Hanek","Karel","0170001",4004,45,1337,{"$f":"ExportXML3_SplitTimes[[#This Row],[GivenName]]&\" \"&ExportXML3_SplitTimes[[#This Row],[FamilyName]]","v":"Karel Hanek"},{"$f":"_xlfn.XLOOKUP(ExportXML3_SplitTimes[[#This Row],[PersonId]],#REF!,#REF!,\"-\")","v":{"$error":"#REF!"}},{"$f":"ExportXML3_SplitTimes[[#This Row],[Kategorie]] & \" - \" & ExportXML3_SplitTimes[[#This Row],[Závodník]] & \" (\" & ExportXML3_SplitTimes[[#This Row],[Číslo čipu]] & \")\"","v":{"$error":"#REF!"}},{"$f":"ExportXML3_SplitTimes[[#This Row],[ControlCode]]","v":45},{"$f":"ExportXML3_SplitTimes[[#This Row],[SplitTimeSeconds]]/3600/24","v":"00:22:17"},{"$f":"COUNTIFS(ExportXML3_SplitTimes[Legenda],ExportXML3_SplitTimes[[#This Row],[Legenda]],ExportXML3_SplitTimes[Čas],\"<=\"&ExportXML3_SplitTimes[[#This Row],[Čas]])","v":302}]
["MB","Hanek","Karel","0170001",4004,43,1532,{"$f":"ExportXML3_SplitTimes[[#This Row],[GivenName]]&\" \"&ExportXML3_SplitTimes[[#This Row],[FamilyName]]","v":"Karel Hanek"},{"$f":"_xlfn.XLOOKUP(ExportXML3_SplitTimes[[#This Row],[PersonId]],#REF!,#REF!,\"-\")","v":{"$error":"#REF!"}},{"$f":"ExportXML3_SplitTimes[[#This Row],[Kategorie]] & \" - \" & ExportXML3_SplitTimes[[#This Row],[Závodník]] & \" (\" & ExportXML3_SplitTimes[[#This Row],[Číslo čipu]] & \")\"","v":{"$error":"#REF!"}},{"$f":"ExportXML3_SplitTimes[[#This Row],[ControlCode]]","v":43},{"$f":"ExportXML3_SplitTimes[[#This Row],[SplitTimeSeconds]]/3600/24","v":"00:25:32"},{"$f":"COUNTIFS(ExportXML3_SplitTimes[Legenda],ExportXML3_SplitTimes[[#This Row],[Legenda]],ExportXML3_SplitTimes[Čas],\"<=\"&ExportXML3_SplitTimes[[#This Row],[Čas]])","v":343}]
["MB","Hanek","Karel","0170001",4004,47,1702,{"$f":"ExportXML3_SplitTimes[[#This Row],[GivenName]]&\" \"&ExportXML3_SplitTimes[[#This Row],[FamilyName]]","v":"Karel Hanek"},{"$f":"_xlfn.XLOOKUP(ExportXML3_SplitTimes[[#This Row],[PersonId]],#REF!,#REF!,\"-\")","v":{"$error":"#REF!"}},{"$f":"ExportXML3_SplitTimes[[#This Row],[Kategorie]] & \" - \" & ExportXML3_SplitTimes[[#This Row],[Závodník]] & \" (\" & ExportXML3_SplitTimes[[#This Row],[Číslo čipu]] & \")\"","v":{"$error":"#REF!"}},{"$f":"ExportXML3_SplitTimes[[#This Row],[ControlCode]]","v":47},{"$f":"ExportXML3_SplitTimes[[#This Row],[SplitTimeSeconds]]/3600/24","v":"00:28:22"},{"$f":"COUNTIFS(ExportXML3_SplitTimes[Legenda],ExportXML3_SplitTimes[[#This Row],[Legenda]],ExportXML3_SplitTimes[Čas],\"<=\"&ExportXML3_SplitTimes[[#This Row],[Čas]])","v":383}]
["MB","Hanek","Karel","0170001",4004,79,1973,{"$f":"ExportXML3_SplitTimes[[#This Row],[GivenName]]&\" \"&ExportXML3_SplitTimes[[#This Row],[FamilyName]]","v":"Karel Hanek"},{"$f":"_xlfn.XLOOKUP(ExportXML3_SplitTimes[[#This Row],[PersonId]],#REF!,#REF!,\"-\")","v":{"$error":"#REF!"}},{"$f":"ExportXML3_SplitTimes[[#This Row],[Kategorie]] & \" - \" & ExportXML3_SplitTimes[[#This Row],[Závodník]] & \" (\" & ExportXML3_SplitTimes[[#This Row],[Číslo čipu]] & \")\"","v":{"$error":"#REF!"}},{"$f":"ExportXML3_SplitTimes[[#This Row],[ControlCode]]","v":79},{"$f":"ExportXML3_SplitTimes[[#This Row],[SplitTimeSeconds]]/3600/24","v":"00:32:53"},{"$f":"COUNTIFS(ExportXML3_SplitTimes[Legenda],ExportXML3_SplitTimes[[#This Row],[Legenda]],ExportXML3_SplitTimes[Čas],\"<=\"&ExportXML3_SplitTimes[[#This Row],[Čas]])","v":456}]
["MB","Hanek","Karel","0170001",4004,81,2311,{"$f":"ExportXML3_SplitTimes[[#This Row],[GivenName]]&\" \"&ExportXML3_SplitTimes[[#This Row],[FamilyName]]","v":"Karel Hanek"},{"$f":"_xlfn.XLOOKUP(ExportXML3_SplitTimes[[#This Row],[PersonId]],#REF!,#REF!,\"-\")","v":{"$error":"#REF!"}},{"$f":"ExportXML3_SplitTimes[[#This Row],[Kategorie]] & \" - \" & ExportXML3_SplitTimes[[#This Row],[Závodník]] & \" (\" & ExportXML3_SplitTimes[[#This Row],[Číslo čipu]] & \")\"","v":{"$error":"#REF!"}},{"$f":"ExportXML3_SplitTimes[[#This Row],[ControlCode]]","v":81},{"$f":"ExportXML3_SplitTimes[[#This Row],[SplitTimeSeconds]]/3600/24","v":"00:38:31"},{"$f":"COUNTIFS(ExportXML3_SplitTimes[Legenda],ExportXML3_SplitTimes[[#This Row],[Legenda]],ExportXML3_SplitTimes[Čas],\"<=\"&ExportXML3_SplitTimes[[#This Row],[Čas]])","v":526}]
["MB","Hanek","Karel","0170001",4004,63,2595,{"$f":"ExportXML3_SplitTimes[[#This Row],[GivenName]]&\" \"&ExportXML3_SplitTimes[[#This Row],[FamilyName]]","v":"Karel Hanek"},{"$f":"_xlfn.XLOOKUP(ExportXML3_SplitTimes[[#This Row],[PersonId]],#REF!,#REF!,\"-\")","v":{"$error":"#REF!"}},{"$f":"ExportXML3_SplitTimes[[#This Row],[Kategorie]] & \" - \" & ExportXML3_SplitTimes[[#This Row],[Závodník]] & \" (\" & ExportXML3_SplitTimes[[#This Row],[Číslo čipu]] & \")\"","v":{"$error":"#REF!"}},{"$f":"ExportXML3_SplitTimes[[#This Row],[ControlCode]]","v":63},{"$f":"ExportXML3_SplitTimes[[#This Row],[SplitTimeSeconds]]/3600/24","v":"00:43:15"},{"$f":"COUNTIFS(ExportXML3_SplitTimes[Legenda],ExportXML3_SplitTimes[[#This Row],[Legenda]],ExportXML3_SplitTimes[Čas],\"<=\"&ExportXML3_SplitTimes[[#This Row],[Čas]])","v":584}]
["MB","Hanek","Karel","0170001",4004,64,3025,{"$f":"ExportXML3_SplitTimes[[#This Row],[GivenName]]&\" \"&ExportXML3_SplitTimes[[#This Row],[FamilyName]]","v":"Karel Hanek"},{"$f":"_xlfn.XLOOKUP(ExportXML3_SplitTimes[[#This Row],[PersonId]],#REF!,#REF!,\"-\")","v":{"$error":"#REF!"}},{"$f":"ExportXML3_SplitTimes[[#This Row],[Kategorie]] & \" - \" & ExportXML3_SplitTimes[[#This Row],[Závodník]] & \" (\" & ExportXML3_SplitTimes[[#This Row],[Číslo čipu]] & \")\"","v":{"$error":"#REF!"}},{"$f":"ExportXML3_SplitTimes[[#This Row],[ControlCode]]","v":64},{"$f":"ExportXML3_SplitTimes[[#This Row],[SplitTimeSeconds]]/3600/24","v":"00:50:25"},{"$f":"COUNTIFS(ExportXML3_SplitTimes[Legenda],ExportXML3_SplitTimes[[#This Row],[Legenda]],ExportXML3_SplitTimes[Čas],\"<=\"&ExportXML3_SplitTimes[[#This Row],[Čas]])","v":671}]
["MB","Hanek","Karel","0170001",4004,76,3252,{"$f":"ExportXML3_SplitTimes[[#This Row],[GivenName]]&\" \"&ExportXML3_SplitTimes[[#This Row],[FamilyName]]","v":"Karel Hanek"},{"$f":"_xlfn.XLOOKUP(ExportXML3_SplitTimes[[#This Row],[PersonId]],#REF!,#REF!,\"-\")","v":{"$error":"#REF!"}},{"$f":"ExportXML3_SplitTimes[[#This Row],[Kategorie]] & \" - \" & ExportXML3_SplitTimes[[#This Row],[Závodník]] & \" (\" & ExportXML3_SplitTimes[[#This Row],[Číslo čipu]] & \")\"","v":{"$error":"#REF!"}},{"$f":"ExportXML3_SplitTimes[[#This Row],[ControlCode]]","v":76},{"$f":"ExportXML3_SplitTimes[[#This Row],[SplitTimeSeconds]]/3600/24","v":"00:54:12"},{"$f":"COUNTIFS(ExportXML3_SplitTimes[Legenda],ExportXML3_SplitTimes[[#This Row],[Legenda]],ExportXML3_SplitTimes[Čas],\"<=\"&ExportXML3_SplitTimes[[#This Row],[Čas]])","v":701}]
["MB","Hanek","Karel","0170001",4004,84,3427,{"$f":"ExportXML3_SplitTimes[[#This Row],[GivenName]]&\" \"&ExportXML3_SplitTimes[[#This Row],[FamilyName]]","v":"Karel Hanek"},{"$f":"_xlfn.XLOOKUP(ExportXML3_SplitTimes[[#This Row],[PersonId]],#REF!,#REF!,\"-\")","v":{"$error":"#REF!"}},{"$f":"ExportXML3_SplitTimes[[#This Row],[Kategorie]] & \" - \" & ExportXML3_SplitTimes[[#This Row],[Závodník]] & \" (\" & ExportXML3_SplitTimes[[#This Row],[Číslo čipu]] & \")\"","v":{"$error":"#REF!"}},{"$f":"ExportXML3_SplitTimes[[#This Row],[ControlCode]]","v":84},{"$f":"ExportXML3_SplitTimes[[#This Row],[SplitTimeSeconds]]/3600/24","v":"00:57:07"},{"$f":"COUNTIFS(ExportXML3_SplitTimes[Legenda],ExportXML3_SplitTimes[[#This Row],[Legenda]],ExportXML3_SplitTimes[Čas],\"<=\"&ExportXML3_SplitTimes[[#This Row],[Čas]])","v":723}]
["MB","Hanek","Karel","0170001",4004,78,3782,{"$f":"ExportXML3_SplitTimes[[#This Row],[GivenName]]&\" \"&ExportXML3_SplitTimes[[#This Row],[FamilyName]]","v":"Karel Hanek"},{"$f":"_xlfn.XLOOKUP(ExportXML3_SplitTimes[[#This Row],[PersonId]],#REF!,#REF!,\"-\")","v":{"$error":"#REF!"}},{"$f":"ExportXML3_SplitTimes[[#This Row],[Kategorie]] & \" - \" & ExportXML3_SplitTimes[[#This Row],[Závodník]] & \" (\" & ExportXML3_SplitTimes[[#This Row],[Číslo čipu]] & \")\"","v":{"$error":"#REF!"}},{"$f":"ExportXML3_SplitTimes[[#This Row],[ControlCode]]","v":78},{"$f":"ExportXML3_SplitTimes[[#This Row],[SplitTimeSeconds]]/3600/24","v":"01:03:02"},{"$f":"COUNTIFS(ExportXML3_SplitTimes[Legenda],ExportXML3_SplitTimes[[#This Row],[Legenda]],ExportXML3_SplitTimes[Čas],\"<=\"&ExportXML3_SplitTimes[[#This Row],[Čas]])","v":751}]
["MB","Hanek","Karel","0170001",4004,100,3976,{"$f":"ExportXML3_SplitTimes[[#This Row],[GivenName]]&\" \"&ExportXML3_SplitTimes[[#This Row],[FamilyName]]","v":"Karel Hanek"},{"$f":"_xlfn.XLOOKUP(ExportXML3_SplitTimes[[#This Row],[PersonId]],#REF!,#REF!,\"-\")","v":{"$error":"#REF!"}},{"$f":"ExportXML3_SplitTimes[[#This Row],[Kategorie]] & \" - \" & ExportXML3_SplitTimes[[#This Row],[Závodník]] & \" (\" & ExportXML3_SplitTimes[[#This Row],[Číslo čipu]] & \")\"","v":{"$error":"#REF!"}},{"$f":"ExportXML3_SplitTimes[[#This Row],[ControlCode]]","v":100},{"$f":"ExportXML3_SplitTimes[[#This Row],[SplitTimeSeconds]]/3600/24","v":"01:06:16"},{"$f":"COUNTIFS(ExportXML3_SplitTimes[Legenda],ExportXML3_SplitTimes[[#This Row],[Legenda]],ExportXML3_SplitTimes[Čas],\"<=\"&ExportXML3_SplitTimes[[#This Row],[Čas]])","v":765}]
["MB","Bedřich","Štěpánek","0190001",4518,31,208,{"$f":"ExportXML3_SplitTimes[[#This Row],[GivenName]]&\" \"&ExportXML3_SplitTimes[[#This Row],[FamilyName]]","v":"Štěpánek Bedřich"},{"$f":"_xlfn.XLOOKUP(ExportXML3_SplitTimes[[#This Row],[PersonId]],#REF!,#REF!,\"-\")","v":{"$error":"#REF!"}},{"$f":"ExportXML3_SplitTimes[[#This Row],[Kategorie]] & \" - \" & ExportXML3_SplitTimes[[#This Row],[Závodník]] & \" (\" & ExportXML3_SplitTimes[[#This Row],[Číslo čipu]] & \")\"","v":{"$error":"#REF!"}},{"$f":"ExportXML3_SplitTimes[[#This Row],[ControlCode]]","v":31},{"$f":"ExportXML3_SplitTimes[[#This Row],[SplitTimeSeconds]]/3600/24","v":"00:03:28"},{"$f":"COUNTIFS(ExportXML3_SplitTimes[Legenda],ExportXML3_SplitTimes[[#This Row],[Legenda]],ExportXML3_SplitTimes[Čas],\"<=\"&ExportXML3_SplitTimes[[#This Row],[Čas]])","v":8}]
["MB","Bedřich","Štěpánek","0190001",4518,93,661,{"$f":"ExportXML3_SplitTimes[[#This Row],[GivenName]]&\" \"&ExportXML3_SplitTimes[[#This Row],[FamilyName]]","v":"Štěpánek Bedřich"},{"$f":"_xlfn.XLOOKUP(ExportXML3_SplitTimes[[#This Row],[PersonId]],#REF!,#REF!,\"-\")","v":{"$error":"#REF!"}},{"$f":"ExportXML3_SplitTimes[[#This Row],[Kategorie]] & \" - \" & ExportXML3_SplitTimes[[#This Row],[Závodník]] & \" (\" & ExportXML3_SplitTimes[[#This Row],[Číslo čipu]] & \")\"","v":{"$error":"#REF!"}},{"$f":"ExportXML3_SplitTimes[[#This Row],[ControlCode]]","v":93},{"$f":"ExportXML3_SplitTimes[[#This Row],[SplitTimeSeconds]]/3600/24","v":"00:11:01"},{"$f":"COUNTIFS(ExportXML3_SplitTimes[Legenda],ExportXML3_SplitTimes[[#This Row],[Legenda]],ExportXML3_SplitTimes[Čas],\"<=\"&ExportXML3_SplitTimes[[#This Row],[Čas]])","v":132}]
["MB","Bedřich","Štěpánek","0190001",4518,56,964,{"$f":"ExportXML3_SplitTimes[[#This Row],[GivenName]]&\" \"&ExportXML3_SplitTimes[[#This Row],[FamilyName]]","v":"Štěpánek Bedřich"},{"$f":"_xlfn.XLOOKUP(ExportXML3_SplitTimes[[#This Row],[PersonId]],#REF!,#REF!,\"-\")","v":{"$error":"#REF!"}},{"$f":"ExportXML3_SplitTimes[[#This Row],[Kategorie]] & \" - \" & ExportXML3_SplitTimes[[#This Row],[Závodník]] & \" (\" & ExportXML3_SplitTimes[[#This Row],[Číslo čipu]] & \")\"","v":{"$error":"#REF!"}},{"$f":"ExportXML3_SplitTimes[[#This Row],[ControlCode]]","v":56},{"$f":"ExportXML3_SplitTimes[[#This Row],[SplitTimeSeconds]]/3600/24","v":"00:16:04"},{"$f":"COUNTIFS(ExportXML3_SplitTimes[Legenda],ExportXML3_SplitTimes[[#This Row],[Legenda]],ExportXML3_SplitTimes[Čas],\"<=\"&ExportXML3_SplitTimes[[#This Row],[Čas]])","v":212}]
["MB","Bedřich","Štěpánek","0190001",4518,45,1271,{"$f":"ExportXML3_SplitTimes[[#This Row],[GivenName]]&\" \"&ExportXML3_SplitTimes[[#This Row],[FamilyName]]","v":"Štěpánek Bedřich"},{"$f":"_xlfn.XLOOKUP(ExportXML3_SplitTimes[[#This Row],[PersonId]],#REF!,#REF!,\"-\")","v":{"$error":"#REF!"}},{"$f":"ExportXML3_SplitTimes[[#This Row],[Kategorie]] & \" - \" & ExportXML3_SplitTimes[[#This Row],[Závodník]] & \" (\" & ExportXML3_SplitTimes[[#This Row],[Číslo čipu]] & \")\"","v":{"$error":"#REF!"}},{"$f":"ExportXML3_SplitTimes[[#This Row],[ControlCode]]","v":45},{"$f":"ExportXML3_SplitTimes[[#This Row],[SplitTimeSeconds]]/3600/24","v":"00:21:11"},{"$f":"COUNTIFS(ExportXML3_SplitTimes[Legenda],ExportXML3_SplitTimes[[#This Row],[Legenda]],ExportXML3_SplitTimes[Čas],\"<=\"&ExportXML3_SplitTimes[[#This Row],[Čas]])","v":289}]
["MB","Bedřich","Štěpánek","0190001",4518,43,1533,{"$f":"ExportXML3_SplitTimes[[#This Row],[GivenName]]&\" \"&ExportXML3_SplitTimes[[#This Row],[FamilyName]]","v":"Štěpánek Bedřich"},{"$f":"_xlfn.XLOOKUP(ExportXML3_SplitTimes[[#This Row],[PersonId]],#REF!,#REF!,\"-\")","v":{"$error":"#REF!"}},{"$f":"ExportXML3_SplitTimes[[#This Row],[Kategorie]] & \" - \" & ExportXML3_SplitTimes[[#This Row],[Závodník]] & \" (\" & ExportXML3_SplitTimes[[#This Row],[Číslo čipu]] & \")\"","v":{"$error":"#REF!"}},{"$f":"ExportXML3_SplitTimes[[#This Row],[ControlCode]]","v":43},{"$f":"ExportXML3_SplitTimes[[#This Row],[SplitTimeSeconds]]/3600/24","v":"00:25:33"},{"$f":"COUNTIFS(ExportXML3_SplitTimes[Legenda],ExportXML3_SplitTimes[[#This Row],[Legenda]],ExportXML3_SplitTimes[Čas],\"<=\"&ExportXML3_SplitTimes[[#This Row],[Čas]])","v":344}]
["MB","Bedřich","Štěpánek","0190001",4518,47,1709,{"$f":"ExportXML3_SplitTimes[[#This Row],[GivenName]]&\" \"&ExportXML3_SplitTimes[[#This Row],[FamilyName]]","v":"Štěpánek Bedřich"},{"$f":"_xlfn.XLOOKUP(ExportXML3_SplitTimes[[#This Row],[PersonId]],#REF!,#REF!,\"-\")","v":{"$error":"#REF!"}},{"$f":"ExportXML3_SplitTimes[[#This Row],[Kategorie]] & \" - \" & ExportXML3_SplitTimes[[#This Row],[Závodník]] & \" (\" & ExportXML3_SplitTimes[[#This Row],[Číslo čipu]] & \")\"","v":{"$error":"#REF!"}},{"$f":"ExportXML3_SplitTimes[[#This Row],[ControlCode]]","v":47},{"$f":"ExportXML3_SplitTimes[[#This Row],[SplitTimeSeconds]]/3600/24","v":"00:28:29"},{"$f":"COUNTIFS(ExportXML3_SplitTimes[Legenda],ExportXML3_SplitTimes[[#This Row],[Legenda]],ExportXML3_SplitTimes[Čas],\"<=\"&ExportXML3_SplitTimes[[#This Row],[Čas]])","v":386}]
["MB","Bedřich","Štěpánek","0190001",4518,79,2366,{"$f":"ExportXML3_SplitTimes[[#This Row],[GivenName]]&\" \"&ExportXML3_SplitTimes[[#This Row],[FamilyName]]","v":"Štěpánek Bedřich"},{"$f":"_xlfn.XLOOKUP(ExportXML3_SplitTimes[[#This Row],[PersonId]],#REF!,#REF!,\"-\")","v":{"$error":"#REF!"}},{"$f":"ExportXML3_SplitTimes[[#This Row],[Kategorie]] & \" - \" & ExportXML3_SplitTimes[[#This Row],[Závodník]] & \" (\" & ExportXML3_SplitTimes[[#This Row],[Číslo čipu]] & \")\"","v":{"$error":"#REF!"}},{"$f":"ExportXML3_SplitTimes[[#This Row],[ControlCode]]","v":79},{"$f":"ExportXML3_SplitTimes[[#This Row],[SplitTimeSeconds]]/3600/24","v":"00:39:26"},{"$f":"COUNTIFS(ExportXML3_SplitTimes[Legenda],ExportXML3_SplitTimes[[#This Row],[Legenda]],ExportXML3_SplitTimes[Čas],\"<=\"&ExportXML3_SplitTimes[[#This Row],[Čas]])","v":537}]
["MB","Bedřich","Štěpánek","0190001",4518,81,2947,{"$f":"ExportXML3_SplitTimes[[#This Row],[GivenName]]&\" \"&ExportXML3_SplitTimes[[#This Row],[FamilyName]]","v":"Štěpánek Bedřich"},{"$f":"_xlfn.XLOOKUP(ExportXML3_SplitTimes[[#This Row],[PersonId]],#REF!,#REF!,\"-\")","v":{"$error":"#REF!"}},{"$f":"ExportXML3_SplitTimes[[#This Row],[Kategorie]] & \" - \" & ExportXML3_SplitTimes[[#This Row],[Závodník]] & \" (\" & ExportXML3_SplitTimes[[#This Row],[Číslo čipu]] & \")\"","v":{"$error":"#REF!"}},{"$f":"ExportXML3_SplitTimes[[#This Row],[ControlCode]]","v":81},{"$f":"ExportXML3_SplitTimes[[#This Row],[SplitTimeSeconds]]/3600/24","v":"00:49:07"},{"$f":"COUNTIFS(ExportXML3_SplitTimes[Legenda],ExportXML3_SplitTimes[[#This Row],[Legenda]],ExportXML3_SplitTimes[Čas],\"<=\"&ExportXML3_SplitTimes[[#This Row],[Čas]])","v":659}]
["MB","Bedřich","Štěpánek","0190001",4518,63,3410,{"$f":"ExportXML3_SplitTimes[[#This Row],[GivenName]]&\" \"&ExportXML3_SplitTimes[[#This Row],[FamilyName]]","v":"Štěpánek Bedřich"},{"$f":"_xlfn.XLOOKUP(ExportXML3_SplitTimes[[#This Row],[PersonId]],#REF!,#REF!,\"-\")","v":{"$error":"#REF!"}},{"$f":"ExportXML3_SplitTimes[[#This Row],[Kategorie]] & \" - \" & ExportXML3_SplitTimes[[#This Row],[Závodník]] & \" (\" & ExportXML3_SplitTimes[[#This Row],[Číslo čipu]] & \")\"","v":{"$error":"#REF!"}},{"$f":"ExportXML3_SplitTimes[[#This Row],[ControlCode]]","v":63},{"$f":"ExportXML3_SplitTimes[[#This Row],[SplitTimeSeconds]]/3600/24","v":"00:56:50"},{"$f":"COUNTIFS(ExportXML3_SplitTimes[Legenda],ExportXML3_SplitTimes[[#This Row],[Legenda]],ExportXML3_SplitTimes[Čas],\"<=\"&ExportXML3_SplitTimes[[#This Row],[Čas]])","v":722}]
["MB","Bedřich","Štěpánek","0190001",4518,64,3656,{"$f":"ExportXML3_SplitTimes[[#This Row],[GivenName]]&\" \"&ExportXML3_SplitTimes[[#This Row],[FamilyName]]","v":"Štěpánek Bedřich"},{"$f":"_xlfn.XLOOKUP(ExportXML3_SplitTimes[[#This Row],[PersonId]],#REF!,#REF!,\"-\")","v":{"$error":"#REF!"}},{"$f":"ExportXML3_SplitTimes[[#This Row],[Kategorie]] & \" - \" & ExportXML3_SplitTimes[[#This Row],[Závodník]] & \" (\" & ExportXML3_SplitTimes[[#This Row],[Číslo čipu]] & \")\"","v":{"$error":"#REF!"}},{"$f":"ExportXML3_SplitTimes[[#This Row],[ControlCode]]","v":64},{"$f":"ExportXML3_SplitTimes[[#This Row],[SplitTimeSeconds]]/3600/24","v":"01:00:56"},{"$f":"COUNTIFS(ExportXML3_SplitTimes[Legenda],ExportXML3_SplitTimes[[#This Row],[Legenda]],ExportXML3_SplitTimes[Čas],\"<=\"&ExportXML3_SplitTimes[[#This Row],[Čas]])","v":743}]
["MB","Bedřich","Štěpánek","0190001",4518,76,3911,{"$f":"ExportXML3_SplitTimes[[#This Row],[GivenName]]&\" \"&ExportXML3_SplitTimes[[#This Row],[FamilyName]]","v":"Štěpánek Bedřich"},{"$f":"_xlfn.XLOOKUP(ExportXML3_SplitTimes[[#This Row],[PersonId]],#REF!,#REF!,\"-\")","v":{"$error":"#REF!"}},{"$f":"ExportXML3_SplitTimes[[#This Row],[Kategorie]] & \" - \" & ExportXML3_SplitTimes[[#This Row],[Závodník]] & \" (\" & ExportXML3_SplitTimes[[#This Row],[Číslo čipu]] & \")\"","v":{"$error":"#REF!"}},{"$f":"ExportXML3_SplitTimes[[#This Row],[ControlCode]]","v":76},{"$f":"ExportXML3_SplitTimes[[#This Row],[SplitTimeSeconds]]/3600/24","v":"01:05:11"},{"$f":"COUNTIFS(ExportXML3_SplitTimes[Legenda],ExportXML3_SplitTimes[[#This Row],[Legenda]],ExportXML3_SplitTimes[Čas],\"<=\"&ExportXML3_SplitTimes[[#This Row],[Čas]])","v":761}]
["MB","Bedřich","Štěpánek","0190001",4518,84,4153,{"$f":"ExportXML3_SplitTimes[[#This Row],[GivenName]]&\" \"&ExportXML3_SplitTimes[[#This Row],[FamilyName]]","v":"Štěpánek Bedřich"},{"$f":"_xlfn.XLOOKUP(ExportXML3_SplitTimes[[#This Row],[PersonId]],#REF!,#REF!,\"-\")","v":{"$error":"#REF!"}},{"$f":"ExportXML3_SplitTimes[[#This Row],[Kategorie]] & \" - \" & ExportXML3_SplitTimes[[#This Row],[Závodník]] & \" (\" & ExportXML3_SplitTimes[[#This Row],[Číslo čipu]] & \")\"","v":{"$error":"#REF!"}},{"$f":"ExportXML3_SplitTimes[[#This Row],[ControlCode]]","v":84},{"$f":"ExportXML3_SplitTimes[[#This Row],[SplitTimeSeconds]]/3600/24","v":"01:09:13"},{"$f":"COUNTIFS(ExportXML3_SplitTimes[Legenda],ExportXML3_SplitTimes[[#This Row],[Legenda]],ExportXML3_SplitTimes[Čas],\"<=\"&ExportXML3_SplitTimes[[#This Row],[Čas]])","v":768}]
["MB","Bedřich","Štěpánek","0190001",4518,78,4303,{"$f":"ExportXML3_SplitTimes[[#This Row],[GivenName]]&\" \"&ExportXML3_SplitTimes[[#This Row],[FamilyName]]","v":"Štěpánek Bedřich"},{"$f":"_xlfn.XLOOKUP(ExportXML3_SplitTimes[[#This Row],[PersonId]],#REF!,#REF!,\"-\")","v":{"$error":"#REF!"}},{"$f":"ExportXML3_SplitTimes[[#This Row],[Kategorie]] & \" - \" & ExportXML3_SplitTimes[[#This Row],[Závodník]] & \" (\" & ExportXML3_SplitTimes[[#This Row],[Číslo čipu]] & \")\"","v":{"$error":"#REF!"}},{"$f":"ExportXML3_SplitTimes[[#This Row],[ControlCode]]","v":78},{"$f":"ExportXML3_SplitTimes[[#This Row],[SplitTimeSeconds]]/3600/24","v":"01:11:43"},{"$f":"COUNTIFS(ExportXML3_SplitTimes[Legenda],ExportXML3_SplitTimes[[#This Row],[Legenda]],ExportXML3_SplitTimes[Čas],\"<=\"&ExportXML3_SplitTimes[[#This Row],[Čas]])","v":775}]
["MB","Bedřich","Štěpánek","0190001",4518,100,4495,{"$f":"ExportXML3_SplitTimes[[#This Row],[GivenName]]&\" \"&ExportXML3_SplitTimes[[#This Row],[FamilyName]]","v":"Štěpánek Bedřich"},{"$f":"_xlfn.XLOOKUP(ExportXML3_SplitTimes[[#This Row],[PersonId]],#REF!,#REF!,\"-\")","v":{"$error":"#REF!"}},{"$f":"ExportXML3_SplitTimes[[#This Row],[Kategorie]] & \" - \" & ExportXML3_SplitTimes[[#This Row],[Závodník]] & \" (\" & ExportXML3_SplitTimes[[#This Row],[Číslo čipu]] & \")\"","v":{"$error":"#REF!"}},{"$f":"ExportXML3_SplitTimes[[#This Row],[ControlCode]]","v":100},{"$f":"ExportXML3_SplitTimes[[#This Row],[SplitTimeSeconds]]/3600/24","v":"01:14:55"},{"$f":"COUNTIFS(ExportXML3_SplitTimes[Legenda],ExportXML3_SplitTimes[[#This Row],[Legenda]],ExportXML3_SplitTimes[Čas],\"<=\"&ExportXML3_SplitTimes[[#This Row],[Čas]])","v":781}]
["MB","Sedláček","Luděk","0060002",4706,31,275,{"$f":"ExportXML3_SplitTimes[[#This Row],[GivenName]]&\" \"&ExportXML3_SplitTimes[[#This Row],[FamilyName]]","v":"Luděk Sedláček"},{"$f":"_xlfn.XLOOKUP(ExportXML3_SplitTimes[[#This Row],[PersonId]],#REF!,#REF!,\"-\")","v":{"$error":"#REF!"}},{"$f":"ExportXML3_SplitTimes[[#This Row],[Kategorie]] & \" - \" & ExportXML3_SplitTimes[[#This Row],[Závodník]] & \" (\" & ExportXML3_SplitTimes[[#This Row],[Číslo čipu]] & \")\"","v":{"$error":"#REF!"}},{"$f":"ExportXML3_SplitTimes[[#This Row],[ControlCode]]","v":31},{"$f":"ExportXML3_SplitTimes[[#This Row],[SplitTimeSeconds]]/3600/24","v":"00:04:35"},{"$f":"COUNTIFS(ExportXML3_SplitTimes[Legenda],ExportXML3_SplitTimes[[#This Row],[Legenda]],ExportXML3_SplitTimes[Čas],\"<=\"&ExportXML3_SplitTimes[[#This Row],[Čas]])","v":23}]
["MB","Sedláček","Luděk","0060002",4706,93,806,{"$f":"ExportXML3_SplitTimes[[#This Row],[GivenName]]&\" \"&ExportXML3_SplitTimes[[#This Row],[FamilyName]]","v":"Luděk Sedláček"},{"$f":"_xlfn.XLOOKUP(ExportXML3_SplitTimes[[#This Row],[PersonId]],#REF!,#REF!,\"-\")","v":{"$error":"#REF!"}},{"$f":"ExportXML3_SplitTimes[[#This Row],[Kategorie]] & \" - \" & ExportXML3_SplitTimes[[#This Row],[Závodník]] & \" (\" & ExportXML3_SplitTimes[[#This Row],[Číslo čipu]] & \")\"","v":{"$error":"#REF!"}},{"$f":"ExportXML3_SplitTimes[[#This Row],[ControlCode]]","v":93},{"$f":"ExportXML3_SplitTimes[[#This Row],[SplitTimeSeconds]]/3600/24","v":"00:13:26"},{"$f":"COUNTIFS(ExportXML3_SplitTimes[Legenda],ExportXML3_SplitTimes[[#This Row],[Legenda]],ExportXML3_SplitTimes[Čas],\"<=\"&ExportXML3_SplitTimes[[#This Row],[Čas]])","v":169}]
["MB","Sedláček","Luděk","0060002",4706,56,1096,{"$f":"ExportXML3_SplitTimes[[#This Row],[GivenName]]&\" \"&ExportXML3_SplitTimes[[#This Row],[FamilyName]]","v":"Luděk Sedláček"},{"$f":"_xlfn.XLOOKUP(ExportXML3_SplitTimes[[#This Row],[PersonId]],#REF!,#REF!,\"-\")","v":{"$error":"#REF!"}},{"$f":"ExportXML3_SplitTimes[[#This Row],[Kategorie]] & \" - \" & ExportXML3_SplitTimes[[#This Row],[Závodník]] & \" (\" & ExportXML3_SplitTimes[[#This Row],[Číslo čipu]] & \")\"","v":{"$error":"#REF!"}},{"$f":"ExportXML3_SplitTimes[[#This Row],[ControlCode]]","v":56},{"$f":"ExportXML3_SplitTimes[[#This Row],[SplitTimeSeconds]]/3600/24","v":"00:18:16"},{"$f":"COUNTIFS(ExportXML3_SplitTimes[Legenda],ExportXML3_SplitTimes[[#This Row],[Legenda]],ExportXML3_SplitTimes[Čas],\"<=\"&ExportXML3_SplitTimes[[#This Row],[Čas]])","v":244}]
["MB","Sedláček","Luděk","0060002",4706,45,1446,{"$f":"ExportXML3_SplitTimes[[#This Row],[GivenName]]&\" \"&ExportXML3_SplitTimes[[#This Row],[FamilyName]]","v":"Luděk Sedláček"},{"$f":"_xlfn.XLOOKUP(ExportXML3_SplitTimes[[#This Row],[PersonId]],#REF!,#REF!,\"-\")","v":{"$error":"#REF!"}},{"$f":"ExportXML3_SplitTimes[[#This Row],[Kategorie]] & \" - \" & ExportXML3_SplitTimes[[#This Row],[Závodník]] & \" (\" & ExportXML3_SplitTimes[[#This Row],[Číslo čipu]] & \")\"","v":{"$error":"#REF!"}},{"$f":"ExportXML3_SplitTimes[[#This Row],[ControlCode]]","v":45},{"$f":"ExportXML3_SplitTimes[[#This Row],[SplitTimeSeconds]]/3600/24","v":"00:24:06"},{"$f":"COUNTIFS(ExportXML3_SplitTimes[Legenda],ExportXML3_SplitTimes[[#This Row],[Legenda]],ExportXML3_SplitTimes[Čas],\"<=\"&ExportXML3_SplitTimes[[#This Row],[Čas]])","v":321}]
["MB","Sedláček","Luděk","0060002",4706,43,1860,{"$f":"ExportXML3_SplitTimes[[#This Row],[GivenName]]&\" \"&ExportXML3_SplitTimes[[#This Row],[FamilyName]]","v":"Luděk Sedláček"},{"$f":"_xlfn.XLOOKUP(ExportXML3_SplitTimes[[#This Row],[PersonId]],#REF!,#REF!,\"-\")","v":{"$error":"#REF!"}},{"$f":"ExportXML3_SplitTimes[[#This Row],[Kategorie]] & \" - \" & ExportXML3_SplitTimes[[#This Row],[Závodník]] & \" (\" & ExportXML3_SplitTimes[[#This Row],[Číslo čipu]] & \")\"","v":{"$error":"#REF!"}},{"$f":"ExportXML3_SplitTimes[[#This Row],[ControlCode]]","v":43},{"$f":"ExportXML3_SplitTimes[[#This Row],[SplitTimeSeconds]]/3600/24","v":"00:31:00"},{"$f":"COUNTIFS(ExportXML3_SplitTimes[Legenda],ExportXML3_SplitTimes[[#This Row],[Legenda]],ExportXML3_SplitTimes[Čas],\"<=\"&ExportXML3_SplitTimes[[#This Row],[Čas]])","v":425}]
["MB","Sedláček","Luděk","0060002",4706,47,2015,{"$f":"ExportXML3_SplitTimes[[#This Row],[GivenName]]&\" \"&ExportXML3_SplitTimes[[#This Row],[FamilyName]]","v":"Luděk Sedláček"},{"$f":"_xlfn.XLOOKUP(ExportXML3_SplitTimes[[#This Row],[PersonId]],#REF!,#REF!,\"-\")","v":{"$error":"#REF!"}},{"$f":"ExportXML3_SplitTimes[[#This Row],[Kategorie]] & \" - \" & ExportXML3_SplitTimes[[#This Row],[Závodník]] & \" (\" & ExportXML3_SplitTimes[[#This Row],[Číslo čipu]] & \")\"","v":{"$error":"#REF!"}},{"$f":"ExportXML3_SplitTimes[[#This Row],[ControlCode]]","v":47},{"$f":"ExportXML3_SplitTimes[[#This Row],[SplitTimeSeconds]]/3600/24","v":"00:33:35"},{"$f":"COUNTIFS(ExportXML3_SplitTimes[Legenda],ExportXML3_SplitTimes[[#This Row],[Legenda]],ExportXML3_SplitTimes[Čas],\"<=\"&ExportXML3_SplitTimes[[#This Row],[Čas]])","v":464}]
["MB","Sedláček","Luděk","0060002",4706,79,2465,{"$f":"ExportXML3_SplitTimes[[#This Row],[GivenName]]&\" \"&ExportXML3_SplitTimes[[#This Row],[FamilyName]]","v":"Luděk Sedláček"},{"$f":"_xlfn.XLOOKUP(ExportXML3_SplitTimes[[#This Row],[PersonId]],#REF!,#REF!,\"-\")","v":{"$error":"#REF!"}},{"$f":"ExportXML3_SplitTimes[[#This Row],[Kategorie]] & \" - \" & ExportXML3_SplitTimes[[#This Row],[Závodník]] & \" (\" & ExportXML3_SplitTimes[[#This Row],[Číslo čipu]] & \")\"","v":{"$error":"#REF!"}},{"$f":"ExportXML3_SplitTimes[[#This Row],[ControlCode]]","v":79},{"$f":"ExportXML3_SplitTimes[[#This Row],[SplitTimeSeconds]]/3600/24","v":"00:41:05"},{"$f":"COUNTIFS(ExportXML3_SplitTimes[Legenda],ExportXML3_SplitTimes[[#This Row],[Legenda]],ExportXML3_SplitTimes[Čas],\"<=\"&ExportXML3_SplitTimes[[#This Row],[Čas]])","v":561}]
["MB","Sedláček","Luděk","0060002",4706,81,2829,{"$f":"ExportXML3_SplitTimes[[#This Row],[GivenName]]&\" \"&ExportXML3_SplitTimes[[#This Row],[FamilyName]]","v":"Luděk Sedláček"},{"$f":"_xlfn.XLOOKUP(ExportXML3_SplitTimes[[#This Row],[PersonId]],#REF!,#REF!,\"-\")","v":{"$error":"#REF!"}},{"$f":"ExportXML3_SplitTimes[[#This Row],[Kategorie]] & \" - \" & ExportXML3_SplitTimes[[#This Row],[Závodník]] & \" (\" & ExportXML3_SplitTimes[[#This Row],[Číslo čipu]] & \")\"","v":{"$error":"#REF!"}},{"$f":"ExportXML3_SplitTimes[[#This Row],[ControlCode]]","v":81},{"$f":"ExportXML3_SplitTimes[[#This Row],[SplitTimeSeconds]]/3600/24","v":"00:47:09"},{"$f":"COUNTIFS(ExportXML3_SplitTimes[Legenda],ExportXML3_SplitTimes[[#This Row],[Legenda]],ExportXML3_SplitTimes[Čas],\"<=\"&ExportXML3_SplitTimes[[#This Row],[Čas]])","v":635}]
["MB","Sedláček","Luděk","0060002",4706,63,3405,{"$f":"ExportXML3_SplitTimes[[#This Row],[GivenName]]&\" \"&ExportXML3_SplitTimes[[#This Row],[FamilyName]]","v":"Luděk Sedláček"},{"$f":"_xlfn.XLOOKUP(ExportXML3_SplitTimes[[#This Row],[PersonId]],#REF!,#REF!,\"-\")","v":{"$error":"#REF!"}},{"$f":"ExportXML3_SplitTimes[[#This Row],[Kategorie]] & \" - \" & ExportXML3_SplitTimes[[#This Row],[Závodník]] & \" (\" & ExportXML3_SplitTimes[[#This Row],[Číslo čipu]] & \")\"","v":{"$error":"#REF!"}},{"$f":"ExportXML3_SplitTimes[[#This Row],[ControlCode]]","v":63},{"$f":"ExportXML3_SplitTimes[[#This Row],[SplitTimeSeconds]]/3600/24","v":"00:56:45"},{"$f":"COUNTIFS(ExportXML3_SplitTimes[Legenda],ExportXML3_SplitTimes[[#This Row],[Legenda]],ExportXML3_SplitTimes[Čas],\"<=\"&ExportXML3_SplitTimes[[#This Row],[Čas]])","v":720}]
["MB","Sedláček","Luděk","0060002",4706,64,3617,{"$f":"ExportXML3_SplitTimes[[#This Row],[GivenName]]&\" \"&ExportXML3_SplitTimes[[#This Row],[FamilyName]]","v":"Luděk Sedláček"},{"$f":"_xlfn.XLOOKUP(ExportXML3_SplitTimes[[#This Row],[PersonId]],#REF!,#REF!,\"-\")","v":{"$error":"#REF!"}},{"$f":"ExportXML3_SplitTimes[[#This Row],[Kategorie]] & \" - \" & ExportXML3_SplitTimes[[#This Row],[Závodník]] & \" (\" & ExportXML3_SplitTimes[[#This Row],[Číslo čipu]] & \")\"","v":{"$error":"#REF!"}},{"$f":"ExportXML3_SplitTimes[[#This Row],[ControlCode]]","v":64},{"$f":"ExportXML3_SplitTimes[[#This Row],[SplitTimeSeconds]]/3600/24","v":"01:00:17"},{"$f":"COUNTIFS(ExportXML3_SplitTimes[Legenda],ExportXML3_SplitTimes[[#This Row],[Legenda]],ExportXML3_SplitTimes[Čas],\"<=\"&ExportXML3_SplitTimes[[#This Row],[Čas]])","v":741}]
["MB","Sedláček","Luděk","0060002",4706,76,3915,{"$f":"ExportXML3_SplitTimes[[#This Row],[GivenName]]&\" \"&ExportXML3_SplitTimes[[#This Row],[FamilyName]]","v":"Luděk Sedláček"},{"$f":"_xlfn.XLOOKUP(ExportXML3_SplitTimes[[#This Row],[PersonId]],#REF!,#REF!,\"-\")","v":{"$error":"#REF!"}},{"$f":"ExportXML3_SplitTimes[[#This Row],[Kategorie]] & \" - \" & ExportXML3_SplitTimes[[#This Row],[Závodník]] & \" (\" & ExportXML3_SplitTimes[[#This Row],[Číslo čipu]] & \")\"","v":{"$error":"#REF!"}},{"$f":"ExportXML3_SplitTimes[[#This Row],[ControlCode]]","v":76},{"$f":"ExportXML3_SplitTimes[[#This Row],[SplitTimeSeconds]]/3600/24","v":"01:05:15"},{"$f":"COUNTIFS(ExportXML3_SplitTimes[Legenda],ExportXML3_SplitTimes[[#This Row],[Legenda]],ExportXML3_SplitTimes[Čas],\"<=\"&ExportXML3_SplitTimes[[#This Row],[Čas]])","v":762}]
["MB","Sedláček","Luděk","0060002",4706,84,4224,{"$f":"ExportXML3_SplitTimes[[#This Row],[GivenName]]&\" \"&ExportXML3_SplitTimes[[#This Row],[FamilyName]]","v":"Luděk Sedláček"},{"$f":"_xlfn.XLOOKUP(ExportXML3_SplitTimes[[#This Row],[PersonId]],#REF!,#REF!,\"-\")","v":{"$error":"#REF!"}},{"$f":"ExportXML3_SplitTimes[[#This Row],[Kategorie]] & \" - \" & ExportXML3_SplitTimes[[#This Row],[Závodník]] & \" (\" & ExportXML3_SplitTimes[[#This Row],[Číslo čipu]] & \")\"","v":{"$error":"#REF!"}},{"$f":"ExportXML3_SplitTimes[[#This Row],[ControlCode]]","v":84},{"$f":"ExportXML3_SplitTimes[[#This Row],[SplitTimeSeconds]]/3600/24","v":"01:10:24"},{"$f":"COUNTIFS(ExportXML3_SplitTimes[Legenda],ExportXML3_SplitTimes[[#This Row],[Legenda]],ExportXML3_SplitTimes[Čas],\"<=\"&ExportXML3_SplitTimes[[#This Row],[Čas]])","v":771}]
["MB","Sedláček","Luděk","0060002",4706,78,4417,{"$f":"ExportXML3_SplitTimes[[#This Row],[GivenName]]&\" \"&ExportXML3_SplitTimes[[#This Row],[FamilyName]]","v":"Luděk Sedláček"},{"$f":"_xlfn.XLOOKUP(ExportXML3_SplitTimes[[#This Row],[PersonId]],#REF!,#REF!,\"-\")","v":{"$error":"#REF!"}},{"$f":"ExportXML3_SplitTimes[[#This Row],[Kategorie]] & \" - \" & ExportXML3_SplitTimes[[#This Row],[Závodník]] & \" (\" & ExportXML3_SplitTimes[[#This Row],[Číslo čipu]] & \")\"","v":{"$error":"#REF!"}},{"$f":"ExportXML3_SplitTimes[[#This Row],[ControlCode]]","v":78},{"$f":"ExportXML3_SplitTimes[[#This Row],[SplitTimeSeconds]]/3600/24","v":"01:13:37"},{"$f":"COUNTIFS(ExportXML3_SplitTimes[Legenda],ExportXML3_SplitTimes[[#This Row],[Legenda]],ExportXML3_SplitTimes[Čas],\"<=\"&ExportXML3_SplitTimes[[#This Row],[Čas]])","v":779}]
["MB","Sedláček","Luděk","0060002",4706,100,4660,{"$f":"ExportXML3_SplitTimes[[#This Row],[GivenName]]&\" \"&ExportXML3_SplitTimes[[#This Row],[FamilyName]]","v":"Luděk Sedláček"},{"$f":"_xlfn.XLOOKUP(ExportXML3_SplitTimes[[#This Row],[PersonId]],#REF!,#REF!,\"-\")","v":{"$error":"#REF!"}},{"$f":"ExportXML3_SplitTimes[[#This Row],[Kategorie]] & \" - \" & ExportXML3_SplitTimes[[#This Row],[Závodník]] & \" (\" & ExportXML3_SplitTimes[[#This Row],[Číslo čipu]] & \")\"","v":{"$error":"#REF!"}},{"$f":"ExportXML3_SplitTimes[[#This Row],[ControlCode]]","v":100},{"$f":"ExportXML3_SplitTimes[[#This Row],[SplitTimeSeconds]]/3600/24","v":"01:17:40"},{"$f":"COUNTIFS(ExportXML3_SplitTimes[Legenda],ExportXML3_SplitTimes[[#This Row],[Legenda]],ExportXML3_SplitTimes[Čas],\"<=\"&ExportXML3_SplitTimes[[#This Row],[Čas]])","v":784}]
["N1","Havlíček","Matěj","0150002",1131,82,215,{"$f":"ExportXML3_SplitTimes[[#This Row],[GivenName]]&\" \"&ExportXML3_SplitTimes[[#This Row],[FamilyName]]","v":"Matěj Havlíček"},{"$f":"_xlfn.XLOOKUP(ExportXML3_SplitTimes[[#This Row],[PersonId]],#REF!,#REF!,\"-\")","v":{"$error":"#REF!"}},{"$f":"ExportXML3_SplitTimes[[#This Row],[Kategorie]] & \" - \" & ExportXML3_SplitTimes[[#This Row],[Závodník]] & \" (\" & ExportXML3_SplitTimes[[#This Row],[Číslo čipu]] & \")\"","v":{"$error":"#REF!"}},{"$f":"ExportXML3_SplitTimes[[#This Row],[ControlCode]]","v":82},{"$f":"ExportXML3_SplitTimes[[#This Row],[SplitTimeSeconds]]/3600/24","v":"00:03:35"},{"$f":"COUNTIFS(ExportXML3_SplitTimes[Legenda],ExportXML3_SplitTimes[[#This Row],[Legenda]],ExportXML3_SplitTimes[Čas],\"<=\"&ExportXML3_SplitTimes[[#This Row],[Čas]])","v":10}]
["N1","Havlíček","Matěj","0150002",1131,94,369,{"$f":"ExportXML3_SplitTimes[[#This Row],[GivenName]]&\" \"&ExportXML3_SplitTimes[[#This Row],[FamilyName]]","v":"Matěj Havlíček"},{"$f":"_xlfn.XLOOKUP(ExportXML3_SplitTimes[[#This Row],[PersonId]],#REF!,#REF!,\"-\")","v":{"$error":"#REF!"}},{"$f":"ExportXML3_SplitTimes[[#This Row],[Kategorie]] & \" - \" & ExportXML3_SplitTimes[[#This Row],[Závodník]] & \" (\" & ExportXML3_SplitTimes[[#This Row],[Číslo čipu]] & \")\"","v":{"$error":"#REF!"}},{"$f":"ExportXML3_SplitTimes[[#This Row],[ControlCode]]","v":94},{"$f":"ExportXML3_SplitTimes[[#This Row],[SplitTimeSeconds]]/3600/24","v":"00:06:09"},{"$f":"COUNTIFS(ExportXML3_SplitTimes[Legenda],ExportXML3_SplitTimes[[#This Row],[Legenda]],ExportXML3_SplitTimes[Čas],\"<=\"&ExportXML3_SplitTimes[[#This Row],[Čas]])","v":44}]
["N1","Havlíček","Matěj","0150002",1131,92,560,{"$f":"ExportXML3_SplitTimes[[#This Row],[GivenName]]&\" \"&ExportXML3_SplitTimes[[#This Row],[FamilyName]]","v":"Matěj Havlíček"},{"$f":"_xlfn.XLOOKUP(ExportXML3_SplitTimes[[#This Row],[PersonId]],#REF!,#REF!,\"-\")","v":{"$error":"#REF!"}},{"$f":"ExportXML3_SplitTimes[[#This Row],[Kategorie]] & \" - \" & ExportXML3_SplitTimes[[#This Row],[Závodník]] & \" (\" & ExportXML3_SplitTimes[[#This Row],[Číslo čipu]] & \")\"","v":{"$error":"#REF!"}},{"$f":"ExportXML3_SplitTimes[[#This Row],[ControlCode]]","v":92},{"$f":"ExportXML3_SplitTimes[[#This Row],[SplitTimeSeconds]]/3600/24","v":"00:09:20"},{"$f":"COUNTIFS(ExportXML3_SplitTimes[Legenda],ExportXML3_SplitTimes[[#This Row],[Legenda]],ExportXML3_SplitTimes[Čas],\"<=\"&ExportXML3_SplitTimes[[#This Row],[Čas]])","v":99}]
["N1","Havlíček","Matěj","0150002",1131,87,664,{"$f":"ExportXML3_SplitTimes[[#This Row],[GivenName]]&\" \"&ExportXML3_SplitTimes[[#This Row],[FamilyName]]","v":"Matěj Havlíček"},{"$f":"_xlfn.XLOOKUP(ExportXML3_SplitTimes[[#This Row],[PersonId]],#REF!,#REF!,\"-\")","v":{"$error":"#REF!"}},{"$f":"ExportXML3_SplitTimes[[#This Row],[Kategorie]] & \" - \" & ExportXML3_SplitTimes[[#This Row],[Závodník]] & \" (\" & ExportXML3_SplitTimes[[#This Row],[Číslo čipu]] & \")\"","v":{"$error":"#REF!"}},{"$f":"ExportXML3_SplitTimes[[#This Row],[ControlCode]]","v":87},{"$f":"ExportXML3_SplitTimes[[#This Row],[SplitTimeSeconds]]/3600/24","v":"00:11:04"},{"$f":"COUNTIFS(ExportXML3_SplitTimes[Legenda],ExportXML3_SplitTimes[[#This Row],[Legenda]],ExportXML3_SplitTimes[Čas],\"<=\"&ExportXML3_SplitTimes[[#This Row],[Čas]])","v":134}]
["N1","Havlíček","Matěj","0150002",1131,88,789,{"$f":"ExportXML3_SplitTimes[[#This Row],[GivenName]]&\" \"&ExportXML3_SplitTimes[[#This Row],[FamilyName]]","v":"Matěj Havlíček"},{"$f":"_xlfn.XLOOKUP(ExportXML3_SplitTimes[[#This Row],[PersonId]],#REF!,#REF!,\"-\")","v":{"$error":"#REF!"}},{"$f":"ExportXML3_SplitTimes[[#This Row],[Kategorie]] & \" - \" & ExportXML3_SplitTimes[[#This Row],[Závodník]] & \" (\" & ExportXML3_SplitTimes[[#This Row],[Číslo čipu]] & \")\"","v":{"$error":"#REF!"}},{"$f":"ExportXML3_SplitTimes[[#This Row],[ControlCode]]","v":88},{"$f":"ExportXML3_SplitTimes[[#This Row],[SplitTimeSeconds]]/3600/24","v":"00:13:09"},{"$f":"COUNTIFS(ExportXML3_SplitTimes[Legenda],ExportXML3_SplitTimes[[#This Row],[Legenda]],ExportXML3_SplitTimes[Čas],\"<=\"&ExportXML3_SplitTimes[[#This Row],[Čas]])","v":164}]
["N1","Havlíček","Matěj","0150002",1131,95,949,{"$f":"ExportXML3_SplitTimes[[#This Row],[GivenName]]&\" \"&ExportXML3_SplitTimes[[#This Row],[FamilyName]]","v":"Matěj Havlíček"},{"$f":"_xlfn.XLOOKUP(ExportXML3_SplitTimes[[#This Row],[PersonId]],#REF!,#REF!,\"-\")","v":{"$error":"#REF!"}},{"$f":"ExportXML3_SplitTimes[[#This Row],[Kategorie]] & \" - \" & ExportXML3_SplitTimes[[#This Row],[Závodník]] & \" (\" & ExportXML3_SplitTimes[[#This Row],[Číslo čipu]] & \")\"","v":{"$error":"#REF!"}},{"$f":"ExportXML3_SplitTimes[[#This Row],[ControlCode]]","v":95},{"$f":"ExportXML3_SplitTimes[[#This Row],[SplitTimeSeconds]]/3600/24","v":"00:15:49"},{"$f":"COUNTIFS(ExportXML3_SplitTimes[Legenda],ExportXML3_SplitTimes[[#This Row],[Legenda]],ExportXML3_SplitTimes[Čas],\"<=\"&ExportXML3_SplitTimes[[#This Row],[Čas]])","v":208}]
["N1","Havlíček","Matěj","0150002",1131,90,1008,{"$f":"ExportXML3_SplitTimes[[#This Row],[GivenName]]&\" \"&ExportXML3_SplitTimes[[#This Row],[FamilyName]]","v":"Matěj Havlíček"},{"$f":"_xlfn.XLOOKUP(ExportXML3_SplitTimes[[#This Row],[PersonId]],#REF!,#REF!,\"-\")","v":{"$error":"#REF!"}},{"$f":"ExportXML3_SplitTimes[[#This Row],[Kategorie]] & \" - \" & ExportXML3_SplitTimes[[#This Row],[Závodník]] & \" (\" & ExportXML3_SplitTimes[[#This Row],[Číslo čipu]] & \")\"","v":{"$error":"#REF!"}},{"$f":"ExportXML3_SplitTimes[[#This Row],[ControlCode]]","v":90},{"$f":"ExportXML3_SplitTimes[[#This Row],[SplitTimeSeconds]]/3600/24","v":"00:16:48"},{"$f":"COUNTIFS(ExportXML3_SplitTimes[Legenda],ExportXML3_SplitTimes[[#This Row],[Legenda]],ExportXML3_SplitTimes[Čas],\"<=\"&ExportXML3_SplitTimes[[#This Row],[Čas]])","v":225}]
["N1","Havlíček","Matěj","0150002",1131,100,1108,{"$f":"ExportXML3_SplitTimes[[#This Row],[GivenName]]&\" \"&ExportXML3_SplitTimes[[#This Row],[FamilyName]]","v":"Matěj Havlíček"},{"$f":"_xlfn.XLOOKUP(ExportXML3_SplitTimes[[#This Row],[PersonId]],#REF!,#REF!,\"-\")","v":{"$error":"#REF!"}},{"$f":"ExportXML3_SplitTimes[[#This Row],[Kategorie]] & \" - \" & ExportXML3_SplitTimes[[#This Row],[Závodník]] & \" (\" & ExportXML3_SplitTimes[[#This Row],[Číslo čipu]] & \")\"","v":{"$error":"#REF!"}},{"$f":"ExportXML3_SplitTimes[[#This Row],[ControlCode]]","v":100},{"$f":"ExportXML3_SplitTimes[[#This Row],[SplitTimeSeconds]]/3600/24","v":"00:18:28"},{"$f":"COUNTIFS(ExportXML3_SplitTimes[Legenda],ExportXML3_SplitTimes[[#This Row],[Legenda]],ExportXML3_SplitTimes[Čas],\"<=\"&ExportXML3_SplitTimes[[#This Row],[Čas]])","v":245}]
["N1","Biedermannová","Lia","0110002",1633,82,418,{"$f":"ExportXML3_SplitTimes[[#This Row],[GivenName]]&\" \"&ExportXML3_SplitTimes[[#This Row],[FamilyName]]","v":"Lia Biedermannová"},{"$f":"_xlfn.XLOOKUP(ExportXML3_SplitTimes[[#This Row],[PersonId]],#REF!,#REF!,\"-\")","v":{"$error":"#REF!"}},{"$f":"ExportXML3_SplitTimes[[#This Row],[Kategorie]] & \" - \" & ExportXML3_SplitTimes[[#This Row],[Závodník]] & \" (\" & ExportXML3_SplitTimes[[#This Row],[Číslo čipu]] & \")\"","v":{"$error":"#REF!"}},{"$f":"ExportXML3_SplitTimes[[#This Row],[ControlCode]]","v":82},{"$f":"ExportXML3_SplitTimes[[#This Row],[SplitTimeSeconds]]/3600/24","v":"00:06:58"},{"$f":"COUNTIFS(ExportXML3_SplitTimes[Legenda],ExportXML3_SplitTimes[[#This Row],[Legenda]],ExportXML3_SplitTimes[Čas],\"<=\"&ExportXML3_SplitTimes[[#This Row],[Čas]])","v":58}]
["N1","Biedermannová","Lia","0110002",1633,94,643,{"$f":"ExportXML3_SplitTimes[[#This Row],[GivenName]]&\" \"&ExportXML3_SplitTimes[[#This Row],[FamilyName]]","v":"Lia Biedermannová"},{"$f":"_xlfn.XLOOKUP(ExportXML3_SplitTimes[[#This Row],[PersonId]],#REF!,#REF!,\"-\")","v":{"$error":"#REF!"}},{"$f":"ExportXML3_SplitTimes[[#This Row],[Kategorie]] & \" - \" & ExportXML3_SplitTimes[[#This Row],[Závodník]] & \" (\" & ExportXML3_SplitTimes[[#This Row],[Číslo čipu]] & \")\"","v":{"$error":"#REF!"}},{"$f":"ExportXML3_SplitTimes[[#This Row],[ControlCode]]","v":94},{"$f":"ExportXML3_SplitTimes[[#This Row],[SplitTimeSeconds]]/3600/24","v":"00:10:43"},{"$f":"COUNTIFS(ExportXML3_SplitTimes[Legenda],ExportXML3_SplitTimes[[#This Row],[Legenda]],ExportXML3_SplitTimes[Čas],\"<=\"&ExportXML3_SplitTimes[[#This Row],[Čas]])","v":126}]
["N1","Biedermannová","Lia","0110002",1633,92,842,{"$f":"ExportXML3_SplitTimes[[#This Row],[GivenName]]&\" \"&ExportXML3_SplitTimes[[#This Row],[FamilyName]]","v":"Lia Biedermannová"},{"$f":"_xlfn.XLOOKUP(ExportXML3_SplitTimes[[#This Row],[PersonId]],#REF!,#REF!,\"-\")","v":{"$error":"#REF!"}},{"$f":"ExportXML3_SplitTimes[[#This Row],[Kategorie]] & \" - \" & ExportXML3_SplitTimes[[#This Row],[Závodník]] & \" (\" & ExportXML3_SplitTimes[[#This Row],[Číslo čipu]] & \")\"","v":{"$error":"#REF!"}},{"$f":"ExportXML3_SplitTimes[[#This Row],[ControlCode]]","v":92},{"$f":"ExportXML3_SplitTimes[[#This Row],[SplitTimeSeconds]]/3600/24","v":"00:14:02"},{"$f":"COUNTIFS(ExportXML3_SplitTimes[Legenda],ExportXML3_SplitTimes[[#This Row],[Legenda]],ExportXML3_SplitTimes[Čas],\"<=\"&ExportXML3_SplitTimes[[#This Row],[Čas]])","v":176}]
["N1","Biedermannová","Lia","0110002",1633,87,973,{"$f":"ExportXML3_SplitTimes[[#This Row],[GivenName]]&\" \"&ExportXML3_SplitTimes[[#This Row],[FamilyName]]","v":"Lia Biedermannová"},{"$f":"_xlfn.XLOOKUP(ExportXML3_SplitTimes[[#This Row],[PersonId]],#REF!,#REF!,\"-\")","v":{"$error":"#REF!"}},{"$f":"ExportXML3_SplitTimes[[#This Row],[Kategorie]] & \" - \" & ExportXML3_SplitTimes[[#This Row],[Závodník]] & \" (\" & ExportXML3_SplitTimes[[#This Row],[Číslo čipu]] & \")\"","v":{"$error":"#REF!"}},{"$f":"ExportXML3_SplitTimes[[#This Row],[ControlCode]]","v":87},{"$f":"ExportXML3_SplitTimes[[#This Row],[SplitTimeSeconds]]/3600/24","v":"00:16:13"},{"$f":"COUNTIFS(ExportXML3_SplitTimes[Legenda],ExportXML3_SplitTimes[[#This Row],[Legenda]],ExportXML3_SplitTimes[Čas],\"<=\"&ExportXML3_SplitTimes[[#This Row],[Čas]])","v":217}]
["N1","Biedermannová","Lia","0110002",1633,88,1147,{"$f":"ExportXML3_SplitTimes[[#This Row],[GivenName]]&\" \"&ExportXML3_SplitTimes[[#This Row],[FamilyName]]","v":"Lia Biedermannová"},{"$f":"_xlfn.XLOOKUP(ExportXML3_SplitTimes[[#This Row],[PersonId]],#REF!,#REF!,\"-\")","v":{"$error":"#REF!"}},{"$f":"ExportXML3_SplitTimes[[#This Row],[Kategorie]] & \" - \" & ExportXML3_SplitTimes[[#This Row],[Závodník]] & \" (\" & ExportXML3_SplitTimes[[#This Row],[Číslo čipu]] & \")\"","v":{"$error":"#REF!"}},{"$f":"ExportXML3_SplitTimes[[#This Row],[ControlCode]]","v":88},{"$f":"ExportXML3_SplitTimes[[#This Row],[SplitTimeSeconds]]/3600/24","v":"00:19:07"},{"$f":"COUNTIFS(ExportXML3_SplitTimes[Legenda],ExportXML3_SplitTimes[[#This Row],[Legenda]],ExportXML3_SplitTimes[Čas],\"<=\"&ExportXML3_SplitTimes[[#This Row],[Čas]])","v":260}]
["N1","Biedermannová","Lia","0110002",1633,95,1348,{"$f":"ExportXML3_SplitTimes[[#This Row],[GivenName]]&\" \"&ExportXML3_SplitTimes[[#This Row],[FamilyName]]","v":"Lia Biedermannová"},{"$f":"_xlfn.XLOOKUP(ExportXML3_SplitTimes[[#This Row],[PersonId]],#REF!,#REF!,\"-\")","v":{"$error":"#REF!"}},{"$f":"ExportXML3_SplitTimes[[#This Row],[Kategorie]] & \" - \" & ExportXML3_SplitTimes[[#This Row],[Závodník]] & \" (\" & ExportXML3_SplitTimes[[#This Row],[Číslo čipu]] & \")\"","v":{"$error":"#REF!"}},{"$f":"ExportXML3_SplitTimes[[#This Row],[ControlCode]]","v":95},{"$f":"ExportXML3_SplitTimes[[#This Row],[SplitTimeSeconds]]/3600/24","v":"00:22:28"},{"$f":"COUNTIFS(ExportXML3_SplitTimes[Legenda],ExportXML3_SplitTimes[[#This Row],[Legenda]],ExportXML3_SplitTimes[Čas],\"<=\"&ExportXML3_SplitTimes[[#This Row],[Čas]])","v":304}]
["N1","Biedermannová","Lia","0110002",1633,90,1452,{"$f":"ExportXML3_SplitTimes[[#This Row],[GivenName]]&\" \"&ExportXML3_SplitTimes[[#This Row],[FamilyName]]","v":"Lia Biedermannová"},{"$f":"_xlfn.XLOOKUP(ExportXML3_SplitTimes[[#This Row],[PersonId]],#REF!,#REF!,\"-\")","v":{"$error":"#REF!"}},{"$f":"ExportXML3_SplitTimes[[#This Row],[Kategorie]] & \" - \" & ExportXML3_SplitTimes[[#This Row],[Závodník]] & \" (\" & ExportXML3_SplitTimes[[#This Row],[Číslo čipu]] & \")\"","v":{"$error":"#REF!"}},{"$f":"ExportXML3_SplitTimes[[#This Row],[ControlCode]]","v":90},{"$f":"ExportXML3_SplitTimes[[#This Row],[SplitTimeSeconds]]/3600/24","v":"00:24:12"},{"$f":"COUNTIFS(ExportXML3_SplitTimes[Legenda],ExportXML3_SplitTimes[[#This Row],[Legenda]],ExportXML3_SplitTimes[Čas],\"<=\"&ExportXML3_SplitTimes[[#This Row],[Čas]])","v":324}]
["N1","Biedermannová","Lia","0110002",1633,100,1604,{"$f":"ExportXML3_SplitTimes[[#This Row],[GivenName]]&\" \"&ExportXML3_SplitTimes[[#This Row],[FamilyName]]","v":"Lia Biedermannová"},{"$f":"_xlfn.XLOOKUP(ExportXML3_SplitTimes[[#This Row],[PersonId]],#REF!,#REF!,\"-\")","v":{"$error":"#REF!"}},{"$f":"ExportXML3_SplitTimes[[#This Row],[Kategorie]] & \" - \" & ExportXML3_SplitTimes[[#This Row],[Závodník]] & \" (\" & ExportXML3_SplitTimes[[#This Row],[Číslo čipu]] & \")\"","v":{"$error":"#REF!"}},{"$f":"ExportXML3_SplitTimes[[#This Row],[ControlCode]]","v":100},{"$f":"ExportXML3_SplitTimes[[#This Row],[SplitTimeSeconds]]/3600/24","v":"00:26:44"},{"$f":"COUNTIFS(ExportXML3_SplitTimes[Legenda],ExportXML3_SplitTimes[[#This Row],[Legenda]],ExportXML3_SplitTimes[Čas],\"<=\"&ExportXML3_SplitTimes[[#This Row],[Čas]])","v":363}]
["N1","Beneš","Karin","0180003",1976,82,479,{"$f":"ExportXML3_SplitTimes[[#This Row],[GivenName]]&\" \"&ExportXML3_SplitTimes[[#This Row],[FamilyName]]","v":"Karin Beneš"},{"$f":"_xlfn.XLOOKUP(ExportXML3_SplitTimes[[#This Row],[PersonId]],#REF!,#REF!,\"-\")","v":{"$error":"#REF!"}},{"$f":"ExportXML3_SplitTimes[[#This Row],[Kategorie]] & \" - \" & ExportXML3_SplitTimes[[#This Row],[Závodník]] & \" (\" & ExportXML3_SplitTimes[[#This Row],[Číslo čipu]] & \")\"","v":{"$error":"#REF!"}},{"$f":"ExportXML3_SplitTimes[[#This Row],[ControlCode]]","v":82},{"$f":"ExportXML3_SplitTimes[[#This Row],[SplitTimeSeconds]]/3600/24","v":"00:07:59"},{"$f":"COUNTIFS(ExportXML3_SplitTimes[Legenda],ExportXML3_SplitTimes[[#This Row],[Legenda]],ExportXML3_SplitTimes[Čas],\"<=\"&ExportXML3_SplitTimes[[#This Row],[Čas]])","v":72}]
["N1","Beneš","Karin","0180003",1976,94,790,{"$f":"ExportXML3_SplitTimes[[#This Row],[GivenName]]&\" \"&ExportXML3_SplitTimes[[#This Row],[FamilyName]]","v":"Karin Beneš"},{"$f":"_xlfn.XLOOKUP(ExportXML3_SplitTimes[[#This Row],[PersonId]],#REF!,#REF!,\"-\")","v":{"$error":"#REF!"}},{"$f":"ExportXML3_SplitTimes[[#This Row],[Kategorie]] & \" - \" & ExportXML3_SplitTimes[[#This Row],[Závodník]] & \" (\" & ExportXML3_SplitTimes[[#This Row],[Číslo čipu]] & \")\"","v":{"$error":"#REF!"}},{"$f":"ExportXML3_SplitTimes[[#This Row],[ControlCode]]","v":94},{"$f":"ExportXML3_SplitTimes[[#This Row],[SplitTimeSeconds]]/3600/24","v":"00:13:10"},{"$f":"COUNTIFS(ExportXML3_SplitTimes[Legenda],ExportXML3_SplitTimes[[#This Row],[Legenda]],ExportXML3_SplitTimes[Čas],\"<=\"&ExportXML3_SplitTimes[[#This Row],[Čas]])","v":165}]
["N1","Beneš","Karin","0180003",1976,92,1180,{"$f":"ExportXML3_SplitTimes[[#This Row],[GivenName]]&\" \"&ExportXML3_SplitTimes[[#This Row],[FamilyName]]","v":"Karin Beneš"},{"$f":"_xlfn.XLOOKUP(ExportXML3_SplitTimes[[#This Row],[PersonId]],#REF!,#REF!,\"-\")","v":{"$error":"#REF!"}},{"$f":"ExportXML3_SplitTimes[[#This Row],[Kategorie]] & \" - \" & ExportXML3_SplitTimes[[#This Row],[Závodník]] & \" (\" & ExportXML3_SplitTimes[[#This Row],[Číslo čipu]] & \")\"","v":{"$error":"#REF!"}},{"$f":"ExportXML3_SplitTimes[[#This Row],[ControlCode]]","v":92},{"$f":"ExportXML3_SplitTimes[[#This Row],[SplitTimeSeconds]]/3600/24","v":"00:19:40"},{"$f":"COUNTIFS(ExportXML3_SplitTimes[Legenda],ExportXML3_SplitTimes[[#This Row],[Legenda]],ExportXML3_SplitTimes[Čas],\"<=\"&ExportXML3_SplitTimes[[#This Row],[Čas]])","v":270}]
["N1","Beneš","Karin","0180003",1976,87,1318,{"$f":"ExportXML3_SplitTimes[[#This Row],[GivenName]]&\" \"&ExportXML3_SplitTimes[[#This Row],[FamilyName]]","v":"Karin Beneš"},{"$f":"_xlfn.XLOOKUP(ExportXML3_SplitTimes[[#This Row],[PersonId]],#REF!,#REF!,\"-\")","v":{"$error":"#REF!"}},{"$f":"ExportXML3_SplitTimes[[#This Row],[Kategorie]] & \" - \" & ExportXML3_SplitTimes[[#This Row],[Závodník]] & \" (\" & ExportXML3_SplitTimes[[#This Row],[Číslo čipu]] & \")\"","v":{"$error":"#REF!"}},{"$f":"ExportXML3_SplitTimes[[#This Row],[ControlCode]]","v":87},{"$f":"ExportXML3_SplitTimes[[#This Row],[SplitTimeSeconds]]/3600/24","v":"00:21:58"},{"$f":"COUNTIFS(ExportXML3_SplitTimes[Legenda],ExportXML3_SplitTimes[[#This Row],[Legenda]],ExportXML3_SplitTimes[Čas],\"<=\"&ExportXML3_SplitTimes[[#This Row],[Čas]])","v":297}]
["N1","Beneš","Karin","0180003",1976,88,1481,{"$f":"ExportXML3_SplitTimes[[#This Row],[GivenName]]&\" \"&ExportXML3_SplitTimes[[#This Row],[FamilyName]]","v":"Karin Beneš"},{"$f":"_xlfn.XLOOKUP(ExportXML3_SplitTimes[[#This Row],[PersonId]],#REF!,#REF!,\"-\")","v":{"$error":"#REF!"}},{"$f":"ExportXML3_SplitTimes[[#This Row],[Kategorie]] & \" - \" & ExportXML3_SplitTimes[[#This Row],[Závodník]] & \" (\" & ExportXML3_SplitTimes[[#This Row],[Číslo čipu]] & \")\"","v":{"$error":"#REF!"}},{"$f":"ExportXML3_SplitTimes[[#This Row],[ControlCode]]","v":88},{"$f":"ExportXML3_SplitTimes[[#This Row],[SplitTimeSeconds]]/3600/24","v":"00:24:41"},{"$f":"COUNTIFS(ExportXML3_SplitTimes[Legenda],ExportXML3_SplitTimes[[#This Row],[Legenda]],ExportXML3_SplitTimes[Čas],\"<=\"&ExportXML3_SplitTimes[[#This Row],[Čas]])","v":329}]
["N1","Beneš","Karin","0180003",1976,95,1652,{"$f":"ExportXML3_SplitTimes[[#This Row],[GivenName]]&\" \"&ExportXML3_SplitTimes[[#This Row],[FamilyName]]","v":"Karin Beneš"},{"$f":"_xlfn.XLOOKUP(ExportXML3_SplitTimes[[#This Row],[PersonId]],#REF!,#REF!,\"-\")","v":{"$error":"#REF!"}},{"$f":"ExportXML3_SplitTimes[[#This Row],[Kategorie]] & \" - \" & ExportXML3_SplitTimes[[#This Row],[Závodník]] & \" (\" & ExportXML3_SplitTimes[[#This Row],[Číslo čipu]] & \")\"","v":{"$error":"#REF!"}},{"$f":"ExportXML3_SplitTimes[[#This Row],[ControlCode]]","v":95},{"$f":"ExportXML3_SplitTimes[[#This Row],[SplitTimeSeconds]]/3600/24","v":"00:27:32"},{"$f":"COUNTIFS(ExportXML3_SplitTimes[Legenda],ExportXML3_SplitTimes[[#This Row],[Legenda]],ExportXML3_SplitTimes[Čas],\"<=\"&ExportXML3_SplitTimes[[#This Row],[Čas]])","v":370}]
["N1","Beneš","Karin","0180003",1976,90,1802,{"$f":"ExportXML3_SplitTimes[[#This Row],[GivenName]]&\" \"&ExportXML3_SplitTimes[[#This Row],[FamilyName]]","v":"Karin Beneš"},{"$f":"_xlfn.XLOOKUP(ExportXML3_SplitTimes[[#This Row],[PersonId]],#REF!,#REF!,\"-\")","v":{"$error":"#REF!"}},{"$f":"ExportXML3_SplitTimes[[#This Row],[Kategorie]] & \" - \" & ExportXML3_SplitTimes[[#This Row],[Závodník]] & \" (\" & ExportXML3_SplitTimes[[#This Row],[Číslo čipu]] & \")\"","v":{"$error":"#REF!"}},{"$f":"ExportXML3_SplitTimes[[#This Row],[ControlCode]]","v":90},{"$f":"ExportXML3_SplitTimes[[#This Row],[SplitTimeSeconds]]/3600/24","v":"00:30:02"},{"$f":"COUNTIFS(ExportXML3_SplitTimes[Legenda],ExportXML3_SplitTimes[[#This Row],[Legenda]],ExportXML3_SplitTimes[Čas],\"<=\"&ExportXML3_SplitTimes[[#This Row],[Čas]])","v":413}]
["N1","Beneš","Karin","0180003",1976,100,1950,{"$f":"ExportXML3_SplitTimes[[#This Row],[GivenName]]&\" \"&ExportXML3_SplitTimes[[#This Row],[FamilyName]]","v":"Karin Beneš"},{"$f":"_xlfn.XLOOKUP(ExportXML3_SplitTimes[[#This Row],[PersonId]],#REF!,#REF!,\"-\")","v":{"$error":"#REF!"}},{"$f":"ExportXML3_SplitTimes[[#This Row],[Kategorie]] & \" - \" & ExportXML3_SplitTimes[[#This Row],[Závodník]] & \" (\" & ExportXML3_SplitTimes[[#This Row],[Číslo čipu]] & \")\"","v":{"$error":"#REF!"}},{"$f":"ExportXML3_SplitTimes[[#This Row],[ControlCode]]","v":100},{"$f":"ExportXML3_SplitTimes[[#This Row],[SplitTimeSeconds]]/3600/24","v":"00:32:30"},{"$f":"COUNTIFS(ExportXML3_SplitTimes[Legenda],ExportXML3_SplitTimes[[#This Row],[Legenda]],ExportXML3_SplitTimes[Čas],\"<=\"&ExportXML3_SplitTimes[[#This Row],[Čas]])","v":446}]
["N1","Biedermannová","Maja","0110003",3007,82,638,{"$f":"ExportXML3_SplitTimes[[#This Row],[GivenName]]&\" \"&ExportXML3_SplitTimes[[#This Row],[FamilyName]]","v":"Maja Biedermannová"},{"$f":"_xlfn.XLOOKUP(ExportXML3_SplitTimes[[#This Row],[PersonId]],#REF!,#REF!,\"-\")","v":{"$error":"#REF!"}},{"$f":"ExportXML3_SplitTimes[[#This Row],[Kategorie]] & \" - \" & ExportXML3_SplitTimes[[#This Row],[Závodník]] & \" (\" & ExportXML3_SplitTimes[[#This Row],[Číslo čipu]] & \")\"","v":{"$error":"#REF!"}},{"$f":"ExportXML3_SplitTimes[[#This Row],[ControlCode]]","v":82},{"$f":"ExportXML3_SplitTimes[[#This Row],[SplitTimeSeconds]]/3600/24","v":"00:10:38"},{"$f":"COUNTIFS(ExportXML3_SplitTimes[Legenda],ExportXML3_SplitTimes[[#This Row],[Legenda]],ExportXML3_SplitTimes[Čas],\"<=\"&ExportXML3_SplitTimes[[#This Row],[Čas]])","v":124}]
["N1","Biedermannová","Maja","0110003",3007,94,1079,{"$f":"ExportXML3_SplitTimes[[#This Row],[GivenName]]&\" \"&ExportXML3_SplitTimes[[#This Row],[FamilyName]]","v":"Maja Biedermannová"},{"$f":"_xlfn.XLOOKUP(ExportXML3_SplitTimes[[#This Row],[PersonId]],#REF!,#REF!,\"-\")","v":{"$error":"#REF!"}},{"$f":"ExportXML3_SplitTimes[[#This Row],[Kategorie]] & \" - \" & ExportXML3_SplitTimes[[#This Row],[Závodník]] & \" (\" & ExportXML3_SplitTimes[[#This Row],[Číslo čipu]] & \")\"","v":{"$error":"#REF!"}},{"$f":"ExportXML3_SplitTimes[[#This Row],[ControlCode]]","v":94},{"$f":"ExportXML3_SplitTimes[[#This Row],[SplitTimeSeconds]]/3600/24","v":"00:17:59"},{"$f":"COUNTIFS(ExportXML3_SplitTimes[Legenda],ExportXML3_SplitTimes[[#This Row],[Legenda]],ExportXML3_SplitTimes[Čas],\"<=\"&ExportXML3_SplitTimes[[#This Row],[Čas]])","v":241}]
["N1","Biedermannová","Maja","0110003",3007,92,1542,{"$f":"ExportXML3_SplitTimes[[#This Row],[GivenName]]&\" \"&ExportXML3_SplitTimes[[#This Row],[FamilyName]]","v":"Maja Biedermannová"},{"$f":"_xlfn.XLOOKUP(ExportXML3_SplitTimes[[#This Row],[PersonId]],#REF!,#REF!,\"-\")","v":{"$error":"#REF!"}},{"$f":"ExportXML3_SplitTimes[[#This Row],[Kategorie]] & \" - \" & ExportXML3_SplitTimes[[#This Row],[Závodník]] & \" (\" & ExportXML3_SplitTimes[[#This Row],[Číslo čipu]] & \")\"","v":{"$error":"#REF!"}},{"$f":"ExportXML3_SplitTimes[[#This Row],[ControlCode]]","v":92},{"$f":"ExportXML3_SplitTimes[[#This Row],[SplitTimeSeconds]]/3600/24","v":"00:25:42"},{"$f":"COUNTIFS(ExportXML3_SplitTimes[Legenda],ExportXML3_SplitTimes[[#This Row],[Legenda]],ExportXML3_SplitTimes[Čas],\"<=\"&ExportXML3_SplitTimes[[#This Row],[Čas]])","v":346}]
["N1","Biedermannová","Maja","0110003",3007,87,1695,{"$f":"ExportXML3_SplitTimes[[#This Row],[GivenName]]&\" \"&ExportXML3_SplitTimes[[#This Row],[FamilyName]]","v":"Maja Biedermannová"},{"$f":"_xlfn.XLOOKUP(ExportXML3_SplitTimes[[#This Row],[PersonId]],#REF!,#REF!,\"-\")","v":{"$error":"#REF!"}},{"$f":"ExportXML3_SplitTimes[[#This Row],[Kategorie]] & \" - \" & ExportXML3_SplitTimes[[#This Row],[Závodník]] & \" (\" & ExportXML3_SplitTimes[[#This Row],[Číslo čipu]] & \")\"","v":{"$error":"#REF!"}},{"$f":"ExportXML3_SplitTimes[[#This Row],[ControlCode]]","v":87},{"$f":"ExportXML3_SplitTimes[[#This Row],[SplitTimeSeconds]]/3600/24","v":"00:28:15"},{"$f":"COUNTIFS(ExportXML3_SplitTimes[Legenda],ExportXML3_SplitTimes[[#This Row],[Legenda]],ExportXML3_SplitTimes[Čas],\"<=\"&ExportXML3_SplitTimes[[#This Row],[Čas]])","v":382}]
["N1","Biedermannová","Maja","0110003",3007,88,1948,{"$f":"ExportXML3_SplitTimes[[#This Row],[GivenName]]&\" \"&ExportXML3_SplitTimes[[#This Row],[FamilyName]]","v":"Maja Biedermannová"},{"$f":"_xlfn.XLOOKUP(ExportXML3_SplitTimes[[#This Row],[PersonId]],#REF!,#REF!,\"-\")","v":{"$error":"#REF!"}},{"$f":"ExportXML3_SplitTimes[[#This Row],[Kategorie]] & \" - \" & ExportXML3_SplitTimes[[#This Row],[Závodník]] & \" (\" & ExportXML3_SplitTimes[[#This Row],[Číslo čipu]] & \")\"","v":{"$error":"#REF!"}},{"$f":"ExportXML3_SplitTimes[[#This Row],[ControlCode]]","v":88},{"$f":"ExportXML3_SplitTimes[[#This Row],[SplitTimeSeconds]]/3600/24","v":"00:32:28"},{"$f":"COUNTIFS(ExportXML3_SplitTimes[Legenda],ExportXML3_SplitTimes[[#This Row],[Legenda]],ExportXML3_SplitTimes[Čas],\"<=\"&ExportXML3_SplitTimes[[#This Row],[Čas]])","v":445}]
["N1","Biedermannová","Maja","0110003",3007,95,2309,{"$f":"ExportXML3_SplitTimes[[#This Row],[GivenName]]&\" \"&ExportXML3_SplitTimes[[#This Row],[FamilyName]]","v":"Maja Biedermannová"},{"$f":"_xlfn.XLOOKUP(ExportXML3_SplitTimes[[#This Row],[PersonId]],#REF!,#REF!,\"-\")","v":{"$error":"#REF!"}},{"$f":"ExportXML3_SplitTimes[[#This Row],[Kategorie]] & \" - \" & ExportXML3_SplitTimes[[#This Row],[Závodník]] & \" (\" & ExportXML3_SplitTimes[[#This Row],[Číslo čipu]] & \")\"","v":{"$error":"#REF!"}},{"$f":"ExportXML3_SplitTimes[[#This Row],[ControlCode]]","v":95},{"$f":"ExportXML3_SplitTimes[[#This Row],[SplitTimeSeconds]]/3600/24","v":"00:38:29"},{"$f":"COUNTIFS(ExportXML3_SplitTimes[Legenda],ExportXML3_SplitTimes[[#This Row],[Legenda]],ExportXML3_SplitTimes[Čas],\"<=\"&ExportXML3_SplitTimes[[#This Row],[Čas]])","v":525}]
["N1","Biedermannová","Maja","0110003",3007,90,2625,{"$f":"ExportXML3_SplitTimes[[#This Row],[GivenName]]&\" \"&ExportXML3_SplitTimes[[#This Row],[FamilyName]]","v":"Maja Biedermannová"},{"$f":"_xlfn.XLOOKUP(ExportXML3_SplitTimes[[#This Row],[PersonId]],#REF!,#REF!,\"-\")","v":{"$error":"#REF!"}},{"$f":"ExportXML3_SplitTimes[[#This Row],[Kategorie]] & \" - \" & ExportXML3_SplitTimes[[#This Row],[Závodník]] & \" (\" & ExportXML3_SplitTimes[[#This Row],[Číslo čipu]] & \")\"","v":{"$error":"#REF!"}},{"$f":"ExportXML3_SplitTimes[[#This Row],[ControlCode]]","v":90},{"$f":"ExportXML3_SplitTimes[[#This Row],[SplitTimeSeconds]]/3600/24","v":"00:43:45"},{"$f":"COUNTIFS(ExportXML3_SplitTimes[Legenda],ExportXML3_SplitTimes[[#This Row],[Legenda]],ExportXML3_SplitTimes[Čas],\"<=\"&ExportXML3_SplitTimes[[#This Row],[Čas]])","v":587}]
["N1","Biedermannová","Maja","0110003",3007,100,2924,{"$f":"ExportXML3_SplitTimes[[#This Row],[GivenName]]&\" \"&ExportXML3_SplitTimes[[#This Row],[FamilyName]]","v":"Maja Biedermannová"},{"$f":"_xlfn.XLOOKUP(ExportXML3_SplitTimes[[#This Row],[PersonId]],#REF!,#REF!,\"-\")","v":{"$error":"#REF!"}},{"$f":"ExportXML3_SplitTimes[[#This Row],[Kategorie]] & \" - \" & ExportXML3_SplitTimes[[#This Row],[Závodník]] & \" (\" & ExportXML3_SplitTimes[[#This Row],[Číslo čipu]] & \")\"","v":{"$error":"#REF!"}},{"$f":"ExportXML3_SplitTimes[[#This Row],[ControlCode]]","v":100},{"$f":"ExportXML3_SplitTimes[[#This Row],[SplitTimeSeconds]]/3600/24","v":"00:48:44"},{"$f":"COUNTIFS(ExportXML3_SplitTimes[Legenda],ExportXML3_SplitTimes[[#This Row],[Legenda]],ExportXML3_SplitTimes[Čas],\"<=\"&ExportXML3_SplitTimes[[#This Row],[Čas]])","v":654}]
["N1","Randík","Jakub + 2","0210005",5159,82,627,{"$f":"ExportXML3_SplitTimes[[#This Row],[GivenName]]&\" \"&ExportXML3_SplitTimes[[#This Row],[FamilyName]]","v":"Jakub + 2 Randík"},{"$f":"_xlfn.XLOOKUP(ExportXML3_SplitTimes[[#This Row],[PersonId]],#REF!,#REF!,\"-\")","v":{"$error":"#REF!"}},{"$f":"ExportXML3_SplitTimes[[#This Row],[Kategorie]] & \" - \" & ExportXML3_SplitTimes[[#This Row],[Závodník]] & \" (\" & ExportXML3_SplitTimes[[#This Row],[Číslo čipu]] & \")\"","v":{"$error":"#REF!"}},{"$f":"ExportXML3_SplitTimes[[#This Row],[ControlCode]]","v":82},{"$f":"ExportXML3_SplitTimes[[#This Row],[SplitTimeSeconds]]/3600/24","v":"00:10:27"},{"$f":"COUNTIFS(ExportXML3_SplitTimes[Legenda],ExportXML3_SplitTimes[[#This Row],[Legenda]],ExportXML3_SplitTimes[Čas],\"<=\"&ExportXML3_SplitTimes[[#This Row],[Čas]])","v":119}]
["N1","Randík","Jakub + 2","0210005",5159,94,1091,{"$f":"ExportXML3_SplitTimes[[#This Row],[GivenName]]&\" \"&ExportXML3_SplitTimes[[#This Row],[FamilyName]]","v":"Jakub + 2 Randík"},{"$f":"_xlfn.XLOOKUP(ExportXML3_SplitTimes[[#This Row],[PersonId]],#REF!,#REF!,\"-\")","v":{"$error":"#REF!"}},{"$f":"ExportXML3_SplitTimes[[#This Row],[Kategorie]] & \" - \" & ExportXML3_SplitTimes[[#This Row],[Závodník]] & \" (\" & ExportXML3_SplitTimes[[#This Row],[Číslo čipu]] & \")\"","v":{"$error":"#REF!"}},{"$f":"ExportXML3_SplitTimes[[#This Row],[ControlCode]]","v":94},{"$f":"ExportXML3_SplitTimes[[#This Row],[SplitTimeSeconds]]/3600/24","v":"00:18:11"},{"$f":"COUNTIFS(ExportXML3_SplitTimes[Legenda],ExportXML3_SplitTimes[[#This Row],[Legenda]],ExportXML3_SplitTimes[Čas],\"<=\"&ExportXML3_SplitTimes[[#This Row],[Čas]])","v":242}]
["N1","Randík","Jakub + 2","0210005",5159,92,2675,{"$f":"ExportXML3_SplitTimes[[#This Row],[GivenName]]&\" \"&ExportXML3_SplitTimes[[#This Row],[FamilyName]]","v":"Jakub + 2 Randík"},{"$f":"_xlfn.XLOOKUP(ExportXML3_SplitTimes[[#This Row],[PersonId]],#REF!,#REF!,\"-\")","v":{"$error":"#REF!"}},{"$f":"ExportXML3_SplitTimes[[#This Row],[Kategorie]] & \" - \" & ExportXML3_SplitTimes[[#This Row],[Závodník]] & \" (\" & ExportXML3_SplitTimes[[#This Row],[Číslo čipu]] & \")\"","v":{"$error":"#REF!"}},{"$f":"ExportXML3_SplitTimes[[#This Row],[ControlCode]]","v":92},{"$f":"ExportXML3_SplitTimes[[#This Row],[SplitTimeSeconds]]/3600/24","v":"00:44:35"},{"$f":"COUNTIFS(ExportXML3_SplitTimes[Legenda],ExportXML3_SplitTimes[[#This Row],[Legenda]],ExportXML3_SplitTimes[Čas],\"<=\"&ExportXML3_SplitTimes[[#This Row],[Čas]])","v":604}]
["N1","Randík","Jakub + 2","0210005",5159,87,3164,{"$f":"ExportXML3_SplitTimes[[#This Row],[GivenName]]&\" \"&ExportXML3_SplitTimes[[#This Row],[FamilyName]]","v":"Jakub + 2 Randík"},{"$f":"_xlfn.XLOOKUP(ExportXML3_SplitTimes[[#This Row],[PersonId]],#REF!,#REF!,\"-\")","v":{"$error":"#REF!"}},{"$f":"ExportXML3_SplitTimes[[#This Row],[Kategorie]] & \" - \" & ExportXML3_SplitTimes[[#This Row],[Závodník]] & \" (\" & ExportXML3_SplitTimes[[#This Row],[Číslo čipu]] & \")\"","v":{"$error":"#REF!"}},{"$f":"ExportXML3_SplitTimes[[#This Row],[ControlCode]]","v":87},{"$f":"ExportXML3_SplitTimes[[#This Row],[SplitTimeSeconds]]/3600/24","v":"00:52:44"},{"$f":"COUNTIFS(ExportXML3_SplitTimes[Legenda],ExportXML3_SplitTimes[[#This Row],[Legenda]],ExportXML3_SplitTimes[Čas],\"<=\"&ExportXML3_SplitTimes[[#This Row],[Čas]])","v":690}]
["N1","Randík","Jakub + 2","0210005",5159,88,3847,{"$f":"ExportXML3_SplitTimes[[#This Row],[GivenName]]&\" \"&ExportXML3_SplitTimes[[#This Row],[FamilyName]]","v":"Jakub + 2 Randík"},{"$f":"_xlfn.XLOOKUP(ExportXML3_SplitTimes[[#This Row],[PersonId]],#REF!,#REF!,\"-\")","v":{"$error":"#REF!"}},{"$f":"ExportXML3_SplitTimes[[#This Row],[Kategorie]] & \" - \" & ExportXML3_SplitTimes[[#This Row],[Závodník]] & \" (\" & ExportXML3_SplitTimes[[#This Row],[Číslo čipu]] & \")\"","v":{"$error":"#REF!"}},{"$f":"ExportXML3_SplitTimes[[#This Row],[ControlCode]]","v":88},{"$f":"ExportXML3_SplitTimes[[#This Row],[SplitTimeSeconds]]/3600/24","v":"01:04:07"},{"$f":"COUNTIFS(ExportXML3_SplitTimes[Legenda],ExportXML3_SplitTimes[[#This Row],[Legenda]],ExportXML3_SplitTimes[Čas],\"<=\"&ExportXML3_SplitTimes[[#This Row],[Čas]])","v":756}]
["N1","Randík","Jakub + 2","0210005",5159,95,4722,{"$f":"ExportXML3_SplitTimes[[#This Row],[GivenName]]&\" \"&ExportXML3_SplitTimes[[#This Row],[FamilyName]]","v":"Jakub + 2 Randík"},{"$f":"_xlfn.XLOOKUP(ExportXML3_SplitTimes[[#This Row],[PersonId]],#REF!,#REF!,\"-\")","v":{"$error":"#REF!"}},{"$f":"ExportXML3_SplitTimes[[#This Row],[Kategorie]] & \" - \" & ExportXML3_SplitTimes[[#This Row],[Závodník]] & \" (\" & ExportXML3_SplitTimes[[#This Row],[Číslo čipu]] & \")\"","v":{"$error":"#REF!"}},{"$f":"ExportXML3_SplitTimes[[#This Row],[ControlCode]]","v":95},{"$f":"ExportXML3_SplitTimes[[#This Row],[SplitTimeSeconds]]/3600/24","v":"01:18:42"},{"$f":"COUNTIFS(ExportXML3_SplitTimes[Legenda],ExportXML3_SplitTimes[[#This Row],[Legenda]],ExportXML3_SplitTimes[Čas],\"<=\"&ExportXML3_SplitTimes[[#This Row],[Čas]])","v":786}]
["N1","Randík","Jakub + 2","0210005",5159,90,4959,{"$f":"ExportXML3_SplitTimes[[#This Row],[GivenName]]&\" \"&ExportXML3_SplitTimes[[#This Row],[FamilyName]]","v":"Jakub + 2 Randík"},{"$f":"_xlfn.XLOOKUP(ExportXML3_SplitTimes[[#This Row],[PersonId]],#REF!,#REF!,\"-\")","v":{"$error":"#REF!"}},{"$f":"ExportXML3_SplitTimes[[#This Row],[Kategorie]] & \" - \" & ExportXML3_SplitTimes[[#This Row],[Závodník]] & \" (\" & ExportXML3_SplitTimes[[#This Row],[Číslo čipu]] & \")\"","v":{"$error":"#REF!"}},{"$f":"ExportXML3_SplitTimes[[#This Row],[ControlCode]]","v":90},{"$f":"ExportXML3_SplitTimes[[#This Row],[SplitTimeSeconds]]/3600/24","v":"01:22:39"},{"$f":"COUNTIFS(ExportXML3_SplitTimes[Legenda],ExportXML3_SplitTimes[[#This Row],[Legenda]],ExportXML3_SplitTimes[Čas],\"<=\"&ExportXML3_SplitTimes[[#This Row],[Čas]])","v":789}]
["N1","Randík","Jakub + 2","0210005",5159,100,5134,{"$f":"ExportXML3_SplitTimes[[#This Row],[GivenName]]&\" \"&ExportXML3_SplitTimes[[#This Row],[FamilyName]]","v":"Jakub + 2 Randík"},{"$f":"_xlfn.XLOOKUP(ExportXML3_SplitTimes[[#This Row],[PersonId]],#REF!,#REF!,\"-\")","v":{"$error":"#REF!"}},{"$f":"ExportXML3_SplitTimes[[#This Row],[Kategorie]] & \" - \" & ExportXML3_SplitTimes[[#This Row],[Závodník]] & \" (\" & ExportXML3_SplitTimes[[#This Row],[Číslo čipu]] & \")\"","v":{"$error":"#REF!"}},{"$f":"ExportXML3_SplitTimes[[#This Row],[ControlCode]]","v":100},{"$f":"ExportXML3_SplitTimes[[#This Row],[SplitTimeSeconds]]/3600/24","v":"01:25:34"},{"$f":"COUNTIFS(ExportXML3_SplitTimes[Legenda],ExportXML3_SplitTimes[[#This Row],[Legenda]],ExportXML3_SplitTimes[Čas],\"<=\"&ExportXML3_SplitTimes[[#This Row],[Čas]])","v":793}]
["N1","Skořepová","Magdaléna","0210008",5288,82,643,{"$f":"ExportXML3_SplitTimes[[#This Row],[GivenName]]&\" \"&ExportXML3_SplitTimes[[#This Row],[FamilyName]]","v":"Magdaléna Skořepová"},{"$f":"_xlfn.XLOOKUP(ExportXML3_SplitTimes[[#This Row],[PersonId]],#REF!,#REF!,\"-\")","v":{"$error":"#REF!"}},{"$f":"ExportXML3_SplitTimes[[#This Row],[Kategorie]] & \" - \" & ExportXML3_SplitTimes[[#This Row],[Závodník]] & \" (\" & ExportXML3_SplitTimes[[#This Row],[Číslo čipu]] & \")\"","v":{"$error":"#REF!"}},{"$f":"ExportXML3_SplitTimes[[#This Row],[ControlCode]]","v":82},{"$f":"ExportXML3_SplitTimes[[#This Row],[SplitTimeSeconds]]/3600/24","v":"00:10:43"},{"$f":"COUNTIFS(ExportXML3_SplitTimes[Legenda],ExportXML3_SplitTimes[[#This Row],[Legenda]],ExportXML3_SplitTimes[Čas],\"<=\"&ExportXML3_SplitTimes[[#This Row],[Čas]])","v":126}]
["N1","Skořepová","Magdaléna","0210008",5288,94,1140,{"$f":"ExportXML3_SplitTimes[[#This Row],[GivenName]]&\" \"&ExportXML3_SplitTimes[[#This Row],[FamilyName]]","v":"Magdaléna Skořepová"},{"$f":"_xlfn.XLOOKUP(ExportXML3_SplitTimes[[#This Row],[PersonId]],#REF!,#REF!,\"-\")","v":{"$error":"#REF!"}},{"$f":"ExportXML3_SplitTimes[[#This Row],[Kategorie]] & \" - \" & ExportXML3_SplitTimes[[#This Row],[Závodník]] & \" (\" & ExportXML3_SplitTimes[[#This Row],[Číslo čipu]] & \")\"","v":{"$error":"#REF!"}},{"$f":"ExportXML3_SplitTimes[[#This Row],[ControlCode]]","v":94},{"$f":"ExportXML3_SplitTimes[[#This Row],[SplitTimeSeconds]]/3600/24","v":"00:19:00"},{"$f":"COUNTIFS(ExportXML3_SplitTimes[Legenda],ExportXML3_SplitTimes[[#This Row],[Legenda]],ExportXML3_SplitTimes[Čas],\"<=\"&ExportXML3_SplitTimes[[#This Row],[Čas]])","v":259}]
["N1","Skořepová","Magdaléna","0210008",5288,92,2720,{"$f":"ExportXML3_SplitTimes[[#This Row],[GivenName]]&\" \"&ExportXML3_SplitTimes[[#This Row],[FamilyName]]","v":"Magdaléna Skořepová"},{"$f":"_xlfn.XLOOKUP(ExportXML3_SplitTimes[[#This Row],[PersonId]],#REF!,#REF!,\"-\")","v":{"$error":"#REF!"}},{"$f":"ExportXML3_SplitTimes[[#This Row],[Kategorie]] & \" - \" & ExportXML3_SplitTimes[[#This Row],[Závodník]] & \" (\" & ExportXML3_SplitTimes[[#This Row],[Číslo čipu]] & \")\"","v":{"$error":"#REF!"}},{"$f":"ExportXML3_SplitTimes[[#This Row],[ControlCode]]","v":92},{"$f":"ExportXML3_SplitTimes[[#This Row],[SplitTimeSeconds]]/3600/24","v":"00:45:20"},{"$f":"COUNTIFS(ExportXML3_SplitTimes[Legenda],ExportXML3_SplitTimes[[#This Row],[Legenda]],ExportXML3_SplitTimes[Čas],\"<=\"&ExportXML3_SplitTimes[[#This Row],[Čas]])","v":611}]
["N1","Skořepová","Magdaléna","0210008",5288,87,3299,{"$f":"ExportXML3_SplitTimes[[#This Row],[GivenName]]&\" \"&ExportXML3_SplitTimes[[#This Row],[FamilyName]]","v":"Magdaléna Skořepová"},{"$f":"_xlfn.XLOOKUP(ExportXML3_SplitTimes[[#This Row],[PersonId]],#REF!,#REF!,\"-\")","v":{"$error":"#REF!"}},{"$f":"ExportXML3_SplitTimes[[#This Row],[Kategorie]] & \" - \" & ExportXML3_SplitTimes[[#This Row],[Závodník]] & \" (\" & ExportXML3_SplitTimes[[#This Row],[Číslo čipu]] & \")\"","v":{"$error":"#REF!"}},{"$f":"ExportXML3_SplitTimes[[#This Row],[ControlCode]]","v":87},{"$f":"ExportXML3_SplitTimes[[#This Row],[SplitTimeSeconds]]/3600/24","v":"00:54:59"},{"$f":"COUNTIFS(ExportXML3_SplitTimes[Legenda],ExportXML3_SplitTimes[[#This Row],[Legenda]],ExportXML3_SplitTimes[Čas],\"<=\"&ExportXML3_SplitTimes[[#This Row],[Čas]])","v":709}]
["N1","Skořepová","Magdaléna","0210008",5288,88,3833,{"$f":"ExportXML3_SplitTimes[[#This Row],[GivenName]]&\" \"&ExportXML3_SplitTimes[[#This Row],[FamilyName]]","v":"Magdaléna Skořepová"},{"$f":"_xlfn.XLOOKUP(ExportXML3_SplitTimes[[#This Row],[PersonId]],#REF!,#REF!,\"-\")","v":{"$error":"#REF!"}},{"$f":"ExportXML3_SplitTimes[[#This Row],[Kategorie]] & \" - \" & ExportXML3_SplitTimes[[#This Row],[Závodník]] & \" (\" & ExportXML3_SplitTimes[[#This Row],[Číslo čipu]] & \")\"","v":{"$error":"#REF!"}},{"$f":"ExportXML3_SplitTimes[[#This Row],[ControlCode]]","v":88},{"$f":"ExportXML3_SplitTimes[[#This Row],[SplitTimeSeconds]]/3600/24","v":"01:03:53"},{"$f":"COUNTIFS(ExportXML3_SplitTimes[Legenda],ExportXML3_SplitTimes[[#This Row],[Legenda]],ExportXML3_SplitTimes[Čas],\"<=\"&ExportXML3_SplitTimes[[#This Row],[Čas]])","v":754}]
["N1","Skořepová","Magdaléna","0210008",5288,95,4746,{"$f":"ExportXML3_SplitTimes[[#This Row],[GivenName]]&\" \"&ExportXML3_SplitTimes[[#This Row],[FamilyName]]","v":"Magdaléna Skořepová"},{"$f":"_xlfn.XLOOKUP(ExportXML3_SplitTimes[[#This Row],[PersonId]],#REF!,#REF!,\"-\")","v":{"$error":"#REF!"}},{"$f":"ExportXML3_SplitTimes[[#This Row],[Kategorie]] & \" - \" & ExportXML3_SplitTimes[[#This Row],[Závodník]] & \" (\" & ExportXML3_SplitTimes[[#This Row],[Číslo čipu]] & \")\"","v":{"$error":"#REF!"}},{"$f":"ExportXML3_SplitTimes[[#This Row],[ControlCode]]","v":95},{"$f":"ExportXML3_SplitTimes[[#This Row],[SplitTimeSeconds]]/3600/24","v":"01:19:06"},{"$f":"COUNTIFS(ExportXML3_SplitTimes[Legenda],ExportXML3_SplitTimes[[#This Row],[Legenda]],ExportXML3_SplitTimes[Čas],\"<=\"&ExportXML3_SplitTimes[[#This Row],[Čas]])","v":787}]
["N1","Skořepová","Magdaléna","0210008",5288,90,4988,{"$f":"ExportXML3_SplitTimes[[#This Row],[GivenName]]&\" \"&ExportXML3_SplitTimes[[#This Row],[FamilyName]]","v":"Magdaléna Skořepová"},{"$f":"_xlfn.XLOOKUP(ExportXML3_SplitTimes[[#This Row],[PersonId]],#REF!,#REF!,\"-\")","v":{"$error":"#REF!"}},{"$f":"ExportXML3_SplitTimes[[#This Row],[Kategorie]] & \" - \" & ExportXML3_SplitTimes[[#This Row],[Závodník]] & \" (\" & ExportXML3_SplitTimes[[#This Row],[Číslo čipu]] & \")\"","v":{"$error":"#REF!"}},{"$f":"ExportXML3_SplitTimes[[#This Row],[ControlCode]]","v":90},{"$f":"ExportXML3_SplitTimes[[#This Row],[SplitTimeSeconds]]/3600/24","v":"01:23:08"},{"$f":"COUNTIFS(ExportXML3_SplitTimes[Legenda],ExportXML3_SplitTimes[[#This Row],[Legenda]],ExportXML3_SplitTimes[Čas],\"<=\"&ExportXML3_SplitTimes[[#This Row],[Čas]])","v":790}]
["N1","Skořepová","Magdaléna","0210008",5288,100,5243,{"$f":"ExportXML3_SplitTimes[[#This Row],[GivenName]]&\" \"&ExportXML3_SplitTimes[[#This Row],[FamilyName]]","v":"Magdaléna Skořepová"},{"$f":"_xlfn.XLOOKUP(ExportXML3_SplitTimes[[#This Row],[PersonId]],#REF!,#REF!,\"-\")","v":{"$error":"#REF!"}},{"$f":"ExportXML3_SplitTimes[[#This Row],[Kategorie]] & \" - \" & ExportXML3_SplitTimes[[#This Row],[Závodník]] & \" (\" & ExportXML3_SplitTimes[[#This Row],[Číslo čipu]] & \")\"","v":{"$error":"#REF!"}},{"$f":"ExportXML3_SplitTimes[[#This Row],[ControlCode]]","v":100},{"$f":"ExportXML3_SplitTimes[[#This Row],[SplitTimeSeconds]]/3600/24","v":"01:27:23"},{"$f":"COUNTIFS(ExportXML3_SplitTimes[Legenda],ExportXML3_SplitTimes[[#This Row],[Legenda]],ExportXML3_SplitTimes[Čas],\"<=\"&ExportXML3_SplitTimes[[#This Row],[Čas]])","v":795}]
["N2","Beneš","Stanislav","0180002",1839,34,336,{"$f":"ExportXML3_SplitTimes[[#This Row],[GivenName]]&\" \"&ExportXML3_SplitTimes[[#This Row],[FamilyName]]","v":"Stanislav Beneš"},{"$f":"_xlfn.XLOOKUP(ExportXML3_SplitTimes[[#This Row],[PersonId]],#REF!,#REF!,\"-\")","v":{"$error":"#REF!"}},{"$f":"ExportXML3_SplitTimes[[#This Row],[Kategorie]] & \" - \" & ExportXML3_SplitTimes[[#This Row],[Závodník]] & \" (\" & ExportXML3_SplitTimes[[#This Row],[Číslo čipu]] & \")\"","v":{"$error":"#REF!"}},{"$f":"ExportXML3_SplitTimes[[#This Row],[ControlCode]]","v":34},{"$f":"ExportXML3_SplitTimes[[#This Row],[SplitTimeSeconds]]/3600/24","v":"00:05:36"},{"$f":"COUNTIFS(ExportXML3_SplitTimes[Legenda],ExportXML3_SplitTimes[[#This Row],[Legenda]],ExportXML3_SplitTimes[Čas],\"<=\"&ExportXML3_SplitTimes[[#This Row],[Čas]])","v":33}]
["N2","Beneš","Stanislav","0180002",1839,94,474,{"$f":"ExportXML3_SplitTimes[[#This Row],[GivenName]]&\" \"&ExportXML3_SplitTimes[[#This Row],[FamilyName]]","v":"Stanislav Beneš"},{"$f":"_xlfn.XLOOKUP(ExportXML3_SplitTimes[[#This Row],[PersonId]],#REF!,#REF!,\"-\")","v":{"$error":"#REF!"}},{"$f":"ExportXML3_SplitTimes[[#This Row],[Kategorie]] & \" - \" & ExportXML3_SplitTimes[[#This Row],[Závodník]] & \" (\" & ExportXML3_SplitTimes[[#This Row],[Číslo čipu]] & \")\"","v":{"$error":"#REF!"}},{"$f":"ExportXML3_SplitTimes[[#This Row],[ControlCode]]","v":94},{"$f":"ExportXML3_SplitTimes[[#This Row],[SplitTimeSeconds]]/3600/24","v":"00:07:54"},{"$f":"COUNTIFS(ExportXML3_SplitTimes[Legenda],ExportXML3_SplitTimes[[#This Row],[Legenda]],ExportXML3_SplitTimes[Čas],\"<=\"&ExportXML3_SplitTimes[[#This Row],[Čas]])","v":71}]
["N2","Beneš","Stanislav","0180002",1839,56,584,{"$f":"ExportXML3_SplitTimes[[#This Row],[GivenName]]&\" \"&ExportXML3_SplitTimes[[#This Row],[FamilyName]]","v":"Stanislav Beneš"},{"$f":"_xlfn.XLOOKUP(ExportXML3_SplitTimes[[#This Row],[PersonId]],#REF!,#REF!,\"-\")","v":{"$error":"#REF!"}},{"$f":"ExportXML3_SplitTimes[[#This Row],[Kategorie]] & \" - \" & ExportXML3_SplitTimes[[#This Row],[Závodník]] & \" (\" & ExportXML3_SplitTimes[[#This Row],[Číslo čipu]] & \")\"","v":{"$error":"#REF!"}},{"$f":"ExportXML3_SplitTimes[[#This Row],[ControlCode]]","v":56},{"$f":"ExportXML3_SplitTimes[[#This Row],[SplitTimeSeconds]]/3600/24","v":"00:09:44"},{"$f":"COUNTIFS(ExportXML3_SplitTimes[Legenda],ExportXML3_SplitTimes[[#This Row],[Legenda]],ExportXML3_SplitTimes[Čas],\"<=\"&ExportXML3_SplitTimes[[#This Row],[Čas]])","v":106}]
["N2","Beneš","Stanislav","0180002",1839,67,864,{"$f":"ExportXML3_SplitTimes[[#This Row],[GivenName]]&\" \"&ExportXML3_SplitTimes[[#This Row],[FamilyName]]","v":"Stanislav Beneš"},{"$f":"_xlfn.XLOOKUP(ExportXML3_SplitTimes[[#This Row],[PersonId]],#REF!,#REF!,\"-\")","v":{"$error":"#REF!"}},{"$f":"ExportXML3_SplitTimes[[#This Row],[Kategorie]] & \" - \" & ExportXML3_SplitTimes[[#This Row],[Závodník]] & \" (\" & ExportXML3_SplitTimes[[#This Row],[Číslo čipu]] & \")\"","v":{"$error":"#REF!"}},{"$f":"ExportXML3_SplitTimes[[#This Row],[ControlCode]]","v":67},{"$f":"ExportXML3_SplitTimes[[#This Row],[SplitTimeSeconds]]/3600/24","v":"00:14:24"},{"$f":"COUNTIFS(ExportXML3_SplitTimes[Legenda],ExportXML3_SplitTimes[[#This Row],[Legenda]],ExportXML3_SplitTimes[Čas],\"<=\"&ExportXML3_SplitTimes[[#This Row],[Čas]])","v":183}]
["N2","Beneš","Stanislav","0180002",1839,77,1135,{"$f":"ExportXML3_SplitTimes[[#This Row],[GivenName]]&\" \"&ExportXML3_SplitTimes[[#This Row],[FamilyName]]","v":"Stanislav Beneš"},{"$f":"_xlfn.XLOOKUP(ExportXML3_SplitTimes[[#This Row],[PersonId]],#REF!,#REF!,\"-\")","v":{"$error":"#REF!"}},{"$f":"ExportXML3_SplitTimes[[#This Row],[Kategorie]] & \" - \" & ExportXML3_SplitTimes[[#This Row],[Závodník]] & \" (\" & ExportXML3_SplitTimes[[#This Row],[Číslo čipu]] & \")\"","v":{"$error":"#REF!"}},{"$f":"ExportXML3_SplitTimes[[#This Row],[ControlCode]]","v":77},{"$f":"ExportXML3_SplitTimes[[#This Row],[SplitTimeSeconds]]/3600/24","v":"00:18:55"},{"$f":"COUNTIFS(ExportXML3_SplitTimes[Legenda],ExportXML3_SplitTimes[[#This Row],[Legenda]],ExportXML3_SplitTimes[Čas],\"<=\"&ExportXML3_SplitTimes[[#This Row],[Čas]])","v":256}]
["N2","Beneš","Stanislav","0180002",1839,70,1285,{"$f":"ExportXML3_SplitTimes[[#This Row],[GivenName]]&\" \"&ExportXML3_SplitTimes[[#This Row],[FamilyName]]","v":"Stanislav Beneš"},{"$f":"_xlfn.XLOOKUP(ExportXML3_SplitTimes[[#This Row],[PersonId]],#REF!,#REF!,\"-\")","v":{"$error":"#REF!"}},{"$f":"ExportXML3_SplitTimes[[#This Row],[Kategorie]] & \" - \" & ExportXML3_SplitTimes[[#This Row],[Závodník]] & \" (\" & ExportXML3_SplitTimes[[#This Row],[Číslo čipu]] & \")\"","v":{"$error":"#REF!"}},{"$f":"ExportXML3_SplitTimes[[#This Row],[ControlCode]]","v":70},{"$f":"ExportXML3_SplitTimes[[#This Row],[SplitTimeSeconds]]/3600/24","v":"00:21:25"},{"$f":"COUNTIFS(ExportXML3_SplitTimes[Legenda],ExportXML3_SplitTimes[[#This Row],[Legenda]],ExportXML3_SplitTimes[Čas],\"<=\"&ExportXML3_SplitTimes[[#This Row],[Čas]])","v":291}]
["N2","Beneš","Stanislav","0180002",1839,88,1390,{"$f":"ExportXML3_SplitTimes[[#This Row],[GivenName]]&\" \"&ExportXML3_SplitTimes[[#This Row],[FamilyName]]","v":"Stanislav Beneš"},{"$f":"_xlfn.XLOOKUP(ExportXML3_SplitTimes[[#This Row],[PersonId]],#REF!,#REF!,\"-\")","v":{"$error":"#REF!"}},{"$f":"ExportXML3_SplitTimes[[#This Row],[Kategorie]] & \" - \" & ExportXML3_SplitTimes[[#This Row],[Závodník]] & \" (\" & ExportXML3_SplitTimes[[#This Row],[Číslo čipu]] & \")\"","v":{"$error":"#REF!"}},{"$f":"ExportXML3_SplitTimes[[#This Row],[ControlCode]]","v":88},{"$f":"ExportXML3_SplitTimes[[#This Row],[SplitTimeSeconds]]/3600/24","v":"00:23:10"},{"$f":"COUNTIFS(ExportXML3_SplitTimes[Legenda],ExportXML3_SplitTimes[[#This Row],[Legenda]],ExportXML3_SplitTimes[Čas],\"<=\"&ExportXML3_SplitTimes[[#This Row],[Čas]])","v":312}]
["N2","Beneš","Stanislav","0180002",1839,78,1580,{"$f":"ExportXML3_SplitTimes[[#This Row],[GivenName]]&\" \"&ExportXML3_SplitTimes[[#This Row],[FamilyName]]","v":"Stanislav Beneš"},{"$f":"_xlfn.XLOOKUP(ExportXML3_SplitTimes[[#This Row],[PersonId]],#REF!,#REF!,\"-\")","v":{"$error":"#REF!"}},{"$f":"ExportXML3_SplitTimes[[#This Row],[Kategorie]] & \" - \" & ExportXML3_SplitTimes[[#This Row],[Závodník]] & \" (\" & ExportXML3_SplitTimes[[#This Row],[Číslo čipu]] & \")\"","v":{"$error":"#REF!"}},{"$f":"ExportXML3_SplitTimes[[#This Row],[ControlCode]]","v":78},{"$f":"ExportXML3_SplitTimes[[#This Row],[SplitTimeSeconds]]/3600/24","v":"00:26:20"},{"$f":"COUNTIFS(ExportXML3_SplitTimes[Legenda],ExportXML3_SplitTimes[[#This Row],[Legenda]],ExportXML3_SplitTimes[Čas],\"<=\"&ExportXML3_SplitTimes[[#This Row],[Čas]])","v":358}]
["N2","Beneš","Stanislav","0180002",1839,90,1735,{"$f":"ExportXML3_SplitTimes[[#This Row],[GivenName]]&\" \"&ExportXML3_SplitTimes[[#This Row],[FamilyName]]","v":"Stanislav Beneš"},{"$f":"_xlfn.XLOOKUP(ExportXML3_SplitTimes[[#This Row],[PersonId]],#REF!,#REF!,\"-\")","v":{"$error":"#REF!"}},{"$f":"ExportXML3_SplitTimes[[#This Row],[Kategorie]] & \" - \" & ExportXML3_SplitTimes[[#This Row],[Závodník]] & \" (\" & ExportXML3_SplitTimes[[#This Row],[Číslo čipu]] & \")\"","v":{"$error":"#REF!"}},{"$f":"ExportXML3_SplitTimes[[#This Row],[ControlCode]]","v":90},{"$f":"ExportXML3_SplitTimes[[#This Row],[SplitTimeSeconds]]/3600/24","v":"00:28:55"},{"$f":"COUNTIFS(ExportXML3_SplitTimes[Legenda],ExportXML3_SplitTimes[[#This Row],[Legenda]],ExportXML3_SplitTimes[Čas],\"<=\"&ExportXML3_SplitTimes[[#This Row],[Čas]])","v":391}]
["N2","Beneš","Stanislav","0180002",1839,100,1818,{"$f":"ExportXML3_SplitTimes[[#This Row],[GivenName]]&\" \"&ExportXML3_SplitTimes[[#This Row],[FamilyName]]","v":"Stanislav Beneš"},{"$f":"_xlfn.XLOOKUP(ExportXML3_SplitTimes[[#This Row],[PersonId]],#REF!,#REF!,\"-\")","v":{"$error":"#REF!"}},{"$f":"ExportXML3_SplitTimes[[#This Row],[Kategorie]] & \" - \" & ExportXML3_SplitTimes[[#This Row],[Závodník]] & \" (\" & ExportXML3_SplitTimes[[#This Row],[Číslo čipu]] & \")\"","v":{"$error":"#REF!"}},{"$f":"ExportXML3_SplitTimes[[#This Row],[ControlCode]]","v":100},{"$f":"ExportXML3_SplitTimes[[#This Row],[SplitTimeSeconds]]/3600/24","v":"00:30:18"},{"$f":"COUNTIFS(ExportXML3_SplitTimes[Legenda],ExportXML3_SplitTimes[[#This Row],[Legenda]],ExportXML3_SplitTimes[Čas],\"<=\"&ExportXML3_SplitTimes[[#This Row],[Čas]])","v":416}]
["N2","Kolařík","Jiří","0020003",1924,34,203,{"$f":"ExportXML3_SplitTimes[[#This Row],[GivenName]]&\" \"&ExportXML3_SplitTimes[[#This Row],[FamilyName]]","v":"Jiří Kolařík"},{"$f":"_xlfn.XLOOKUP(ExportXML3_SplitTimes[[#This Row],[PersonId]],#REF!,#REF!,\"-\")","v":{"$error":"#REF!"}},{"$f":"ExportXML3_SplitTimes[[#This Row],[Kategorie]] & \" - \" & ExportXML3_SplitTimes[[#This Row],[Závodník]] & \" (\" & ExportXML3_SplitTimes[[#This Row],[Číslo čipu]] & \")\"","v":{"$error":"#REF!"}},{"$f":"ExportXML3_SplitTimes[[#This Row],[ControlCode]]","v":34},{"$f":"ExportXML3_SplitTimes[[#This Row],[SplitTimeSeconds]]/3600/24","v":"00:03:23"},{"$f":"COUNTIFS(ExportXML3_SplitTimes[Legenda],ExportXML3_SplitTimes[[#This Row],[Legenda]],ExportXML3_SplitTimes[Čas],\"<=\"&ExportXML3_SplitTimes[[#This Row],[Čas]])","v":6}]
["N2","Kolařík","Jiří","0020003",1924,94,302,{"$f":"ExportXML3_SplitTimes[[#This Row],[GivenName]]&\" \"&ExportXML3_SplitTimes[[#This Row],[FamilyName]]","v":"Jiří Kolařík"},{"$f":"_xlfn.XLOOKUP(ExportXML3_SplitTimes[[#This Row],[PersonId]],#REF!,#REF!,\"-\")","v":{"$error":"#REF!"}},{"$f":"ExportXML3_SplitTimes[[#This Row],[Kategorie]] & \" - \" & ExportXML3_SplitTimes[[#This Row],[Závodník]] & \" (\" & ExportXML3_SplitTimes[[#This Row],[Číslo čipu]] & \")\"","v":{"$error":"#REF!"}},{"$f":"ExportXML3_SplitTimes[[#This Row],[ControlCode]]","v":94},{"$f":"ExportXML3_SplitTimes[[#This Row],[SplitTimeSeconds]]/3600/24","v":"00:05:02"},{"$f":"COUNTIFS(ExportXML3_SplitTimes[Legenda],ExportXML3_SplitTimes[[#This Row],[Legenda]],ExportXML3_SplitTimes[Čas],\"<=\"&ExportXML3_SplitTimes[[#This Row],[Čas]])","v":29}]
["N2","Kolařík","Jiří","0020003",1924,56,432,{"$f":"ExportXML3_SplitTimes[[#This Row],[GivenName]]&\" \"&ExportXML3_SplitTimes[[#This Row],[FamilyName]]","v":"Jiří Kolařík"},{"$f":"_xlfn.XLOOKUP(ExportXML3_SplitTimes[[#This Row],[PersonId]],#REF!,#REF!,\"-\")","v":{"$error":"#REF!"}},{"$f":"ExportXML3_SplitTimes[[#This Row],[Kategorie]] & \" - \" & ExportXML3_SplitTimes[[#This Row],[Závodník]] & \" (\" & ExportXML3_SplitTimes[[#This Row],[Číslo čipu]] & \")\"","v":{"$error":"#REF!"}},{"$f":"ExportXML3_SplitTimes[[#This Row],[ControlCode]]","v":56},{"$f":"ExportXML3_SplitTimes[[#This Row],[SplitTimeSeconds]]/3600/24","v":"00:07:12"},{"$f":"COUNTIFS(ExportXML3_SplitTimes[Legenda],ExportXML3_SplitTimes[[#This Row],[Legenda]],ExportXML3_SplitTimes[Čas],\"<=\"&ExportXML3_SplitTimes[[#This Row],[Čas]])","v":60}]
["N2","Kolařík","Jiří","0020003",1924,67,733,{"$f":"ExportXML3_SplitTimes[[#This Row],[GivenName]]&\" \"&ExportXML3_SplitTimes[[#This Row],[FamilyName]]","v":"Jiří Kolařík"},{"$f":"_xlfn.XLOOKUP(ExportXML3_SplitTimes[[#This Row],[PersonId]],#REF!,#REF!,\"-\")","v":{"$error":"#REF!"}},{"$f":"ExportXML3_SplitTimes[[#This Row],[Kategorie]] & \" - \" & ExportXML3_SplitTimes[[#This Row],[Závodník]] & \" (\" & ExportXML3_SplitTimes[[#This Row],[Číslo čipu]] & \")\"","v":{"$error":"#REF!"}},{"$f":"ExportXML3_SplitTimes[[#This Row],[ControlCode]]","v":67},{"$f":"ExportXML3_SplitTimes[[#This Row],[SplitTimeSeconds]]/3600/24","v":"00:12:13"},{"$f":"COUNTIFS(ExportXML3_SplitTimes[Legenda],ExportXML3_SplitTimes[[#This Row],[Legenda]],ExportXML3_SplitTimes[Čas],\"<=\"&ExportXML3_SplitTimes[[#This Row],[Čas]])","v":150}]
["N2","Kolařík","Jiří","0020003",1924,77,1022,{"$f":"ExportXML3_SplitTimes[[#This Row],[GivenName]]&\" \"&ExportXML3_SplitTimes[[#This Row],[FamilyName]]","v":"Jiří Kolařík"},{"$f":"_xlfn.XLOOKUP(ExportXML3_SplitTimes[[#This Row],[PersonId]],#REF!,#REF!,\"-\")","v":{"$error":"#REF!"}},{"$f":"ExportXML3_SplitTimes[[#This Row],[Kategorie]] & \" - \" & ExportXML3_SplitTimes[[#This Row],[Závodník]] & \" (\" & ExportXML3_SplitTimes[[#This Row],[Číslo čipu]] & \")\"","v":{"$error":"#REF!"}},{"$f":"ExportXML3_SplitTimes[[#This Row],[ControlCode]]","v":77},{"$f":"ExportXML3_SplitTimes[[#This Row],[SplitTimeSeconds]]/3600/24","v":"00:17:02"},{"$f":"COUNTIFS(ExportXML3_SplitTimes[Legenda],ExportXML3_SplitTimes[[#This Row],[Legenda]],ExportXML3_SplitTimes[Čas],\"<=\"&ExportXML3_SplitTimes[[#This Row],[Čas]])","v":228}]
["N2","Kolařík","Jiří","0020003",1924,70,1186,{"$f":"ExportXML3_SplitTimes[[#This Row],[GivenName]]&\" \"&ExportXML3_SplitTimes[[#This Row],[FamilyName]]","v":"Jiří Kolařík"},{"$f":"_xlfn.XLOOKUP(ExportXML3_SplitTimes[[#This Row],[PersonId]],#REF!,#REF!,\"-\")","v":{"$error":"#REF!"}},{"$f":"ExportXML3_SplitTimes[[#This Row],[Kategorie]] & \" - \" & ExportXML3_SplitTimes[[#This Row],[Závodník]] & \" (\" & ExportXML3_SplitTimes[[#This Row],[Číslo čipu]] & \")\"","v":{"$error":"#REF!"}},{"$f":"ExportXML3_SplitTimes[[#This Row],[ControlCode]]","v":70},{"$f":"ExportXML3_SplitTimes[[#This Row],[SplitTimeSeconds]]/3600/24","v":"00:19:46"},{"$f":"COUNTIFS(ExportXML3_SplitTimes[Legenda],ExportXML3_SplitTimes[[#This Row],[Legenda]],ExportXML3_SplitTimes[Čas],\"<=\"&ExportXML3_SplitTimes[[#This Row],[Čas]])","v":272}]
["N2","Kolařík","Jiří","0020003",1924,88,1374,{"$f":"ExportXML3_SplitTimes[[#This Row],[GivenName]]&\" \"&ExportXML3_SplitTimes[[#This Row],[FamilyName]]","v":"Jiří Kolařík"},{"$f":"_xlfn.XLOOKUP(ExportXML3_SplitTimes[[#This Row],[PersonId]],#REF!,#REF!,\"-\")","v":{"$error":"#REF!"}},{"$f":"ExportXML3_SplitTimes[[#This Row],[Kategorie]] & \" - \" & ExportXML3_SplitTimes[[#This Row],[Závodník]] & \" (\" & ExportXML3_SplitTimes[[#This Row],[Číslo čipu]] & \")\"","v":{"$error":"#REF!"}},{"$f":"ExportXML3_SplitTimes[[#This Row],[ControlCode]]","v":88},{"$f":"ExportXML3_SplitTimes[[#This Row],[SplitTimeSeconds]]/3600/24","v":"00:22:54"},{"$f":"COUNTIFS(ExportXML3_SplitTimes[Legenda],ExportXML3_SplitTimes[[#This Row],[Legenda]],ExportXML3_SplitTimes[Čas],\"<=\"&ExportXML3_SplitTimes[[#This Row],[Čas]])","v":307}]
["N2","Kolařík","Jiří","0020003",1924,78,1616,{"$f":"ExportXML3_SplitTimes[[#This Row],[GivenName]]&\" \"&ExportXML3_SplitTimes[[#This Row],[FamilyName]]","v":"Jiří Kolařík"},{"$f":"_xlfn.XLOOKUP(ExportXML3_SplitTimes[[#This Row],[PersonId]],#REF!,#REF!,\"-\")","v":{"$error":"#REF!"}},{"$f":"ExportXML3_SplitTimes[[#This Row],[Kategorie]] & \" - \" & ExportXML3_SplitTimes[[#This Row],[Závodník]] & \" (\" & ExportXML3_SplitTimes[[#This Row],[Číslo čipu]] & \")\"","v":{"$error":"#REF!"}},{"$f":"ExportXML3_SplitTimes[[#This Row],[ControlCode]]","v":78},{"$f":"ExportXML3_SplitTimes[[#This Row],[SplitTimeSeconds]]/3600/24","v":"00:26:56"},{"$f":"COUNTIFS(ExportXML3_SplitTimes[Legenda],ExportXML3_SplitTimes[[#This Row],[Legenda]],ExportXML3_SplitTimes[Čas],\"<=\"&ExportXML3_SplitTimes[[#This Row],[Čas]])","v":365}]
["N2","Kolařík","Jiří","0020003",1924,90,1822,{"$f":"ExportXML3_SplitTimes[[#This Row],[GivenName]]&\" \"&ExportXML3_SplitTimes[[#This Row],[FamilyName]]","v":"Jiří Kolařík"},{"$f":"_xlfn.XLOOKUP(ExportXML3_SplitTimes[[#This Row],[PersonId]],#REF!,#REF!,\"-\")","v":{"$error":"#REF!"}},{"$f":"ExportXML3_SplitTimes[[#This Row],[Kategorie]] & \" - \" & ExportXML3_SplitTimes[[#This Row],[Závodník]] & \" (\" & ExportXML3_SplitTimes[[#This Row],[Číslo čipu]] & \")\"","v":{"$error":"#REF!"}},{"$f":"ExportXML3_SplitTimes[[#This Row],[ControlCode]]","v":90},{"$f":"ExportXML3_SplitTimes[[#This Row],[SplitTimeSeconds]]/3600/24","v":"00:30:22"},{"$f":"COUNTIFS(ExportXML3_SplitTimes[Legenda],ExportXML3_SplitTimes[[#This Row],[Legenda]],ExportXML3_SplitTimes[Čas],\"<=\"&ExportXML3_SplitTimes[[#This Row],[Čas]])","v":418}]
["N2","Kolařík","Jiří","0020003",1924,100,1904,{"$f":"ExportXML3_SplitTimes[[#This Row],[GivenName]]&\" \"&ExportXML3_SplitTimes[[#This Row],[FamilyName]]","v":"Jiří Kolařík"},{"$f":"_xlfn.XLOOKUP(ExportXML3_SplitTimes[[#This Row],[PersonId]],#REF!,#REF!,\"-\")","v":{"$error":"#REF!"}},{"$f":"ExportXML3_SplitTimes[[#This Row],[Kategorie]] & \" - \" & ExportXML3_SplitTimes[[#This Row],[Závodník]] & \" (\" & ExportXML3_SplitTimes[[#This Row],[Číslo čipu]] & \")\"","v":{"$error":"#REF!"}},{"$f":"ExportXML3_SplitTimes[[#This Row],[ControlCode]]","v":100},{"$f":"ExportXML3_SplitTimes[[#This Row],[SplitTimeSeconds]]/3600/24","v":"00:31:44"},{"$f":"COUNTIFS(ExportXML3_SplitTimes[Legenda],ExportXML3_SplitTimes[[#This Row],[Legenda]],ExportXML3_SplitTimes[Čas],\"<=\"&ExportXML3_SplitTimes[[#This Row],[Čas]])","v":435}]
["N2","Kolařík","Jakub","0020004",2075,34,343,{"$f":"ExportXML3_SplitTimes[[#This Row],[GivenName]]&\" \"&ExportXML3_SplitTimes[[#This Row],[FamilyName]]","v":"Jakub Kolařík"},{"$f":"_xlfn.XLOOKUP(ExportXML3_SplitTimes[[#This Row],[PersonId]],#REF!,#REF!,\"-\")","v":{"$error":"#REF!"}},{"$f":"ExportXML3_SplitTimes[[#This Row],[Kategorie]] & \" - \" & ExportXML3_SplitTimes[[#This Row],[Závodník]] & \" (\" & ExportXML3_SplitTimes[[#This Row],[Číslo čipu]] & \")\"","v":{"$error":"#REF!"}},{"$f":"ExportXML3_SplitTimes[[#This Row],[ControlCode]]","v":34},{"$f":"ExportXML3_SplitTimes[[#This Row],[SplitTimeSeconds]]/3600/24","v":"00:05:43"},{"$f":"COUNTIFS(ExportXML3_SplitTimes[Legenda],ExportXML3_SplitTimes[[#This Row],[Legenda]],ExportXML3_SplitTimes[Čas],\"<=\"&ExportXML3_SplitTimes[[#This Row],[Čas]])","v":34}]
["N2","Kolařík","Jakub","0020004",2075,94,445,{"$f":"ExportXML3_SplitTimes[[#This Row],[GivenName]]&\" \"&ExportXML3_SplitTimes[[#This Row],[FamilyName]]","v":"Jakub Kolařík"},{"$f":"_xlfn.XLOOKUP(ExportXML3_SplitTimes[[#This Row],[PersonId]],#REF!,#REF!,\"-\")","v":{"$error":"#REF!"}},{"$f":"ExportXML3_SplitTimes[[#This Row],[Kategorie]] & \" - \" & ExportXML3_SplitTimes[[#This Row],[Závodník]] & \" (\" & ExportXML3_SplitTimes[[#This Row],[Číslo čipu]] & \")\"","v":{"$error":"#REF!"}},{"$f":"ExportXML3_SplitTimes[[#This Row],[ControlCode]]","v":94},{"$f":"ExportXML3_SplitTimes[[#This Row],[SplitTimeSeconds]]/3600/24","v":"00:07:25"},{"$f":"COUNTIFS(ExportXML3_SplitTimes[Legenda],ExportXML3_SplitTimes[[#This Row],[Legenda]],ExportXML3_SplitTimes[Čas],\"<=\"&ExportXML3_SplitTimes[[#This Row],[Čas]])","v":62}]
["N2","Kolařík","Jakub","0020004",2075,56,574,{"$f":"ExportXML3_SplitTimes[[#This Row],[GivenName]]&\" \"&ExportXML3_SplitTimes[[#This Row],[FamilyName]]","v":"Jakub Kolařík"},{"$f":"_xlfn.XLOOKUP(ExportXML3_SplitTimes[[#This Row],[PersonId]],#REF!,#REF!,\"-\")","v":{"$error":"#REF!"}},{"$f":"ExportXML3_SplitTimes[[#This Row],[Kategorie]] & \" - \" & ExportXML3_SplitTimes[[#This Row],[Závodník]] & \" (\" & ExportXML3_SplitTimes[[#This Row],[Číslo čipu]] & \")\"","v":{"$error":"#REF!"}},{"$f":"ExportXML3_SplitTimes[[#This Row],[ControlCode]]","v":56},{"$f":"ExportXML3_SplitTimes[[#This Row],[SplitTimeSeconds]]/3600/24","v":"00:09:34"},{"$f":"COUNTIFS(ExportXML3_SplitTimes[Legenda],ExportXML3_SplitTimes[[#This Row],[Legenda]],ExportXML3_SplitTimes[Čas],\"<=\"&ExportXML3_SplitTimes[[#This Row],[Čas]])","v":102}]
["N2","Kolařík","Jakub","0020004",2075,67,905,{"$f":"ExportXML3_SplitTimes[[#This Row],[GivenName]]&\" \"&ExportXML3_SplitTimes[[#This Row],[FamilyName]]","v":"Jakub Kolařík"},{"$f":"_xlfn.XLOOKUP(ExportXML3_SplitTimes[[#This Row],[PersonId]],#REF!,#REF!,\"-\")","v":{"$error":"#REF!"}},{"$f":"ExportXML3_SplitTimes[[#This Row],[Kategorie]] & \" - \" & ExportXML3_SplitTimes[[#This Row],[Závodník]] & \" (\" & ExportXML3_SplitTimes[[#This Row],[Číslo čipu]] & \")\"","v":{"$error":"#REF!"}},{"$f":"ExportXML3_SplitTimes[[#This Row],[ControlCode]]","v":67},{"$f":"ExportXML3_SplitTimes[[#This Row],[SplitTimeSeconds]]/3600/24","v":"00:15:05"},{"$f":"COUNTIFS(ExportXML3_SplitTimes[Legenda],ExportXML3_SplitTimes[[#This Row],[Legenda]],ExportXML3_SplitTimes[Čas],\"<=\"&ExportXML3_SplitTimes[[#This Row],[Čas]])","v":193}]
["N2","Kolařík","Jakub","0020004",2075,77,1182,{"$f":"ExportXML3_SplitTimes[[#This Row],[GivenName]]&\" \"&ExportXML3_SplitTimes[[#This Row],[FamilyName]]","v":"Jakub Kolařík"},{"$f":"_xlfn.XLOOKUP(ExportXML3_SplitTimes[[#This Row],[PersonId]],#REF!,#REF!,\"-\")","v":{"$error":"#REF!"}},{"$f":"ExportXML3_SplitTimes[[#This Row],[Kategorie]] & \" - \" & ExportXML3_SplitTimes[[#This Row],[Závodník]] & \" (\" & ExportXML3_SplitTimes[[#This Row],[Číslo čipu]] & \")\"","v":{"$error":"#REF!"}},{"$f":"ExportXML3_SplitTimes[[#This Row],[ControlCode]]","v":77},{"$f":"ExportXML3_SplitTimes[[#This Row],[SplitTimeSeconds]]/3600/24","v":"00:19:42"},{"$f":"COUNTIFS(ExportXML3_SplitTimes[Legenda],ExportXML3_SplitTimes[[#This Row],[Legenda]],ExportXML3_SplitTimes[Čas],\"<=\"&ExportXML3_SplitTimes[[#This Row],[Čas]])","v":271}]
["N2","Kolařík","Jakub","0020004",2075,70,1330,{"$f":"ExportXML3_SplitTimes[[#This Row],[GivenName]]&\" \"&ExportXML3_SplitTimes[[#This Row],[FamilyName]]","v":"Jakub Kolařík"},{"$f":"_xlfn.XLOOKUP(ExportXML3_SplitTimes[[#This Row],[PersonId]],#REF!,#REF!,\"-\")","v":{"$error":"#REF!"}},{"$f":"ExportXML3_SplitTimes[[#This Row],[Kategorie]] & \" - \" & ExportXML3_SplitTimes[[#This Row],[Závodník]] & \" (\" & ExportXML3_SplitTimes[[#This Row],[Číslo čipu]] & \")\"","v":{"$error":"#REF!"}},{"$f":"ExportXML3_SplitTimes[[#This Row],[ControlCode]]","v":70},{"$f":"ExportXML3_SplitTimes[[#This Row],[SplitTimeSeconds]]/3600/24","v":"00:22:10"},{"$f":"COUNTIFS(ExportXML3_SplitTimes[Legenda],ExportXML3_SplitTimes[[#This Row],[Legenda]],ExportXML3_SplitTimes[Čas],\"<=\"&ExportXML3_SplitTimes[[#This Row],[Čas]])","v":300}]
["N2","Kolařík","Jakub","0020004",2075,88,1522,{"$f":"ExportXML3_SplitTimes[[#This Row],[GivenName]]&\" \"&ExportXML3_SplitTimes[[#This Row],[FamilyName]]","v":"Jakub Kolařík"},{"$f":"_xlfn.XLOOKUP(ExportXML3_SplitTimes[[#This Row],[PersonId]],#REF!,#REF!,\"-\")","v":{"$error":"#REF!"}},{"$f":"ExportXML3_SplitTimes[[#This Row],[Kategorie]] & \" - \" & ExportXML3_SplitTimes[[#This Row],[Závodník]] & \" (\" & ExportXML3_SplitTimes[[#This Row],[Číslo čipu]] & \")\"","v":{"$error":"#REF!"}},{"$f":"ExportXML3_SplitTimes[[#This Row],[ControlCode]]","v":88},{"$f":"ExportXML3_SplitTimes[[#This Row],[SplitTimeSeconds]]/3600/24","v":"00:25:22"},{"$f":"COUNTIFS(ExportXML3_SplitTimes[Legenda],ExportXML3_SplitTimes[[#This Row],[Legenda]],ExportXML3_SplitTimes[Čas],\"<=\"&ExportXML3_SplitTimes[[#This Row],[Čas]])","v":341}]
["N2","Kolařík","Jakub","0020004",2075,78,1766,{"$f":"ExportXML3_SplitTimes[[#This Row],[GivenName]]&\" \"&ExportXML3_SplitTimes[[#This Row],[FamilyName]]","v":"Jakub Kolařík"},{"$f":"_xlfn.XLOOKUP(ExportXML3_SplitTimes[[#This Row],[PersonId]],#REF!,#REF!,\"-\")","v":{"$error":"#REF!"}},{"$f":"ExportXML3_SplitTimes[[#This Row],[Kategorie]] & \" - \" & ExportXML3_SplitTimes[[#This Row],[Závodník]] & \" (\" & ExportXML3_SplitTimes[[#This Row],[Číslo čipu]] & \")\"","v":{"$error":"#REF!"}},{"$f":"ExportXML3_SplitTimes[[#This Row],[ControlCode]]","v":78},{"$f":"ExportXML3_SplitTimes[[#This Row],[SplitTimeSeconds]]/3600/24","v":"00:29:26"},{"$f":"COUNTIFS(ExportXML3_SplitTimes[Legenda],ExportXML3_SplitTimes[[#This Row],[Legenda]],ExportXML3_SplitTimes[Čas],\"<=\"&ExportXML3_SplitTimes[[#This Row],[Čas]])","v":403}]
["N2","Kolařík","Jakub","0020004",2075,90,1962,{"$f":"ExportXML3_SplitTimes[[#This Row],[GivenName]]&\" \"&ExportXML3_SplitTimes[[#This Row],[FamilyName]]","v":"Jakub Kolařík"},{"$f":"_xlfn.XLOOKUP(ExportXML3_SplitTimes[[#This Row],[PersonId]],#REF!,#REF!,\"-\")","v":{"$error":"#REF!"}},{"$f":"ExportXML3_SplitTimes[[#This Row],[Kategorie]] & \" - \" & ExportXML3_SplitTimes[[#This Row],[Závodník]] & \" (\" & ExportXML3_SplitTimes[[#This Row],[Číslo čipu]] & \")\"","v":{"$error":"#REF!"}},{"$f":"ExportXML3_SplitTimes[[#This Row],[ControlCode]]","v":90},{"$f":"ExportXML3_SplitTimes[[#This Row],[SplitTimeSeconds]]/3600/24","v":"00:32:42"},{"$f":"COUNTIFS(ExportXML3_SplitTimes[Legenda],ExportXML3_SplitTimes[[#This Row],[Legenda]],ExportXML3_SplitTimes[Čas],\"<=\"&ExportXML3_SplitTimes[[#This Row],[Čas]])","v":452}]
["N2","Kolařík","Jakub","0020004",2075,100,2056,{"$f":"ExportXML3_SplitTimes[[#This Row],[GivenName]]&\" \"&ExportXML3_SplitTimes[[#This Row],[FamilyName]]","v":"Jakub Kolařík"},{"$f":"_xlfn.XLOOKUP(ExportXML3_SplitTimes[[#This Row],[PersonId]],#REF!,#REF!,\"-\")","v":{"$error":"#REF!"}},{"$f":"ExportXML3_SplitTimes[[#This Row],[Kategorie]] & \" - \" & ExportXML3_SplitTimes[[#This Row],[Závodník]] & \" (\" & ExportXML3_SplitTimes[[#This Row],[Číslo čipu]] & \")\"","v":{"$error":"#REF!"}},{"$f":"ExportXML3_SplitTimes[[#This Row],[ControlCode]]","v":100},{"$f":"ExportXML3_SplitTimes[[#This Row],[SplitTimeSeconds]]/3600/24","v":"00:34:16"},{"$f":"COUNTIFS(ExportXML3_SplitTimes[Legenda],ExportXML3_SplitTimes[[#This Row],[Legenda]],ExportXML3_SplitTimes[Čas],\"<=\"&ExportXML3_SplitTimes[[#This Row],[Čas]])","v":474}]
["N2","Primus","Petr / Vitalitas p","0040001",2224,34,351,{"$f":"ExportXML3_SplitTimes[[#This Row],[GivenName]]&\" \"&ExportXML3_SplitTimes[[#This Row],[FamilyName]]","v":"Petr / Vitalitas p Primus"},{"$f":"_xlfn.XLOOKUP(ExportXML3_SplitTimes[[#This Row],[PersonId]],#REF!,#REF!,\"-\")","v":{"$error":"#REF!"}},{"$f":"ExportXML3_SplitTimes[[#This Row],[Kategorie]] & \" - \" & ExportXML3_SplitTimes[[#This Row],[Závodník]] & \" (\" & ExportXML3_SplitTimes[[#This Row],[Číslo čipu]] & \")\"","v":{"$error":"#REF!"}},{"$f":"ExportXML3_SplitTimes[[#This Row],[ControlCode]]","v":34},{"$f":"ExportXML3_SplitTimes[[#This Row],[SplitTimeSeconds]]/3600/24","v":"00:05:51"},{"$f":"COUNTIFS(ExportXML3_SplitTimes[Legenda],ExportXML3_SplitTimes[[#This Row],[Legenda]],ExportXML3_SplitTimes[Čas],\"<=\"&ExportXML3_SplitTimes[[#This Row],[Čas]])","v":37}]
["N2","Primus","Petr / Vitalitas p","0040001",2224,94,480,{"$f":"ExportXML3_SplitTimes[[#This Row],[GivenName]]&\" \"&ExportXML3_SplitTimes[[#This Row],[FamilyName]]","v":"Petr / Vitalitas p Primus"},{"$f":"_xlfn.XLOOKUP(ExportXML3_SplitTimes[[#This Row],[PersonId]],#REF!,#REF!,\"-\")","v":{"$error":"#REF!"}},{"$f":"ExportXML3_SplitTimes[[#This Row],[Kategorie]] & \" - \" & ExportXML3_SplitTimes[[#This Row],[Závodník]] & \" (\" & ExportXML3_SplitTimes[[#This Row],[Číslo čipu]] & \")\"","v":{"$error":"#REF!"}},{"$f":"ExportXML3_SplitTimes[[#This Row],[ControlCode]]","v":94},{"$f":"ExportXML3_SplitTimes[[#This Row],[SplitTimeSeconds]]/3600/24","v":"00:08:00"},{"$f":"COUNTIFS(ExportXML3_SplitTimes[Legenda],ExportXML3_SplitTimes[[#This Row],[Legenda]],ExportXML3_SplitTimes[Čas],\"<=\"&ExportXML3_SplitTimes[[#This Row],[Čas]])","v":73}]
["N2","Primus","Petr / Vitalitas p","0040001",2224,56,617,{"$f":"ExportXML3_SplitTimes[[#This Row],[GivenName]]&\" \"&ExportXML3_SplitTimes[[#This Row],[FamilyName]]","v":"Petr / Vitalitas p Primus"},{"$f":"_xlfn.XLOOKUP(ExportXML3_SplitTimes[[#This Row],[PersonId]],#REF!,#REF!,\"-\")","v":{"$error":"#REF!"}},{"$f":"ExportXML3_SplitTimes[[#This Row],[Kategorie]] & \" - \" & ExportXML3_SplitTimes[[#This Row],[Závodník]] & \" (\" & ExportXML3_SplitTimes[[#This Row],[Číslo čipu]] & \")\"","v":{"$error":"#REF!"}},{"$f":"ExportXML3_SplitTimes[[#This Row],[ControlCode]]","v":56},{"$f":"ExportXML3_SplitTimes[[#This Row],[SplitTimeSeconds]]/3600/24","v":"00:10:17"},{"$f":"COUNTIFS(ExportXML3_SplitTimes[Legenda],ExportXML3_SplitTimes[[#This Row],[Legenda]],ExportXML3_SplitTimes[Čas],\"<=\"&ExportXML3_SplitTimes[[#This Row],[Čas]])","v":116}]
["N2","Primus","Petr / Vitalitas p","0040001",2224,67,872,{"$f":"ExportXML3_SplitTimes[[#This Row],[GivenName]]&\" \"&ExportXML3_SplitTimes[[#This Row],[FamilyName]]","v":"Petr / Vitalitas p Primus"},{"$f":"_xlfn.XLOOKUP(ExportXML3_SplitTimes[[#This Row],[PersonId]],#REF!,#REF!,\"-\")","v":{"$error":"#REF!"}},{"$f":"ExportXML3_SplitTimes[[#This Row],[Kategorie]] & \" - \" & ExportXML3_SplitTimes[[#This Row],[Závodník]] & \" (\" & ExportXML3_SplitTimes[[#This Row],[Číslo čipu]] & \")\"","v":{"$error":"#REF!"}},{"$f":"ExportXML3_SplitTimes[[#This Row],[ControlCode]]","v":67},{"$f":"ExportXML3_SplitTimes[[#This Row],[SplitTimeSeconds]]/3600/24","v":"00:14:32"},{"$f":"COUNTIFS(ExportXML3_SplitTimes[Legenda],ExportXML3_SplitTimes[[#This Row],[Legenda]],ExportXML3_SplitTimes[Čas],\"<=\"&ExportXML3_SplitTimes[[#This Row],[Čas]])","v":184}]
["N2","Primus","Petr / Vitalitas p","0040001",2224,77,1270,{"$f":"ExportXML3_SplitTimes[[#This Row],[GivenName]]&\" \"&ExportXML3_SplitTimes[[#This Row],[FamilyName]]","v":"Petr / Vitalitas p Primus"},{"$f":"_xlfn.XLOOKUP(ExportXML3_SplitTimes[[#This Row],[PersonId]],#REF!,#REF!,\"-\")","v":{"$error":"#REF!"}},{"$f":"ExportXML3_SplitTimes[[#This Row],[Kategorie]] & \" - \" & ExportXML3_SplitTimes[[#This Row],[Závodník]] & \" (\" & ExportXML3_SplitTimes[[#This Row],[Číslo čipu]] & \")\"","v":{"$error":"#REF!"}},{"$f":"ExportXML3_SplitTimes[[#This Row],[ControlCode]]","v":77},{"$f":"ExportXML3_SplitTimes[[#This Row],[SplitTimeSeconds]]/3600/24","v":"00:21:10"},{"$f":"COUNTIFS(ExportXML3_SplitTimes[Legenda],ExportXML3_SplitTimes[[#This Row],[Legenda]],ExportXML3_SplitTimes[Čas],\"<=\"&ExportXML3_SplitTimes[[#This Row],[Čas]])","v":288}]
["N2","Primus","Petr / Vitalitas p","0040001",2224,70,1489,{"$f":"ExportXML3_SplitTimes[[#This Row],[GivenName]]&\" \"&ExportXML3_SplitTimes[[#This Row],[FamilyName]]","v":"Petr / Vitalitas p Primus"},{"$f":"_xlfn.XLOOKUP(ExportXML3_SplitTimes[[#This Row],[PersonId]],#REF!,#REF!,\"-\")","v":{"$error":"#REF!"}},{"$f":"ExportXML3_SplitTimes[[#This Row],[Kategorie]] & \" - \" & ExportXML3_SplitTimes[[#This Row],[Závodník]] & \" (\" & ExportXML3_SplitTimes[[#This Row],[Číslo čipu]] & \")\"","v":{"$error":"#REF!"}},{"$f":"ExportXML3_SplitTimes[[#This Row],[ControlCode]]","v":70},{"$f":"ExportXML3_SplitTimes[[#This Row],[SplitTimeSeconds]]/3600/24","v":"00:24:49"},{"$f":"COUNTIFS(ExportXML3_SplitTimes[Legenda],ExportXML3_SplitTimes[[#This Row],[Legenda]],ExportXML3_SplitTimes[Čas],\"<=\"&ExportXML3_SplitTimes[[#This Row],[Čas]])","v":332}]
["N2","Primus","Petr / Vitalitas p","0040001",2224,88,1669,{"$f":"ExportXML3_SplitTimes[[#This Row],[GivenName]]&\" \"&ExportXML3_SplitTimes[[#This Row],[FamilyName]]","v":"Petr / Vitalitas p Primus"},{"$f":"_xlfn.XLOOKUP(ExportXML3_SplitTimes[[#This Row],[PersonId]],#REF!,#REF!,\"-\")","v":{"$error":"#REF!"}},{"$f":"ExportXML3_SplitTimes[[#This Row],[Kategorie]] & \" - \" & ExportXML3_SplitTimes[[#This Row],[Závodník]] & \" (\" & ExportXML3_SplitTimes[[#This Row],[Číslo čipu]] & \")\"","v":{"$error":"#REF!"}},{"$f":"ExportXML3_SplitTimes[[#This Row],[ControlCode]]","v":88},{"$f":"ExportXML3_SplitTimes[[#This Row],[SplitTimeSeconds]]/3600/24","v":"00:27:49"},{"$f":"COUNTIFS(ExportXML3_SplitTimes[Legenda],ExportXML3_SplitTimes[[#This Row],[Legenda]],ExportXML3_SplitTimes[Čas],\"<=\"&ExportXML3_SplitTimes[[#This Row],[Čas]])","v":373}]
["N2","Primus","Petr / Vitalitas p","0040001",2224,78,1910,{"$f":"ExportXML3_SplitTimes[[#This Row],[GivenName]]&\" \"&ExportXML3_SplitTimes[[#This Row],[FamilyName]]","v":"Petr / Vitalitas p Primus"},{"$f":"_xlfn.XLOOKUP(ExportXML3_SplitTimes[[#This Row],[PersonId]],#REF!,#REF!,\"-\")","v":{"$error":"#REF!"}},{"$f":"ExportXML3_SplitTimes[[#This Row],[Kategorie]] & \" - \" & ExportXML3_SplitTimes[[#This Row],[Závodník]] & \" (\" & ExportXML3_SplitTimes[[#This Row],[Číslo čipu]] & \")\"","v":{"$error":"#REF!"}},{"$f":"ExportXML3_SplitTimes[[#This Row],[ControlCode]]","v":78},{"$f":"ExportXML3_SplitTimes[[#This Row],[SplitTimeSeconds]]/3600/24","v":"00:31:50"},{"$f":"COUNTIFS(ExportXML3_SplitTimes[Legenda],ExportXML3_SplitTimes[[#This Row],[Legenda]],ExportXML3_SplitTimes[Čas],\"<=\"&ExportXML3_SplitTimes[[#This Row],[Čas]])","v":436}]
["N2","Primus","Petr / Vitalitas p","0040001",2224,90,2113,{"$f":"ExportXML3_SplitTimes[[#This Row],[GivenName]]&\" \"&ExportXML3_SplitTimes[[#This Row],[FamilyName]]","v":"Petr / Vitalitas p Primus"},{"$f":"_xlfn.XLOOKUP(ExportXML3_SplitTimes[[#This Row],[PersonId]],#REF!,#REF!,\"-\")","v":{"$error":"#REF!"}},{"$f":"ExportXML3_SplitTimes[[#This Row],[Kategorie]] & \" - \" & ExportXML3_SplitTimes[[#This Row],[Závodník]] & \" (\" & ExportXML3_SplitTimes[[#This Row],[Číslo čipu]] & \")\"","v":{"$error":"#REF!"}},{"$f":"ExportXML3_SplitTimes[[#This Row],[ControlCode]]","v":90},{"$f":"ExportXML3_SplitTimes[[#This Row],[SplitTimeSeconds]]/3600/24","v":"00:35:13"},{"$f":"COUNTIFS(ExportXML3_SplitTimes[Legenda],ExportXML3_SplitTimes[[#This Row],[Legenda]],ExportXML3_SplitTimes[Čas],\"<=\"&ExportXML3_SplitTimes[[#This Row],[Čas]])","v":484}]
["N2","Primus","Petr / Vitalitas p","0040001",2224,100,2204,{"$f":"ExportXML3_SplitTimes[[#This Row],[GivenName]]&\" \"&ExportXML3_SplitTimes[[#This Row],[FamilyName]]","v":"Petr / Vitalitas p Primus"},{"$f":"_xlfn.XLOOKUP(ExportXML3_SplitTimes[[#This Row],[PersonId]],#REF!,#REF!,\"-\")","v":{"$error":"#REF!"}},{"$f":"ExportXML3_SplitTimes[[#This Row],[Kategorie]] & \" - \" & ExportXML3_SplitTimes[[#This Row],[Závodník]] & \" (\" & ExportXML3_SplitTimes[[#This Row],[Číslo čipu]] & \")\"","v":{"$error":"#REF!"}},{"$f":"ExportXML3_SplitTimes[[#This Row],[ControlCode]]","v":100},{"$f":"ExportXML3_SplitTimes[[#This Row],[SplitTimeSeconds]]/3600/24","v":"00:36:44"},{"$f":"COUNTIFS(ExportXML3_SplitTimes[Legenda],ExportXML3_SplitTimes[[#This Row],[Legenda]],ExportXML3_SplitTimes[Čas],\"<=\"&ExportXML3_SplitTimes[[#This Row],[Čas]])","v":500}]
["N2","Ženíšek","Michal","0200001",2487,34,362,{"$f":"ExportXML3_SplitTimes[[#This Row],[GivenName]]&\" \"&ExportXML3_SplitTimes[[#This Row],[FamilyName]]","v":"Michal Ženíšek"},{"$f":"_xlfn.XLOOKUP(ExportXML3_SplitTimes[[#This Row],[PersonId]],#REF!,#REF!,\"-\")","v":{"$error":"#REF!"}},{"$f":"ExportXML3_SplitTimes[[#This Row],[Kategorie]] & \" - \" & ExportXML3_SplitTimes[[#This Row],[Závodník]] & \" (\" & ExportXML3_SplitTimes[[#This Row],[Číslo čipu]] & \")\"","v":{"$error":"#REF!"}},{"$f":"ExportXML3_SplitTimes[[#This Row],[ControlCode]]","v":34},{"$f":"ExportXML3_SplitTimes[[#This Row],[SplitTimeSeconds]]/3600/24","v":"00:06:02"},{"$f":"COUNTIFS(ExportXML3_SplitTimes[Legenda],ExportXML3_SplitTimes[[#This Row],[Legenda]],ExportXML3_SplitTimes[Čas],\"<=\"&ExportXML3_SplitTimes[[#This Row],[Čas]])","v":43}]
["N2","Ženíšek","Michal","0200001",2487,94,506,{"$f":"ExportXML3_SplitTimes[[#This Row],[GivenName]]&\" \"&ExportXML3_SplitTimes[[#This Row],[FamilyName]]","v":"Michal Ženíšek"},{"$f":"_xlfn.XLOOKUP(ExportXML3_SplitTimes[[#This Row],[PersonId]],#REF!,#REF!,\"-\")","v":{"$error":"#REF!"}},{"$f":"ExportXML3_SplitTimes[[#This Row],[Kategorie]] & \" - \" & ExportXML3_SplitTimes[[#This Row],[Závodník]] & \" (\" & ExportXML3_SplitTimes[[#This Row],[Číslo čipu]] & \")\"","v":{"$error":"#REF!"}},{"$f":"ExportXML3_SplitTimes[[#This Row],[ControlCode]]","v":94},{"$f":"ExportXML3_SplitTimes[[#This Row],[SplitTimeSeconds]]/3600/24","v":"00:08:26"},{"$f":"COUNTIFS(ExportXML3_SplitTimes[Legenda],ExportXML3_SplitTimes[[#This Row],[Legenda]],ExportXML3_SplitTimes[Čas],\"<=\"&ExportXML3_SplitTimes[[#This Row],[Čas]])","v":80}]
["N2","Ženíšek","Michal","0200001",2487,56,668,{"$f":"ExportXML3_SplitTimes[[#This Row],[GivenName]]&\" \"&ExportXML3_SplitTimes[[#This Row],[FamilyName]]","v":"Michal Ženíšek"},{"$f":"_xlfn.XLOOKUP(ExportXML3_SplitTimes[[#This Row],[PersonId]],#REF!,#REF!,\"-\")","v":{"$error":"#REF!"}},{"$f":"ExportXML3_SplitTimes[[#This Row],[Kategorie]] & \" - \" & ExportXML3_SplitTimes[[#This Row],[Závodník]] & \" (\" & ExportXML3_SplitTimes[[#This Row],[Číslo čipu]] & \")\"","v":{"$error":"#REF!"}},{"$f":"ExportXML3_SplitTimes[[#This Row],[ControlCode]]","v":56},{"$f":"ExportXML3_SplitTimes[[#This Row],[SplitTimeSeconds]]/3600/24","v":"00:11:08"},{"$f":"COUNTIFS(ExportXML3_SplitTimes[Legenda],ExportXML3_SplitTimes[[#This Row],[Legenda]],ExportXML3_SplitTimes[Čas],\"<=\"&ExportXML3_SplitTimes[[#This Row],[Čas]])","v":137}]
["N2","Ženíšek","Michal","0200001",2487,67,1078,{"$f":"ExportXML3_SplitTimes[[#This Row],[GivenName]]&\" \"&ExportXML3_SplitTimes[[#This Row],[FamilyName]]","v":"Michal Ženíšek"},{"$f":"_xlfn.XLOOKUP(ExportXML3_SplitTimes[[#This Row],[PersonId]],#REF!,#REF!,\"-\")","v":{"$error":"#REF!"}},{"$f":"ExportXML3_SplitTimes[[#This Row],[Kategorie]] & \" - \" & ExportXML3_SplitTimes[[#This Row],[Závodník]] & \" (\" & ExportXML3_SplitTimes[[#This Row],[Číslo čipu]] & \")\"","v":{"$error":"#REF!"}},{"$f":"ExportXML3_SplitTimes[[#This Row],[ControlCode]]","v":67},{"$f":"ExportXML3_SplitTimes[[#This Row],[SplitTimeSeconds]]/3600/24","v":"00:17:58"},{"$f":"COUNTIFS(ExportXML3_SplitTimes[Legenda],ExportXML3_SplitTimes[[#This Row],[Legenda]],ExportXML3_SplitTimes[Čas],\"<=\"&ExportXML3_SplitTimes[[#This Row],[Čas]])","v":240}]
["N2","Ženíšek","Michal","0200001",2487,77,1521,{"$f":"ExportXML3_SplitTimes[[#This Row],[GivenName]]&\" \"&ExportXML3_SplitTimes[[#This Row],[FamilyName]]","v":"Michal Ženíšek"},{"$f":"_xlfn.XLOOKUP(ExportXML3_SplitTimes[[#This Row],[PersonId]],#REF!,#REF!,\"-\")","v":{"$error":"#REF!"}},{"$f":"ExportXML3_SplitTimes[[#This Row],[Kategorie]] & \" - \" & ExportXML3_SplitTimes[[#This Row],[Závodník]] & \" (\" & ExportXML3_SplitTimes[[#This Row],[Číslo čipu]] & \")\"","v":{"$error":"#REF!"}},{"$f":"ExportXML3_SplitTimes[[#This Row],[ControlCode]]","v":77},{"$f":"ExportXML3_SplitTimes[[#This Row],[SplitTimeSeconds]]/3600/24","v":"00:25:21"},{"$f":"COUNTIFS(ExportXML3_SplitTimes[Legenda],ExportXML3_SplitTimes[[#This Row],[Legenda]],ExportXML3_SplitTimes[Čas],\"<=\"&ExportXML3_SplitTimes[[#This Row],[Čas]])","v":340}]
["N2","Ženíšek","Michal","0200001",2487,70,1761,{"$f":"ExportXML3_SplitTimes[[#This Row],[GivenName]]&\" \"&ExportXML3_SplitTimes[[#This Row],[FamilyName]]","v":"Michal Ženíšek"},{"$f":"_xlfn.XLOOKUP(ExportXML3_SplitTimes[[#This Row],[PersonId]],#REF!,#REF!,\"-\")","v":{"$error":"#REF!"}},{"$f":"ExportXML3_SplitTimes[[#This Row],[Kategorie]] & \" - \" & ExportXML3_SplitTimes[[#This Row],[Závodník]] & \" (\" & ExportXML3_SplitTimes[[#This Row],[Číslo čipu]] & \")\"","v":{"$error":"#REF!"}},{"$f":"ExportXML3_SplitTimes[[#This Row],[ControlCode]]","v":70},{"$f":"ExportXML3_SplitTimes[[#This Row],[SplitTimeSeconds]]/3600/24","v":"00:29:21"},{"$f":"COUNTIFS(ExportXML3_SplitTimes[Legenda],ExportXML3_SplitTimes[[#This Row],[Legenda]],ExportXML3_SplitTimes[Čas],\"<=\"&ExportXML3_SplitTimes[[#This Row],[Čas]])","v":400}]
["N2","Ženíšek","Michal","0200001",2487,88,1954,{"$f":"ExportXML3_SplitTimes[[#This Row],[GivenName]]&\" \"&ExportXML3_SplitTimes[[#This Row],[FamilyName]]","v":"Michal Ženíšek"},{"$f":"_xlfn.XLOOKUP(ExportXML3_SplitTimes[[#This Row],[PersonId]],#REF!,#REF!,\"-\")","v":{"$error":"#REF!"}},{"$f":"ExportXML3_SplitTimes[[#This Row],[Kategorie]] & \" - \" & ExportXML3_SplitTimes[[#This Row],[Závodník]] & \" (\" & ExportXML3_SplitTimes[[#This Row],[Číslo čipu]] & \")\"","v":{"$error":"#REF!"}},{"$f":"ExportXML3_SplitTimes[[#This Row],[ControlCode]]","v":88},{"$f":"ExportXML3_SplitTimes[[#This Row],[SplitTimeSeconds]]/3600/24","v":"00:32:34"},{"$f":"COUNTIFS(ExportXML3_SplitTimes[Legenda],ExportXML3_SplitTimes[[#This Row],[Legenda]],ExportXML3_SplitTimes[Čas],\"<=\"&ExportXML3_SplitTimes[[#This Row],[Čas]])","v":447}]
["N2","Ženíšek","Michal","0200001",2487,78,2212,{"$f":"ExportXML3_SplitTimes[[#This Row],[GivenName]]&\" \"&ExportXML3_SplitTimes[[#This Row],[FamilyName]]","v":"Michal Ženíšek"},{"$f":"_xlfn.XLOOKUP(ExportXML3_SplitTimes[[#This Row],[PersonId]],#REF!,#REF!,\"-\")","v":{"$error":"#REF!"}},{"$f":"ExportXML3_SplitTimes[[#This Row],[Kategorie]] & \" - \" & ExportXML3_SplitTimes[[#This Row],[Závodník]] & \" (\" & ExportXML3_SplitTimes[[#This Row],[Číslo čipu]] & \")\"","v":{"$error":"#REF!"}},{"$f":"ExportXML3_SplitTimes[[#This Row],[ControlCode]]","v":78},{"$f":"ExportXML3_SplitTimes[[#This Row],[SplitTimeSeconds]]/3600/24","v":"00:36:52"},{"$f":"COUNTIFS(ExportXML3_SplitTimes[Legenda],ExportXML3_SplitTimes[[#This Row],[Legenda]],ExportXML3_SplitTimes[Čas],\"<=\"&ExportXML3_SplitTimes[[#This Row],[Čas]])","v":501}]
["N2","Ženíšek","Michal","0200001",2487,90,2345,{"$f":"ExportXML3_SplitTimes[[#This Row],[GivenName]]&\" \"&ExportXML3_SplitTimes[[#This Row],[FamilyName]]","v":"Michal Ženíšek"},{"$f":"_xlfn.XLOOKUP(ExportXML3_SplitTimes[[#This Row],[PersonId]],#REF!,#REF!,\"-\")","v":{"$error":"#REF!"}},{"$f":"ExportXML3_SplitTimes[[#This Row],[Kategorie]] & \" - \" & ExportXML3_SplitTimes[[#This Row],[Závodník]] & \" (\" & ExportXML3_SplitTimes[[#This Row],[Číslo čipu]] & \")\"","v":{"$error":"#REF!"}},{"$f":"ExportXML3_SplitTimes[[#This Row],[ControlCode]]","v":90},{"$f":"ExportXML3_SplitTimes[[#This Row],[SplitTimeSeconds]]/3600/24","v":"00:39:05"},{"$f":"COUNTIFS(ExportXML3_SplitTimes[Legenda],ExportXML3_SplitTimes[[#This Row],[Legenda]],ExportXML3_SplitTimes[Čas],\"<=\"&ExportXML3_SplitTimes[[#This Row],[Čas]])","v":532}]
["N2","Ženíšek","Michal","0200001",2487,100,2461,{"$f":"ExportXML3_SplitTimes[[#This Row],[GivenName]]&\" \"&ExportXML3_SplitTimes[[#This Row],[FamilyName]]","v":"Michal Ženíšek"},{"$f":"_xlfn.XLOOKUP(ExportXML3_SplitTimes[[#This Row],[PersonId]],#REF!,#REF!,\"-\")","v":{"$error":"#REF!"}},{"$f":"ExportXML3_SplitTimes[[#This Row],[Kategorie]] & \" - \" & ExportXML3_SplitTimes[[#This Row],[Závodník]] & \" (\" & ExportXML3_SplitTimes[[#This Row],[Číslo čipu]] & \")\"","v":{"$error":"#REF!"}},{"$f":"ExportXML3_SplitTimes[[#This Row],[ControlCode]]","v":100},{"$f":"ExportXML3_SplitTimes[[#This Row],[SplitTimeSeconds]]/3600/24","v":"00:41:01"},{"$f":"COUNTIFS(ExportXML3_SplitTimes[Legenda],ExportXML3_SplitTimes[[#This Row],[Legenda]],ExportXML3_SplitTimes[Čas],\"<=\"&ExportXML3_SplitTimes[[#This Row],[Čas]])","v":559}]
["N2","Thieme","Lenka","0230001",2727,34,350,{"$f":"ExportXML3_SplitTimes[[#This Row],[GivenName]]&\" \"&ExportXML3_SplitTimes[[#This Row],[FamilyName]]","v":"Lenka Thieme"},{"$f":"_xlfn.XLOOKUP(ExportXML3_SplitTimes[[#This Row],[PersonId]],#REF!,#REF!,\"-\")","v":{"$error":"#REF!"}},{"$f":"ExportXML3_SplitTimes[[#This Row],[Kategorie]] & \" - \" & ExportXML3_SplitTimes[[#This Row],[Závodník]] & \" (\" & ExportXML3_SplitTimes[[#This Row],[Číslo čipu]] & \")\"","v":{"$error":"#REF!"}},{"$f":"ExportXML3_SplitTimes[[#This Row],[ControlCode]]","v":34},{"$f":"ExportXML3_SplitTimes[[#This Row],[SplitTimeSeconds]]/3600/24","v":"00:05:50"},{"$f":"COUNTIFS(ExportXML3_SplitTimes[Legenda],ExportXML3_SplitTimes[[#This Row],[Legenda]],ExportXML3_SplitTimes[Čas],\"<=\"&ExportXML3_SplitTimes[[#This Row],[Čas]])","v":36}]
["N2","Thieme","Lenka","0230001",2727,94,517,{"$f":"ExportXML3_SplitTimes[[#This Row],[GivenName]]&\" \"&ExportXML3_SplitTimes[[#This Row],[FamilyName]]","v":"Lenka Thieme"},{"$f":"_xlfn.XLOOKUP(ExportXML3_SplitTimes[[#This Row],[PersonId]],#REF!,#REF!,\"-\")","v":{"$error":"#REF!"}},{"$f":"ExportXML3_SplitTimes[[#This Row],[Kategorie]] & \" - \" & ExportXML3_SplitTimes[[#This Row],[Závodník]] & \" (\" & ExportXML3_SplitTimes[[#This Row],[Číslo čipu]] & \")\"","v":{"$error":"#REF!"}},{"$f":"ExportXML3_SplitTimes[[#This Row],[ControlCode]]","v":94},{"$f":"ExportXML3_SplitTimes[[#This Row],[SplitTimeSeconds]]/3600/24","v":"00:08:37"},{"$f":"COUNTIFS(ExportXML3_SplitTimes[Legenda],ExportXML3_SplitTimes[[#This Row],[Legenda]],ExportXML3_SplitTimes[Čas],\"<=\"&ExportXML3_SplitTimes[[#This Row],[Čas]])","v":85}]
["N2","Thieme","Lenka","0230001",2727,56,754,{"$f":"ExportXML3_SplitTimes[[#This Row],[GivenName]]&\" \"&ExportXML3_SplitTimes[[#This Row],[FamilyName]]","v":"Lenka Thieme"},{"$f":"_xlfn.XLOOKUP(ExportXML3_SplitTimes[[#This Row],[PersonId]],#REF!,#REF!,\"-\")","v":{"$error":"#REF!"}},{"$f":"ExportXML3_SplitTimes[[#This Row],[Kategorie]] & \" - \" & ExportXML3_SplitTimes[[#This Row],[Závodník]] & \" (\" & ExportXML3_SplitTimes[[#This Row],[Číslo čipu]] & \")\"","v":{"$error":"#REF!"}},{"$f":"ExportXML3_SplitTimes[[#This Row],[ControlCode]]","v":56},{"$f":"ExportXML3_SplitTimes[[#This Row],[SplitTimeSeconds]]/3600/24","v":"00:12:34"},{"$f":"COUNTIFS(ExportXML3_SplitTimes[Legenda],ExportXML3_SplitTimes[[#This Row],[Legenda]],ExportXML3_SplitTimes[Čas],\"<=\"&ExportXML3_SplitTimes[[#This Row],[Čas]])","v":158}]
["N2","Thieme","Lenka","0230001",2727,67,1132,{"$f":"ExportXML3_SplitTimes[[#This Row],[GivenName]]&\" \"&ExportXML3_SplitTimes[[#This Row],[FamilyName]]","v":"Lenka Thieme"},{"$f":"_xlfn.XLOOKUP(ExportXML3_SplitTimes[[#This Row],[PersonId]],#REF!,#REF!,\"-\")","v":{"$error":"#REF!"}},{"$f":"ExportXML3_SplitTimes[[#This Row],[Kategorie]] & \" - \" & ExportXML3_SplitTimes[[#This Row],[Závodník]] & \" (\" & ExportXML3_SplitTimes[[#This Row],[Číslo čipu]] & \")\"","v":{"$error":"#REF!"}},{"$f":"ExportXML3_SplitTimes[[#This Row],[ControlCode]]","v":67},{"$f":"ExportXML3_SplitTimes[[#This Row],[SplitTimeSeconds]]/3600/24","v":"00:18:52"},{"$f":"COUNTIFS(ExportXML3_SplitTimes[Legenda],ExportXML3_SplitTimes[[#This Row],[Legenda]],ExportXML3_SplitTimes[Čas],\"<=\"&ExportXML3_SplitTimes[[#This Row],[Čas]])","v":254}]
["N2","Thieme","Lenka","0230001",2727,77,1566,{"$f":"ExportXML3_SplitTimes[[#This Row],[GivenName]]&\" \"&ExportXML3_SplitTimes[[#This Row],[FamilyName]]","v":"Lenka Thieme"},{"$f":"_xlfn.XLOOKUP(ExportXML3_SplitTimes[[#This Row],[PersonId]],#REF!,#REF!,\"-\")","v":{"$error":"#REF!"}},{"$f":"ExportXML3_SplitTimes[[#This Row],[Kategorie]] & \" - \" & ExportXML3_SplitTimes[[#This Row],[Závodník]] & \" (\" & ExportXML3_SplitTimes[[#This Row],[Číslo čipu]] & \")\"","v":{"$error":"#REF!"}},{"$f":"ExportXML3_SplitTimes[[#This Row],[ControlCode]]","v":77},{"$f":"ExportXML3_SplitTimes[[#This Row],[SplitTimeSeconds]]/3600/24","v":"00:26:06"},{"$f":"COUNTIFS(ExportXML3_SplitTimes[Legenda],ExportXML3_SplitTimes[[#This Row],[Legenda]],ExportXML3_SplitTimes[Čas],\"<=\"&ExportXML3_SplitTimes[[#This Row],[Čas]])","v":352}]
["N2","Thieme","Lenka","0230001",2727,70,1819,{"$f":"ExportXML3_SplitTimes[[#This Row],[GivenName]]&\" \"&ExportXML3_SplitTimes[[#This Row],[FamilyName]]","v":"Lenka Thieme"},{"$f":"_xlfn.XLOOKUP(ExportXML3_SplitTimes[[#This Row],[PersonId]],#REF!,#REF!,\"-\")","v":{"$error":"#REF!"}},{"$f":"ExportXML3_SplitTimes[[#This Row],[Kategorie]] & \" - \" & ExportXML3_SplitTimes[[#This Row],[Závodník]] & \" (\" & ExportXML3_SplitTimes[[#This Row],[Číslo čipu]] & \")\"","v":{"$error":"#REF!"}},{"$f":"ExportXML3_SplitTimes[[#This Row],[ControlCode]]","v":70},{"$f":"ExportXML3_SplitTimes[[#This Row],[SplitTimeSeconds]]/3600/24","v":"00:30:19"},{"$f":"COUNTIFS(ExportXML3_SplitTimes[Legenda],ExportXML3_SplitTimes[[#This Row],[Legenda]],ExportXML3_SplitTimes[Čas],\"<=\"&ExportXML3_SplitTimes[[#This Row],[Čas]])","v":417}]
["N2","Thieme","Lenka","0230001",2727,88,1999,{"$f":"ExportXML3_SplitTimes[[#This Row],[GivenName]]&\" \"&ExportXML3_SplitTimes[[#This Row],[FamilyName]]","v":"Lenka Thieme"},{"$f":"_xlfn.XLOOKUP(ExportXML3_SplitTimes[[#This Row],[PersonId]],#REF!,#REF!,\"-\")","v":{"$error":"#REF!"}},{"$f":"ExportXML3_SplitTimes[[#This Row],[Kategorie]] & \" - \" & ExportXML3_SplitTimes[[#This Row],[Závodník]] & \" (\" & ExportXML3_SplitTimes[[#This Row],[Číslo čipu]] & \")\"","v":{"$error":"#REF!"}},{"$f":"ExportXML3_SplitTimes[[#This Row],[ControlCode]]","v":88},{"$f":"ExportXML3_SplitTimes[[#This Row],[SplitTimeSeconds]]/3600/24","v":"00:33:19"},{"$f":"COUNTIFS(ExportXML3_SplitTimes[Legenda],ExportXML3_SplitTimes[[#This Row],[Legenda]],ExportXML3_SplitTimes[Čas],\"<=\"&ExportXML3_SplitTimes[[#This Row],[Čas]])","v":459}]
["N2","Thieme","Lenka","0230001",2727,78,2434,{"$f":"ExportXML3_SplitTimes[[#This Row],[GivenName]]&\" \"&ExportXML3_SplitTimes[[#This Row],[FamilyName]]","v":"Lenka Thieme"},{"$f":"_xlfn.XLOOKUP(ExportXML3_SplitTimes[[#This Row],[PersonId]],#REF!,#REF!,\"-\")","v":{"$error":"#REF!"}},{"$f":"ExportXML3_SplitTimes[[#This Row],[Kategorie]] & \" - \" & ExportXML3_SplitTimes[[#This Row],[Závodník]] & \" (\" & ExportXML3_SplitTimes[[#This Row],[Číslo čipu]] & \")\"","v":{"$error":"#REF!"}},{"$f":"ExportXML3_SplitTimes[[#This Row],[ControlCode]]","v":78},{"$f":"ExportXML3_SplitTimes[[#This Row],[SplitTimeSeconds]]/3600/24","v":"00:40:34"},{"$f":"COUNTIFS(ExportXML3_SplitTimes[Legenda],ExportXML3_SplitTimes[[#This Row],[Legenda]],ExportXML3_SplitTimes[Čas],\"<=\"&ExportXML3_SplitTimes[[#This Row],[Čas]])","v":553}]
["N2","Thieme","Lenka","0230001",2727,90,2579,{"$f":"ExportXML3_SplitTimes[[#This Row],[GivenName]]&\" \"&ExportXML3_SplitTimes[[#This Row],[FamilyName]]","v":"Lenka Thieme"},{"$f":"_xlfn.XLOOKUP(ExportXML3_SplitTimes[[#This Row],[PersonId]],#REF!,#REF!,\"-\")","v":{"$error":"#REF!"}},{"$f":"ExportXML3_SplitTimes[[#This Row],[Kategorie]] & \" - \" & ExportXML3_SplitTimes[[#This Row],[Závodník]] & \" (\" & ExportXML3_SplitTimes[[#This Row],[Číslo čipu]] & \")\"","v":{"$error":"#REF!"}},{"$f":"ExportXML3_SplitTimes[[#This Row],[ControlCode]]","v":90},{"$f":"ExportXML3_SplitTimes[[#This Row],[SplitTimeSeconds]]/3600/24","v":"00:42:59"},{"$f":"COUNTIFS(ExportXML3_SplitTimes[Legenda],ExportXML3_SplitTimes[[#This Row],[Legenda]],ExportXML3_SplitTimes[Čas],\"<=\"&ExportXML3_SplitTimes[[#This Row],[Čas]])","v":582}]
["N2","Thieme","Lenka","0230001",2727,100,2709,{"$f":"ExportXML3_SplitTimes[[#This Row],[GivenName]]&\" \"&ExportXML3_SplitTimes[[#This Row],[FamilyName]]","v":"Lenka Thieme"},{"$f":"_xlfn.XLOOKUP(ExportXML3_SplitTimes[[#This Row],[PersonId]],#REF!,#REF!,\"-\")","v":{"$error":"#REF!"}},{"$f":"ExportXML3_SplitTimes[[#This Row],[Kategorie]] & \" - \" & ExportXML3_SplitTimes[[#This Row],[Závodník]] & \" (\" & ExportXML3_SplitTimes[[#This Row],[Číslo čipu]] & \")\"","v":{"$error":"#REF!"}},{"$f":"ExportXML3_SplitTimes[[#This Row],[ControlCode]]","v":100},{"$f":"ExportXML3_SplitTimes[[#This Row],[SplitTimeSeconds]]/3600/24","v":"00:45:09"},{"$f":"COUNTIFS(ExportXML3_SplitTimes[Legenda],ExportXML3_SplitTimes[[#This Row],[Legenda]],ExportXML3_SplitTimes[Čas],\"<=\"&ExportXML3_SplitTimes[[#This Row],[Čas]])","v":609}]
["N2","Setničková","Ilona","0160001",2784,34,570,{"$f":"ExportXML3_SplitTimes[[#This Row],[GivenName]]&\" \"&ExportXML3_SplitTimes[[#This Row],[FamilyName]]","v":"Ilona Setničková"},{"$f":"_xlfn.XLOOKUP(ExportXML3_SplitTimes[[#This Row],[PersonId]],#REF!,#REF!,\"-\")","v":{"$error":"#REF!"}},{"$f":"ExportXML3_SplitTimes[[#This Row],[Kategorie]] & \" - \" & ExportXML3_SplitTimes[[#This Row],[Závodník]] & \" (\" & ExportXML3_SplitTimes[[#This Row],[Číslo čipu]] & \")\"","v":{"$error":"#REF!"}},{"$f":"ExportXML3_SplitTimes[[#This Row],[ControlCode]]","v":34},{"$f":"ExportXML3_SplitTimes[[#This Row],[SplitTimeSeconds]]/3600/24","v":"00:09:30"},{"$f":"COUNTIFS(ExportXML3_SplitTimes[Legenda],ExportXML3_SplitTimes[[#This Row],[Legenda]],ExportXML3_SplitTimes[Čas],\"<=\"&ExportXML3_SplitTimes[[#This Row],[Čas]])","v":101}]
["N2","Setničková","Ilona","0160001",2784,94,715,{"$f":"ExportXML3_SplitTimes[[#This Row],[GivenName]]&\" \"&ExportXML3_SplitTimes[[#This Row],[FamilyName]]","v":"Ilona Setničková"},{"$f":"_xlfn.XLOOKUP(ExportXML3_SplitTimes[[#This Row],[PersonId]],#REF!,#REF!,\"-\")","v":{"$error":"#REF!"}},{"$f":"ExportXML3_SplitTimes[[#This Row],[Kategorie]] & \" - \" & ExportXML3_SplitTimes[[#This Row],[Závodník]] & \" (\" & ExportXML3_SplitTimes[[#This Row],[Číslo čipu]] & \")\"","v":{"$error":"#REF!"}},{"$f":"ExportXML3_SplitTimes[[#This Row],[ControlCode]]","v":94},{"$f":"ExportXML3_SplitTimes[[#This Row],[SplitTimeSeconds]]/3600/24","v":"00:11:55"},{"$f":"COUNTIFS(ExportXML3_SplitTimes[Legenda],ExportXML3_SplitTimes[[#This Row],[Legenda]],ExportXML3_SplitTimes[Čas],\"<=\"&ExportXML3_SplitTimes[[#This Row],[Čas]])","v":146}]
["N2","Setničková","Ilona","0160001",2784,56,937,{"$f":"ExportXML3_SplitTimes[[#This Row],[GivenName]]&\" \"&ExportXML3_SplitTimes[[#This Row],[FamilyName]]","v":"Ilona Setničková"},{"$f":"_xlfn.XLOOKUP(ExportXML3_SplitTimes[[#This Row],[PersonId]],#REF!,#REF!,\"-\")","v":{"$error":"#REF!"}},{"$f":"ExportXML3_SplitTimes[[#This Row],[Kategorie]] & \" - \" & ExportXML3_SplitTimes[[#This Row],[Závodník]] & \" (\" & ExportXML3_SplitTimes[[#This Row],[Číslo čipu]] & \")\"","v":{"$error":"#REF!"}},{"$f":"ExportXML3_SplitTimes[[#This Row],[ControlCode]]","v":56},{"$f":"ExportXML3_SplitTimes[[#This Row],[SplitTimeSeconds]]/3600/24","v":"00:15:37"},{"$f":"COUNTIFS(ExportXML3_SplitTimes[Legenda],ExportXML3_SplitTimes[[#This Row],[Legenda]],ExportXML3_SplitTimes[Čas],\"<=\"&ExportXML3_SplitTimes[[#This Row],[Čas]])","v":204}]
["N2","Setničková","Ilona","0160001",2784,67,1317,{"$f":"ExportXML3_SplitTimes[[#This Row],[GivenName]]&\" \"&ExportXML3_SplitTimes[[#This Row],[FamilyName]]","v":"Ilona Setničková"},{"$f":"_xlfn.XLOOKUP(ExportXML3_SplitTimes[[#This Row],[PersonId]],#REF!,#REF!,\"-\")","v":{"$error":"#REF!"}},{"$f":"ExportXML3_SplitTimes[[#This Row],[Kategorie]] & \" - \" & ExportXML3_SplitTimes[[#This Row],[Závodník]] & \" (\" & ExportXML3_SplitTimes[[#This Row],[Číslo čipu]] & \")\"","v":{"$error":"#REF!"}},{"$f":"ExportXML3_SplitTimes[[#This Row],[ControlCode]]","v":67},{"$f":"ExportXML3_SplitTimes[[#This Row],[SplitTimeSeconds]]/3600/24","v":"00:21:57"},{"$f":"COUNTIFS(ExportXML3_SplitTimes[Legenda],ExportXML3_SplitTimes[[#This Row],[Legenda]],ExportXML3_SplitTimes[Čas],\"<=\"&ExportXML3_SplitTimes[[#This Row],[Čas]])","v":296}]
["N2","Setničková","Ilona","0160001",2784,77,1746,{"$f":"ExportXML3_SplitTimes[[#This Row],[GivenName]]&\" \"&ExportXML3_SplitTimes[[#This Row],[FamilyName]]","v":"Ilona Setničková"},{"$f":"_xlfn.XLOOKUP(ExportXML3_SplitTimes[[#This Row],[PersonId]],#REF!,#REF!,\"-\")","v":{"$error":"#REF!"}},{"$f":"ExportXML3_SplitTimes[[#This Row],[Kategorie]] & \" - \" & ExportXML3_SplitTimes[[#This Row],[Závodník]] & \" (\" & ExportXML3_SplitTimes[[#This Row],[Číslo čipu]] & \")\"","v":{"$error":"#REF!"}},{"$f":"ExportXML3_SplitTimes[[#This Row],[ControlCode]]","v":77},{"$f":"ExportXML3_SplitTimes[[#This Row],[SplitTimeSeconds]]/3600/24","v":"00:29:06"},{"$f":"COUNTIFS(ExportXML3_SplitTimes[Legenda],ExportXML3_SplitTimes[[#This Row],[Legenda]],ExportXML3_SplitTimes[Čas],\"<=\"&ExportXML3_SplitTimes[[#This Row],[Čas]])","v":396}]
["N2","Setničková","Ilona","0160001",2784,70,1944,{"$f":"ExportXML3_SplitTimes[[#This Row],[GivenName]]&\" \"&ExportXML3_SplitTimes[[#This Row],[FamilyName]]","v":"Ilona Setničková"},{"$f":"_xlfn.XLOOKUP(ExportXML3_SplitTimes[[#This Row],[PersonId]],#REF!,#REF!,\"-\")","v":{"$error":"#REF!"}},{"$f":"ExportXML3_SplitTimes[[#This Row],[Kategorie]] & \" - \" & ExportXML3_SplitTimes[[#This Row],[Závodník]] & \" (\" & ExportXML3_SplitTimes[[#This Row],[Číslo čipu]] & \")\"","v":{"$error":"#REF!"}},{"$f":"ExportXML3_SplitTimes[[#This Row],[ControlCode]]","v":70},{"$f":"ExportXML3_SplitTimes[[#This Row],[SplitTimeSeconds]]/3600/24","v":"00:32:24"},{"$f":"COUNTIFS(ExportXML3_SplitTimes[Legenda],ExportXML3_SplitTimes[[#This Row],[Legenda]],ExportXML3_SplitTimes[Čas],\"<=\"&ExportXML3_SplitTimes[[#This Row],[Čas]])","v":444}]
["N2","Setničková","Ilona","0160001",2784,88,2134,{"$f":"ExportXML3_SplitTimes[[#This Row],[GivenName]]&\" \"&ExportXML3_SplitTimes[[#This Row],[FamilyName]]","v":"Ilona Setničková"},{"$f":"_xlfn.XLOOKUP(ExportXML3_SplitTimes[[#This Row],[PersonId]],#REF!,#REF!,\"-\")","v":{"$error":"#REF!"}},{"$f":"ExportXML3_SplitTimes[[#This Row],[Kategorie]] & \" - \" & ExportXML3_SplitTimes[[#This Row],[Závodník]] & \" (\" & ExportXML3_SplitTimes[[#This Row],[Číslo čipu]] & \")\"","v":{"$error":"#REF!"}},{"$f":"ExportXML3_SplitTimes[[#This Row],[ControlCode]]","v":88},{"$f":"ExportXML3_SplitTimes[[#This Row],[SplitTimeSeconds]]/3600/24","v":"00:35:34"},{"$f":"COUNTIFS(ExportXML3_SplitTimes[Legenda],ExportXML3_SplitTimes[[#This Row],[Legenda]],ExportXML3_SplitTimes[Čas],\"<=\"&ExportXML3_SplitTimes[[#This Row],[Čas]])","v":485}]
["N2","Setničková","Ilona","0160001",2784,78,2426,{"$f":"ExportXML3_SplitTimes[[#This Row],[GivenName]]&\" \"&ExportXML3_SplitTimes[[#This Row],[FamilyName]]","v":"Ilona Setničková"},{"$f":"_xlfn.XLOOKUP(ExportXML3_SplitTimes[[#This Row],[PersonId]],#REF!,#REF!,\"-\")","v":{"$error":"#REF!"}},{"$f":"ExportXML3_SplitTimes[[#This Row],[Kategorie]] & \" - \" & ExportXML3_SplitTimes[[#This Row],[Závodník]] & \" (\" & ExportXML3_SplitTimes[[#This Row],[Číslo čipu]] & \")\"","v":{"$error":"#REF!"}},{"$f":"ExportXML3_SplitTimes[[#This Row],[ControlCode]]","v":78},{"$f":"ExportXML3_SplitTimes[[#This Row],[SplitTimeSeconds]]/3600/24","v":"00:40:26"},{"$f":"COUNTIFS(ExportXML3_SplitTimes[Legenda],ExportXML3_SplitTimes[[#This Row],[Legenda]],ExportXML3_SplitTimes[Čas],\"<=\"&ExportXML3_SplitTimes[[#This Row],[Čas]])","v":552}]
["N2","Setničková","Ilona","0160001",2784,90,2646,{"$f":"ExportXML3_SplitTimes[[#This Row],[GivenName]]&\" \"&ExportXML3_SplitTimes[[#This Row],[FamilyName]]","v":"Ilona Setničková"},{"$f":"_xlfn.XLOOKUP(ExportXML3_SplitTimes[[#This Row],[PersonId]],#REF!,#REF!,\"-\")","v":{"$error":"#REF!"}},{"$f":"ExportXML3_SplitTimes[[#This Row],[Kategorie]] & \" - \" & ExportXML3_SplitTimes[[#This Row],[Závodník]] & \" (\" & ExportXML3_SplitTimes[[#This Row],[Číslo čipu]] & \")\"","v":{"$error":"#REF!"}},{"$f":"ExportXML3_SplitTimes[[#This Row],[ControlCode]]","v":90},{"$f":"ExportXML3_SplitTimes[[#This Row],[SplitTimeSeconds]]/3600/24","v":"00:44:06"},{"$f":"COUNTIFS(ExportXML3_SplitTimes[Legenda],ExportXML3_SplitTimes[[#This Row],[Legenda]],ExportXML3_SplitTimes[Čas],\"<=\"&ExportXML3_SplitTimes[[#This Row],[Čas]])","v":591}]
["N2","Setničková","Ilona","0160001",2784,100,2756,{"$f":"ExportXML3_SplitTimes[[#This Row],[GivenName]]&\" \"&ExportXML3_SplitTimes[[#This Row],[FamilyName]]","v":"Ilona Setničková"},{"$f":"_xlfn.XLOOKUP(ExportXML3_SplitTimes[[#This Row],[PersonId]],#REF!,#REF!,\"-\")","v":{"$error":"#REF!"}},{"$f":"ExportXML3_SplitTimes[[#This Row],[Kategorie]] & \" - \" & ExportXML3_SplitTimes[[#This Row],[Závodník]] & \" (\" & ExportXML3_SplitTimes[[#This Row],[Číslo čipu]] & \")\"","v":{"$error":"#REF!"}},{"$f":"ExportXML3_SplitTimes[[#This Row],[ControlCode]]","v":100},{"$f":"ExportXML3_SplitTimes[[#This Row],[SplitTimeSeconds]]/3600/24","v":"00:45:56"},{"$f":"COUNTIFS(ExportXML3_SplitTimes[Legenda],ExportXML3_SplitTimes[[#This Row],[Legenda]],ExportXML3_SplitTimes[Čas],\"<=\"&ExportXML3_SplitTimes[[#This Row],[Čas]])","v":620}]
["N2","Veselá","Veronika + 1","0100001",4372,34,398,{"$f":"ExportXML3_SplitTimes[[#This Row],[GivenName]]&\" \"&ExportXML3_SplitTimes[[#This Row],[FamilyName]]","v":"Veronika + 1 Veselá"},{"$f":"_xlfn.XLOOKUP(ExportXML3_SplitTimes[[#This Row],[PersonId]],#REF!,#REF!,\"-\")","v":{"$error":"#REF!"}},{"$f":"ExportXML3_SplitTimes[[#This Row],[Kategorie]] & \" - \" & ExportXML3_SplitTimes[[#This Row],[Závodník]] & \" (\" & ExportXML3_SplitTimes[[#This Row],[Číslo čipu]] & \")\"","v":{"$error":"#REF!"}},{"$f":"ExportXML3_SplitTimes[[#This Row],[ControlCode]]","v":34},{"$f":"ExportXML3_SplitTimes[[#This Row],[SplitTimeSeconds]]/3600/24","v":"00:06:38"},{"$f":"COUNTIFS(ExportXML3_SplitTimes[Legenda],ExportXML3_SplitTimes[[#This Row],[Legenda]],ExportXML3_SplitTimes[Čas],\"<=\"&ExportXML3_SplitTimes[[#This Row],[Čas]])","v":51}]
["N2","Veselá","Veronika + 1","0100001",4372,94,665,{"$f":"ExportXML3_SplitTimes[[#This Row],[GivenName]]&\" \"&ExportXML3_SplitTimes[[#This Row],[FamilyName]]","v":"Veronika + 1 Veselá"},{"$f":"_xlfn.XLOOKUP(ExportXML3_SplitTimes[[#This Row],[PersonId]],#REF!,#REF!,\"-\")","v":{"$error":"#REF!"}},{"$f":"ExportXML3_SplitTimes[[#This Row],[Kategorie]] & \" - \" & ExportXML3_SplitTimes[[#This Row],[Závodník]] & \" (\" & ExportXML3_SplitTimes[[#This Row],[Číslo čipu]] & \")\"","v":{"$error":"#REF!"}},{"$f":"ExportXML3_SplitTimes[[#This Row],[ControlCode]]","v":94},{"$f":"ExportXML3_SplitTimes[[#This Row],[SplitTimeSeconds]]/3600/24","v":"00:11:05"},{"$f":"COUNTIFS(ExportXML3_SplitTimes[Legenda],ExportXML3_SplitTimes[[#This Row],[Legenda]],ExportXML3_SplitTimes[Čas],\"<=\"&ExportXML3_SplitTimes[[#This Row],[Čas]])","v":135}]
["N2","Veselá","Veronika + 1","0100001",4372,56,971,{"$f":"ExportXML3_SplitTimes[[#This Row],[GivenName]]&\" \"&ExportXML3_SplitTimes[[#This Row],[FamilyName]]","v":"Veronika + 1 Veselá"},{"$f":"_xlfn.XLOOKUP(ExportXML3_SplitTimes[[#This Row],[PersonId]],#REF!,#REF!,\"-\")","v":{"$error":"#REF!"}},{"$f":"ExportXML3_SplitTimes[[#This Row],[Kategorie]] & \" - \" & ExportXML3_SplitTimes[[#This Row],[Závodník]] & \" (\" & ExportXML3_SplitTimes[[#This Row],[Číslo čipu]] & \")\"","v":{"$error":"#REF!"}},{"$f":"ExportXML3_SplitTimes[[#This Row],[ControlCode]]","v":56},{"$f":"ExportXML3_SplitTimes[[#This Row],[SplitTimeSeconds]]/3600/24","v":"00:16:11"},{"$f":"COUNTIFS(ExportXML3_SplitTimes[Legenda],ExportXML3_SplitTimes[[#This Row],[Legenda]],ExportXML3_SplitTimes[Čas],\"<=\"&ExportXML3_SplitTimes[[#This Row],[Čas]])","v":215}]
["N2","Veselá","Veronika + 1","0100001",4372,67,1499,{"$f":"ExportXML3_SplitTimes[[#This Row],[GivenName]]&\" \"&ExportXML3_SplitTimes[[#This Row],[FamilyName]]","v":"Veronika + 1 Veselá"},{"$f":"_xlfn.XLOOKUP(ExportXML3_SplitTimes[[#This Row],[PersonId]],#REF!,#REF!,\"-\")","v":{"$error":"#REF!"}},{"$f":"ExportXML3_SplitTimes[[#This Row],[Kategorie]] & \" - \" & ExportXML3_SplitTimes[[#This Row],[Závodník]] & \" (\" & ExportXML3_SplitTimes[[#This Row],[Číslo čipu]] & \")\"","v":{"$error":"#REF!"}},{"$f":"ExportXML3_SplitTimes[[#This Row],[ControlCode]]","v":67},{"$f":"ExportXML3_SplitTimes[[#This Row],[SplitTimeSeconds]]/3600/24","v":"00:24:59"},{"$f":"COUNTIFS(ExportXML3_SplitTimes[Legenda],ExportXML3_SplitTimes[[#This Row],[Legenda]],ExportXML3_SplitTimes[Čas],\"<=\"&ExportXML3_SplitTimes[[#This Row],[Čas]])","v":334}]
["N2","Veselá","Veronika + 1","0100001",4372,77,2250,{"$f":"ExportXML3_SplitTimes[[#This Row],[GivenName]]&\" \"&ExportXML3_SplitTimes[[#This Row],[FamilyName]]","v":"Veronika + 1 Veselá"},{"$f":"_xlfn.XLOOKUP(ExportXML3_SplitTimes[[#This Row],[PersonId]],#REF!,#REF!,\"-\")","v":{"$error":"#REF!"}},{"$f":"ExportXML3_SplitTimes[[#This Row],[Kategorie]] & \" - \" & ExportXML3_SplitTimes[[#This Row],[Závodník]] & \" (\" & ExportXML3_SplitTimes[[#This Row],[Číslo čipu]] & \")\"","v":{"$error":"#REF!"}},{"$f":"ExportXML3_SplitTimes[[#This Row],[ControlCode]]","v":77},{"$f":"ExportXML3_SplitTimes[[#This Row],[SplitTimeSeconds]]/3600/24","v":"00:37:30"},{"$f":"COUNTIFS(ExportXML3_SplitTimes[Legenda],ExportXML3_SplitTimes[[#This Row],[Legenda]],ExportXML3_SplitTimes[Čas],\"<=\"&ExportXML3_SplitTimes[[#This Row],[Čas]])","v":511}]
["N2","Veselá","Veronika + 1","0100001",4372,70,2756,{"$f":"ExportXML3_SplitTimes[[#This Row],[GivenName]]&\" \"&ExportXML3_SplitTimes[[#This Row],[FamilyName]]","v":"Veronika + 1 Veselá"},{"$f":"_xlfn.XLOOKUP(ExportXML3_SplitTimes[[#This Row],[PersonId]],#REF!,#REF!,\"-\")","v":{"$error":"#REF!"}},{"$f":"ExportXML3_SplitTimes[[#This Row],[Kategorie]] & \" - \" & ExportXML3_SplitTimes[[#This Row],[Závodník]] & \" (\" & ExportXML3_SplitTimes[[#This Row],[Číslo čipu]] & \")\"","v":{"$error":"#REF!"}},{"$f":"ExportXML3_SplitTimes[[#This Row],[ControlCode]]","v":70},{"$f":"ExportXML3_SplitTimes[[#This Row],[SplitTimeSeconds]]/3600/24","v":"00:45:56"},{"$f":"COUNTIFS(ExportXML3_SplitTimes[Legenda],ExportXML3_SplitTimes[[#This Row],[Legenda]],ExportXML3_SplitTimes[Čas],\"<=\"&ExportXML3_SplitTimes[[#This Row],[Čas]])","v":620}]
["N2","Veselá","Veronika + 1","0100001",4372,88,3054,{"$f":"ExportXML3_SplitTimes[[#This Row],[GivenName]]&\" \"&ExportXML3_SplitTimes[[#This Row],[FamilyName]]","v":"Veronika + 1 Veselá"},{"$f":"_xlfn.XLOOKUP(ExportXML3_SplitTimes[[#This Row],[PersonId]],#REF!,#REF!,\"-\")","v":{"$error":"#REF!"}},{"$f":"ExportXML3_SplitTimes[[#This Row],[Kategorie]] & \" - \" & ExportXML3_SplitTimes[[#This Row],[Závodník]] & \" (\" & ExportXML3_SplitTimes[[#This Row],[Číslo čipu]] & \")\"","v":{"$error":"#REF!"}},{"$f":"ExportXML3_SplitTimes[[#This Row],[ControlCode]]","v":88},{"$f":"ExportXML3_SplitTimes[[#This Row],[SplitTimeSeconds]]/3600/24","v":"00:50:54"},{"$f":"COUNTIFS(ExportXML3_SplitTimes[Legenda],ExportXML3_SplitTimes[[#This Row],[Legenda]],ExportXML3_SplitTimes[Čas],\"<=\"&ExportXML3_SplitTimes[[#This Row],[Čas]])","v":674}]
["N2","Veselá","Veronika + 1","0100001",4372,78,3533,{"$f":"ExportXML3_SplitTimes[[#This Row],[GivenName]]&\" \"&ExportXML3_SplitTimes[[#This Row],[FamilyName]]","v":"Veronika + 1 Veselá"},{"$f":"_xlfn.XLOOKUP(ExportXML3_SplitTimes[[#This Row],[PersonId]],#REF!,#REF!,\"-\")","v":{"$error":"#REF!"}},{"$f":"ExportXML3_SplitTimes[[#This Row],[Kategorie]] & \" - \" & ExportXML3_SplitTimes[[#This Row],[Závodník]] & \" (\" & ExportXML3_SplitTimes[[#This Row],[Číslo čipu]] & \")\"","v":{"$error":"#REF!"}},{"$f":"ExportXML3_SplitTimes[[#This Row],[ControlCode]]","v":78},{"$f":"ExportXML3_SplitTimes[[#This Row],[SplitTimeSeconds]]/3600/24","v":"00:58:53"},{"$f":"COUNTIFS(ExportXML3_SplitTimes[Legenda],ExportXML3_SplitTimes[[#This Row],[Legenda]],ExportXML3_SplitTimes[Čas],\"<=\"&ExportXML3_SplitTimes[[#This Row],[Čas]])","v":736}]
["N2","Veselá","Veronika + 1","0100001",4372,90,3969,{"$f":"ExportXML3_SplitTimes[[#This Row],[GivenName]]&\" \"&ExportXML3_SplitTimes[[#This Row],[FamilyName]]","v":"Veronika + 1 Veselá"},{"$f":"_xlfn.XLOOKUP(ExportXML3_SplitTimes[[#This Row],[PersonId]],#REF!,#REF!,\"-\")","v":{"$error":"#REF!"}},{"$f":"ExportXML3_SplitTimes[[#This Row],[Kategorie]] & \" - \" & ExportXML3_SplitTimes[[#This Row],[Závodník]] & \" (\" & ExportXML3_SplitTimes[[#This Row],[Číslo čipu]] & \")\"","v":{"$error":"#REF!"}},{"$f":"ExportXML3_SplitTimes[[#This Row],[ControlCode]]","v":90},{"$f":"ExportXML3_SplitTimes[[#This Row],[SplitTimeSeconds]]/3600/24","v":"01:06:09"},{"$f":"COUNTIFS(ExportXML3_SplitTimes[Legenda],ExportXML3_SplitTimes[[#This Row],[Legenda]],ExportXML3_SplitTimes[Čas],\"<=\"&ExportXML3_SplitTimes[[#This Row],[Čas]])","v":764}]
["N2","Veselá","Veronika + 1","0100001",4372,100,4316,{"$f":"ExportXML3_SplitTimes[[#This Row],[GivenName]]&\" \"&ExportXML3_SplitTimes[[#This Row],[FamilyName]]","v":"Veronika + 1 Veselá"},{"$f":"_xlfn.XLOOKUP(ExportXML3_SplitTimes[[#This Row],[PersonId]],#REF!,#REF!,\"-\")","v":{"$error":"#REF!"}},{"$f":"ExportXML3_SplitTimes[[#This Row],[Kategorie]] & \" - \" & ExportXML3_SplitTimes[[#This Row],[Závodník]] & \" (\" & ExportXML3_SplitTimes[[#This Row],[Číslo čipu]] & \")\"","v":{"$error":"#REF!"}},{"$f":"ExportXML3_SplitTimes[[#This Row],[ControlCode]]","v":100},{"$f":"ExportXML3_SplitTimes[[#This Row],[SplitTimeSeconds]]/3600/24","v":"01:11:56"},{"$f":"COUNTIFS(ExportXML3_SplitTimes[Legenda],ExportXML3_SplitTimes[[#This Row],[Legenda]],ExportXML3_SplitTimes[Čas],\"<=\"&ExportXML3_SplitTimes[[#This Row],[Čas]])","v":776}]
["N2","Václav","Cimbulka","0090002",5761,34,976,{"$f":"ExportXML3_SplitTimes[[#This Row],[GivenName]]&\" \"&ExportXML3_SplitTimes[[#This Row],[FamilyName]]","v":"Cimbulka Václav"},{"$f":"_xlfn.XLOOKUP(ExportXML3_SplitTimes[[#This Row],[PersonId]],#REF!,#REF!,\"-\")","v":{"$error":"#REF!"}},{"$f":"ExportXML3_SplitTimes[[#This Row],[Kategorie]] & \" - \" & ExportXML3_SplitTimes[[#This Row],[Závodník]] & \" (\" & ExportXML3_SplitTimes[[#This Row],[Číslo čipu]] & \")\"","v":{"$error":"#REF!"}},{"$f":"ExportXML3_SplitTimes[[#This Row],[ControlCode]]","v":34},{"$f":"ExportXML3_SplitTimes[[#This Row],[SplitTimeSeconds]]/3600/24","v":"00:16:16"},{"$f":"COUNTIFS(ExportXML3_SplitTimes[Legenda],ExportXML3_SplitTimes[[#This Row],[Legenda]],ExportXML3_SplitTimes[Čas],\"<=\"&ExportXML3_SplitTimes[[#This Row],[Čas]])","v":219}]
["N2","Václav","Cimbulka","0090002",5761,94,2023,{"$f":"ExportXML3_SplitTimes[[#This Row],[GivenName]]&\" \"&ExportXML3_SplitTimes[[#This Row],[FamilyName]]","v":"Cimbulka Václav"},{"$f":"_xlfn.XLOOKUP(ExportXML3_SplitTimes[[#This Row],[PersonId]],#REF!,#REF!,\"-\")","v":{"$error":"#REF!"}},{"$f":"ExportXML3_SplitTimes[[#This Row],[Kategorie]] & \" - \" & ExportXML3_SplitTimes[[#This Row],[Závodník]] & \" (\" & ExportXML3_SplitTimes[[#This Row],[Číslo čipu]] & \")\"","v":{"$error":"#REF!"}},{"$f":"ExportXML3_SplitTimes[[#This Row],[ControlCode]]","v":94},{"$f":"ExportXML3_SplitTimes[[#This Row],[SplitTimeSeconds]]/3600/24","v":"00:33:43"},{"$f":"COUNTIFS(ExportXML3_SplitTimes[Legenda],ExportXML3_SplitTimes[[#This Row],[Legenda]],ExportXML3_SplitTimes[Čas],\"<=\"&ExportXML3_SplitTimes[[#This Row],[Čas]])","v":467}]
["N2","Václav","Cimbulka","0090002",5761,56,2278,{"$f":"ExportXML3_SplitTimes[[#This Row],[GivenName]]&\" \"&ExportXML3_SplitTimes[[#This Row],[FamilyName]]","v":"Cimbulka Václav"},{"$f":"_xlfn.XLOOKUP(ExportXML3_SplitTimes[[#This Row],[PersonId]],#REF!,#REF!,\"-\")","v":{"$error":"#REF!"}},{"$f":"ExportXML3_SplitTimes[[#This Row],[Kategorie]] & \" - \" & ExportXML3_SplitTimes[[#This Row],[Závodník]] & \" (\" & ExportXML3_SplitTimes[[#This Row],[Číslo čipu]] & \")\"","v":{"$error":"#REF!"}},{"$f":"ExportXML3_SplitTimes[[#This Row],[ControlCode]]","v":56},{"$f":"ExportXML3_SplitTimes[[#This Row],[SplitTimeSeconds]]/3600/24","v":"00:37:58"},{"$f":"COUNTIFS(ExportXML3_SplitTimes[Legenda],ExportXML3_SplitTimes[[#This Row],[Legenda]],ExportXML3_SplitTimes[Čas],\"<=\"&ExportXML3_SplitTimes[[#This Row],[Čas]])","v":520}]
["N2","Václav","Cimbulka","0090002",5761,67,3265,{"$f":"ExportXML3_SplitTimes[[#This Row],[GivenName]]&\" \"&ExportXML3_SplitTimes[[#This Row],[FamilyName]]","v":"Cimbulka Václav"},{"$f":"_xlfn.XLOOKUP(ExportXML3_SplitTimes[[#This Row],[PersonId]],#REF!,#REF!,\"-\")","v":{"$error":"#REF!"}},{"$f":"ExportXML3_SplitTimes[[#This Row],[Kategorie]] & \" - \" & ExportXML3_SplitTimes[[#This Row],[Závodník]] & \" (\" & ExportXML3_SplitTimes[[#This Row],[Číslo čipu]] & \")\"","v":{"$error":"#REF!"}},{"$f":"ExportXML3_SplitTimes[[#This Row],[ControlCode]]","v":67},{"$f":"ExportXML3_SplitTimes[[#This Row],[SplitTimeSeconds]]/3600/24","v":"00:54:25"},{"$f":"COUNTIFS(ExportXML3_SplitTimes[Legenda],ExportXML3_SplitTimes[[#This Row],[Legenda]],ExportXML3_SplitTimes[Čas],\"<=\"&ExportXML3_SplitTimes[[#This Row],[Čas]])","v":704}]
["N2","Václav","Cimbulka","0090002",5761,77,4262,{"$f":"ExportXML3_SplitTimes[[#This Row],[GivenName]]&\" \"&ExportXML3_SplitTimes[[#This Row],[FamilyName]]","v":"Cimbulka Václav"},{"$f":"_xlfn.XLOOKUP(ExportXML3_SplitTimes[[#This Row],[PersonId]],#REF!,#REF!,\"-\")","v":{"$error":"#REF!"}},{"$f":"ExportXML3_SplitTimes[[#This Row],[Kategorie]] & \" - \" & ExportXML3_SplitTimes[[#This Row],[Závodník]] & \" (\" & ExportXML3_SplitTimes[[#This Row],[Číslo čipu]] & \")\"","v":{"$error":"#REF!"}},{"$f":"ExportXML3_SplitTimes[[#This Row],[ControlCode]]","v":77},{"$f":"ExportXML3_SplitTimes[[#This Row],[SplitTimeSeconds]]/3600/24","v":"01:11:02"},{"$f":"COUNTIFS(ExportXML3_SplitTimes[Legenda],ExportXML3_SplitTimes[[#This Row],[Legenda]],ExportXML3_SplitTimes[Čas],\"<=\"&ExportXML3_SplitTimes[[#This Row],[Čas]])","v":774}]
["N2","Václav","Cimbulka","0090002",5761,70,4491,{"$f":"ExportXML3_SplitTimes[[#This Row],[GivenName]]&\" \"&ExportXML3_SplitTimes[[#This Row],[FamilyName]]","v":"Cimbulka Václav"},{"$f":"_xlfn.XLOOKUP(ExportXML3_SplitTimes[[#This Row],[PersonId]],#REF!,#REF!,\"-\")","v":{"$error":"#REF!"}},{"$f":"ExportXML3_SplitTimes[[#This Row],[Kategorie]] & \" - \" & ExportXML3_SplitTimes[[#This Row],[Závodník]] & \" (\" & ExportXML3_SplitTimes[[#This Row],[Číslo čipu]] & \")\"","v":{"$error":"#REF!"}},{"$f":"ExportXML3_SplitTimes[[#This Row],[ControlCode]]","v":70},{"$f":"ExportXML3_SplitTimes[[#This Row],[SplitTimeSeconds]]/3600/24","v":"01:14:51"},{"$f":"COUNTIFS(ExportXML3_SplitTimes[Legenda],ExportXML3_SplitTimes[[#This Row],[Legenda]],ExportXML3_SplitTimes[Čas],\"<=\"&ExportXML3_SplitTimes[[#This Row],[Čas]])","v":780}]
["N2","Václav","Cimbulka","0090002",5761,88,4722,{"$f":"ExportXML3_SplitTimes[[#This Row],[GivenName]]&\" \"&ExportXML3_SplitTimes[[#This Row],[FamilyName]]","v":"Cimbulka Václav"},{"$f":"_xlfn.XLOOKUP(ExportXML3_SplitTimes[[#This Row],[PersonId]],#REF!,#REF!,\"-\")","v":{"$error":"#REF!"}},{"$f":"ExportXML3_SplitTimes[[#This Row],[Kategorie]] & \" - \" & ExportXML3_SplitTimes[[#This Row],[Závodník]] & \" (\" & ExportXML3_SplitTimes[[#This Row],[Číslo čipu]] & \")\"","v":{"$error":"#REF!"}},{"$f":"ExportXML3_SplitTimes[[#This Row],[ControlCode]]","v":88},{"$f":"ExportXML3_SplitTimes[[#This Row],[SplitTimeSeconds]]/3600/24","v":"01:18:42"},{"$f":"COUNTIFS(ExportXML3_SplitTimes[Legenda],ExportXML3_SplitTimes[[#This Row],[Legenda]],ExportXML3_SplitTimes[Čas],\"<=\"&ExportXML3_SplitTimes[[#This Row],[Čas]])","v":786}]
["N2","Václav","Cimbulka","0090002",5761,78,5224,{"$f":"ExportXML3_SplitTimes[[#This Row],[GivenName]]&\" \"&ExportXML3_SplitTimes[[#This Row],[FamilyName]]","v":"Cimbulka Václav"},{"$f":"_xlfn.XLOOKUP(ExportXML3_SplitTimes[[#This Row],[PersonId]],#REF!,#REF!,\"-\")","v":{"$error":"#REF!"}},{"$f":"ExportXML3_SplitTimes[[#This Row],[Kategorie]] & \" - \" & ExportXML3_SplitTimes[[#This Row],[Závodník]] & \" (\" & ExportXML3_SplitTimes[[#This Row],[Číslo čipu]] & \")\"","v":{"$error":"#REF!"}},{"$f":"ExportXML3_SplitTimes[[#This Row],[ControlCode]]","v":78},{"$f":"ExportXML3_SplitTimes[[#This Row],[SplitTimeSeconds]]/3600/24","v":"01:27:04"},{"$f":"COUNTIFS(ExportXML3_SplitTimes[Legenda],ExportXML3_SplitTimes[[#This Row],[Legenda]],ExportXML3_SplitTimes[Čas],\"<=\"&ExportXML3_SplitTimes[[#This Row],[Čas]])","v":794}]
["N2","Václav","Cimbulka","0090002",5761,90,5509,{"$f":"ExportXML3_SplitTimes[[#This Row],[GivenName]]&\" \"&ExportXML3_SplitTimes[[#This Row],[FamilyName]]","v":"Cimbulka Václav"},{"$f":"_xlfn.XLOOKUP(ExportXML3_SplitTimes[[#This Row],[PersonId]],#REF!,#REF!,\"-\")","v":{"$error":"#REF!"}},{"$f":"ExportXML3_SplitTimes[[#This Row],[Kategorie]] & \" - \" & ExportXML3_SplitTimes[[#This Row],[Závodník]] & \" (\" & ExportXML3_SplitTimes[[#This Row],[Číslo čipu]] & \")\"","v":{"$error":"#REF!"}},{"$f":"ExportXML3_SplitTimes[[#This Row],[ControlCode]]","v":90},{"$f":"ExportXML3_SplitTimes[[#This Row],[SplitTimeSeconds]]/3600/24","v":"01:31:49"},{"$f":"COUNTIFS(ExportXML3_SplitTimes[Legenda],ExportXML3_SplitTimes[[#This Row],[Legenda]],ExportXML3_SplitTimes[Čas],\"<=\"&ExportXML3_SplitTimes[[#This Row],[Čas]])","v":797}]
["N2","Václav","Cimbulka","0090002",5761,100,5713,{"$f":"ExportXML3_SplitTimes[[#This Row],[GivenName]]&\" \"&ExportXML3_SplitTimes[[#This Row],[FamilyName]]","v":"Cimbulka Václav"},{"$f":"_xlfn.XLOOKUP(ExportXML3_SplitTimes[[#This Row],[PersonId]],#REF!,#REF!,\"-\")","v":{"$error":"#REF!"}},{"$f":"ExportXML3_SplitTimes[[#This Row],[Kategorie]] & \" - \" & ExportXML3_SplitTimes[[#This Row],[Závodník]] & \" (\" & ExportXML3_SplitTimes[[#This Row],[Číslo čipu]] & \")\"","v":{"$error":"#REF!"}},{"$f":"ExportXML3_SplitTimes[[#This Row],[ControlCode]]","v":100},{"$f":"ExportXML3_SplitTimes[[#This Row],[SplitTimeSeconds]]/3600/24","v":"01:35:13"},{"$f":"COUNTIFS(ExportXML3_SplitTimes[Legenda],ExportXML3_SplitTimes[[#This Row],[Legenda]],ExportXML3_SplitTimes[Čas],\"<=\"&ExportXML3_SplitTimes[[#This Row],[Čas]])","v":798}]
["N2","Lebeda","Stanislav","0070001",1668,34,320,{"$f":"ExportXML3_SplitTimes[[#This Row],[GivenName]]&\" \"&ExportXML3_SplitTimes[[#This Row],[FamilyName]]","v":"Stanislav Lebeda"},{"$f":"_xlfn.XLOOKUP(ExportXML3_SplitTimes[[#This Row],[PersonId]],#REF!,#REF!,\"-\")","v":{"$error":"#REF!"}},{"$f":"ExportXML3_SplitTimes[[#This Row],[Kategorie]] & \" - \" & ExportXML3_SplitTimes[[#This Row],[Závodník]] & \" (\" & ExportXML3_SplitTimes[[#This Row],[Číslo čipu]] & \")\"","v":{"$error":"#REF!"}},{"$f":"ExportXML3_SplitTimes[[#This Row],[ControlCode]]","v":34},{"$f":"ExportXML3_SplitTimes[[#This Row],[SplitTimeSeconds]]/3600/24","v":"00:05:20"},{"$f":"COUNTIFS(ExportXML3_SplitTimes[Legenda],ExportXML3_SplitTimes[[#This Row],[Legenda]],ExportXML3_SplitTimes[Čas],\"<=\"&ExportXML3_SplitTimes[[#This Row],[Čas]])","v":30}]
["N2","Lebeda","Stanislav","0070001",1668,94,417,{"$f":"ExportXML3_SplitTimes[[#This Row],[GivenName]]&\" \"&ExportXML3_SplitTimes[[#This Row],[FamilyName]]","v":"Stanislav Lebeda"},{"$f":"_xlfn.XLOOKUP(ExportXML3_SplitTimes[[#This Row],[PersonId]],#REF!,#REF!,\"-\")","v":{"$error":"#REF!"}},{"$f":"ExportXML3_SplitTimes[[#This Row],[Kategorie]] & \" - \" & ExportXML3_SplitTimes[[#This Row],[Závodník]] & \" (\" & ExportXML3_SplitTimes[[#This Row],[Číslo čipu]] & \")\"","v":{"$error":"#REF!"}},{"$f":"ExportXML3_SplitTimes[[#This Row],[ControlCode]]","v":94},{"$f":"ExportXML3_SplitTimes[[#This Row],[SplitTimeSeconds]]/3600/24","v":"00:06:57"},{"$f":"COUNTIFS(ExportXML3_SplitTimes[Legenda],ExportXML3_SplitTimes[[#This Row],[Legenda]],ExportXML3_SplitTimes[Čas],\"<=\"&ExportXML3_SplitTimes[[#This Row],[Čas]])","v":57}]
["N2","Lebeda","Stanislav","0070001",1668,56,521,{"$f":"ExportXML3_SplitTimes[[#This Row],[GivenName]]&\" \"&ExportXML3_SplitTimes[[#This Row],[FamilyName]]","v":"Stanislav Lebeda"},{"$f":"_xlfn.XLOOKUP(ExportXML3_SplitTimes[[#This Row],[PersonId]],#REF!,#REF!,\"-\")","v":{"$error":"#REF!"}},{"$f":"ExportXML3_SplitTimes[[#This Row],[Kategorie]] & \" - \" & ExportXML3_SplitTimes[[#This Row],[Závodník]] & \" (\" & ExportXML3_SplitTimes[[#This Row],[Číslo čipu]] & \")\"","v":{"$error":"#REF!"}},{"$f":"ExportXML3_SplitTimes[[#This Row],[ControlCode]]","v":56},{"$f":"ExportXML3_SplitTimes[[#This Row],[SplitTimeSeconds]]/3600/24","v":"00:08:41"},{"$f":"COUNTIFS(ExportXML3_SplitTimes[Legenda],ExportXML3_SplitTimes[[#This Row],[Legenda]],ExportXML3_SplitTimes[Čas],\"<=\"&ExportXML3_SplitTimes[[#This Row],[Čas]])","v":88}]
["N2","Lebeda","Stanislav","0070001",1668,67,721,{"$f":"ExportXML3_SplitTimes[[#This Row],[GivenName]]&\" \"&ExportXML3_SplitTimes[[#This Row],[FamilyName]]","v":"Stanislav Lebeda"},{"$f":"_xlfn.XLOOKUP(ExportXML3_SplitTimes[[#This Row],[PersonId]],#REF!,#REF!,\"-\")","v":{"$error":"#REF!"}},{"$f":"ExportXML3_SplitTimes[[#This Row],[Kategorie]] & \" - \" & ExportXML3_SplitTimes[[#This Row],[Závodník]] & \" (\" & ExportXML3_SplitTimes[[#This Row],[Číslo čipu]] & \")\"","v":{"$error":"#REF!"}},{"$f":"ExportXML3_SplitTimes[[#This Row],[ControlCode]]","v":67},{"$f":"ExportXML3_SplitTimes[[#This Row],[SplitTimeSeconds]]/3600/24","v":"00:12:01"},{"$f":"COUNTIFS(ExportXML3_SplitTimes[Legenda],ExportXML3_SplitTimes[[#This Row],[Legenda]],ExportXML3_SplitTimes[Čas],\"<=\"&ExportXML3_SplitTimes[[#This Row],[Čas]])","v":148}]
["N2","Lebeda","Stanislav","0070001",1668,77,949,{"$f":"ExportXML3_SplitTimes[[#This Row],[GivenName]]&\" \"&ExportXML3_SplitTimes[[#This Row],[FamilyName]]","v":"Stanislav Lebeda"},{"$f":"_xlfn.XLOOKUP(ExportXML3_SplitTimes[[#This Row],[PersonId]],#REF!,#REF!,\"-\")","v":{"$error":"#REF!"}},{"$f":"ExportXML3_SplitTimes[[#This Row],[Kategorie]] & \" - \" & ExportXML3_SplitTimes[[#This Row],[Závodník]] & \" (\" & ExportXML3_SplitTimes[[#This Row],[Číslo čipu]] & \")\"","v":{"$error":"#REF!"}},{"$f":"ExportXML3_SplitTimes[[#This Row],[ControlCode]]","v":77},{"$f":"ExportXML3_SplitTimes[[#This Row],[SplitTimeSeconds]]/3600/24","v":"00:15:49"},{"$f":"COUNTIFS(ExportXML3_SplitTimes[Legenda],ExportXML3_SplitTimes[[#This Row],[Legenda]],ExportXML3_SplitTimes[Čas],\"<=\"&ExportXML3_SplitTimes[[#This Row],[Čas]])","v":208}]
["N2","Lebeda","Stanislav","0070001",1668,70,1119,{"$f":"ExportXML3_SplitTimes[[#This Row],[GivenName]]&\" \"&ExportXML3_SplitTimes[[#This Row],[FamilyName]]","v":"Stanislav Lebeda"},{"$f":"_xlfn.XLOOKUP(ExportXML3_SplitTimes[[#This Row],[PersonId]],#REF!,#REF!,\"-\")","v":{"$error":"#REF!"}},{"$f":"ExportXML3_SplitTimes[[#This Row],[Kategorie]] & \" - \" & ExportXML3_SplitTimes[[#This Row],[Závodník]] & \" (\" & ExportXML3_SplitTimes[[#This Row],[Číslo čipu]] & \")\"","v":{"$error":"#REF!"}},{"$f":"ExportXML3_SplitTimes[[#This Row],[ControlCode]]","v":70},{"$f":"ExportXML3_SplitTimes[[#This Row],[SplitTimeSeconds]]/3600/24","v":"00:18:39"},{"$f":"COUNTIFS(ExportXML3_SplitTimes[Legenda],ExportXML3_SplitTimes[[#This Row],[Legenda]],ExportXML3_SplitTimes[Čas],\"<=\"&ExportXML3_SplitTimes[[#This Row],[Čas]])","v":248}]
["N2","Lebeda","Stanislav","0070001",1668,88,1233,{"$f":"ExportXML3_SplitTimes[[#This Row],[GivenName]]&\" \"&ExportXML3_SplitTimes[[#This Row],[FamilyName]]","v":"Stanislav Lebeda"},{"$f":"_xlfn.XLOOKUP(ExportXML3_SplitTimes[[#This Row],[PersonId]],#REF!,#REF!,\"-\")","v":{"$error":"#REF!"}},{"$f":"ExportXML3_SplitTimes[[#This Row],[Kategorie]] & \" - \" & ExportXML3_SplitTimes[[#This Row],[Závodník]] & \" (\" & ExportXML3_SplitTimes[[#This Row],[Číslo čipu]] & \")\"","v":{"$error":"#REF!"}},{"$f":"ExportXML3_SplitTimes[[#This Row],[ControlCode]]","v":88},{"$f":"ExportXML3_SplitTimes[[#This Row],[SplitTimeSeconds]]/3600/24","v":"00:20:33"},{"$f":"COUNTIFS(ExportXML3_SplitTimes[Legenda],ExportXML3_SplitTimes[[#This Row],[Legenda]],ExportXML3_SplitTimes[Čas],\"<=\"&ExportXML3_SplitTimes[[#This Row],[Čas]])","v":281}]
["N2","Lebeda","Stanislav","0070001",1668,78,1388,{"$f":"ExportXML3_SplitTimes[[#This Row],[GivenName]]&\" \"&ExportXML3_SplitTimes[[#This Row],[FamilyName]]","v":"Stanislav Lebeda"},{"$f":"_xlfn.XLOOKUP(ExportXML3_SplitTimes[[#This Row],[PersonId]],#REF!,#REF!,\"-\")","v":{"$error":"#REF!"}},{"$f":"ExportXML3_SplitTimes[[#This Row],[Kategorie]] & \" - \" & ExportXML3_SplitTimes[[#This Row],[Závodník]] & \" (\" & ExportXML3_SplitTimes[[#This Row],[Číslo čipu]] & \")\"","v":{"$error":"#REF!"}},{"$f":"ExportXML3_SplitTimes[[#This Row],[ControlCode]]","v":78},{"$f":"ExportXML3_SplitTimes[[#This Row],[SplitTimeSeconds]]/3600/24","v":"00:23:08"},{"$f":"COUNTIFS(ExportXML3_SplitTimes[Legenda],ExportXML3_SplitTimes[[#This Row],[Legenda]],ExportXML3_SplitTimes[Čas],\"<=\"&ExportXML3_SplitTimes[[#This Row],[Čas]])","v":311}]
["N2","Lebeda","Stanislav","0070001",1668,90,1563,{"$f":"ExportXML3_SplitTimes[[#This Row],[GivenName]]&\" \"&ExportXML3_SplitTimes[[#This Row],[FamilyName]]","v":"Stanislav Lebeda"},{"$f":"_xlfn.XLOOKUP(ExportXML3_SplitTimes[[#This Row],[PersonId]],#REF!,#REF!,\"-\")","v":{"$error":"#REF!"}},{"$f":"ExportXML3_SplitTimes[[#This Row],[Kategorie]] & \" - \" & ExportXML3_SplitTimes[[#This Row],[Závodník]] & \" (\" & ExportXML3_SplitTimes[[#This Row],[Číslo čipu]] & \")\"","v":{"$error":"#REF!"}},{"$f":"ExportXML3_SplitTimes[[#This Row],[ControlCode]]","v":90},{"$f":"ExportXML3_SplitTimes[[#This Row],[SplitTimeSeconds]]/3600/24","v":"00:26:03"},{"$f":"COUNTIFS(ExportXML3_SplitTimes[Legenda],ExportXML3_SplitTimes[[#This Row],[Legenda]],ExportXML3_SplitTimes[Čas],\"<=\"&ExportXML3_SplitTimes[[#This Row],[Čas]])","v":351}]
["N2","Lebeda","Stanislav","0070001",1668,100,null,{"$f":"ExportXML3_SplitTimes[[#This Row],[GivenName]]&\" \"&ExportXML3_SplitTimes[[#This Row],[FamilyName]]","v":"Stanislav Lebeda"},{"$f":"_xlfn.XLOOKUP(ExportXML3_SplitTimes[[#This Row],[PersonId]],#REF!,#REF!,\"-\")","v":{"$error":"#REF!"}},{"$f":"ExportXML3_SplitTimes[[#This Row],[Kategorie]] & \" - \" & ExportXML3_SplitTimes[[#This Row],[Závodník]] & \" (\" & ExportXML3_SplitTimes[[#This Row],[Číslo čipu]] & \")\"","v":{"$error":"#REF!"}},{"$f":"ExportXML3_SplitTimes[[#This Row],[ControlCode]]","v":100},{"$f":"ExportXML3_SplitTimes[[#This Row],[SplitTimeSeconds]]/3600/24","v":"00:00:00"},{"$f":"COUNTIFS(ExportXML3_SplitTimes[Legenda],ExportXML3_SplitTimes[[#This Row],[Legenda]],ExportXML3_SplitTimes[Čas],\"<=\"&ExportXML3_SplitTimes[[#This Row],[Čas]])","v":1}]
["ŽA","Kolaříková","Marie","0020001",2760,48,215,{"$f":"ExportXML3_SplitTimes[[#This Row],[GivenName]]&\" \"&ExportXML3_SplitTimes[[#This Row],[FamilyName]]","v":"Marie Kolaříková"},{"$f":"_xlfn.XLOOKUP(ExportXML3_SplitTimes[[#This Row],[PersonId]],#REF!,#REF!,\"-\")","v":{"$error":"#REF!"}},{"$f":"ExportXML3_SplitTimes[[#This Row],[Kategorie]] & \" - \" & ExportXML3_SplitTimes[[#This Row],[Závodník]] & \" (\" & ExportXML3_SplitTimes[[#This Row],[Číslo čipu]] & \")\"","v":{"$error":"#REF!"}},{"$f":"ExportXML3_SplitTimes[[#This Row],[ControlCode]]","v":48},{"$f":"ExportXML3_SplitTimes[[#This Row],[SplitTimeSeconds]]/3600/24","v":"00:03:35"},{"$f":"COUNTIFS(ExportXML3_SplitTimes[Legenda],ExportXML3_SplitTimes[[#This Row],[Legenda]],ExportXML3_SplitTimes[Čas],\"<=\"&ExportXML3_SplitTimes[[#This Row],[Čas]])","v":10}]
["ŽA","Kolaříková","Marie","0020001",2760,50,329,{"$f":"ExportXML3_SplitTimes[[#This Row],[GivenName]]&\" \"&ExportXML3_SplitTimes[[#This Row],[FamilyName]]","v":"Marie Kolaříková"},{"$f":"_xlfn.XLOOKUP(ExportXML3_SplitTimes[[#This Row],[PersonId]],#REF!,#REF!,\"-\")","v":{"$error":"#REF!"}},{"$f":"ExportXML3_SplitTimes[[#This Row],[Kategorie]] & \" - \" & ExportXML3_SplitTimes[[#This Row],[Závodník]] & \" (\" & ExportXML3_SplitTimes[[#This Row],[Číslo čipu]] & \")\"","v":{"$error":"#REF!"}},{"$f":"ExportXML3_SplitTimes[[#This Row],[ControlCode]]","v":50},{"$f":"ExportXML3_SplitTimes[[#This Row],[SplitTimeSeconds]]/3600/24","v":"00:05:29"},{"$f":"COUNTIFS(ExportXML3_SplitTimes[Legenda],ExportXML3_SplitTimes[[#This Row],[Legenda]],ExportXML3_SplitTimes[Čas],\"<=\"&ExportXML3_SplitTimes[[#This Row],[Čas]])","v":31}]
["ŽA","Kolaříková","Marie","0020001",2760,52,406,{"$f":"ExportXML3_SplitTimes[[#This Row],[GivenName]]&\" \"&ExportXML3_SplitTimes[[#This Row],[FamilyName]]","v":"Marie Kolaříková"},{"$f":"_xlfn.XLOOKUP(ExportXML3_SplitTimes[[#This Row],[PersonId]],#REF!,#REF!,\"-\")","v":{"$error":"#REF!"}},{"$f":"ExportXML3_SplitTimes[[#This Row],[Kategorie]] & \" - \" & ExportXML3_SplitTimes[[#This Row],[Závodník]] & \" (\" & ExportXML3_SplitTimes[[#This Row],[Číslo čipu]] & \")\"","v":{"$error":"#REF!"}},{"$f":"ExportXML3_SplitTimes[[#This Row],[ControlCode]]","v":52},{"$f":"ExportXML3_SplitTimes[[#This Row],[SplitTimeSeconds]]/3600/24","v":"00:06:46"},{"$f":"COUNTIFS(ExportXML3_SplitTimes[Legenda],ExportXML3_SplitTimes[[#This Row],[Legenda]],ExportXML3_SplitTimes[Čas],\"<=\"&ExportXML3_SplitTimes[[#This Row],[Čas]])","v":52}]
["ŽA","Kolaříková","Marie","0020001",2760,33,532,{"$f":"ExportXML3_SplitTimes[[#This Row],[GivenName]]&\" \"&ExportXML3_SplitTimes[[#This Row],[FamilyName]]","v":"Marie Kolaříková"},{"$f":"_xlfn.XLOOKUP(ExportXML3_SplitTimes[[#This Row],[PersonId]],#REF!,#REF!,\"-\")","v":{"$error":"#REF!"}},{"$f":"ExportXML3_SplitTimes[[#This Row],[Kategorie]] & \" - \" & ExportXML3_SplitTimes[[#This Row],[Závodník]] & \" (\" & ExportXML3_SplitTimes[[#This Row],[Číslo čipu]] & \")\"","v":{"$error":"#REF!"}},{"$f":"ExportXML3_SplitTimes[[#This Row],[ControlCode]]","v":33},{"$f":"ExportXML3_SplitTimes[[#This Row],[SplitTimeSeconds]]/3600/24","v":"00:08:52"},{"$f":"COUNTIFS(ExportXML3_SplitTimes[Legenda],ExportXML3_SplitTimes[[#This Row],[Legenda]],ExportXML3_SplitTimes[Čas],\"<=\"&ExportXML3_SplitTimes[[#This Row],[Čas]])","v":91}]
["ŽA","Kolaříková","Marie","0020001",2760,37,746,{"$f":"ExportXML3_SplitTimes[[#This Row],[GivenName]]&\" \"&ExportXML3_SplitTimes[[#This Row],[FamilyName]]","v":"Marie Kolaříková"},{"$f":"_xlfn.XLOOKUP(ExportXML3_SplitTimes[[#This Row],[PersonId]],#REF!,#REF!,\"-\")","v":{"$error":"#REF!"}},{"$f":"ExportXML3_SplitTimes[[#This Row],[Kategorie]] & \" - \" & ExportXML3_SplitTimes[[#This Row],[Závodník]] & \" (\" & ExportXML3_SplitTimes[[#This Row],[Číslo čipu]] & \")\"","v":{"$error":"#REF!"}},{"$f":"ExportXML3_SplitTimes[[#This Row],[ControlCode]]","v":37},{"$f":"ExportXML3_SplitTimes[[#This Row],[SplitTimeSeconds]]/3600/24","v":"00:12:26"},{"$f":"COUNTIFS(ExportXML3_SplitTimes[Legenda],ExportXML3_SplitTimes[[#This Row],[Legenda]],ExportXML3_SplitTimes[Čas],\"<=\"&ExportXML3_SplitTimes[[#This Row],[Čas]])","v":156}]
["ŽA","Kolaříková","Marie","0020001",2760,40,961,{"$f":"ExportXML3_SplitTimes[[#This Row],[GivenName]]&\" \"&ExportXML3_SplitTimes[[#This Row],[FamilyName]]","v":"Marie Kolaříková"},{"$f":"_xlfn.XLOOKUP(ExportXML3_SplitTimes[[#This Row],[PersonId]],#REF!,#REF!,\"-\")","v":{"$error":"#REF!"}},{"$f":"ExportXML3_SplitTimes[[#This Row],[Kategorie]] & \" - \" & ExportXML3_SplitTimes[[#This Row],[Závodník]] & \" (\" & ExportXML3_SplitTimes[[#This Row],[Číslo čipu]] & \")\"","v":{"$error":"#REF!"}},{"$f":"ExportXML3_SplitTimes[[#This Row],[ControlCode]]","v":40},{"$f":"ExportXML3_SplitTimes[[#This Row],[SplitTimeSeconds]]/3600/24","v":"00:16:01"},{"$f":"COUNTIFS(ExportXML3_SplitTimes[Legenda],ExportXML3_SplitTimes[[#This Row],[Legenda]],ExportXML3_SplitTimes[Čas],\"<=\"&ExportXML3_SplitTimes[[#This Row],[Čas]])","v":211}]
["ŽA","Kolaříková","Marie","0020001",2760,32,1250,{"$f":"ExportXML3_SplitTimes[[#This Row],[GivenName]]&\" \"&ExportXML3_SplitTimes[[#This Row],[FamilyName]]","v":"Marie Kolaříková"},{"$f":"_xlfn.XLOOKUP(ExportXML3_SplitTimes[[#This Row],[PersonId]],#REF!,#REF!,\"-\")","v":{"$error":"#REF!"}},{"$f":"ExportXML3_SplitTimes[[#This Row],[Kategorie]] & \" - \" & ExportXML3_SplitTimes[[#This Row],[Závodník]] & \" (\" & ExportXML3_SplitTimes[[#This Row],[Číslo čipu]] & \")\"","v":{"$error":"#REF!"}},{"$f":"ExportXML3_SplitTimes[[#This Row],[ControlCode]]","v":32},{"$f":"ExportXML3_SplitTimes[[#This Row],[SplitTimeSeconds]]/3600/24","v":"00:20:50"},{"$f":"COUNTIFS(ExportXML3_SplitTimes[Legenda],ExportXML3_SplitTimes[[#This Row],[Legenda]],ExportXML3_SplitTimes[Čas],\"<=\"&ExportXML3_SplitTimes[[#This Row],[Čas]])","v":283}]
["ŽA","Kolaříková","Marie","0020001",2760,43,1588,{"$f":"ExportXML3_SplitTimes[[#This Row],[GivenName]]&\" \"&ExportXML3_SplitTimes[[#This Row],[FamilyName]]","v":"Marie Kolaříková"},{"$f":"_xlfn.XLOOKUP(ExportXML3_SplitTimes[[#This Row],[PersonId]],#REF!,#REF!,\"-\")","v":{"$error":"#REF!"}},{"$f":"ExportXML3_SplitTimes[[#This Row],[Kategorie]] & \" - \" & ExportXML3_SplitTimes[[#This Row],[Závodník]] & \" (\" & ExportXML3_SplitTimes[[#This Row],[Číslo čipu]] & \")\"","v":{"$error":"#REF!"}},{"$f":"ExportXML3_SplitTimes[[#This Row],[ControlCode]]","v":43},{"$f":"ExportXML3_SplitTimes[[#This Row],[SplitTimeSeconds]]/3600/24","v":"00:26:28"},{"$f":"COUNTIFS(ExportXML3_SplitTimes[Legenda],ExportXML3_SplitTimes[[#This Row],[Legenda]],ExportXML3_SplitTimes[Čas],\"<=\"&ExportXML3_SplitTimes[[#This Row],[Čas]])","v":361}]
["ŽA","Kolaříková","Marie","0020001",2760,45,1786,{"$f":"ExportXML3_SplitTimes[[#This Row],[GivenName]]&\" \"&ExportXML3_SplitTimes[[#This Row],[FamilyName]]","v":"Marie Kolaříková"},{"$f":"_xlfn.XLOOKUP(ExportXML3_SplitTimes[[#This Row],[PersonId]],#REF!,#REF!,\"-\")","v":{"$error":"#REF!"}},{"$f":"ExportXML3_SplitTimes[[#This Row],[Kategorie]] & \" - \" & ExportXML3_SplitTimes[[#This Row],[Závodník]] & \" (\" & ExportXML3_SplitTimes[[#This Row],[Číslo čipu]] & \")\"","v":{"$error":"#REF!"}},{"$f":"ExportXML3_SplitTimes[[#This Row],[ControlCode]]","v":45},{"$f":"ExportXML3_SplitTimes[[#This Row],[SplitTimeSeconds]]/3600/24","v":"00:29:46"},{"$f":"COUNTIFS(ExportXML3_SplitTimes[Legenda],ExportXML3_SplitTimes[[#This Row],[Legenda]],ExportXML3_SplitTimes[Čas],\"<=\"&ExportXML3_SplitTimes[[#This Row],[Čas]])","v":410}]
["ŽA","Kolaříková","Marie","0020001",2760,56,1925,{"$f":"ExportXML3_SplitTimes[[#This Row],[GivenName]]&\" \"&ExportXML3_SplitTimes[[#This Row],[FamilyName]]","v":"Marie Kolaříková"},{"$f":"_xlfn.XLOOKUP(ExportXML3_SplitTimes[[#This Row],[PersonId]],#REF!,#REF!,\"-\")","v":{"$error":"#REF!"}},{"$f":"ExportXML3_SplitTimes[[#This Row],[Kategorie]] & \" - \" & ExportXML3_SplitTimes[[#This Row],[Závodník]] & \" (\" & ExportXML3_SplitTimes[[#This Row],[Číslo čipu]] & \")\"","v":{"$error":"#REF!"}},{"$f":"ExportXML3_SplitTimes[[#This Row],[ControlCode]]","v":56},{"$f":"ExportXML3_SplitTimes[[#This Row],[SplitTimeSeconds]]/3600/24","v":"00:32:05"},{"$f":"COUNTIFS(ExportXML3_SplitTimes[Legenda],ExportXML3_SplitTimes[[#This Row],[Legenda]],ExportXML3_SplitTimes[Čas],\"<=\"&ExportXML3_SplitTimes[[#This Row],[Čas]])","v":437}]
["ŽA","Kolaříková","Marie","0020001",2760,93,2065,{"$f":"ExportXML3_SplitTimes[[#This Row],[GivenName]]&\" \"&ExportXML3_SplitTimes[[#This Row],[FamilyName]]","v":"Marie Kolaříková"},{"$f":"_xlfn.XLOOKUP(ExportXML3_SplitTimes[[#This Row],[PersonId]],#REF!,#REF!,\"-\")","v":{"$error":"#REF!"}},{"$f":"ExportXML3_SplitTimes[[#This Row],[Kategorie]] & \" - \" & ExportXML3_SplitTimes[[#This Row],[Závodník]] & \" (\" & ExportXML3_SplitTimes[[#This Row],[Číslo čipu]] & \")\"","v":{"$error":"#REF!"}},{"$f":"ExportXML3_SplitTimes[[#This Row],[ControlCode]]","v":93},{"$f":"ExportXML3_SplitTimes[[#This Row],[SplitTimeSeconds]]/3600/24","v":"00:34:25"},{"$f":"COUNTIFS(ExportXML3_SplitTimes[Legenda],ExportXML3_SplitTimes[[#This Row],[Legenda]],ExportXML3_SplitTimes[Čas],\"<=\"&ExportXML3_SplitTimes[[#This Row],[Čas]])","v":476}]
["ŽA","Kolaříková","Marie","0020001",2760,69,2196,{"$f":"ExportXML3_SplitTimes[[#This Row],[GivenName]]&\" \"&ExportXML3_SplitTimes[[#This Row],[FamilyName]]","v":"Marie Kolaříková"},{"$f":"_xlfn.XLOOKUP(ExportXML3_SplitTimes[[#This Row],[PersonId]],#REF!,#REF!,\"-\")","v":{"$error":"#REF!"}},{"$f":"ExportXML3_SplitTimes[[#This Row],[Kategorie]] & \" - \" & ExportXML3_SplitTimes[[#This Row],[Závodník]] & \" (\" & ExportXML3_SplitTimes[[#This Row],[Číslo čipu]] & \")\"","v":{"$error":"#REF!"}},{"$f":"ExportXML3_SplitTimes[[#This Row],[ControlCode]]","v":69},{"$f":"ExportXML3_SplitTimes[[#This Row],[SplitTimeSeconds]]/3600/24","v":"00:36:36"},{"$f":"COUNTIFS(ExportXML3_SplitTimes[Legenda],ExportXML3_SplitTimes[[#This Row],[Legenda]],ExportXML3_SplitTimes[Čas],\"<=\"&ExportXML3_SplitTimes[[#This Row],[Čas]])","v":499}]
["ŽA","Kolaříková","Marie","0020001",2760,77,2358,{"$f":"ExportXML3_SplitTimes[[#This Row],[GivenName]]&\" \"&ExportXML3_SplitTimes[[#This Row],[FamilyName]]","v":"Marie Kolaříková"},{"$f":"_xlfn.XLOOKUP(ExportXML3_SplitTimes[[#This Row],[PersonId]],#REF!,#REF!,\"-\")","v":{"$error":"#REF!"}},{"$f":"ExportXML3_SplitTimes[[#This Row],[Kategorie]] & \" - \" & ExportXML3_SplitTimes[[#This Row],[Závodník]] & \" (\" & ExportXML3_SplitTimes[[#This Row],[Číslo čipu]] & \")\"","v":{"$error":"#REF!"}},{"$f":"ExportXML3_SplitTimes[[#This Row],[ControlCode]]","v":77},{"$f":"ExportXML3_SplitTimes[[#This Row],[SplitTimeSeconds]]/3600/24","v":"00:39:18"},{"$f":"COUNTIFS(ExportXML3_SplitTimes[Legenda],ExportXML3_SplitTimes[[#This Row],[Legenda]],ExportXML3_SplitTimes[Čas],\"<=\"&ExportXML3_SplitTimes[[#This Row],[Čas]])","v":534}]
["ŽA","Kolaříková","Marie","0020001",2760,71,2514,{"$f":"ExportXML3_SplitTimes[[#This Row],[GivenName]]&\" \"&ExportXML3_SplitTimes[[#This Row],[FamilyName]]","v":"Marie Kolaříková"},{"$f":"_xlfn.XLOOKUP(ExportXML3_SplitTimes[[#This Row],[PersonId]],#REF!,#REF!,\"-\")","v":{"$error":"#REF!"}},{"$f":"ExportXML3_SplitTimes[[#This Row],[Kategorie]] & \" - \" & ExportXML3_SplitTimes[[#This Row],[Závodník]] & \" (\" & ExportXML3_SplitTimes[[#This Row],[Číslo čipu]] & \")\"","v":{"$error":"#REF!"}},{"$f":"ExportXML3_SplitTimes[[#This Row],[ControlCode]]","v":71},{"$f":"ExportXML3_SplitTimes[[#This Row],[SplitTimeSeconds]]/3600/24","v":"00:41:54"},{"$f":"COUNTIFS(ExportXML3_SplitTimes[Legenda],ExportXML3_SplitTimes[[#This Row],[Legenda]],ExportXML3_SplitTimes[Čas],\"<=\"&ExportXML3_SplitTimes[[#This Row],[Čas]])","v":568}]
["ŽA","Kolaříková","Marie","0020001",2760,84,2588,{"$f":"ExportXML3_SplitTimes[[#This Row],[GivenName]]&\" \"&ExportXML3_SplitTimes[[#This Row],[FamilyName]]","v":"Marie Kolaříková"},{"$f":"_xlfn.XLOOKUP(ExportXML3_SplitTimes[[#This Row],[PersonId]],#REF!,#REF!,\"-\")","v":{"$error":"#REF!"}},{"$f":"ExportXML3_SplitTimes[[#This Row],[Kategorie]] & \" - \" & ExportXML3_SplitTimes[[#This Row],[Závodník]] & \" (\" & ExportXML3_SplitTimes[[#This Row],[Číslo čipu]] & \")\"","v":{"$error":"#REF!"}},{"$f":"ExportXML3_SplitTimes[[#This Row],[ControlCode]]","v":84},{"$f":"ExportXML3_SplitTimes[[#This Row],[SplitTimeSeconds]]/3600/24","v":"00:43:08"},{"$f":"COUNTIFS(ExportXML3_SplitTimes[Legenda],ExportXML3_SplitTimes[[#This Row],[Legenda]],ExportXML3_SplitTimes[Čas],\"<=\"&ExportXML3_SplitTimes[[#This Row],[Čas]])","v":583}]
["ŽA","Kolaříková","Marie","0020001",2760,78,2662,{"$f":"ExportXML3_SplitTimes[[#This Row],[GivenName]]&\" \"&ExportXML3_SplitTimes[[#This Row],[FamilyName]]","v":"Marie Kolaříková"},{"$f":"_xlfn.XLOOKUP(ExportXML3_SplitTimes[[#This Row],[PersonId]],#REF!,#REF!,\"-\")","v":{"$error":"#REF!"}},{"$f":"ExportXML3_SplitTimes[[#This Row],[Kategorie]] & \" - \" & ExportXML3_SplitTimes[[#This Row],[Závodník]] & \" (\" & ExportXML3_SplitTimes[[#This Row],[Číslo čipu]] & \")\"","v":{"$error":"#REF!"}},{"$f":"ExportXML3_SplitTimes[[#This Row],[ControlCode]]","v":78},{"$f":"ExportXML3_SplitTimes[[#This Row],[SplitTimeSeconds]]/3600/24","v":"00:44:22"},{"$f":"COUNTIFS(ExportXML3_SplitTimes[Legenda],ExportXML3_SplitTimes[[#This Row],[Legenda]],ExportXML3_SplitTimes[Čas],\"<=\"&ExportXML3_SplitTimes[[#This Row],[Čas]])","v":597}]
["ŽA","Kolaříková","Marie","0020001",2760,100,2745,{"$f":"ExportXML3_SplitTimes[[#This Row],[GivenName]]&\" \"&ExportXML3_SplitTimes[[#This Row],[FamilyName]]","v":"Marie Kolaříková"},{"$f":"_xlfn.XLOOKUP(ExportXML3_SplitTimes[[#This Row],[PersonId]],#REF!,#REF!,\"-\")","v":{"$error":"#REF!"}},{"$f":"ExportXML3_SplitTimes[[#This Row],[Kategorie]] & \" - \" & ExportXML3_SplitTimes[[#This Row],[Závodník]] & \" (\" & ExportXML3_SplitTimes[[#This Row],[Číslo čipu]] & \")\"","v":{"$error":"#REF!"}},{"$f":"ExportXML3_SplitTimes[[#This Row],[ControlCode]]","v":100},{"$f":"ExportXML3_SplitTimes[[#This Row],[SplitTimeSeconds]]/3600/24","v":"00:45:45"},{"$f":"COUNTIFS(ExportXML3_SplitTimes[Legenda],ExportXML3_SplitTimes[[#This Row],[Legenda]],ExportXML3_SplitTimes[Čas],\"<=\"&ExportXML3_SplitTimes[[#This Row],[Čas]])","v":617}]
["ŽA","Janečková","Veronika","0010002",2991,48,389,{"$f":"ExportXML3_SplitTimes[[#This Row],[GivenName]]&\" \"&ExportXML3_SplitTimes[[#This Row],[FamilyName]]","v":"Veronika Janečková"},{"$f":"_xlfn.XLOOKUP(ExportXML3_SplitTimes[[#This Row],[PersonId]],#REF!,#REF!,\"-\")","v":{"$error":"#REF!"}},{"$f":"ExportXML3_SplitTimes[[#This Row],[Kategorie]] & \" - \" & ExportXML3_SplitTimes[[#This Row],[Závodník]] & \" (\" & ExportXML3_SplitTimes[[#This Row],[Číslo čipu]] & \")\"","v":{"$error":"#REF!"}},{"$f":"ExportXML3_SplitTimes[[#This Row],[ControlCode]]","v":48},{"$f":"ExportXML3_SplitTimes[[#This Row],[SplitTimeSeconds]]/3600/24","v":"00:06:29"},{"$f":"COUNTIFS(ExportXML3_SplitTimes[Legenda],ExportXML3_SplitTimes[[#This Row],[Legenda]],ExportXML3_SplitTimes[Čas],\"<=\"&ExportXML3_SplitTimes[[#This Row],[Čas]])","v":49}]
["ŽA","Janečková","Veronika","0010002",2991,50,512,{"$f":"ExportXML3_SplitTimes[[#This Row],[GivenName]]&\" \"&ExportXML3_SplitTimes[[#This Row],[FamilyName]]","v":"Veronika Janečková"},{"$f":"_xlfn.XLOOKUP(ExportXML3_SplitTimes[[#This Row],[PersonId]],#REF!,#REF!,\"-\")","v":{"$error":"#REF!"}},{"$f":"ExportXML3_SplitTimes[[#This Row],[Kategorie]] & \" - \" & ExportXML3_SplitTimes[[#This Row],[Závodník]] & \" (\" & ExportXML3_SplitTimes[[#This Row],[Číslo čipu]] & \")\"","v":{"$error":"#REF!"}},{"$f":"ExportXML3_SplitTimes[[#This Row],[ControlCode]]","v":50},{"$f":"ExportXML3_SplitTimes[[#This Row],[SplitTimeSeconds]]/3600/24","v":"00:08:32"},{"$f":"COUNTIFS(ExportXML3_SplitTimes[Legenda],ExportXML3_SplitTimes[[#This Row],[Legenda]],ExportXML3_SplitTimes[Čas],\"<=\"&ExportXML3_SplitTimes[[#This Row],[Čas]])","v":83}]
["ŽA","Janečková","Veronika","0010002",2991,52,598,{"$f":"ExportXML3_SplitTimes[[#This Row],[GivenName]]&\" \"&ExportXML3_SplitTimes[[#This Row],[FamilyName]]","v":"Veronika Janečková"},{"$f":"_xlfn.XLOOKUP(ExportXML3_SplitTimes[[#This Row],[PersonId]],#REF!,#REF!,\"-\")","v":{"$error":"#REF!"}},{"$f":"ExportXML3_SplitTimes[[#This Row],[Kategorie]] & \" - \" & ExportXML3_SplitTimes[[#This Row],[Závodník]] & \" (\" & ExportXML3_SplitTimes[[#This Row],[Číslo čipu]] & \")\"","v":{"$error":"#REF!"}},{"$f":"ExportXML3_SplitTimes[[#This Row],[ControlCode]]","v":52},{"$f":"ExportXML3_SplitTimes[[#This Row],[SplitTimeSeconds]]/3600/24","v":"00:09:58"},{"$f":"COUNTIFS(ExportXML3_SplitTimes[Legenda],ExportXML3_SplitTimes[[#This Row],[Legenda]],ExportXML3_SplitTimes[Čas],\"<=\"&ExportXML3_SplitTimes[[#This Row],[Čas]])","v":111}]
["ŽA","Janečková","Veronika","0010002",2991,33,743,{"$f":"ExportXML3_SplitTimes[[#This Row],[GivenName]]&\" \"&ExportXML3_SplitTimes[[#This Row],[FamilyName]]","v":"Veronika Janečková"},{"$f":"_xlfn.XLOOKUP(ExportXML3_SplitTimes[[#This Row],[PersonId]],#REF!,#REF!,\"-\")","v":{"$error":"#REF!"}},{"$f":"ExportXML3_SplitTimes[[#This Row],[Kategorie]] & \" - \" & ExportXML3_SplitTimes[[#This Row],[Závodník]] & \" (\" & ExportXML3_SplitTimes[[#This Row],[Číslo čipu]] & \")\"","v":{"$error":"#REF!"}},{"$f":"ExportXML3_SplitTimes[[#This Row],[ControlCode]]","v":33},{"$f":"ExportXML3_SplitTimes[[#This Row],[SplitTimeSeconds]]/3600/24","v":"00:12:23"},{"$f":"COUNTIFS(ExportXML3_SplitTimes[Legenda],ExportXML3_SplitTimes[[#This Row],[Legenda]],ExportXML3_SplitTimes[Čas],\"<=\"&ExportXML3_SplitTimes[[#This Row],[Čas]])","v":155}]
["ŽA","Janečková","Veronika","0010002",2991,37,1024,{"$f":"ExportXML3_SplitTimes[[#This Row],[GivenName]]&\" \"&ExportXML3_SplitTimes[[#This Row],[FamilyName]]","v":"Veronika Janečková"},{"$f":"_xlfn.XLOOKUP(ExportXML3_SplitTimes[[#This Row],[PersonId]],#REF!,#REF!,\"-\")","v":{"$error":"#REF!"}},{"$f":"ExportXML3_SplitTimes[[#This Row],[Kategorie]] & \" - \" & ExportXML3_SplitTimes[[#This Row],[Závodník]] & \" (\" & ExportXML3_SplitTimes[[#This Row],[Číslo čipu]] & \")\"","v":{"$error":"#REF!"}},{"$f":"ExportXML3_SplitTimes[[#This Row],[ControlCode]]","v":37},{"$f":"ExportXML3_SplitTimes[[#This Row],[SplitTimeSeconds]]/3600/24","v":"00:17:04"},{"$f":"COUNTIFS(ExportXML3_SplitTimes[Legenda],ExportXML3_SplitTimes[[#This Row],[Legenda]],ExportXML3_SplitTimes[Čas],\"<=\"&ExportXML3_SplitTimes[[#This Row],[Čas]])","v":229}]
["ŽA","Janečková","Veronika","0010002",2991,40,1226,{"$f":"ExportXML3_SplitTimes[[#This Row],[GivenName]]&\" \"&ExportXML3_SplitTimes[[#This Row],[FamilyName]]","v":"Veronika Janečková"},{"$f":"_xlfn.XLOOKUP(ExportXML3_SplitTimes[[#This Row],[PersonId]],#REF!,#REF!,\"-\")","v":{"$error":"#REF!"}},{"$f":"ExportXML3_SplitTimes[[#This Row],[Kategorie]] & \" - \" & ExportXML3_SplitTimes[[#This Row],[Závodník]] & \" (\" & ExportXML3_SplitTimes[[#This Row],[Číslo čipu]] & \")\"","v":{"$error":"#REF!"}},{"$f":"ExportXML3_SplitTimes[[#This Row],[ControlCode]]","v":40},{"$f":"ExportXML3_SplitTimes[[#This Row],[SplitTimeSeconds]]/3600/24","v":"00:20:26"},{"$f":"COUNTIFS(ExportXML3_SplitTimes[Legenda],ExportXML3_SplitTimes[[#This Row],[Legenda]],ExportXML3_SplitTimes[Čas],\"<=\"&ExportXML3_SplitTimes[[#This Row],[Čas]])","v":279}]
["ŽA","Janečková","Veronika","0010002",2991,32,1375,{"$f":"ExportXML3_SplitTimes[[#This Row],[GivenName]]&\" \"&ExportXML3_SplitTimes[[#This Row],[FamilyName]]","v":"Veronika Janečková"},{"$f":"_xlfn.XLOOKUP(ExportXML3_SplitTimes[[#This Row],[PersonId]],#REF!,#REF!,\"-\")","v":{"$error":"#REF!"}},{"$f":"ExportXML3_SplitTimes[[#This Row],[Kategorie]] & \" - \" & ExportXML3_SplitTimes[[#This Row],[Závodník]] & \" (\" & ExportXML3_SplitTimes[[#This Row],[Číslo čipu]] & \")\"","v":{"$error":"#REF!"}},{"$f":"ExportXML3_SplitTimes[[#This Row],[ControlCode]]","v":32},{"$f":"ExportXML3_SplitTimes[[#This Row],[SplitTimeSeconds]]/3600/24","v":"00:22:55"},{"$f":"COUNTIFS(ExportXML3_SplitTimes[Legenda],ExportXML3_SplitTimes[[#This Row],[Legenda]],ExportXML3_SplitTimes[Čas],\"<=\"&ExportXML3_SplitTimes[[#This Row],[Čas]])","v":308}]
["ŽA","Janečková","Veronika","0010002",2991,43,1572,{"$f":"ExportXML3_SplitTimes[[#This Row],[GivenName]]&\" \"&ExportXML3_SplitTimes[[#This Row],[FamilyName]]","v":"Veronika Janečková"},{"$f":"_xlfn.XLOOKUP(ExportXML3_SplitTimes[[#This Row],[PersonId]],#REF!,#REF!,\"-\")","v":{"$error":"#REF!"}},{"$f":"ExportXML3_SplitTimes[[#This Row],[Kategorie]] & \" - \" & ExportXML3_SplitTimes[[#This Row],[Závodník]] & \" (\" & ExportXML3_SplitTimes[[#This Row],[Číslo čipu]] & \")\"","v":{"$error":"#REF!"}},{"$f":"ExportXML3_SplitTimes[[#This Row],[ControlCode]]","v":43},{"$f":"ExportXML3_SplitTimes[[#This Row],[SplitTimeSeconds]]/3600/24","v":"00:26:12"},{"$f":"COUNTIFS(ExportXML3_SplitTimes[Legenda],ExportXML3_SplitTimes[[#This Row],[Legenda]],ExportXML3_SplitTimes[Čas],\"<=\"&ExportXML3_SplitTimes[[#This Row],[Čas]])","v":354}]
["ŽA","Janečková","Veronika","0010002",2991,45,1867,{"$f":"ExportXML3_SplitTimes[[#This Row],[GivenName]]&\" \"&ExportXML3_SplitTimes[[#This Row],[FamilyName]]","v":"Veronika Janečková"},{"$f":"_xlfn.XLOOKUP(ExportXML3_SplitTimes[[#This Row],[PersonId]],#REF!,#REF!,\"-\")","v":{"$error":"#REF!"}},{"$f":"ExportXML3_SplitTimes[[#This Row],[Kategorie]] & \" - \" & ExportXML3_SplitTimes[[#This Row],[Závodník]] & \" (\" & ExportXML3_SplitTimes[[#This Row],[Číslo čipu]] & \")\"","v":{"$error":"#REF!"}},{"$f":"ExportXML3_SplitTimes[[#This Row],[ControlCode]]","v":45},{"$f":"ExportXML3_SplitTimes[[#This Row],[SplitTimeSeconds]]/3600/24","v":"00:31:07"},{"$f":"COUNTIFS(ExportXML3_SplitTimes[Legenda],ExportXML3_SplitTimes[[#This Row],[Legenda]],ExportXML3_SplitTimes[Čas],\"<=\"&ExportXML3_SplitTimes[[#This Row],[Čas]])","v":428}]
["ŽA","Janečková","Veronika","0010002",2991,56,2018,{"$f":"ExportXML3_SplitTimes[[#This Row],[GivenName]]&\" \"&ExportXML3_SplitTimes[[#This Row],[FamilyName]]","v":"Veronika Janečková"},{"$f":"_xlfn.XLOOKUP(ExportXML3_SplitTimes[[#This Row],[PersonId]],#REF!,#REF!,\"-\")","v":{"$error":"#REF!"}},{"$f":"ExportXML3_SplitTimes[[#This Row],[Kategorie]] & \" - \" & ExportXML3_SplitTimes[[#This Row],[Závodník]] & \" (\" & ExportXML3_SplitTimes[[#This Row],[Číslo čipu]] & \")\"","v":{"$error":"#REF!"}},{"$f":"ExportXML3_SplitTimes[[#This Row],[ControlCode]]","v":56},{"$f":"ExportXML3_SplitTimes[[#This Row],[SplitTimeSeconds]]/3600/24","v":"00:33:38"},{"$f":"COUNTIFS(ExportXML3_SplitTimes[Legenda],ExportXML3_SplitTimes[[#This Row],[Legenda]],ExportXML3_SplitTimes[Čas],\"<=\"&ExportXML3_SplitTimes[[#This Row],[Čas]])","v":465}]
["ŽA","Janečková","Veronika","0010002",2991,93,2191,{"$f":"ExportXML3_SplitTimes[[#This Row],[GivenName]]&\" \"&ExportXML3_SplitTimes[[#This Row],[FamilyName]]","v":"Veronika Janečková"},{"$f":"_xlfn.XLOOKUP(ExportXML3_SplitTimes[[#This Row],[PersonId]],#REF!,#REF!,\"-\")","v":{"$error":"#REF!"}},{"$f":"ExportXML3_SplitTimes[[#This Row],[Kategorie]] & \" - \" & ExportXML3_SplitTimes[[#This Row],[Závodník]] & \" (\" & ExportXML3_SplitTimes[[#This Row],[Číslo čipu]] & \")\"","v":{"$error":"#REF!"}},{"$f":"ExportXML3_SplitTimes[[#This Row],[ControlCode]]","v":93},{"$f":"ExportXML3_SplitTimes[[#This Row],[SplitTimeSeconds]]/3600/24","v":"00:36:31"},{"$f":"COUNTIFS(ExportXML3_SplitTimes[Legenda],ExportXML3_SplitTimes[[#This Row],[Legenda]],ExportXML3_SplitTimes[Čas],\"<=\"&ExportXML3_SplitTimes[[#This Row],[Čas]])","v":498}]
["ŽA","Janečková","Veronika","0010002",2991,69,2289,{"$f":"ExportXML3_SplitTimes[[#This Row],[GivenName]]&\" \"&ExportXML3_SplitTimes[[#This Row],[FamilyName]]","v":"Veronika Janečková"},{"$f":"_xlfn.XLOOKUP(ExportXML3_SplitTimes[[#This Row],[PersonId]],#REF!,#REF!,\"-\")","v":{"$error":"#REF!"}},{"$f":"ExportXML3_SplitTimes[[#This Row],[Kategorie]] & \" - \" & ExportXML3_SplitTimes[[#This Row],[Závodník]] & \" (\" & ExportXML3_SplitTimes[[#This Row],[Číslo čipu]] & \")\"","v":{"$error":"#REF!"}},{"$f":"ExportXML3_SplitTimes[[#This Row],[ControlCode]]","v":69},{"$f":"ExportXML3_SplitTimes[[#This Row],[SplitTimeSeconds]]/3600/24","v":"00:38:09"},{"$f":"COUNTIFS(ExportXML3_SplitTimes[Legenda],ExportXML3_SplitTimes[[#This Row],[Legenda]],ExportXML3_SplitTimes[Čas],\"<=\"&ExportXML3_SplitTimes[[#This Row],[Čas]])","v":522}]
["ŽA","Janečková","Veronika","0010002",2991,77,2495,{"$f":"ExportXML3_SplitTimes[[#This Row],[GivenName]]&\" \"&ExportXML3_SplitTimes[[#This Row],[FamilyName]]","v":"Veronika Janečková"},{"$f":"_xlfn.XLOOKUP(ExportXML3_SplitTimes[[#This Row],[PersonId]],#REF!,#REF!,\"-\")","v":{"$error":"#REF!"}},{"$f":"ExportXML3_SplitTimes[[#This Row],[Kategorie]] & \" - \" & ExportXML3_SplitTimes[[#This Row],[Závodník]] & \" (\" & ExportXML3_SplitTimes[[#This Row],[Číslo čipu]] & \")\"","v":{"$error":"#REF!"}},{"$f":"ExportXML3_SplitTimes[[#This Row],[ControlCode]]","v":77},{"$f":"ExportXML3_SplitTimes[[#This Row],[SplitTimeSeconds]]/3600/24","v":"00:41:35"},{"$f":"COUNTIFS(ExportXML3_SplitTimes[Legenda],ExportXML3_SplitTimes[[#This Row],[Legenda]],ExportXML3_SplitTimes[Čas],\"<=\"&ExportXML3_SplitTimes[[#This Row],[Čas]])","v":564}]
["ŽA","Janečková","Veronika","0010002",2991,71,2673,{"$f":"ExportXML3_SplitTimes[[#This Row],[GivenName]]&\" \"&ExportXML3_SplitTimes[[#This Row],[FamilyName]]","v":"Veronika Janečková"},{"$f":"_xlfn.XLOOKUP(ExportXML3_SplitTimes[[#This Row],[PersonId]],#REF!,#REF!,\"-\")","v":{"$error":"#REF!"}},{"$f":"ExportXML3_SplitTimes[[#This Row],[Kategorie]] & \" - \" & ExportXML3_SplitTimes[[#This Row],[Závodník]] & \" (\" & ExportXML3_SplitTimes[[#This Row],[Číslo čipu]] & \")\"","v":{"$error":"#REF!"}},{"$f":"ExportXML3_SplitTimes[[#This Row],[ControlCode]]","v":71},{"$f":"ExportXML3_SplitTimes[[#This Row],[SplitTimeSeconds]]/3600/24","v":"00:44:33"},{"$f":"COUNTIFS(ExportXML3_SplitTimes[Legenda],ExportXML3_SplitTimes[[#This Row],[Legenda]],ExportXML3_SplitTimes[Čas],\"<=\"&ExportXML3_SplitTimes[[#This Row],[Čas]])","v":603}]
["ŽA","Janečková","Veronika","0010002",2991,84,2766,{"$f":"ExportXML3_SplitTimes[[#This Row],[GivenName]]&\" \"&ExportXML3_SplitTimes[[#This Row],[FamilyName]]","v":"Veronika Janečková"},{"$f":"_xlfn.XLOOKUP(ExportXML3_SplitTimes[[#This Row],[PersonId]],#REF!,#REF!,\"-\")","v":{"$error":"#REF!"}},{"$f":"ExportXML3_SplitTimes[[#This Row],[Kategorie]] & \" - \" & ExportXML3_SplitTimes[[#This Row],[Závodník]] & \" (\" & ExportXML3_SplitTimes[[#This Row],[Číslo čipu]] & \")\"","v":{"$error":"#REF!"}},{"$f":"ExportXML3_SplitTimes[[#This Row],[ControlCode]]","v":84},{"$f":"ExportXML3_SplitTimes[[#This Row],[SplitTimeSeconds]]/3600/24","v":"00:46:06"},{"$f":"COUNTIFS(ExportXML3_SplitTimes[Legenda],ExportXML3_SplitTimes[[#This Row],[Legenda]],ExportXML3_SplitTimes[Čas],\"<=\"&ExportXML3_SplitTimes[[#This Row],[Čas]])","v":623}]
["ŽA","Janečková","Veronika","0010002",2991,78,2856,{"$f":"ExportXML3_SplitTimes[[#This Row],[GivenName]]&\" \"&ExportXML3_SplitTimes[[#This Row],[FamilyName]]","v":"Veronika Janečková"},{"$f":"_xlfn.XLOOKUP(ExportXML3_SplitTimes[[#This Row],[PersonId]],#REF!,#REF!,\"-\")","v":{"$error":"#REF!"}},{"$f":"ExportXML3_SplitTimes[[#This Row],[Kategorie]] & \" - \" & ExportXML3_SplitTimes[[#This Row],[Závodník]] & \" (\" & ExportXML3_SplitTimes[[#This Row],[Číslo čipu]] & \")\"","v":{"$error":"#REF!"}},{"$f":"ExportXML3_SplitTimes[[#This Row],[ControlCode]]","v":78},{"$f":"ExportXML3_SplitTimes[[#This Row],[SplitTimeSeconds]]/3600/24","v":"00:47:36"},{"$f":"COUNTIFS(ExportXML3_SplitTimes[Legenda],ExportXML3_SplitTimes[[#This Row],[Legenda]],ExportXML3_SplitTimes[Čas],\"<=\"&ExportXML3_SplitTimes[[#This Row],[Čas]])","v":638}]
["ŽA","Janečková","Veronika","0010002",2991,100,2973,{"$f":"ExportXML3_SplitTimes[[#This Row],[GivenName]]&\" \"&ExportXML3_SplitTimes[[#This Row],[FamilyName]]","v":"Veronika Janečková"},{"$f":"_xlfn.XLOOKUP(ExportXML3_SplitTimes[[#This Row],[PersonId]],#REF!,#REF!,\"-\")","v":{"$error":"#REF!"}},{"$f":"ExportXML3_SplitTimes[[#This Row],[Kategorie]] & \" - \" & ExportXML3_SplitTimes[[#This Row],[Závodník]] & \" (\" & ExportXML3_SplitTimes[[#This Row],[Číslo čipu]] & \")\"","v":{"$error":"#REF!"}},{"$f":"ExportXML3_SplitTimes[[#This Row],[ControlCode]]","v":100},{"$f":"ExportXML3_SplitTimes[[#This Row],[SplitTimeSeconds]]/3600/24","v":"00:49:33"},{"$f":"COUNTIFS(ExportXML3_SplitTimes[Legenda],ExportXML3_SplitTimes[[#This Row],[Legenda]],ExportXML3_SplitTimes[Čas],\"<=\"&ExportXML3_SplitTimes[[#This Row],[Čas]])","v":662}]
["ŽA","Sedláčková","Jana","0060001",3129,48,207,{"$f":"ExportXML3_SplitTimes[[#This Row],[GivenName]]&\" \"&ExportXML3_SplitTimes[[#This Row],[FamilyName]]","v":"Jana Sedláčková"},{"$f":"_xlfn.XLOOKUP(ExportXML3_SplitTimes[[#This Row],[PersonId]],#REF!,#REF!,\"-\")","v":{"$error":"#REF!"}},{"$f":"ExportXML3_SplitTimes[[#This Row],[Kategorie]] & \" - \" & ExportXML3_SplitTimes[[#This Row],[Závodník]] & \" (\" & ExportXML3_SplitTimes[[#This Row],[Číslo čipu]] & \")\"","v":{"$error":"#REF!"}},{"$f":"ExportXML3_SplitTimes[[#This Row],[ControlCode]]","v":48},{"$f":"ExportXML3_SplitTimes[[#This Row],[SplitTimeSeconds]]/3600/24","v":"00:03:27"},{"$f":"COUNTIFS(ExportXML3_SplitTimes[Legenda],ExportXML3_SplitTimes[[#This Row],[Legenda]],ExportXML3_SplitTimes[Čas],\"<=\"&ExportXML3_SplitTimes[[#This Row],[Čas]])","v":7}]
["ŽA","Sedláčková","Jana","0060001",3129,50,350,{"$f":"ExportXML3_SplitTimes[[#This Row],[GivenName]]&\" \"&ExportXML3_SplitTimes[[#This Row],[FamilyName]]","v":"Jana Sedláčková"},{"$f":"_xlfn.XLOOKUP(ExportXML3_SplitTimes[[#This Row],[PersonId]],#REF!,#REF!,\"-\")","v":{"$error":"#REF!"}},{"$f":"ExportXML3_SplitTimes[[#This Row],[Kategorie]] & \" - \" & ExportXML3_SplitTimes[[#This Row],[Závodník]] & \" (\" & ExportXML3_SplitTimes[[#This Row],[Číslo čipu]] & \")\"","v":{"$error":"#REF!"}},{"$f":"ExportXML3_SplitTimes[[#This Row],[ControlCode]]","v":50},{"$f":"ExportXML3_SplitTimes[[#This Row],[SplitTimeSeconds]]/3600/24","v":"00:05:50"},{"$f":"COUNTIFS(ExportXML3_SplitTimes[Legenda],ExportXML3_SplitTimes[[#This Row],[Legenda]],ExportXML3_SplitTimes[Čas],\"<=\"&ExportXML3_SplitTimes[[#This Row],[Čas]])","v":36}]
["ŽA","Sedláčková","Jana","0060001",3129,52,465,{"$f":"ExportXML3_SplitTimes[[#This Row],[GivenName]]&\" \"&ExportXML3_SplitTimes[[#This Row],[FamilyName]]","v":"Jana Sedláčková"},{"$f":"_xlfn.XLOOKUP(ExportXML3_SplitTimes[[#This Row],[PersonId]],#REF!,#REF!,\"-\")","v":{"$error":"#REF!"}},{"$f":"ExportXML3_SplitTimes[[#This Row],[Kategorie]] & \" - \" & ExportXML3_SplitTimes[[#This Row],[Závodník]] & \" (\" & ExportXML3_SplitTimes[[#This Row],[Číslo čipu]] & \")\"","v":{"$error":"#REF!"}},{"$f":"ExportXML3_SplitTimes[[#This Row],[ControlCode]]","v":52},{"$f":"ExportXML3_SplitTimes[[#This Row],[SplitTimeSeconds]]/3600/24","v":"00:07:45"},{"$f":"COUNTIFS(ExportXML3_SplitTimes[Legenda],ExportXML3_SplitTimes[[#This Row],[Legenda]],ExportXML3_SplitTimes[Čas],\"<=\"&ExportXML3_SplitTimes[[#This Row],[Čas]])","v":66}]
["ŽA","Sedláčková","Jana","0060001",3129,33,589,{"$f":"ExportXML3_SplitTimes[[#This Row],[GivenName]]&\" \"&ExportXML3_SplitTimes[[#This Row],[FamilyName]]","v":"Jana Sedláčková"},{"$f":"_xlfn.XLOOKUP(ExportXML3_SplitTimes[[#This Row],[PersonId]],#REF!,#REF!,\"-\")","v":{"$error":"#REF!"}},{"$f":"ExportXML3_SplitTimes[[#This Row],[Kategorie]] & \" - \" & ExportXML3_SplitTimes[[#This Row],[Závodník]] & \" (\" & ExportXML3_SplitTimes[[#This Row],[Číslo čipu]] & \")\"","v":{"$error":"#REF!"}},{"$f":"ExportXML3_SplitTimes[[#This Row],[ControlCode]]","v":33},{"$f":"ExportXML3_SplitTimes[[#This Row],[SplitTimeSeconds]]/3600/24","v":"00:09:49"},{"$f":"COUNTIFS(ExportXML3_SplitTimes[Legenda],ExportXML3_SplitTimes[[#This Row],[Legenda]],ExportXML3_SplitTimes[Čas],\"<=\"&ExportXML3_SplitTimes[[#This Row],[Čas]])","v":109}]
["ŽA","Sedláčková","Jana","0060001",3129,37,1158,{"$f":"ExportXML3_SplitTimes[[#This Row],[GivenName]]&\" \"&ExportXML3_SplitTimes[[#This Row],[FamilyName]]","v":"Jana Sedláčková"},{"$f":"_xlfn.XLOOKUP(ExportXML3_SplitTimes[[#This Row],[PersonId]],#REF!,#REF!,\"-\")","v":{"$error":"#REF!"}},{"$f":"ExportXML3_SplitTimes[[#This Row],[Kategorie]] & \" - \" & ExportXML3_SplitTimes[[#This Row],[Závodník]] & \" (\" & ExportXML3_SplitTimes[[#This Row],[Číslo čipu]] & \")\"","v":{"$error":"#REF!"}},{"$f":"ExportXML3_SplitTimes[[#This Row],[ControlCode]]","v":37},{"$f":"ExportXML3_SplitTimes[[#This Row],[SplitTimeSeconds]]/3600/24","v":"00:19:18"},{"$f":"COUNTIFS(ExportXML3_SplitTimes[Legenda],ExportXML3_SplitTimes[[#This Row],[Legenda]],ExportXML3_SplitTimes[Čas],\"<=\"&ExportXML3_SplitTimes[[#This Row],[Čas]])","v":263}]
["ŽA","Sedláčková","Jana","0060001",3129,40,1404,{"$f":"ExportXML3_SplitTimes[[#This Row],[GivenName]]&\" \"&ExportXML3_SplitTimes[[#This Row],[FamilyName]]","v":"Jana Sedláčková"},{"$f":"_xlfn.XLOOKUP(ExportXML3_SplitTimes[[#This Row],[PersonId]],#REF!,#REF!,\"-\")","v":{"$error":"#REF!"}},{"$f":"ExportXML3_SplitTimes[[#This Row],[Kategorie]] & \" - \" & ExportXML3_SplitTimes[[#This Row],[Závodník]] & \" (\" & ExportXML3_SplitTimes[[#This Row],[Číslo čipu]] & \")\"","v":{"$error":"#REF!"}},{"$f":"ExportXML3_SplitTimes[[#This Row],[ControlCode]]","v":40},{"$f":"ExportXML3_SplitTimes[[#This Row],[SplitTimeSeconds]]/3600/24","v":"00:23:24"},{"$f":"COUNTIFS(ExportXML3_SplitTimes[Legenda],ExportXML3_SplitTimes[[#This Row],[Legenda]],ExportXML3_SplitTimes[Čas],\"<=\"&ExportXML3_SplitTimes[[#This Row],[Čas]])","v":317}]
["ŽA","Sedláčková","Jana","0060001",3129,32,1538,{"$f":"ExportXML3_SplitTimes[[#This Row],[GivenName]]&\" \"&ExportXML3_SplitTimes[[#This Row],[FamilyName]]","v":"Jana Sedláčková"},{"$f":"_xlfn.XLOOKUP(ExportXML3_SplitTimes[[#This Row],[PersonId]],#REF!,#REF!,\"-\")","v":{"$error":"#REF!"}},{"$f":"ExportXML3_SplitTimes[[#This Row],[Kategorie]] & \" - \" & ExportXML3_SplitTimes[[#This Row],[Závodník]] & \" (\" & ExportXML3_SplitTimes[[#This Row],[Číslo čipu]] & \")\"","v":{"$error":"#REF!"}},{"$f":"ExportXML3_SplitTimes[[#This Row],[ControlCode]]","v":32},{"$f":"ExportXML3_SplitTimes[[#This Row],[SplitTimeSeconds]]/3600/24","v":"00:25:38"},{"$f":"COUNTIFS(ExportXML3_SplitTimes[Legenda],ExportXML3_SplitTimes[[#This Row],[Legenda]],ExportXML3_SplitTimes[Čas],\"<=\"&ExportXML3_SplitTimes[[#This Row],[Čas]])","v":345}]
["ŽA","Sedláčková","Jana","0060001",3129,43,1748,{"$f":"ExportXML3_SplitTimes[[#This Row],[GivenName]]&\" \"&ExportXML3_SplitTimes[[#This Row],[FamilyName]]","v":"Jana Sedláčková"},{"$f":"_xlfn.XLOOKUP(ExportXML3_SplitTimes[[#This Row],[PersonId]],#REF!,#REF!,\"-\")","v":{"$error":"#REF!"}},{"$f":"ExportXML3_SplitTimes[[#This Row],[Kategorie]] & \" - \" & ExportXML3_SplitTimes[[#This Row],[Závodník]] & \" (\" & ExportXML3_SplitTimes[[#This Row],[Číslo čipu]] & \")\"","v":{"$error":"#REF!"}},{"$f":"ExportXML3_SplitTimes[[#This Row],[ControlCode]]","v":43},{"$f":"ExportXML3_SplitTimes[[#This Row],[SplitTimeSeconds]]/3600/24","v":"00:29:08"},{"$f":"COUNTIFS(ExportXML3_SplitTimes[Legenda],ExportXML3_SplitTimes[[#This Row],[Legenda]],ExportXML3_SplitTimes[Čas],\"<=\"&ExportXML3_SplitTimes[[#This Row],[Čas]])","v":398}]
["ŽA","Sedláčková","Jana","0060001",3129,45,1955,{"$f":"ExportXML3_SplitTimes[[#This Row],[GivenName]]&\" \"&ExportXML3_SplitTimes[[#This Row],[FamilyName]]","v":"Jana Sedláčková"},{"$f":"_xlfn.XLOOKUP(ExportXML3_SplitTimes[[#This Row],[PersonId]],#REF!,#REF!,\"-\")","v":{"$error":"#REF!"}},{"$f":"ExportXML3_SplitTimes[[#This Row],[Kategorie]] & \" - \" & ExportXML3_SplitTimes[[#This Row],[Závodník]] & \" (\" & ExportXML3_SplitTimes[[#This Row],[Číslo čipu]] & \")\"","v":{"$error":"#REF!"}},{"$f":"ExportXML3_SplitTimes[[#This Row],[ControlCode]]","v":45},{"$f":"ExportXML3_SplitTimes[[#This Row],[SplitTimeSeconds]]/3600/24","v":"00:32:35"},{"$f":"COUNTIFS(ExportXML3_SplitTimes[Legenda],ExportXML3_SplitTimes[[#This Row],[Legenda]],ExportXML3_SplitTimes[Čas],\"<=\"&ExportXML3_SplitTimes[[#This Row],[Čas]])","v":450}]
["ŽA","Sedláčková","Jana","0060001",3129,56,2103,{"$f":"ExportXML3_SplitTimes[[#This Row],[GivenName]]&\" \"&ExportXML3_SplitTimes[[#This Row],[FamilyName]]","v":"Jana Sedláčková"},{"$f":"_xlfn.XLOOKUP(ExportXML3_SplitTimes[[#This Row],[PersonId]],#REF!,#REF!,\"-\")","v":{"$error":"#REF!"}},{"$f":"ExportXML3_SplitTimes[[#This Row],[Kategorie]] & \" - \" & ExportXML3_SplitTimes[[#This Row],[Závodník]] & \" (\" & ExportXML3_SplitTimes[[#This Row],[Číslo čipu]] & \")\"","v":{"$error":"#REF!"}},{"$f":"ExportXML3_SplitTimes[[#This Row],[ControlCode]]","v":56},{"$f":"ExportXML3_SplitTimes[[#This Row],[SplitTimeSeconds]]/3600/24","v":"00:35:03"},{"$f":"COUNTIFS(ExportXML3_SplitTimes[Legenda],ExportXML3_SplitTimes[[#This Row],[Legenda]],ExportXML3_SplitTimes[Čas],\"<=\"&ExportXML3_SplitTimes[[#This Row],[Čas]])","v":482}]
["ŽA","Sedláčková","Jana","0060001",3129,93,2274,{"$f":"ExportXML3_SplitTimes[[#This Row],[GivenName]]&\" \"&ExportXML3_SplitTimes[[#This Row],[FamilyName]]","v":"Jana Sedláčková"},{"$f":"_xlfn.XLOOKUP(ExportXML3_SplitTimes[[#This Row],[PersonId]],#REF!,#REF!,\"-\")","v":{"$error":"#REF!"}},{"$f":"ExportXML3_SplitTimes[[#This Row],[Kategorie]] & \" - \" & ExportXML3_SplitTimes[[#This Row],[Závodník]] & \" (\" & ExportXML3_SplitTimes[[#This Row],[Číslo čipu]] & \")\"","v":{"$error":"#REF!"}},{"$f":"ExportXML3_SplitTimes[[#This Row],[ControlCode]]","v":93},{"$f":"ExportXML3_SplitTimes[[#This Row],[SplitTimeSeconds]]/3600/24","v":"00:37:54"},{"$f":"COUNTIFS(ExportXML3_SplitTimes[Legenda],ExportXML3_SplitTimes[[#This Row],[Legenda]],ExportXML3_SplitTimes[Čas],\"<=\"&ExportXML3_SplitTimes[[#This Row],[Čas]])","v":517}]
["ŽA","Sedláčková","Jana","0060001",3129,69,2388,{"$f":"ExportXML3_SplitTimes[[#This Row],[GivenName]]&\" \"&ExportXML3_SplitTimes[[#This Row],[FamilyName]]","v":"Jana Sedláčková"},{"$f":"_xlfn.XLOOKUP(ExportXML3_SplitTimes[[#This Row],[PersonId]],#REF!,#REF!,\"-\")","v":{"$error":"#REF!"}},{"$f":"ExportXML3_SplitTimes[[#This Row],[Kategorie]] & \" - \" & ExportXML3_SplitTimes[[#This Row],[Závodník]] & \" (\" & ExportXML3_SplitTimes[[#This Row],[Číslo čipu]] & \")\"","v":{"$error":"#REF!"}},{"$f":"ExportXML3_SplitTimes[[#This Row],[ControlCode]]","v":69},{"$f":"ExportXML3_SplitTimes[[#This Row],[SplitTimeSeconds]]/3600/24","v":"00:39:48"},{"$f":"COUNTIFS(ExportXML3_SplitTimes[Legenda],ExportXML3_SplitTimes[[#This Row],[Legenda]],ExportXML3_SplitTimes[Čas],\"<=\"&ExportXML3_SplitTimes[[#This Row],[Čas]])","v":542}]
["ŽA","Sedláčková","Jana","0060001",3129,77,2660,{"$f":"ExportXML3_SplitTimes[[#This Row],[GivenName]]&\" \"&ExportXML3_SplitTimes[[#This Row],[FamilyName]]","v":"Jana Sedláčková"},{"$f":"_xlfn.XLOOKUP(ExportXML3_SplitTimes[[#This Row],[PersonId]],#REF!,#REF!,\"-\")","v":{"$error":"#REF!"}},{"$f":"ExportXML3_SplitTimes[[#This Row],[Kategorie]] & \" - \" & ExportXML3_SplitTimes[[#This Row],[Závodník]] & \" (\" & ExportXML3_SplitTimes[[#This Row],[Číslo čipu]] & \")\"","v":{"$error":"#REF!"}},{"$f":"ExportXML3_SplitTimes[[#This Row],[ControlCode]]","v":77},{"$f":"ExportXML3_SplitTimes[[#This Row],[SplitTimeSeconds]]/3600/24","v":"00:44:20"},{"$f":"COUNTIFS(ExportXML3_SplitTimes[Legenda],ExportXML3_SplitTimes[[#This Row],[Legenda]],ExportXML3_SplitTimes[Čas],\"<=\"&ExportXML3_SplitTimes[[#This Row],[Čas]])","v":595}]
["ŽA","Sedláčková","Jana","0060001",3129,71,2820,{"$f":"ExportXML3_SplitTimes[[#This Row],[GivenName]]&\" \"&ExportXML3_SplitTimes[[#This Row],[FamilyName]]","v":"Jana Sedláčková"},{"$f":"_xlfn.XLOOKUP(ExportXML3_SplitTimes[[#This Row],[PersonId]],#REF!,#REF!,\"-\")","v":{"$error":"#REF!"}},{"$f":"ExportXML3_SplitTimes[[#This Row],[Kategorie]] & \" - \" & ExportXML3_SplitTimes[[#This Row],[Závodník]] & \" (\" & ExportXML3_SplitTimes[[#This Row],[Číslo čipu]] & \")\"","v":{"$error":"#REF!"}},{"$f":"ExportXML3_SplitTimes[[#This Row],[ControlCode]]","v":71},{"$f":"ExportXML3_SplitTimes[[#This Row],[SplitTimeSeconds]]/3600/24","v":"00:47:00"},{"$f":"COUNTIFS(ExportXML3_SplitTimes[Legenda],ExportXML3_SplitTimes[[#This Row],[Legenda]],ExportXML3_SplitTimes[Čas],\"<=\"&ExportXML3_SplitTimes[[#This Row],[Čas]])","v":632}]
["ŽA","Sedláčková","Jana","0060001",3129,84,2921,{"$f":"ExportXML3_SplitTimes[[#This Row],[GivenName]]&\" \"&ExportXML3_SplitTimes[[#This Row],[FamilyName]]","v":"Jana Sedláčková"},{"$f":"_xlfn.XLOOKUP(ExportXML3_SplitTimes[[#This Row],[PersonId]],#REF!,#REF!,\"-\")","v":{"$error":"#REF!"}},{"$f":"ExportXML3_SplitTimes[[#This Row],[Kategorie]] & \" - \" & ExportXML3_SplitTimes[[#This Row],[Závodník]] & \" (\" & ExportXML3_SplitTimes[[#This Row],[Číslo čipu]] & \")\"","v":{"$error":"#REF!"}},{"$f":"ExportXML3_SplitTimes[[#This Row],[ControlCode]]","v":84},{"$f":"ExportXML3_SplitTimes[[#This Row],[SplitTimeSeconds]]/3600/24","v":"00:48:41"},{"$f":"COUNTIFS(ExportXML3_SplitTimes[Legenda],ExportXML3_SplitTimes[[#This Row],[Legenda]],ExportXML3_SplitTimes[Čas],\"<=\"&ExportXML3_SplitTimes[[#This Row],[Čas]])","v":651}]
["ŽA","Sedláčková","Jana","0060001",3129,78,3005,{"$f":"ExportXML3_SplitTimes[[#This Row],[GivenName]]&\" \"&ExportXML3_SplitTimes[[#This Row],[FamilyName]]","v":"Jana Sedláčková"},{"$f":"_xlfn.XLOOKUP(ExportXML3_SplitTimes[[#This Row],[PersonId]],#REF!,#REF!,\"-\")","v":{"$error":"#REF!"}},{"$f":"ExportXML3_SplitTimes[[#This Row],[Kategorie]] & \" - \" & ExportXML3_SplitTimes[[#This Row],[Závodník]] & \" (\" & ExportXML3_SplitTimes[[#This Row],[Číslo čipu]] & \")\"","v":{"$error":"#REF!"}},{"$f":"ExportXML3_SplitTimes[[#This Row],[ControlCode]]","v":78},{"$f":"ExportXML3_SplitTimes[[#This Row],[SplitTimeSeconds]]/3600/24","v":"00:50:05"},{"$f":"COUNTIFS(ExportXML3_SplitTimes[Legenda],ExportXML3_SplitTimes[[#This Row],[Legenda]],ExportXML3_SplitTimes[Čas],\"<=\"&ExportXML3_SplitTimes[[#This Row],[Čas]])","v":669}]
["ŽA","Sedláčková","Jana","0060001",3129,100,3113,{"$f":"ExportXML3_SplitTimes[[#This Row],[GivenName]]&\" \"&ExportXML3_SplitTimes[[#This Row],[FamilyName]]","v":"Jana Sedláčková"},{"$f":"_xlfn.XLOOKUP(ExportXML3_SplitTimes[[#This Row],[PersonId]],#REF!,#REF!,\"-\")","v":{"$error":"#REF!"}},{"$f":"ExportXML3_SplitTimes[[#This Row],[Kategorie]] & \" - \" & ExportXML3_SplitTimes[[#This Row],[Závodník]] & \" (\" & ExportXML3_SplitTimes[[#This Row],[Číslo čipu]] & \")\"","v":{"$error":"#REF!"}},{"$f":"ExportXML3_SplitTimes[[#This Row],[ControlCode]]","v":100},{"$f":"ExportXML3_SplitTimes[[#This Row],[SplitTimeSeconds]]/3600/24","v":"00:51:53"},{"$f":"COUNTIFS(ExportXML3_SplitTimes[Legenda],ExportXML3_SplitTimes[[#This Row],[Legenda]],ExportXML3_SplitTimes[Čas],\"<=\"&ExportXML3_SplitTimes[[#This Row],[Čas]])","v":683}]
["ŽA","Janderová","Markéta","0030002",3263,48,360,{"$f":"ExportXML3_SplitTimes[[#This Row],[GivenName]]&\" \"&ExportXML3_SplitTimes[[#This Row],[FamilyName]]","v":"Markéta Janderová"},{"$f":"_xlfn.XLOOKUP(ExportXML3_SplitTimes[[#This Row],[PersonId]],#REF!,#REF!,\"-\")","v":{"$error":"#REF!"}},{"$f":"ExportXML3_SplitTimes[[#This Row],[Kategorie]] & \" - \" & ExportXML3_SplitTimes[[#This Row],[Závodník]] & \" (\" & ExportXML3_SplitTimes[[#This Row],[Číslo čipu]] & \")\"","v":{"$error":"#REF!"}},{"$f":"ExportXML3_SplitTimes[[#This Row],[ControlCode]]","v":48},{"$f":"ExportXML3_SplitTimes[[#This Row],[SplitTimeSeconds]]/3600/24","v":"00:06:00"},{"$f":"COUNTIFS(ExportXML3_SplitTimes[Legenda],ExportXML3_SplitTimes[[#This Row],[Legenda]],ExportXML3_SplitTimes[Čas],\"<=\"&ExportXML3_SplitTimes[[#This Row],[Čas]])","v":41}]
["ŽA","Janderová","Markéta","0030002",3263,50,523,{"$f":"ExportXML3_SplitTimes[[#This Row],[GivenName]]&\" \"&ExportXML3_SplitTimes[[#This Row],[FamilyName]]","v":"Markéta Janderová"},{"$f":"_xlfn.XLOOKUP(ExportXML3_SplitTimes[[#This Row],[PersonId]],#REF!,#REF!,\"-\")","v":{"$error":"#REF!"}},{"$f":"ExportXML3_SplitTimes[[#This Row],[Kategorie]] & \" - \" & ExportXML3_SplitTimes[[#This Row],[Závodník]] & \" (\" & ExportXML3_SplitTimes[[#This Row],[Číslo čipu]] & \")\"","v":{"$error":"#REF!"}},{"$f":"ExportXML3_SplitTimes[[#This Row],[ControlCode]]","v":50},{"$f":"ExportXML3_SplitTimes[[#This Row],[SplitTimeSeconds]]/3600/24","v":"00:08:43"},{"$f":"COUNTIFS(ExportXML3_SplitTimes[Legenda],ExportXML3_SplitTimes[[#This Row],[Legenda]],ExportXML3_SplitTimes[Čas],\"<=\"&ExportXML3_SplitTimes[[#This Row],[Čas]])","v":89}]
["ŽA","Janderová","Markéta","0030002",3263,52,635,{"$f":"ExportXML3_SplitTimes[[#This Row],[GivenName]]&\" \"&ExportXML3_SplitTimes[[#This Row],[FamilyName]]","v":"Markéta Janderová"},{"$f":"_xlfn.XLOOKUP(ExportXML3_SplitTimes[[#This Row],[PersonId]],#REF!,#REF!,\"-\")","v":{"$error":"#REF!"}},{"$f":"ExportXML3_SplitTimes[[#This Row],[Kategorie]] & \" - \" & ExportXML3_SplitTimes[[#This Row],[Závodník]] & \" (\" & ExportXML3_SplitTimes[[#This Row],[Číslo čipu]] & \")\"","v":{"$error":"#REF!"}},{"$f":"ExportXML3_SplitTimes[[#This Row],[ControlCode]]","v":52},{"$f":"ExportXML3_SplitTimes[[#This Row],[SplitTimeSeconds]]/3600/24","v":"00:10:35"},{"$f":"COUNTIFS(ExportXML3_SplitTimes[Legenda],ExportXML3_SplitTimes[[#This Row],[Legenda]],ExportXML3_SplitTimes[Čas],\"<=\"&ExportXML3_SplitTimes[[#This Row],[Čas]])","v":120}]
["ŽA","Janderová","Markéta","0030002",3263,33,802,{"$f":"ExportXML3_SplitTimes[[#This Row],[GivenName]]&\" \"&ExportXML3_SplitTimes[[#This Row],[FamilyName]]","v":"Markéta Janderová"},{"$f":"_xlfn.XLOOKUP(ExportXML3_SplitTimes[[#This Row],[PersonId]],#REF!,#REF!,\"-\")","v":{"$error":"#REF!"}},{"$f":"ExportXML3_SplitTimes[[#This Row],[Kategorie]] & \" - \" & ExportXML3_SplitTimes[[#This Row],[Závodník]] & \" (\" & ExportXML3_SplitTimes[[#This Row],[Číslo čipu]] & \")\"","v":{"$error":"#REF!"}},{"$f":"ExportXML3_SplitTimes[[#This Row],[ControlCode]]","v":33},{"$f":"ExportXML3_SplitTimes[[#This Row],[SplitTimeSeconds]]/3600/24","v":"00:13:22"},{"$f":"COUNTIFS(ExportXML3_SplitTimes[Legenda],ExportXML3_SplitTimes[[#This Row],[Legenda]],ExportXML3_SplitTimes[Čas],\"<=\"&ExportXML3_SplitTimes[[#This Row],[Čas]])","v":168}]
["ŽA","Janderová","Markéta","0030002",3263,37,1004,{"$f":"ExportXML3_SplitTimes[[#This Row],[GivenName]]&\" \"&ExportXML3_SplitTimes[[#This Row],[FamilyName]]","v":"Markéta Janderová"},{"$f":"_xlfn.XLOOKUP(ExportXML3_SplitTimes[[#This Row],[PersonId]],#REF!,#REF!,\"-\")","v":{"$error":"#REF!"}},{"$f":"ExportXML3_SplitTimes[[#This Row],[Kategorie]] & \" - \" & ExportXML3_SplitTimes[[#This Row],[Závodník]] & \" (\" & ExportXML3_SplitTimes[[#This Row],[Číslo čipu]] & \")\"","v":{"$error":"#REF!"}},{"$f":"ExportXML3_SplitTimes[[#This Row],[ControlCode]]","v":37},{"$f":"ExportXML3_SplitTimes[[#This Row],[SplitTimeSeconds]]/3600/24","v":"00:16:44"},{"$f":"COUNTIFS(ExportXML3_SplitTimes[Legenda],ExportXML3_SplitTimes[[#This Row],[Legenda]],ExportXML3_SplitTimes[Čas],\"<=\"&ExportXML3_SplitTimes[[#This Row],[Čas]])","v":224}]
["ŽA","Janderová","Markéta","0030002",3263,40,1254,{"$f":"ExportXML3_SplitTimes[[#This Row],[GivenName]]&\" \"&ExportXML3_SplitTimes[[#This Row],[FamilyName]]","v":"Markéta Janderová"},{"$f":"_xlfn.XLOOKUP(ExportXML3_SplitTimes[[#This Row],[PersonId]],#REF!,#REF!,\"-\")","v":{"$error":"#REF!"}},{"$f":"ExportXML3_SplitTimes[[#This Row],[Kategorie]] & \" - \" & ExportXML3_SplitTimes[[#This Row],[Závodník]] & \" (\" & ExportXML3_SplitTimes[[#This Row],[Číslo čipu]] & \")\"","v":{"$error":"#REF!"}},{"$f":"ExportXML3_SplitTimes[[#This Row],[ControlCode]]","v":40},{"$f":"ExportXML3_SplitTimes[[#This Row],[SplitTimeSeconds]]/3600/24","v":"00:20:54"},{"$f":"COUNTIFS(ExportXML3_SplitTimes[Legenda],ExportXML3_SplitTimes[[#This Row],[Legenda]],ExportXML3_SplitTimes[Čas],\"<=\"&ExportXML3_SplitTimes[[#This Row],[Čas]])","v":284}]
["ŽA","Janderová","Markéta","0030002",3263,32,1395,{"$f":"ExportXML3_SplitTimes[[#This Row],[GivenName]]&\" \"&ExportXML3_SplitTimes[[#This Row],[FamilyName]]","v":"Markéta Janderová"},{"$f":"_xlfn.XLOOKUP(ExportXML3_SplitTimes[[#This Row],[PersonId]],#REF!,#REF!,\"-\")","v":{"$error":"#REF!"}},{"$f":"ExportXML3_SplitTimes[[#This Row],[Kategorie]] & \" - \" & ExportXML3_SplitTimes[[#This Row],[Závodník]] & \" (\" & ExportXML3_SplitTimes[[#This Row],[Číslo čipu]] & \")\"","v":{"$error":"#REF!"}},{"$f":"ExportXML3_SplitTimes[[#This Row],[ControlCode]]","v":32},{"$f":"ExportXML3_SplitTimes[[#This Row],[SplitTimeSeconds]]/3600/24","v":"00:23:15"},{"$f":"COUNTIFS(ExportXML3_SplitTimes[Legenda],ExportXML3_SplitTimes[[#This Row],[Legenda]],ExportXML3_SplitTimes[Čas],\"<=\"&ExportXML3_SplitTimes[[#This Row],[Čas]])","v":313}]
["ŽA","Janderová","Markéta","0030002",3263,43,1705,{"$f":"ExportXML3_SplitTimes[[#This Row],[GivenName]]&\" \"&ExportXML3_SplitTimes[[#This Row],[FamilyName]]","v":"Markéta Janderová"},{"$f":"_xlfn.XLOOKUP(ExportXML3_SplitTimes[[#This Row],[PersonId]],#REF!,#REF!,\"-\")","v":{"$error":"#REF!"}},{"$f":"ExportXML3_SplitTimes[[#This Row],[Kategorie]] & \" - \" & ExportXML3_SplitTimes[[#This Row],[Závodník]] & \" (\" & ExportXML3_SplitTimes[[#This Row],[Číslo čipu]] & \")\"","v":{"$error":"#REF!"}},{"$f":"ExportXML3_SplitTimes[[#This Row],[ControlCode]]","v":43},{"$f":"ExportXML3_SplitTimes[[#This Row],[SplitTimeSeconds]]/3600/24","v":"00:28:25"},{"$f":"COUNTIFS(ExportXML3_SplitTimes[Legenda],ExportXML3_SplitTimes[[#This Row],[Legenda]],ExportXML3_SplitTimes[Čas],\"<=\"&ExportXML3_SplitTimes[[#This Row],[Čas]])","v":384}]
["ŽA","Janderová","Markéta","0030002",3263,45,2042,{"$f":"ExportXML3_SplitTimes[[#This Row],[GivenName]]&\" \"&ExportXML3_SplitTimes[[#This Row],[FamilyName]]","v":"Markéta Janderová"},{"$f":"_xlfn.XLOOKUP(ExportXML3_SplitTimes[[#This Row],[PersonId]],#REF!,#REF!,\"-\")","v":{"$error":"#REF!"}},{"$f":"ExportXML3_SplitTimes[[#This Row],[Kategorie]] & \" - \" & ExportXML3_SplitTimes[[#This Row],[Závodník]] & \" (\" & ExportXML3_SplitTimes[[#This Row],[Číslo čipu]] & \")\"","v":{"$error":"#REF!"}},{"$f":"ExportXML3_SplitTimes[[#This Row],[ControlCode]]","v":45},{"$f":"ExportXML3_SplitTimes[[#This Row],[SplitTimeSeconds]]/3600/24","v":"00:34:02"},{"$f":"COUNTIFS(ExportXML3_SplitTimes[Legenda],ExportXML3_SplitTimes[[#This Row],[Legenda]],ExportXML3_SplitTimes[Čas],\"<=\"&ExportXML3_SplitTimes[[#This Row],[Čas]])","v":470}]
["ŽA","Janderová","Markéta","0030002",3263,56,2250,{"$f":"ExportXML3_SplitTimes[[#This Row],[GivenName]]&\" \"&ExportXML3_SplitTimes[[#This Row],[FamilyName]]","v":"Markéta Janderová"},{"$f":"_xlfn.XLOOKUP(ExportXML3_SplitTimes[[#This Row],[PersonId]],#REF!,#REF!,\"-\")","v":{"$error":"#REF!"}},{"$f":"ExportXML3_SplitTimes[[#This Row],[Kategorie]] & \" - \" & ExportXML3_SplitTimes[[#This Row],[Závodník]] & \" (\" & ExportXML3_SplitTimes[[#This Row],[Číslo čipu]] & \")\"","v":{"$error":"#REF!"}},{"$f":"ExportXML3_SplitTimes[[#This Row],[ControlCode]]","v":56},{"$f":"ExportXML3_SplitTimes[[#This Row],[SplitTimeSeconds]]/3600/24","v":"00:37:30"},{"$f":"COUNTIFS(ExportXML3_SplitTimes[Legenda],ExportXML3_SplitTimes[[#This Row],[Legenda]],ExportXML3_SplitTimes[Čas],\"<=\"&ExportXML3_SplitTimes[[#This Row],[Čas]])","v":511}]
["ŽA","Janderová","Markéta","0030002",3263,93,2423,{"$f":"ExportXML3_SplitTimes[[#This Row],[GivenName]]&\" \"&ExportXML3_SplitTimes[[#This Row],[FamilyName]]","v":"Markéta Janderová"},{"$f":"_xlfn.XLOOKUP(ExportXML3_SplitTimes[[#This Row],[PersonId]],#REF!,#REF!,\"-\")","v":{"$error":"#REF!"}},{"$f":"ExportXML3_SplitTimes[[#This Row],[Kategorie]] & \" - \" & ExportXML3_SplitTimes[[#This Row],[Závodník]] & \" (\" & ExportXML3_SplitTimes[[#This Row],[Číslo čipu]] & \")\"","v":{"$error":"#REF!"}},{"$f":"ExportXML3_SplitTimes[[#This Row],[ControlCode]]","v":93},{"$f":"ExportXML3_SplitTimes[[#This Row],[SplitTimeSeconds]]/3600/24","v":"00:40:23"},{"$f":"COUNTIFS(ExportXML3_SplitTimes[Legenda],ExportXML3_SplitTimes[[#This Row],[Legenda]],ExportXML3_SplitTimes[Čas],\"<=\"&ExportXML3_SplitTimes[[#This Row],[Čas]])","v":549}]
["ŽA","Janderová","Markéta","0030002",3263,69,2529,{"$f":"ExportXML3_SplitTimes[[#This Row],[GivenName]]&\" \"&ExportXML3_SplitTimes[[#This Row],[FamilyName]]","v":"Markéta Janderová"},{"$f":"_xlfn.XLOOKUP(ExportXML3_SplitTimes[[#This Row],[PersonId]],#REF!,#REF!,\"-\")","v":{"$error":"#REF!"}},{"$f":"ExportXML3_SplitTimes[[#This Row],[Kategorie]] & \" - \" & ExportXML3_SplitTimes[[#This Row],[Závodník]] & \" (\" & ExportXML3_SplitTimes[[#This Row],[Číslo čipu]] & \")\"","v":{"$error":"#REF!"}},{"$f":"ExportXML3_SplitTimes[[#This Row],[ControlCode]]","v":69},{"$f":"ExportXML3_SplitTimes[[#This Row],[SplitTimeSeconds]]/3600/24","v":"00:42:09"},{"$f":"COUNTIFS(ExportXML3_SplitTimes[Legenda],ExportXML3_SplitTimes[[#This Row],[Legenda]],ExportXML3_SplitTimes[Čas],\"<=\"&ExportXML3_SplitTimes[[#This Row],[Čas]])","v":571}]
["ŽA","Janderová","Markéta","0030002",3263,77,2730,{"$f":"ExportXML3_SplitTimes[[#This Row],[GivenName]]&\" \"&ExportXML3_SplitTimes[[#This Row],[FamilyName]]","v":"Markéta Janderová"},{"$f":"_xlfn.XLOOKUP(ExportXML3_SplitTimes[[#This Row],[PersonId]],#REF!,#REF!,\"-\")","v":{"$error":"#REF!"}},{"$f":"ExportXML3_SplitTimes[[#This Row],[Kategorie]] & \" - \" & ExportXML3_SplitTimes[[#This Row],[Závodník]] & \" (\" & ExportXML3_SplitTimes[[#This Row],[Číslo čipu]] & \")\"","v":{"$error":"#REF!"}},{"$f":"ExportXML3_SplitTimes[[#This Row],[ControlCode]]","v":77},{"$f":"ExportXML3_SplitTimes[[#This Row],[SplitTimeSeconds]]/3600/24","v":"00:45:30"},{"$f":"COUNTIFS(ExportXML3_SplitTimes[Legenda],ExportXML3_SplitTimes[[#This Row],[Legenda]],ExportXML3_SplitTimes[Čas],\"<=\"&ExportXML3_SplitTimes[[#This Row],[Čas]])","v":613}]
["ŽA","Janderová","Markéta","0030002",3263,71,2939,{"$f":"ExportXML3_SplitTimes[[#This Row],[GivenName]]&\" \"&ExportXML3_SplitTimes[[#This Row],[FamilyName]]","v":"Markéta Janderová"},{"$f":"_xlfn.XLOOKUP(ExportXML3_SplitTimes[[#This Row],[PersonId]],#REF!,#REF!,\"-\")","v":{"$error":"#REF!"}},{"$f":"ExportXML3_SplitTimes[[#This Row],[Kategorie]] & \" - \" & ExportXML3_SplitTimes[[#This Row],[Závodník]] & \" (\" & ExportXML3_SplitTimes[[#This Row],[Číslo čipu]] & \")\"","v":{"$error":"#REF!"}},{"$f":"ExportXML3_SplitTimes[[#This Row],[ControlCode]]","v":71},{"$f":"ExportXML3_SplitTimes[[#This Row],[SplitTimeSeconds]]/3600/24","v":"00:48:59"},{"$f":"COUNTIFS(ExportXML3_SplitTimes[Legenda],ExportXML3_SplitTimes[[#This Row],[Legenda]],ExportXML3_SplitTimes[Čas],\"<=\"&ExportXML3_SplitTimes[[#This Row],[Čas]])","v":656}]
["ŽA","Janderová","Markéta","0030002",3263,84,3047,{"$f":"ExportXML3_SplitTimes[[#This Row],[GivenName]]&\" \"&ExportXML3_SplitTimes[[#This Row],[FamilyName]]","v":"Markéta Janderová"},{"$f":"_xlfn.XLOOKUP(ExportXML3_SplitTimes[[#This Row],[PersonId]],#REF!,#REF!,\"-\")","v":{"$error":"#REF!"}},{"$f":"ExportXML3_SplitTimes[[#This Row],[Kategorie]] & \" - \" & ExportXML3_SplitTimes[[#This Row],[Závodník]] & \" (\" & ExportXML3_SplitTimes[[#This Row],[Číslo čipu]] & \")\"","v":{"$error":"#REF!"}},{"$f":"ExportXML3_SplitTimes[[#This Row],[ControlCode]]","v":84},{"$f":"ExportXML3_SplitTimes[[#This Row],[SplitTimeSeconds]]/3600/24","v":"00:50:47"},{"$f":"COUNTIFS(ExportXML3_SplitTimes[Legenda],ExportXML3_SplitTimes[[#This Row],[Legenda]],ExportXML3_SplitTimes[Čas],\"<=\"&ExportXML3_SplitTimes[[#This Row],[Čas]])","v":672}]
["ŽA","Janderová","Markéta","0030002",3263,78,3135,{"$f":"ExportXML3_SplitTimes[[#This Row],[GivenName]]&\" \"&ExportXML3_SplitTimes[[#This Row],[FamilyName]]","v":"Markéta Janderová"},{"$f":"_xlfn.XLOOKUP(ExportXML3_SplitTimes[[#This Row],[PersonId]],#REF!,#REF!,\"-\")","v":{"$error":"#REF!"}},{"$f":"ExportXML3_SplitTimes[[#This Row],[Kategorie]] & \" - \" & ExportXML3_SplitTimes[[#This Row],[Závodník]] & \" (\" & ExportXML3_SplitTimes[[#This Row],[Číslo čipu]] & \")\"","v":{"$error":"#REF!"}},{"$f":"ExportXML3_SplitTimes[[#This Row],[ControlCode]]","v":78},{"$f":"ExportXML3_SplitTimes[[#This Row],[SplitTimeSeconds]]/3600/24","v":"00:52:15"},{"$f":"COUNTIFS(ExportXML3_SplitTimes[Legenda],ExportXML3_SplitTimes[[#This Row],[Legenda]],ExportXML3_SplitTimes[Čas],\"<=\"&ExportXML3_SplitTimes[[#This Row],[Čas]])","v":688}]
["ŽA","Janderová","Markéta","0030002",3263,100,3246,{"$f":"ExportXML3_SplitTimes[[#This Row],[GivenName]]&\" \"&ExportXML3_SplitTimes[[#This Row],[FamilyName]]","v":"Markéta Janderová"},{"$f":"_xlfn.XLOOKUP(ExportXML3_SplitTimes[[#This Row],[PersonId]],#REF!,#REF!,\"-\")","v":{"$error":"#REF!"}},{"$f":"ExportXML3_SplitTimes[[#This Row],[Kategorie]] & \" - \" & ExportXML3_SplitTimes[[#This Row],[Závodník]] & \" (\" & ExportXML3_SplitTimes[[#This Row],[Číslo čipu]] & \")\"","v":{"$error":"#REF!"}},{"$f":"ExportXML3_SplitTimes[[#This Row],[ControlCode]]","v":100},{"$f":"ExportXML3_SplitTimes[[#This Row],[SplitTimeSeconds]]/3600/24","v":"00:54:06"},{"$f":"COUNTIFS(ExportXML3_SplitTimes[Legenda],ExportXML3_SplitTimes[[#This Row],[Legenda]],ExportXML3_SplitTimes[Čas],\"<=\"&ExportXML3_SplitTimes[[#This Row],[Čas]])","v":700}]
["ŽA","Brabencová","Alena","0240001",3325,48,272,{"$f":"ExportXML3_SplitTimes[[#This Row],[GivenName]]&\" \"&ExportXML3_SplitTimes[[#This Row],[FamilyName]]","v":"Alena Brabencová"},{"$f":"_xlfn.XLOOKUP(ExportXML3_SplitTimes[[#This Row],[PersonId]],#REF!,#REF!,\"-\")","v":{"$error":"#REF!"}},{"$f":"ExportXML3_SplitTimes[[#This Row],[Kategorie]] & \" - \" & ExportXML3_SplitTimes[[#This Row],[Závodník]] & \" (\" & ExportXML3_SplitTimes[[#This Row],[Číslo čipu]] & \")\"","v":{"$error":"#REF!"}},{"$f":"ExportXML3_SplitTimes[[#This Row],[ControlCode]]","v":48},{"$f":"ExportXML3_SplitTimes[[#This Row],[SplitTimeSeconds]]/3600/24","v":"00:04:32"},{"$f":"COUNTIFS(ExportXML3_SplitTimes[Legenda],ExportXML3_SplitTimes[[#This Row],[Legenda]],ExportXML3_SplitTimes[Čas],\"<=\"&ExportXML3_SplitTimes[[#This Row],[Čas]])","v":21}]
["ŽA","Brabencová","Alena","0240001",3325,50,502,{"$f":"ExportXML3_SplitTimes[[#This Row],[GivenName]]&\" \"&ExportXML3_SplitTimes[[#This Row],[FamilyName]]","v":"Alena Brabencová"},{"$f":"_xlfn.XLOOKUP(ExportXML3_SplitTimes[[#This Row],[PersonId]],#REF!,#REF!,\"-\")","v":{"$error":"#REF!"}},{"$f":"ExportXML3_SplitTimes[[#This Row],[Kategorie]] & \" - \" & ExportXML3_SplitTimes[[#This Row],[Závodník]] & \" (\" & ExportXML3_SplitTimes[[#This Row],[Číslo čipu]] & \")\"","v":{"$error":"#REF!"}},{"$f":"ExportXML3_SplitTimes[[#This Row],[ControlCode]]","v":50},{"$f":"ExportXML3_SplitTimes[[#This Row],[SplitTimeSeconds]]/3600/24","v":"00:08:22"},{"$f":"COUNTIFS(ExportXML3_SplitTimes[Legenda],ExportXML3_SplitTimes[[#This Row],[Legenda]],ExportXML3_SplitTimes[Čas],\"<=\"&ExportXML3_SplitTimes[[#This Row],[Čas]])","v":79}]
["ŽA","Brabencová","Alena","0240001",3325,52,599,{"$f":"ExportXML3_SplitTimes[[#This Row],[GivenName]]&\" \"&ExportXML3_SplitTimes[[#This Row],[FamilyName]]","v":"Alena Brabencová"},{"$f":"_xlfn.XLOOKUP(ExportXML3_SplitTimes[[#This Row],[PersonId]],#REF!,#REF!,\"-\")","v":{"$error":"#REF!"}},{"$f":"ExportXML3_SplitTimes[[#This Row],[Kategorie]] & \" - \" & ExportXML3_SplitTimes[[#This Row],[Závodník]] & \" (\" & ExportXML3_SplitTimes[[#This Row],[Číslo čipu]] & \")\"","v":{"$error":"#REF!"}},{"$f":"ExportXML3_SplitTimes[[#This Row],[ControlCode]]","v":52},{"$f":"ExportXML3_SplitTimes[[#This Row],[SplitTimeSeconds]]/3600/24","v":"00:09:59"},{"$f":"COUNTIFS(ExportXML3_SplitTimes[Legenda],ExportXML3_SplitTimes[[#This Row],[Legenda]],ExportXML3_SplitTimes[Čas],\"<=\"&ExportXML3_SplitTimes[[#This Row],[Čas]])","v":112}]
["ŽA","Brabencová","Alena","0240001",3325,33,747,{"$f":"ExportXML3_SplitTimes[[#This Row],[GivenName]]&\" \"&ExportXML3_SplitTimes[[#This Row],[FamilyName]]","v":"Alena Brabencová"},{"$f":"_xlfn.XLOOKUP(ExportXML3_SplitTimes[[#This Row],[PersonId]],#REF!,#REF!,\"-\")","v":{"$error":"#REF!"}},{"$f":"ExportXML3_SplitTimes[[#This Row],[Kategorie]] & \" - \" & ExportXML3_SplitTimes[[#This Row],[Závodník]] & \" (\" & ExportXML3_SplitTimes[[#This Row],[Číslo čipu]] & \")\"","v":{"$error":"#REF!"}},{"$f":"ExportXML3_SplitTimes[[#This Row],[ControlCode]]","v":33},{"$f":"ExportXML3_SplitTimes[[#This Row],[SplitTimeSeconds]]/3600/24","v":"00:12:27"},{"$f":"COUNTIFS(ExportXML3_SplitTimes[Legenda],ExportXML3_SplitTimes[[#This Row],[Legenda]],ExportXML3_SplitTimes[Čas],\"<=\"&ExportXML3_SplitTimes[[#This Row],[Čas]])","v":157}]
["ŽA","Brabencová","Alena","0240001",3325,37,979,{"$f":"ExportXML3_SplitTimes[[#This Row],[GivenName]]&\" \"&ExportXML3_SplitTimes[[#This Row],[FamilyName]]","v":"Alena Brabencová"},{"$f":"_xlfn.XLOOKUP(ExportXML3_SplitTimes[[#This Row],[PersonId]],#REF!,#REF!,\"-\")","v":{"$error":"#REF!"}},{"$f":"ExportXML3_SplitTimes[[#This Row],[Kategorie]] & \" - \" & ExportXML3_SplitTimes[[#This Row],[Závodník]] & \" (\" & ExportXML3_SplitTimes[[#This Row],[Číslo čipu]] & \")\"","v":{"$error":"#REF!"}},{"$f":"ExportXML3_SplitTimes[[#This Row],[ControlCode]]","v":37},{"$f":"ExportXML3_SplitTimes[[#This Row],[SplitTimeSeconds]]/3600/24","v":"00:16:19"},{"$f":"COUNTIFS(ExportXML3_SplitTimes[Legenda],ExportXML3_SplitTimes[[#This Row],[Legenda]],ExportXML3_SplitTimes[Čas],\"<=\"&ExportXML3_SplitTimes[[#This Row],[Čas]])","v":220}]
["ŽA","Brabencová","Alena","0240001",3325,40,1197,{"$f":"ExportXML3_SplitTimes[[#This Row],[GivenName]]&\" \"&ExportXML3_SplitTimes[[#This Row],[FamilyName]]","v":"Alena Brabencová"},{"$f":"_xlfn.XLOOKUP(ExportXML3_SplitTimes[[#This Row],[PersonId]],#REF!,#REF!,\"-\")","v":{"$error":"#REF!"}},{"$f":"ExportXML3_SplitTimes[[#This Row],[Kategorie]] & \" - \" & ExportXML3_SplitTimes[[#This Row],[Závodník]] & \" (\" & ExportXML3_SplitTimes[[#This Row],[Číslo čipu]] & \")\"","v":{"$error":"#REF!"}},{"$f":"ExportXML3_SplitTimes[[#This Row],[ControlCode]]","v":40},{"$f":"ExportXML3_SplitTimes[[#This Row],[SplitTimeSeconds]]/3600/24","v":"00:19:57"},{"$f":"COUNTIFS(ExportXML3_SplitTimes[Legenda],ExportXML3_SplitTimes[[#This Row],[Legenda]],ExportXML3_SplitTimes[Čas],\"<=\"&ExportXML3_SplitTimes[[#This Row],[Čas]])","v":273}]
["ŽA","Brabencová","Alena","0240001",3325,32,1560,{"$f":"ExportXML3_SplitTimes[[#This Row],[GivenName]]&\" \"&ExportXML3_SplitTimes[[#This Row],[FamilyName]]","v":"Alena Brabencová"},{"$f":"_xlfn.XLOOKUP(ExportXML3_SplitTimes[[#This Row],[PersonId]],#REF!,#REF!,\"-\")","v":{"$error":"#REF!"}},{"$f":"ExportXML3_SplitTimes[[#This Row],[Kategorie]] & \" - \" & ExportXML3_SplitTimes[[#This Row],[Závodník]] & \" (\" & ExportXML3_SplitTimes[[#This Row],[Číslo čipu]] & \")\"","v":{"$error":"#REF!"}},{"$f":"ExportXML3_SplitTimes[[#This Row],[ControlCode]]","v":32},{"$f":"ExportXML3_SplitTimes[[#This Row],[SplitTimeSeconds]]/3600/24","v":"00:26:00"},{"$f":"COUNTIFS(ExportXML3_SplitTimes[Legenda],ExportXML3_SplitTimes[[#This Row],[Legenda]],ExportXML3_SplitTimes[Čas],\"<=\"&ExportXML3_SplitTimes[[#This Row],[Čas]])","v":350}]
["ŽA","Brabencová","Alena","0240001",3325,43,1789,{"$f":"ExportXML3_SplitTimes[[#This Row],[GivenName]]&\" \"&ExportXML3_SplitTimes[[#This Row],[FamilyName]]","v":"Alena Brabencová"},{"$f":"_xlfn.XLOOKUP(ExportXML3_SplitTimes[[#This Row],[PersonId]],#REF!,#REF!,\"-\")","v":{"$error":"#REF!"}},{"$f":"ExportXML3_SplitTimes[[#This Row],[Kategorie]] & \" - \" & ExportXML3_SplitTimes[[#This Row],[Závodník]] & \" (\" & ExportXML3_SplitTimes[[#This Row],[Číslo čipu]] & \")\"","v":{"$error":"#REF!"}},{"$f":"ExportXML3_SplitTimes[[#This Row],[ControlCode]]","v":43},{"$f":"ExportXML3_SplitTimes[[#This Row],[SplitTimeSeconds]]/3600/24","v":"00:29:49"},{"$f":"COUNTIFS(ExportXML3_SplitTimes[Legenda],ExportXML3_SplitTimes[[#This Row],[Legenda]],ExportXML3_SplitTimes[Čas],\"<=\"&ExportXML3_SplitTimes[[#This Row],[Čas]])","v":411}]
["ŽA","Brabencová","Alena","0240001",3325,45,2056,{"$f":"ExportXML3_SplitTimes[[#This Row],[GivenName]]&\" \"&ExportXML3_SplitTimes[[#This Row],[FamilyName]]","v":"Alena Brabencová"},{"$f":"_xlfn.XLOOKUP(ExportXML3_SplitTimes[[#This Row],[PersonId]],#REF!,#REF!,\"-\")","v":{"$error":"#REF!"}},{"$f":"ExportXML3_SplitTimes[[#This Row],[Kategorie]] & \" - \" & ExportXML3_SplitTimes[[#This Row],[Závodník]] & \" (\" & ExportXML3_SplitTimes[[#This Row],[Číslo čipu]] & \")\"","v":{"$error":"#REF!"}},{"$f":"ExportXML3_SplitTimes[[#This Row],[ControlCode]]","v":45},{"$f":"ExportXML3_SplitTimes[[#This Row],[SplitTimeSeconds]]/3600/24","v":"00:34:16"},{"$f":"COUNTIFS(ExportXML3_SplitTimes[Legenda],ExportXML3_SplitTimes[[#This Row],[Legenda]],ExportXML3_SplitTimes[Čas],\"<=\"&ExportXML3_SplitTimes[[#This Row],[Čas]])","v":474}]
["ŽA","Brabencová","Alena","0240001",3325,56,2231,{"$f":"ExportXML3_SplitTimes[[#This Row],[GivenName]]&\" \"&ExportXML3_SplitTimes[[#This Row],[FamilyName]]","v":"Alena Brabencová"},{"$f":"_xlfn.XLOOKUP(ExportXML3_SplitTimes[[#This Row],[PersonId]],#REF!,#REF!,\"-\")","v":{"$error":"#REF!"}},{"$f":"ExportXML3_SplitTimes[[#This Row],[Kategorie]] & \" - \" & ExportXML3_SplitTimes[[#This Row],[Závodník]] & \" (\" & ExportXML3_SplitTimes[[#This Row],[Číslo čipu]] & \")\"","v":{"$error":"#REF!"}},{"$f":"ExportXML3_SplitTimes[[#This Row],[ControlCode]]","v":56},{"$f":"ExportXML3_SplitTimes[[#This Row],[SplitTimeSeconds]]/3600/24","v":"00:37:11"},{"$f":"COUNTIFS(ExportXML3_SplitTimes[Legenda],ExportXML3_SplitTimes[[#This Row],[Legenda]],ExportXML3_SplitTimes[Čas],\"<=\"&ExportXML3_SplitTimes[[#This Row],[Čas]])","v":505}]
["ŽA","Brabencová","Alena","0240001",3325,93,2539,{"$f":"ExportXML3_SplitTimes[[#This Row],[GivenName]]&\" \"&ExportXML3_SplitTimes[[#This Row],[FamilyName]]","v":"Alena Brabencová"},{"$f":"_xlfn.XLOOKUP(ExportXML3_SplitTimes[[#This Row],[PersonId]],#REF!,#REF!,\"-\")","v":{"$error":"#REF!"}},{"$f":"ExportXML3_SplitTimes[[#This Row],[Kategorie]] & \" - \" & ExportXML3_SplitTimes[[#This Row],[Závodník]] & \" (\" & ExportXML3_SplitTimes[[#This Row],[Číslo čipu]] & \")\"","v":{"$error":"#REF!"}},{"$f":"ExportXML3_SplitTimes[[#This Row],[ControlCode]]","v":93},{"$f":"ExportXML3_SplitTimes[[#This Row],[SplitTimeSeconds]]/3600/24","v":"00:42:19"},{"$f":"COUNTIFS(ExportXML3_SplitTimes[Legenda],ExportXML3_SplitTimes[[#This Row],[Legenda]],ExportXML3_SplitTimes[Čas],\"<=\"&ExportXML3_SplitTimes[[#This Row],[Čas]])","v":574}]
["ŽA","Brabencová","Alena","0240001",3325,69,2636,{"$f":"ExportXML3_SplitTimes[[#This Row],[GivenName]]&\" \"&ExportXML3_SplitTimes[[#This Row],[FamilyName]]","v":"Alena Brabencová"},{"$f":"_xlfn.XLOOKUP(ExportXML3_SplitTimes[[#This Row],[PersonId]],#REF!,#REF!,\"-\")","v":{"$error":"#REF!"}},{"$f":"ExportXML3_SplitTimes[[#This Row],[Kategorie]] & \" - \" & ExportXML3_SplitTimes[[#This Row],[Závodník]] & \" (\" & ExportXML3_SplitTimes[[#This Row],[Číslo čipu]] & \")\"","v":{"$error":"#REF!"}},{"$f":"ExportXML3_SplitTimes[[#This Row],[ControlCode]]","v":69},{"$f":"ExportXML3_SplitTimes[[#This Row],[SplitTimeSeconds]]/3600/24","v":"00:43:56"},{"$f":"COUNTIFS(ExportXML3_SplitTimes[Legenda],ExportXML3_SplitTimes[[#This Row],[Legenda]],ExportXML3_SplitTimes[Čas],\"<=\"&ExportXML3_SplitTimes[[#This Row],[Čas]])","v":588}]
["ŽA","Brabencová","Alena","0240001",3325,77,2801,{"$f":"ExportXML3_SplitTimes[[#This Row],[GivenName]]&\" \"&ExportXML3_SplitTimes[[#This Row],[FamilyName]]","v":"Alena Brabencová"},{"$f":"_xlfn.XLOOKUP(ExportXML3_SplitTimes[[#This Row],[PersonId]],#REF!,#REF!,\"-\")","v":{"$error":"#REF!"}},{"$f":"ExportXML3_SplitTimes[[#This Row],[Kategorie]] & \" - \" & ExportXML3_SplitTimes[[#This Row],[Závodník]] & \" (\" & ExportXML3_SplitTimes[[#This Row],[Číslo čipu]] & \")\"","v":{"$error":"#REF!"}},{"$f":"ExportXML3_SplitTimes[[#This Row],[ControlCode]]","v":77},{"$f":"ExportXML3_SplitTimes[[#This Row],[SplitTimeSeconds]]/3600/24","v":"00:46:41"},{"$f":"COUNTIFS(ExportXML3_SplitTimes[Legenda],ExportXML3_SplitTimes[[#This Row],[Legenda]],ExportXML3_SplitTimes[Čas],\"<=\"&ExportXML3_SplitTimes[[#This Row],[Čas]])","v":630}]
["ŽA","Brabencová","Alena","0240001",3325,71,2960,{"$f":"ExportXML3_SplitTimes[[#This Row],[GivenName]]&\" \"&ExportXML3_SplitTimes[[#This Row],[FamilyName]]","v":"Alena Brabencová"},{"$f":"_xlfn.XLOOKUP(ExportXML3_SplitTimes[[#This Row],[PersonId]],#REF!,#REF!,\"-\")","v":{"$error":"#REF!"}},{"$f":"ExportXML3_SplitTimes[[#This Row],[Kategorie]] & \" - \" & ExportXML3_SplitTimes[[#This Row],[Závodník]] & \" (\" & ExportXML3_SplitTimes[[#This Row],[Číslo čipu]] & \")\"","v":{"$error":"#REF!"}},{"$f":"ExportXML3_SplitTimes[[#This Row],[ControlCode]]","v":71},{"$f":"ExportXML3_SplitTimes[[#This Row],[SplitTimeSeconds]]/3600/24","v":"00:49:20"},{"$f":"COUNTIFS(ExportXML3_SplitTimes[Legenda],ExportXML3_SplitTimes[[#This Row],[Legenda]],ExportXML3_SplitTimes[Čas],\"<=\"&ExportXML3_SplitTimes[[#This Row],[Čas]])","v":661}]
["ŽA","Brabencová","Alena","0240001",3325,84,3074,{"$f":"ExportXML3_SplitTimes[[#This Row],[GivenName]]&\" \"&ExportXML3_SplitTimes[[#This Row],[FamilyName]]","v":"Alena Brabencová"},{"$f":"_xlfn.XLOOKUP(ExportXML3_SplitTimes[[#This Row],[PersonId]],#REF!,#REF!,\"-\")","v":{"$error":"#REF!"}},{"$f":"ExportXML3_SplitTimes[[#This Row],[Kategorie]] & \" - \" & ExportXML3_SplitTimes[[#This Row],[Závodník]] & \" (\" & ExportXML3_SplitTimes[[#This Row],[Číslo čipu]] & \")\"","v":{"$error":"#REF!"}},{"$f":"ExportXML3_SplitTimes[[#This Row],[ControlCode]]","v":84},{"$f":"ExportXML3_SplitTimes[[#This Row],[SplitTimeSeconds]]/3600/24","v":"00:51:14"},{"$f":"COUNTIFS(ExportXML3_SplitTimes[Legenda],ExportXML3_SplitTimes[[#This Row],[Legenda]],ExportXML3_SplitTimes[Čas],\"<=\"&ExportXML3_SplitTimes[[#This Row],[Čas]])","v":677}]
["ŽA","Brabencová","Alena","0240001",3325,78,3175,{"$f":"ExportXML3_SplitTimes[[#This Row],[GivenName]]&\" \"&ExportXML3_SplitTimes[[#This Row],[FamilyName]]","v":"Alena Brabencová"},{"$f":"_xlfn.XLOOKUP(ExportXML3_SplitTimes[[#This Row],[PersonId]],#REF!,#REF!,\"-\")","v":{"$error":"#REF!"}},{"$f":"ExportXML3_SplitTimes[[#This Row],[Kategorie]] & \" - \" & ExportXML3_SplitTimes[[#This Row],[Závodník]] & \" (\" & ExportXML3_SplitTimes[[#This Row],[Číslo čipu]] & \")\"","v":{"$error":"#REF!"}},{"$f":"ExportXML3_SplitTimes[[#This Row],[ControlCode]]","v":78},{"$f":"ExportXML3_SplitTimes[[#This Row],[SplitTimeSeconds]]/3600/24","v":"00:52:55"},{"$f":"COUNTIFS(ExportXML3_SplitTimes[Legenda],ExportXML3_SplitTimes[[#This Row],[Legenda]],ExportXML3_SplitTimes[Čas],\"<=\"&ExportXML3_SplitTimes[[#This Row],[Čas]])","v":693}]
["ŽA","Brabencová","Alena","0240001",3325,100,3308,{"$f":"ExportXML3_SplitTimes[[#This Row],[GivenName]]&\" \"&ExportXML3_SplitTimes[[#This Row],[FamilyName]]","v":"Alena Brabencová"},{"$f":"_xlfn.XLOOKUP(ExportXML3_SplitTimes[[#This Row],[PersonId]],#REF!,#REF!,\"-\")","v":{"$error":"#REF!"}},{"$f":"ExportXML3_SplitTimes[[#This Row],[Kategorie]] & \" - \" & ExportXML3_SplitTimes[[#This Row],[Závodník]] & \" (\" & ExportXML3_SplitTimes[[#This Row],[Číslo čipu]] & \")\"","v":{"$error":"#REF!"}},{"$f":"ExportXML3_SplitTimes[[#This Row],[ControlCode]]","v":100},{"$f":"ExportXML3_SplitTimes[[#This Row],[SplitTimeSeconds]]/3600/24","v":"00:55:08"},{"$f":"COUNTIFS(ExportXML3_SplitTimes[Legenda],ExportXML3_SplitTimes[[#This Row],[Legenda]],ExportXML3_SplitTimes[Čas],\"<=\"&ExportXML3_SplitTimes[[#This Row],[Čas]])","v":710}]
["ŽA","Douchová","Jaroslava","0080002",4026,48,357,{"$f":"ExportXML3_SplitTimes[[#This Row],[GivenName]]&\" \"&ExportXML3_SplitTimes[[#This Row],[FamilyName]]","v":"Jaroslava Douchová"},{"$f":"_xlfn.XLOOKUP(ExportXML3_SplitTimes[[#This Row],[PersonId]],#REF!,#REF!,\"-\")","v":{"$error":"#REF!"}},{"$f":"ExportXML3_SplitTimes[[#This Row],[Kategorie]] & \" - \" & ExportXML3_SplitTimes[[#This Row],[Závodník]] & \" (\" & ExportXML3_SplitTimes[[#This Row],[Číslo čipu]] & \")\"","v":{"$error":"#REF!"}},{"$f":"ExportXML3_SplitTimes[[#This Row],[ControlCode]]","v":48},{"$f":"ExportXML3_SplitTimes[[#This Row],[SplitTimeSeconds]]/3600/24","v":"00:05:57"},{"$f":"COUNTIFS(ExportXML3_SplitTimes[Legenda],ExportXML3_SplitTimes[[#This Row],[Legenda]],ExportXML3_SplitTimes[Čas],\"<=\"&ExportXML3_SplitTimes[[#This Row],[Čas]])","v":38}]
["ŽA","Douchová","Jaroslava","0080002",4026,50,552,{"$f":"ExportXML3_SplitTimes[[#This Row],[GivenName]]&\" \"&ExportXML3_SplitTimes[[#This Row],[FamilyName]]","v":"Jaroslava Douchová"},{"$f":"_xlfn.XLOOKUP(ExportXML3_SplitTimes[[#This Row],[PersonId]],#REF!,#REF!,\"-\")","v":{"$error":"#REF!"}},{"$f":"ExportXML3_SplitTimes[[#This Row],[Kategorie]] & \" - \" & ExportXML3_SplitTimes[[#This Row],[Závodník]] & \" (\" & ExportXML3_SplitTimes[[#This Row],[Číslo čipu]] & \")\"","v":{"$error":"#REF!"}},{"$f":"ExportXML3_SplitTimes[[#This Row],[ControlCode]]","v":50},{"$f":"ExportXML3_SplitTimes[[#This Row],[SplitTimeSeconds]]/3600/24","v":"00:09:12"},{"$f":"COUNTIFS(ExportXML3_SplitTimes[Legenda],ExportXML3_SplitTimes[[#This Row],[Legenda]],ExportXML3_SplitTimes[Čas],\"<=\"&ExportXML3_SplitTimes[[#This Row],[Čas]])","v":98}]
["ŽA","Douchová","Jaroslava","0080002",4026,52,673,{"$f":"ExportXML3_SplitTimes[[#This Row],[GivenName]]&\" \"&ExportXML3_SplitTimes[[#This Row],[FamilyName]]","v":"Jaroslava Douchová"},{"$f":"_xlfn.XLOOKUP(ExportXML3_SplitTimes[[#This Row],[PersonId]],#REF!,#REF!,\"-\")","v":{"$error":"#REF!"}},{"$f":"ExportXML3_SplitTimes[[#This Row],[Kategorie]] & \" - \" & ExportXML3_SplitTimes[[#This Row],[Závodník]] & \" (\" & ExportXML3_SplitTimes[[#This Row],[Číslo čipu]] & \")\"","v":{"$error":"#REF!"}},{"$f":"ExportXML3_SplitTimes[[#This Row],[ControlCode]]","v":52},{"$f":"ExportXML3_SplitTimes[[#This Row],[SplitTimeSeconds]]/3600/24","v":"00:11:13"},{"$f":"COUNTIFS(ExportXML3_SplitTimes[Legenda],ExportXML3_SplitTimes[[#This Row],[Legenda]],ExportXML3_SplitTimes[Čas],\"<=\"&ExportXML3_SplitTimes[[#This Row],[Čas]])","v":138}]
["ŽA","Douchová","Jaroslava","0080002",4026,33,904,{"$f":"ExportXML3_SplitTimes[[#This Row],[GivenName]]&\" \"&ExportXML3_SplitTimes[[#This Row],[FamilyName]]","v":"Jaroslava Douchová"},{"$f":"_xlfn.XLOOKUP(ExportXML3_SplitTimes[[#This Row],[PersonId]],#REF!,#REF!,\"-\")","v":{"$error":"#REF!"}},{"$f":"ExportXML3_SplitTimes[[#This Row],[Kategorie]] & \" - \" & ExportXML3_SplitTimes[[#This Row],[Závodník]] & \" (\" & ExportXML3_SplitTimes[[#This Row],[Číslo čipu]] & \")\"","v":{"$error":"#REF!"}},{"$f":"ExportXML3_SplitTimes[[#This Row],[ControlCode]]","v":33},{"$f":"ExportXML3_SplitTimes[[#This Row],[SplitTimeSeconds]]/3600/24","v":"00:15:04"},{"$f":"COUNTIFS(ExportXML3_SplitTimes[Legenda],ExportXML3_SplitTimes[[#This Row],[Legenda]],ExportXML3_SplitTimes[Čas],\"<=\"&ExportXML3_SplitTimes[[#This Row],[Čas]])","v":192}]
["ŽA","Douchová","Jaroslava","0080002",4026,37,1379,{"$f":"ExportXML3_SplitTimes[[#This Row],[GivenName]]&\" \"&ExportXML3_SplitTimes[[#This Row],[FamilyName]]","v":"Jaroslava Douchová"},{"$f":"_xlfn.XLOOKUP(ExportXML3_SplitTimes[[#This Row],[PersonId]],#REF!,#REF!,\"-\")","v":{"$error":"#REF!"}},{"$f":"ExportXML3_SplitTimes[[#This Row],[Kategorie]] & \" - \" & ExportXML3_SplitTimes[[#This Row],[Závodník]] & \" (\" & ExportXML3_SplitTimes[[#This Row],[Číslo čipu]] & \")\"","v":{"$error":"#REF!"}},{"$f":"ExportXML3_SplitTimes[[#This Row],[ControlCode]]","v":37},{"$f":"ExportXML3_SplitTimes[[#This Row],[SplitTimeSeconds]]/3600/24","v":"00:22:59"},{"$f":"COUNTIFS(ExportXML3_SplitTimes[Legenda],ExportXML3_SplitTimes[[#This Row],[Legenda]],ExportXML3_SplitTimes[Čas],\"<=\"&ExportXML3_SplitTimes[[#This Row],[Čas]])","v":309}]
["ŽA","Douchová","Jaroslava","0080002",4026,40,1737,{"$f":"ExportXML3_SplitTimes[[#This Row],[GivenName]]&\" \"&ExportXML3_SplitTimes[[#This Row],[FamilyName]]","v":"Jaroslava Douchová"},{"$f":"_xlfn.XLOOKUP(ExportXML3_SplitTimes[[#This Row],[PersonId]],#REF!,#REF!,\"-\")","v":{"$error":"#REF!"}},{"$f":"ExportXML3_SplitTimes[[#This Row],[Kategorie]] & \" - \" & ExportXML3_SplitTimes[[#This Row],[Závodník]] & \" (\" & ExportXML3_SplitTimes[[#This Row],[Číslo čipu]] & \")\"","v":{"$error":"#REF!"}},{"$f":"ExportXML3_SplitTimes[[#This Row],[ControlCode]]","v":40},{"$f":"ExportXML3_SplitTimes[[#This Row],[SplitTimeSeconds]]/3600/24","v":"00:28:57"},{"$f":"COUNTIFS(ExportXML3_SplitTimes[Legenda],ExportXML3_SplitTimes[[#This Row],[Legenda]],ExportXML3_SplitTimes[Čas],\"<=\"&ExportXML3_SplitTimes[[#This Row],[Čas]])","v":394}]
["ŽA","Douchová","Jaroslava","0080002",4026,32,1930,{"$f":"ExportXML3_SplitTimes[[#This Row],[GivenName]]&\" \"&ExportXML3_SplitTimes[[#This Row],[FamilyName]]","v":"Jaroslava Douchová"},{"$f":"_xlfn.XLOOKUP(ExportXML3_SplitTimes[[#This Row],[PersonId]],#REF!,#REF!,\"-\")","v":{"$error":"#REF!"}},{"$f":"ExportXML3_SplitTimes[[#This Row],[Kategorie]] & \" - \" & ExportXML3_SplitTimes[[#This Row],[Závodník]] & \" (\" & ExportXML3_SplitTimes[[#This Row],[Číslo čipu]] & \")\"","v":{"$error":"#REF!"}},{"$f":"ExportXML3_SplitTimes[[#This Row],[ControlCode]]","v":32},{"$f":"ExportXML3_SplitTimes[[#This Row],[SplitTimeSeconds]]/3600/24","v":"00:32:10"},{"$f":"COUNTIFS(ExportXML3_SplitTimes[Legenda],ExportXML3_SplitTimes[[#This Row],[Legenda]],ExportXML3_SplitTimes[Čas],\"<=\"&ExportXML3_SplitTimes[[#This Row],[Čas]])","v":441}]
["ŽA","Douchová","Jaroslava","0080002",4026,43,2236,{"$f":"ExportXML3_SplitTimes[[#This Row],[GivenName]]&\" \"&ExportXML3_SplitTimes[[#This Row],[FamilyName]]","v":"Jaroslava Douchová"},{"$f":"_xlfn.XLOOKUP(ExportXML3_SplitTimes[[#This Row],[PersonId]],#REF!,#REF!,\"-\")","v":{"$error":"#REF!"}},{"$f":"ExportXML3_SplitTimes[[#This Row],[Kategorie]] & \" - \" & ExportXML3_SplitTimes[[#This Row],[Závodník]] & \" (\" & ExportXML3_SplitTimes[[#This Row],[Číslo čipu]] & \")\"","v":{"$error":"#REF!"}},{"$f":"ExportXML3_SplitTimes[[#This Row],[ControlCode]]","v":43},{"$f":"ExportXML3_SplitTimes[[#This Row],[SplitTimeSeconds]]/3600/24","v":"00:37:16"},{"$f":"COUNTIFS(ExportXML3_SplitTimes[Legenda],ExportXML3_SplitTimes[[#This Row],[Legenda]],ExportXML3_SplitTimes[Čas],\"<=\"&ExportXML3_SplitTimes[[#This Row],[Čas]])","v":506}]
["ŽA","Douchová","Jaroslava","0080002",4026,45,2447,{"$f":"ExportXML3_SplitTimes[[#This Row],[GivenName]]&\" \"&ExportXML3_SplitTimes[[#This Row],[FamilyName]]","v":"Jaroslava Douchová"},{"$f":"_xlfn.XLOOKUP(ExportXML3_SplitTimes[[#This Row],[PersonId]],#REF!,#REF!,\"-\")","v":{"$error":"#REF!"}},{"$f":"ExportXML3_SplitTimes[[#This Row],[Kategorie]] & \" - \" & ExportXML3_SplitTimes[[#This Row],[Závodník]] & \" (\" & ExportXML3_SplitTimes[[#This Row],[Číslo čipu]] & \")\"","v":{"$error":"#REF!"}},{"$f":"ExportXML3_SplitTimes[[#This Row],[ControlCode]]","v":45},{"$f":"ExportXML3_SplitTimes[[#This Row],[SplitTimeSeconds]]/3600/24","v":"00:40:47"},{"$f":"COUNTIFS(ExportXML3_SplitTimes[Legenda],ExportXML3_SplitTimes[[#This Row],[Legenda]],ExportXML3_SplitTimes[Čas],\"<=\"&ExportXML3_SplitTimes[[#This Row],[Čas]])","v":556}]
["ŽA","Douchová","Jaroslava","0080002",4026,56,2666,{"$f":"ExportXML3_SplitTimes[[#This Row],[GivenName]]&\" \"&ExportXML3_SplitTimes[[#This Row],[FamilyName]]","v":"Jaroslava Douchová"},{"$f":"_xlfn.XLOOKUP(ExportXML3_SplitTimes[[#This Row],[PersonId]],#REF!,#REF!,\"-\")","v":{"$error":"#REF!"}},{"$f":"ExportXML3_SplitTimes[[#This Row],[Kategorie]] & \" - \" & ExportXML3_SplitTimes[[#This Row],[Závodník]] & \" (\" & ExportXML3_SplitTimes[[#This Row],[Číslo čipu]] & \")\"","v":{"$error":"#REF!"}},{"$f":"ExportXML3_SplitTimes[[#This Row],[ControlCode]]","v":56},{"$f":"ExportXML3_SplitTimes[[#This Row],[SplitTimeSeconds]]/3600/24","v":"00:44:26"},{"$f":"COUNTIFS(ExportXML3_SplitTimes[Legenda],ExportXML3_SplitTimes[[#This Row],[Legenda]],ExportXML3_SplitTimes[Čas],\"<=\"&ExportXML3_SplitTimes[[#This Row],[Čas]])","v":599}]
["ŽA","Douchová","Jaroslava","0080002",4026,93,2928,{"$f":"ExportXML3_SplitTimes[[#This Row],[GivenName]]&\" \"&ExportXML3_SplitTimes[[#This Row],[FamilyName]]","v":"Jaroslava Douchová"},{"$f":"_xlfn.XLOOKUP(ExportXML3_SplitTimes[[#This Row],[PersonId]],#REF!,#REF!,\"-\")","v":{"$error":"#REF!"}},{"$f":"ExportXML3_SplitTimes[[#This Row],[Kategorie]] & \" - \" & ExportXML3_SplitTimes[[#This Row],[Závodník]] & \" (\" & ExportXML3_SplitTimes[[#This Row],[Číslo čipu]] & \")\"","v":{"$error":"#REF!"}},{"$f":"ExportXML3_SplitTimes[[#This Row],[ControlCode]]","v":93},{"$f":"ExportXML3_SplitTimes[[#This Row],[SplitTimeSeconds]]/3600/24","v":"00:48:48"},{"$f":"COUNTIFS(ExportXML3_SplitTimes[Legenda],ExportXML3_SplitTimes[[#This Row],[Legenda]],ExportXML3_SplitTimes[Čas],\"<=\"&ExportXML3_SplitTimes[[#This Row],[Čas]])","v":655}]
["ŽA","Douchová","Jaroslava","0080002",4026,69,3088,{"$f":"ExportXML3_SplitTimes[[#This Row],[GivenName]]&\" \"&ExportXML3_SplitTimes[[#This Row],[FamilyName]]","v":"Jaroslava Douchová"},{"$f":"_xlfn.XLOOKUP(ExportXML3_SplitTimes[[#This Row],[PersonId]],#REF!,#REF!,\"-\")","v":{"$error":"#REF!"}},{"$f":"ExportXML3_SplitTimes[[#This Row],[Kategorie]] & \" - \" & ExportXML3_SplitTimes[[#This Row],[Závodník]] & \" (\" & ExportXML3_SplitTimes[[#This Row],[Číslo čipu]] & \")\"","v":{"$error":"#REF!"}},{"$f":"ExportXML3_SplitTimes[[#This Row],[ControlCode]]","v":69},{"$f":"ExportXML3_SplitTimes[[#This Row],[SplitTimeSeconds]]/3600/24","v":"00:51:28"},{"$f":"COUNTIFS(ExportXML3_SplitTimes[Legenda],ExportXML3_SplitTimes[[#This Row],[Legenda]],ExportXML3_SplitTimes[Čas],\"<=\"&ExportXML3_SplitTimes[[#This Row],[Čas]])","v":680}]
["ŽA","Douchová","Jaroslava","0080002",4026,77,3346,{"$f":"ExportXML3_SplitTimes[[#This Row],[GivenName]]&\" \"&ExportXML3_SplitTimes[[#This Row],[FamilyName]]","v":"Jaroslava Douchová"},{"$f":"_xlfn.XLOOKUP(ExportXML3_SplitTimes[[#This Row],[PersonId]],#REF!,#REF!,\"-\")","v":{"$error":"#REF!"}},{"$f":"ExportXML3_SplitTimes[[#This Row],[Kategorie]] & \" - \" & ExportXML3_SplitTimes[[#This Row],[Závodník]] & \" (\" & ExportXML3_SplitTimes[[#This Row],[Číslo čipu]] & \")\"","v":{"$error":"#REF!"}},{"$f":"ExportXML3_SplitTimes[[#This Row],[ControlCode]]","v":77},{"$f":"ExportXML3_SplitTimes[[#This Row],[SplitTimeSeconds]]/3600/24","v":"00:55:46"},{"$f":"COUNTIFS(ExportXML3_SplitTimes[Legenda],ExportXML3_SplitTimes[[#This Row],[Legenda]],ExportXML3_SplitTimes[Čas],\"<=\"&ExportXML3_SplitTimes[[#This Row],[Čas]])","v":715}]
["ŽA","Douchová","Jaroslava","0080002",4026,71,3584,{"$f":"ExportXML3_SplitTimes[[#This Row],[GivenName]]&\" \"&ExportXML3_SplitTimes[[#This Row],[FamilyName]]","v":"Jaroslava Douchová"},{"$f":"_xlfn.XLOOKUP(ExportXML3_SplitTimes[[#This Row],[PersonId]],#REF!,#REF!,\"-\")","v":{"$error":"#REF!"}},{"$f":"ExportXML3_SplitTimes[[#This Row],[Kategorie]] & \" - \" & ExportXML3_SplitTimes[[#This Row],[Závodník]] & \" (\" & ExportXML3_SplitTimes[[#This Row],[Číslo čipu]] & \")\"","v":{"$error":"#REF!"}},{"$f":"ExportXML3_SplitTimes[[#This Row],[ControlCode]]","v":71},{"$f":"ExportXML3_SplitTimes[[#This Row],[SplitTimeSeconds]]/3600/24","v":"00:59:44"},{"$f":"COUNTIFS(ExportXML3_SplitTimes[Legenda],ExportXML3_SplitTimes[[#This Row],[Legenda]],ExportXML3_SplitTimes[Čas],\"<=\"&ExportXML3_SplitTimes[[#This Row],[Čas]])","v":740}]
["ŽA","Douchová","Jaroslava","0080002",4026,84,3716,{"$f":"ExportXML3_SplitTimes[[#This Row],[GivenName]]&\" \"&ExportXML3_SplitTimes[[#This Row],[FamilyName]]","v":"Jaroslava Douchová"},{"$f":"_xlfn.XLOOKUP(ExportXML3_SplitTimes[[#This Row],[PersonId]],#REF!,#REF!,\"-\")","v":{"$error":"#REF!"}},{"$f":"ExportXML3_SplitTimes[[#This Row],[Kategorie]] & \" - \" & ExportXML3_SplitTimes[[#This Row],[Závodník]] & \" (\" & ExportXML3_SplitTimes[[#This Row],[Číslo čipu]] & \")\"","v":{"$error":"#REF!"}},{"$f":"ExportXML3_SplitTimes[[#This Row],[ControlCode]]","v":84},{"$f":"ExportXML3_SplitTimes[[#This Row],[SplitTimeSeconds]]/3600/24","v":"01:01:56"},{"$f":"COUNTIFS(ExportXML3_SplitTimes[Legenda],ExportXML3_SplitTimes[[#This Row],[Legenda]],ExportXML3_SplitTimes[Čas],\"<=\"&ExportXML3_SplitTimes[[#This Row],[Čas]])","v":750}]
["ŽA","Douchová","Jaroslava","0080002",4026,78,3849,{"$f":"ExportXML3_SplitTimes[[#This Row],[GivenName]]&\" \"&ExportXML3_SplitTimes[[#This Row],[FamilyName]]","v":"Jaroslava Douchová"},{"$f":"_xlfn.XLOOKUP(ExportXML3_SplitTimes[[#This Row],[PersonId]],#REF!,#REF!,\"-\")","v":{"$error":"#REF!"}},{"$f":"ExportXML3_SplitTimes[[#This Row],[Kategorie]] & \" - \" & ExportXML3_SplitTimes[[#This Row],[Závodník]] & \" (\" & ExportXML3_SplitTimes[[#This Row],[Číslo čipu]] & \")\"","v":{"$error":"#REF!"}},{"$f":"ExportXML3_SplitTimes[[#This Row],[ControlCode]]","v":78},{"$f":"ExportXML3_SplitTimes[[#This Row],[SplitTimeSeconds]]/3600/24","v":"01:04:09"},{"$f":"COUNTIFS(ExportXML3_SplitTimes[Legenda],ExportXML3_SplitTimes[[#This Row],[Legenda]],ExportXML3_SplitTimes[Čas],\"<=\"&ExportXML3_SplitTimes[[#This Row],[Čas]])","v":757}]
["ŽA","Douchová","Jaroslava","0080002",4026,100,4001,{"$f":"ExportXML3_SplitTimes[[#This Row],[GivenName]]&\" \"&ExportXML3_SplitTimes[[#This Row],[FamilyName]]","v":"Jaroslava Douchová"},{"$f":"_xlfn.XLOOKUP(ExportXML3_SplitTimes[[#This Row],[PersonId]],#REF!,#REF!,\"-\")","v":{"$error":"#REF!"}},{"$f":"ExportXML3_SplitTimes[[#This Row],[Kategorie]] & \" - \" & ExportXML3_SplitTimes[[#This Row],[Závodník]] & \" (\" & ExportXML3_SplitTimes[[#This Row],[Číslo čipu]] & \")\"","v":{"$error":"#REF!"}},{"$f":"ExportXML3_SplitTimes[[#This Row],[ControlCode]]","v":100},{"$f":"ExportXML3_SplitTimes[[#This Row],[SplitTimeSeconds]]/3600/24","v":"01:06:41"},{"$f":"COUNTIFS(ExportXML3_SplitTimes[Legenda],ExportXML3_SplitTimes[[#This Row],[Legenda]],ExportXML3_SplitTimes[Čas],\"<=\"&ExportXML3_SplitTimes[[#This Row],[Čas]])","v":766}]
["ŽA","Janíková","Martina","0130002",4247,48,276,{"$f":"ExportXML3_SplitTimes[[#This Row],[GivenName]]&\" \"&ExportXML3_SplitTimes[[#This Row],[FamilyName]]","v":"Martina Janíková"},{"$f":"_xlfn.XLOOKUP(ExportXML3_SplitTimes[[#This Row],[PersonId]],#REF!,#REF!,\"-\")","v":{"$error":"#REF!"}},{"$f":"ExportXML3_SplitTimes[[#This Row],[Kategorie]] & \" - \" & ExportXML3_SplitTimes[[#This Row],[Závodník]] & \" (\" & ExportXML3_SplitTimes[[#This Row],[Číslo čipu]] & \")\"","v":{"$error":"#REF!"}},{"$f":"ExportXML3_SplitTimes[[#This Row],[ControlCode]]","v":48},{"$f":"ExportXML3_SplitTimes[[#This Row],[SplitTimeSeconds]]/3600/24","v":"00:04:36"},{"$f":"COUNTIFS(ExportXML3_SplitTimes[Legenda],ExportXML3_SplitTimes[[#This Row],[Legenda]],ExportXML3_SplitTimes[Čas],\"<=\"&ExportXML3_SplitTimes[[#This Row],[Čas]])","v":24}]
["ŽA","Janíková","Martina","0130002",4247,50,740,{"$f":"ExportXML3_SplitTimes[[#This Row],[GivenName]]&\" \"&ExportXML3_SplitTimes[[#This Row],[FamilyName]]","v":"Martina Janíková"},{"$f":"_xlfn.XLOOKUP(ExportXML3_SplitTimes[[#This Row],[PersonId]],#REF!,#REF!,\"-\")","v":{"$error":"#REF!"}},{"$f":"ExportXML3_SplitTimes[[#This Row],[Kategorie]] & \" - \" & ExportXML3_SplitTimes[[#This Row],[Závodník]] & \" (\" & ExportXML3_SplitTimes[[#This Row],[Číslo čipu]] & \")\"","v":{"$error":"#REF!"}},{"$f":"ExportXML3_SplitTimes[[#This Row],[ControlCode]]","v":50},{"$f":"ExportXML3_SplitTimes[[#This Row],[SplitTimeSeconds]]/3600/24","v":"00:12:20"},{"$f":"COUNTIFS(ExportXML3_SplitTimes[Legenda],ExportXML3_SplitTimes[[#This Row],[Legenda]],ExportXML3_SplitTimes[Čas],\"<=\"&ExportXML3_SplitTimes[[#This Row],[Čas]])","v":154}]
["ŽA","Janíková","Martina","0130002",4247,52,853,{"$f":"ExportXML3_SplitTimes[[#This Row],[GivenName]]&\" \"&ExportXML3_SplitTimes[[#This Row],[FamilyName]]","v":"Martina Janíková"},{"$f":"_xlfn.XLOOKUP(ExportXML3_SplitTimes[[#This Row],[PersonId]],#REF!,#REF!,\"-\")","v":{"$error":"#REF!"}},{"$f":"ExportXML3_SplitTimes[[#This Row],[Kategorie]] & \" - \" & ExportXML3_SplitTimes[[#This Row],[Závodník]] & \" (\" & ExportXML3_SplitTimes[[#This Row],[Číslo čipu]] & \")\"","v":{"$error":"#REF!"}},{"$f":"ExportXML3_SplitTimes[[#This Row],[ControlCode]]","v":52},{"$f":"ExportXML3_SplitTimes[[#This Row],[SplitTimeSeconds]]/3600/24","v":"00:14:13"},{"$f":"COUNTIFS(ExportXML3_SplitTimes[Legenda],ExportXML3_SplitTimes[[#This Row],[Legenda]],ExportXML3_SplitTimes[Čas],\"<=\"&ExportXML3_SplitTimes[[#This Row],[Čas]])","v":178}]
["ŽA","Janíková","Martina","0130002",4247,33,1119,{"$f":"ExportXML3_SplitTimes[[#This Row],[GivenName]]&\" \"&ExportXML3_SplitTimes[[#This Row],[FamilyName]]","v":"Martina Janíková"},{"$f":"_xlfn.XLOOKUP(ExportXML3_SplitTimes[[#This Row],[PersonId]],#REF!,#REF!,\"-\")","v":{"$error":"#REF!"}},{"$f":"ExportXML3_SplitTimes[[#This Row],[Kategorie]] & \" - \" & ExportXML3_SplitTimes[[#This Row],[Závodník]] & \" (\" & ExportXML3_SplitTimes[[#This Row],[Číslo čipu]] & \")\"","v":{"$error":"#REF!"}},{"$f":"ExportXML3_SplitTimes[[#This Row],[ControlCode]]","v":33},{"$f":"ExportXML3_SplitTimes[[#This Row],[SplitTimeSeconds]]/3600/24","v":"00:18:39"},{"$f":"COUNTIFS(ExportXML3_SplitTimes[Legenda],ExportXML3_SplitTimes[[#This Row],[Legenda]],ExportXML3_SplitTimes[Čas],\"<=\"&ExportXML3_SplitTimes[[#This Row],[Čas]])","v":248}]
["ŽA","Janíková","Martina","0130002",4247,37,1489,{"$f":"ExportXML3_SplitTimes[[#This Row],[GivenName]]&\" \"&ExportXML3_SplitTimes[[#This Row],[FamilyName]]","v":"Martina Janíková"},{"$f":"_xlfn.XLOOKUP(ExportXML3_SplitTimes[[#This Row],[PersonId]],#REF!,#REF!,\"-\")","v":{"$error":"#REF!"}},{"$f":"ExportXML3_SplitTimes[[#This Row],[Kategorie]] & \" - \" & ExportXML3_SplitTimes[[#This Row],[Závodník]] & \" (\" & ExportXML3_SplitTimes[[#This Row],[Číslo čipu]] & \")\"","v":{"$error":"#REF!"}},{"$f":"ExportXML3_SplitTimes[[#This Row],[ControlCode]]","v":37},{"$f":"ExportXML3_SplitTimes[[#This Row],[SplitTimeSeconds]]/3600/24","v":"00:24:49"},{"$f":"COUNTIFS(ExportXML3_SplitTimes[Legenda],ExportXML3_SplitTimes[[#This Row],[Legenda]],ExportXML3_SplitTimes[Čas],\"<=\"&ExportXML3_SplitTimes[[#This Row],[Čas]])","v":332}]
["ŽA","Janíková","Martina","0130002",4247,40,1718,{"$f":"ExportXML3_SplitTimes[[#This Row],[GivenName]]&\" \"&ExportXML3_SplitTimes[[#This Row],[FamilyName]]","v":"Martina Janíková"},{"$f":"_xlfn.XLOOKUP(ExportXML3_SplitTimes[[#This Row],[PersonId]],#REF!,#REF!,\"-\")","v":{"$error":"#REF!"}},{"$f":"ExportXML3_SplitTimes[[#This Row],[Kategorie]] & \" - \" & ExportXML3_SplitTimes[[#This Row],[Závodník]] & \" (\" & ExportXML3_SplitTimes[[#This Row],[Číslo čipu]] & \")\"","v":{"$error":"#REF!"}},{"$f":"ExportXML3_SplitTimes[[#This Row],[ControlCode]]","v":40},{"$f":"ExportXML3_SplitTimes[[#This Row],[SplitTimeSeconds]]/3600/24","v":"00:28:38"},{"$f":"COUNTIFS(ExportXML3_SplitTimes[Legenda],ExportXML3_SplitTimes[[#This Row],[Legenda]],ExportXML3_SplitTimes[Čas],\"<=\"&ExportXML3_SplitTimes[[#This Row],[Čas]])","v":389}]
["ŽA","Janíková","Martina","0130002",4247,32,2149,{"$f":"ExportXML3_SplitTimes[[#This Row],[GivenName]]&\" \"&ExportXML3_SplitTimes[[#This Row],[FamilyName]]","v":"Martina Janíková"},{"$f":"_xlfn.XLOOKUP(ExportXML3_SplitTimes[[#This Row],[PersonId]],#REF!,#REF!,\"-\")","v":{"$error":"#REF!"}},{"$f":"ExportXML3_SplitTimes[[#This Row],[Kategorie]] & \" - \" & ExportXML3_SplitTimes[[#This Row],[Závodník]] & \" (\" & ExportXML3_SplitTimes[[#This Row],[Číslo čipu]] & \")\"","v":{"$error":"#REF!"}},{"$f":"ExportXML3_SplitTimes[[#This Row],[ControlCode]]","v":32},{"$f":"ExportXML3_SplitTimes[[#This Row],[SplitTimeSeconds]]/3600/24","v":"00:35:49"},{"$f":"COUNTIFS(ExportXML3_SplitTimes[Legenda],ExportXML3_SplitTimes[[#This Row],[Legenda]],ExportXML3_SplitTimes[Čas],\"<=\"&ExportXML3_SplitTimes[[#This Row],[Čas]])","v":489}]
["ŽA","Janíková","Martina","0130002",4247,43,2503,{"$f":"ExportXML3_SplitTimes[[#This Row],[GivenName]]&\" \"&ExportXML3_SplitTimes[[#This Row],[FamilyName]]","v":"Martina Janíková"},{"$f":"_xlfn.XLOOKUP(ExportXML3_SplitTimes[[#This Row],[PersonId]],#REF!,#REF!,\"-\")","v":{"$error":"#REF!"}},{"$f":"ExportXML3_SplitTimes[[#This Row],[Kategorie]] & \" - \" & ExportXML3_SplitTimes[[#This Row],[Závodník]] & \" (\" & ExportXML3_SplitTimes[[#This Row],[Číslo čipu]] & \")\"","v":{"$error":"#REF!"}},{"$f":"ExportXML3_SplitTimes[[#This Row],[ControlCode]]","v":43},{"$f":"ExportXML3_SplitTimes[[#This Row],[SplitTimeSeconds]]/3600/24","v":"00:41:43"},{"$f":"COUNTIFS(ExportXML3_SplitTimes[Legenda],ExportXML3_SplitTimes[[#This Row],[Legenda]],ExportXML3_SplitTimes[Čas],\"<=\"&ExportXML3_SplitTimes[[#This Row],[Čas]])","v":566}]
["ŽA","Janíková","Martina","0130002",4247,45,2666,{"$f":"ExportXML3_SplitTimes[[#This Row],[GivenName]]&\" \"&ExportXML3_SplitTimes[[#This Row],[FamilyName]]","v":"Martina Janíková"},{"$f":"_xlfn.XLOOKUP(ExportXML3_SplitTimes[[#This Row],[PersonId]],#REF!,#REF!,\"-\")","v":{"$error":"#REF!"}},{"$f":"ExportXML3_SplitTimes[[#This Row],[Kategorie]] & \" - \" & ExportXML3_SplitTimes[[#This Row],[Závodník]] & \" (\" & ExportXML3_SplitTimes[[#This Row],[Číslo čipu]] & \")\"","v":{"$error":"#REF!"}},{"$f":"ExportXML3_SplitTimes[[#This Row],[ControlCode]]","v":45},{"$f":"ExportXML3_SplitTimes[[#This Row],[SplitTimeSeconds]]/3600/24","v":"00:44:26"},{"$f":"COUNTIFS(ExportXML3_SplitTimes[Legenda],ExportXML3_SplitTimes[[#This Row],[Legenda]],ExportXML3_SplitTimes[Čas],\"<=\"&ExportXML3_SplitTimes[[#This Row],[Čas]])","v":599}]
["ŽA","Janíková","Martina","0130002",4247,56,2903,{"$f":"ExportXML3_SplitTimes[[#This Row],[GivenName]]&\" \"&ExportXML3_SplitTimes[[#This Row],[FamilyName]]","v":"Martina Janíková"},{"$f":"_xlfn.XLOOKUP(ExportXML3_SplitTimes[[#This Row],[PersonId]],#REF!,#REF!,\"-\")","v":{"$error":"#REF!"}},{"$f":"ExportXML3_SplitTimes[[#This Row],[Kategorie]] & \" - \" & ExportXML3_SplitTimes[[#This Row],[Závodník]] & \" (\" & ExportXML3_SplitTimes[[#This Row],[Číslo čipu]] & \")\"","v":{"$error":"#REF!"}},{"$f":"ExportXML3_SplitTimes[[#This Row],[ControlCode]]","v":56},{"$f":"ExportXML3_SplitTimes[[#This Row],[SplitTimeSeconds]]/3600/24","v":"00:48:23"},{"$f":"COUNTIFS(ExportXML3_SplitTimes[Legenda],ExportXML3_SplitTimes[[#This Row],[Legenda]],ExportXML3_SplitTimes[Čas],\"<=\"&ExportXML3_SplitTimes[[#This Row],[Čas]])","v":648}]
["ŽA","Janíková","Martina","0130002",4247,93,3122,{"$f":"ExportXML3_SplitTimes[[#This Row],[GivenName]]&\" \"&ExportXML3_SplitTimes[[#This Row],[FamilyName]]","v":"Martina Janíková"},{"$f":"_xlfn.XLOOKUP(ExportXML3_SplitTimes[[#This Row],[PersonId]],#REF!,#REF!,\"-\")","v":{"$error":"#REF!"}},{"$f":"ExportXML3_SplitTimes[[#This Row],[Kategorie]] & \" - \" & ExportXML3_SplitTimes[[#This Row],[Závodník]] & \" (\" & ExportXML3_SplitTimes[[#This Row],[Číslo čipu]] & \")\"","v":{"$error":"#REF!"}},{"$f":"ExportXML3_SplitTimes[[#This Row],[ControlCode]]","v":93},{"$f":"ExportXML3_SplitTimes[[#This Row],[SplitTimeSeconds]]/3600/24","v":"00:52:02"},{"$f":"COUNTIFS(ExportXML3_SplitTimes[Legenda],ExportXML3_SplitTimes[[#This Row],[Legenda]],ExportXML3_SplitTimes[Čas],\"<=\"&ExportXML3_SplitTimes[[#This Row],[Čas]])","v":687}]
["ŽA","Janíková","Martina","0130002",4247,69,3241,{"$f":"ExportXML3_SplitTimes[[#This Row],[GivenName]]&\" \"&ExportXML3_SplitTimes[[#This Row],[FamilyName]]","v":"Martina Janíková"},{"$f":"_xlfn.XLOOKUP(ExportXML3_SplitTimes[[#This Row],[PersonId]],#REF!,#REF!,\"-\")","v":{"$error":"#REF!"}},{"$f":"ExportXML3_SplitTimes[[#This Row],[Kategorie]] & \" - \" & ExportXML3_SplitTimes[[#This Row],[Závodník]] & \" (\" & ExportXML3_SplitTimes[[#This Row],[Číslo čipu]] & \")\"","v":{"$error":"#REF!"}},{"$f":"ExportXML3_SplitTimes[[#This Row],[ControlCode]]","v":69},{"$f":"ExportXML3_SplitTimes[[#This Row],[SplitTimeSeconds]]/3600/24","v":"00:54:01"},{"$f":"COUNTIFS(ExportXML3_SplitTimes[Legenda],ExportXML3_SplitTimes[[#This Row],[Legenda]],ExportXML3_SplitTimes[Čas],\"<=\"&ExportXML3_SplitTimes[[#This Row],[Čas]])","v":699}]
["ŽA","Janíková","Martina","0130002",4247,77,3549,{"$f":"ExportXML3_SplitTimes[[#This Row],[GivenName]]&\" \"&ExportXML3_SplitTimes[[#This Row],[FamilyName]]","v":"Martina Janíková"},{"$f":"_xlfn.XLOOKUP(ExportXML3_SplitTimes[[#This Row],[PersonId]],#REF!,#REF!,\"-\")","v":{"$error":"#REF!"}},{"$f":"ExportXML3_SplitTimes[[#This Row],[Kategorie]] & \" - \" & ExportXML3_SplitTimes[[#This Row],[Závodník]] & \" (\" & ExportXML3_SplitTimes[[#This Row],[Číslo čipu]] & \")\"","v":{"$error":"#REF!"}},{"$f":"ExportXML3_SplitTimes[[#This Row],[ControlCode]]","v":77},{"$f":"ExportXML3_SplitTimes[[#This Row],[SplitTimeSeconds]]/3600/24","v":"00:59:09"},{"$f":"COUNTIFS(ExportXML3_SplitTimes[Legenda],ExportXML3_SplitTimes[[#This Row],[Legenda]],ExportXML3_SplitTimes[Čas],\"<=\"&ExportXML3_SplitTimes[[#This Row],[Čas]])","v":738}]
["ŽA","Janíková","Martina","0130002",4247,71,3818,{"$f":"ExportXML3_SplitTimes[[#This Row],[GivenName]]&\" \"&ExportXML3_SplitTimes[[#This Row],[FamilyName]]","v":"Martina Janíková"},{"$f":"_xlfn.XLOOKUP(ExportXML3_SplitTimes[[#This Row],[PersonId]],#REF!,#REF!,\"-\")","v":{"$error":"#REF!"}},{"$f":"ExportXML3_SplitTimes[[#This Row],[Kategorie]] & \" - \" & ExportXML3_SplitTimes[[#This Row],[Závodník]] & \" (\" & ExportXML3_SplitTimes[[#This Row],[Číslo čipu]] & \")\"","v":{"$error":"#REF!"}},{"$f":"ExportXML3_SplitTimes[[#This Row],[ControlCode]]","v":71},{"$f":"ExportXML3_SplitTimes[[#This Row],[SplitTimeSeconds]]/3600/24","v":"01:03:38"},{"$f":"COUNTIFS(ExportXML3_SplitTimes[Legenda],ExportXML3_SplitTimes[[#This Row],[Legenda]],ExportXML3_SplitTimes[Čas],\"<=\"&ExportXML3_SplitTimes[[#This Row],[Čas]])","v":753}]
["ŽA","Janíková","Martina","0130002",4247,84,3951,{"$f":"ExportXML3_SplitTimes[[#This Row],[GivenName]]&\" \"&ExportXML3_SplitTimes[[#This Row],[FamilyName]]","v":"Martina Janíková"},{"$f":"_xlfn.XLOOKUP(ExportXML3_SplitTimes[[#This Row],[PersonId]],#REF!,#REF!,\"-\")","v":{"$error":"#REF!"}},{"$f":"ExportXML3_SplitTimes[[#This Row],[Kategorie]] & \" - \" & ExportXML3_SplitTimes[[#This Row],[Závodník]] & \" (\" & ExportXML3_SplitTimes[[#This Row],[Číslo čipu]] & \")\"","v":{"$error":"#REF!"}},{"$f":"ExportXML3_SplitTimes[[#This Row],[ControlCode]]","v":84},{"$f":"ExportXML3_SplitTimes[[#This Row],[SplitTimeSeconds]]/3600/24","v":"01:05:51"},{"$f":"COUNTIFS(ExportXML3_SplitTimes[Legenda],ExportXML3_SplitTimes[[#This Row],[Legenda]],ExportXML3_SplitTimes[Čas],\"<=\"&ExportXML3_SplitTimes[[#This Row],[Čas]])","v":763}]
["ŽA","Janíková","Martina","0130002",4247,78,4054,{"$f":"ExportXML3_SplitTimes[[#This Row],[GivenName]]&\" \"&ExportXML3_SplitTimes[[#This Row],[FamilyName]]","v":"Martina Janíková"},{"$f":"_xlfn.XLOOKUP(ExportXML3_SplitTimes[[#This Row],[PersonId]],#REF!,#REF!,\"-\")","v":{"$error":"#REF!"}},{"$f":"ExportXML3_SplitTimes[[#This Row],[Kategorie]] & \" - \" & ExportXML3_SplitTimes[[#This Row],[Závodník]] & \" (\" & ExportXML3_SplitTimes[[#This Row],[Číslo čipu]] & \")\"","v":{"$error":"#REF!"}},{"$f":"ExportXML3_SplitTimes[[#This Row],[ControlCode]]","v":78},{"$f":"ExportXML3_SplitTimes[[#This Row],[SplitTimeSeconds]]/3600/24","v":"01:07:34"},{"$f":"COUNTIFS(ExportXML3_SplitTimes[Legenda],ExportXML3_SplitTimes[[#This Row],[Legenda]],ExportXML3_SplitTimes[Čas],\"<=\"&ExportXML3_SplitTimes[[#This Row],[Čas]])","v":767}]
["ŽA","Janíková","Martina","0130002",4247,100,4227,{"$f":"ExportXML3_SplitTimes[[#This Row],[GivenName]]&\" \"&ExportXML3_SplitTimes[[#This Row],[FamilyName]]","v":"Martina Janíková"},{"$f":"_xlfn.XLOOKUP(ExportXML3_SplitTimes[[#This Row],[PersonId]],#REF!,#REF!,\"-\")","v":{"$error":"#REF!"}},{"$f":"ExportXML3_SplitTimes[[#This Row],[Kategorie]] & \" - \" & ExportXML3_SplitTimes[[#This Row],[Závodník]] & \" (\" & ExportXML3_SplitTimes[[#This Row],[Číslo čipu]] & \")\"","v":{"$error":"#REF!"}},{"$f":"ExportXML3_SplitTimes[[#This Row],[ControlCode]]","v":100},{"$f":"ExportXML3_SplitTimes[[#This Row],[SplitTimeSeconds]]/3600/24","v":"01:10:27"},{"$f":"COUNTIFS(ExportXML3_SplitTimes[Legenda],ExportXML3_SplitTimes[[#This Row],[Legenda]],ExportXML3_SplitTimes[Čas],\"<=\"&ExportXML3_SplitTimes[[#This Row],[Čas]])","v":772}]
["ŽB","Drahoňovská","Lucie","45975,SOB0950",2396,72,248,{"$f":"ExportXML3_SplitTimes[[#This Row],[GivenName]]&\" \"&ExportXML3_SplitTimes[[#This Row],[FamilyName]]","v":"Lucie Drahoňovská"},{"$f":"_xlfn.XLOOKUP(ExportXML3_SplitTimes[[#This Row],[PersonId]],#REF!,#REF!,\"-\")","v":{"$error":"#REF!"}},{"$f":"ExportXML3_SplitTimes[[#This Row],[Kategorie]] & \" - \" & ExportXML3_SplitTimes[[#This Row],[Závodník]] & \" (\" & ExportXML3_SplitTimes[[#This Row],[Číslo čipu]] & \")\"","v":{"$error":"#REF!"}},{"$f":"ExportXML3_SplitTimes[[#This Row],[ControlCode]]","v":72},{"$f":"ExportXML3_SplitTimes[[#This Row],[SplitTimeSeconds]]/3600/24","v":"00:04:08"},{"$f":"COUNTIFS(ExportXML3_SplitTimes[Legenda],ExportXML3_SplitTimes[[#This Row],[Legenda]],ExportXML3_SplitTimes[Čas],\"<=\"&ExportXML3_SplitTimes[[#This Row],[Čas]])","v":16}]
["ŽB","Drahoňovská","Lucie","45975,SOB0950",2396,50,409,{"$f":"ExportXML3_SplitTimes[[#This Row],[GivenName]]&\" \"&ExportXML3_SplitTimes[[#This Row],[FamilyName]]","v":"Lucie Drahoňovská"},{"$f":"_xlfn.XLOOKUP(ExportXML3_SplitTimes[[#This Row],[PersonId]],#REF!,#REF!,\"-\")","v":{"$error":"#REF!"}},{"$f":"ExportXML3_SplitTimes[[#This Row],[Kategorie]] & \" - \" & ExportXML3_SplitTimes[[#This Row],[Závodník]] & \" (\" & ExportXML3_SplitTimes[[#This Row],[Číslo čipu]] & \")\"","v":{"$error":"#REF!"}},{"$f":"ExportXML3_SplitTimes[[#This Row],[ControlCode]]","v":50},{"$f":"ExportXML3_SplitTimes[[#This Row],[SplitTimeSeconds]]/3600/24","v":"00:06:49"},{"$f":"COUNTIFS(ExportXML3_SplitTimes[Legenda],ExportXML3_SplitTimes[[#This Row],[Legenda]],ExportXML3_SplitTimes[Čas],\"<=\"&ExportXML3_SplitTimes[[#This Row],[Čas]])","v":54}]
["ŽB","Drahoňovská","Lucie","45975,SOB0950",2396,52,518,{"$f":"ExportXML3_SplitTimes[[#This Row],[GivenName]]&\" \"&ExportXML3_SplitTimes[[#This Row],[FamilyName]]","v":"Lucie Drahoňovská"},{"$f":"_xlfn.XLOOKUP(ExportXML3_SplitTimes[[#This Row],[PersonId]],#REF!,#REF!,\"-\")","v":{"$error":"#REF!"}},{"$f":"ExportXML3_SplitTimes[[#This Row],[Kategorie]] & \" - \" & ExportXML3_SplitTimes[[#This Row],[Závodník]] & \" (\" & ExportXML3_SplitTimes[[#This Row],[Číslo čipu]] & \")\"","v":{"$error":"#REF!"}},{"$f":"ExportXML3_SplitTimes[[#This Row],[ControlCode]]","v":52},{"$f":"ExportXML3_SplitTimes[[#This Row],[SplitTimeSeconds]]/3600/24","v":"00:08:38"},{"$f":"COUNTIFS(ExportXML3_SplitTimes[Legenda],ExportXML3_SplitTimes[[#This Row],[Legenda]],ExportXML3_SplitTimes[Čas],\"<=\"&ExportXML3_SplitTimes[[#This Row],[Čas]])","v":86}]
["ŽB","Drahoňovská","Lucie","45975,SOB0950",2396,53,793,{"$f":"ExportXML3_SplitTimes[[#This Row],[GivenName]]&\" \"&ExportXML3_SplitTimes[[#This Row],[FamilyName]]","v":"Lucie Drahoňovská"},{"$f":"_xlfn.XLOOKUP(ExportXML3_SplitTimes[[#This Row],[PersonId]],#REF!,#REF!,\"-\")","v":{"$error":"#REF!"}},{"$f":"ExportXML3_SplitTimes[[#This Row],[Kategorie]] & \" - \" & ExportXML3_SplitTimes[[#This Row],[Závodník]] & \" (\" & ExportXML3_SplitTimes[[#This Row],[Číslo čipu]] & \")\"","v":{"$error":"#REF!"}},{"$f":"ExportXML3_SplitTimes[[#This Row],[ControlCode]]","v":53},{"$f":"ExportXML3_SplitTimes[[#This Row],[SplitTimeSeconds]]/3600/24","v":"00:13:13"},{"$f":"COUNTIFS(ExportXML3_SplitTimes[Legenda],ExportXML3_SplitTimes[[#This Row],[Legenda]],ExportXML3_SplitTimes[Čas],\"<=\"&ExportXML3_SplitTimes[[#This Row],[Čas]])","v":167}]
["ŽB","Drahoňovská","Lucie","45975,SOB0950",2396,54,1218,{"$f":"ExportXML3_SplitTimes[[#This Row],[GivenName]]&\" \"&ExportXML3_SplitTimes[[#This Row],[FamilyName]]","v":"Lucie Drahoňovská"},{"$f":"_xlfn.XLOOKUP(ExportXML3_SplitTimes[[#This Row],[PersonId]],#REF!,#REF!,\"-\")","v":{"$error":"#REF!"}},{"$f":"ExportXML3_SplitTimes[[#This Row],[Kategorie]] & \" - \" & ExportXML3_SplitTimes[[#This Row],[Závodník]] & \" (\" & ExportXML3_SplitTimes[[#This Row],[Číslo čipu]] & \")\"","v":{"$error":"#REF!"}},{"$f":"ExportXML3_SplitTimes[[#This Row],[ControlCode]]","v":54},{"$f":"ExportXML3_SplitTimes[[#This Row],[SplitTimeSeconds]]/3600/24","v":"00:20:18"},{"$f":"COUNTIFS(ExportXML3_SplitTimes[Legenda],ExportXML3_SplitTimes[[#This Row],[Legenda]],ExportXML3_SplitTimes[Čas],\"<=\"&ExportXML3_SplitTimes[[#This Row],[Čas]])","v":276}]
["ŽB","Drahoňovská","Lucie","45975,SOB0950",2396,67,1584,{"$f":"ExportXML3_SplitTimes[[#This Row],[GivenName]]&\" \"&ExportXML3_SplitTimes[[#This Row],[FamilyName]]","v":"Lucie Drahoňovská"},{"$f":"_xlfn.XLOOKUP(ExportXML3_SplitTimes[[#This Row],[PersonId]],#REF!,#REF!,\"-\")","v":{"$error":"#REF!"}},{"$f":"ExportXML3_SplitTimes[[#This Row],[Kategorie]] & \" - \" & ExportXML3_SplitTimes[[#This Row],[Závodník]] & \" (\" & ExportXML3_SplitTimes[[#This Row],[Číslo čipu]] & \")\"","v":{"$error":"#REF!"}},{"$f":"ExportXML3_SplitTimes[[#This Row],[ControlCode]]","v":67},{"$f":"ExportXML3_SplitTimes[[#This Row],[SplitTimeSeconds]]/3600/24","v":"00:26:24"},{"$f":"COUNTIFS(ExportXML3_SplitTimes[Legenda],ExportXML3_SplitTimes[[#This Row],[Legenda]],ExportXML3_SplitTimes[Čas],\"<=\"&ExportXML3_SplitTimes[[#This Row],[Čas]])","v":360}]
["ŽB","Drahoňovská","Lucie","45975,SOB0950",2396,75,1689,{"$f":"ExportXML3_SplitTimes[[#This Row],[GivenName]]&\" \"&ExportXML3_SplitTimes[[#This Row],[FamilyName]]","v":"Lucie Drahoňovská"},{"$f":"_xlfn.XLOOKUP(ExportXML3_SplitTimes[[#This Row],[PersonId]],#REF!,#REF!,\"-\")","v":{"$error":"#REF!"}},{"$f":"ExportXML3_SplitTimes[[#This Row],[Kategorie]] & \" - \" & ExportXML3_SplitTimes[[#This Row],[Závodník]] & \" (\" & ExportXML3_SplitTimes[[#This Row],[Číslo čipu]] & \")\"","v":{"$error":"#REF!"}},{"$f":"ExportXML3_SplitTimes[[#This Row],[ControlCode]]","v":75},{"$f":"ExportXML3_SplitTimes[[#This Row],[SplitTimeSeconds]]/3600/24","v":"00:28:09"},{"$f":"COUNTIFS(ExportXML3_SplitTimes[Legenda],ExportXML3_SplitTimes[[#This Row],[Legenda]],ExportXML3_SplitTimes[Čas],\"<=\"&ExportXML3_SplitTimes[[#This Row],[Čas]])","v":380}]
["ŽB","Drahoňovská","Lucie","45975,SOB0950",2396,77,1799,{"$f":"ExportXML3_SplitTimes[[#This Row],[GivenName]]&\" \"&ExportXML3_SplitTimes[[#This Row],[FamilyName]]","v":"Lucie Drahoňovská"},{"$f":"_xlfn.XLOOKUP(ExportXML3_SplitTimes[[#This Row],[PersonId]],#REF!,#REF!,\"-\")","v":{"$error":"#REF!"}},{"$f":"ExportXML3_SplitTimes[[#This Row],[Kategorie]] & \" - \" & ExportXML3_SplitTimes[[#This Row],[Závodník]] & \" (\" & ExportXML3_SplitTimes[[#This Row],[Číslo čipu]] & \")\"","v":{"$error":"#REF!"}},{"$f":"ExportXML3_SplitTimes[[#This Row],[ControlCode]]","v":77},{"$f":"ExportXML3_SplitTimes[[#This Row],[SplitTimeSeconds]]/3600/24","v":"00:29:59"},{"$f":"COUNTIFS(ExportXML3_SplitTimes[Legenda],ExportXML3_SplitTimes[[#This Row],[Legenda]],ExportXML3_SplitTimes[Čas],\"<=\"&ExportXML3_SplitTimes[[#This Row],[Čas]])","v":412}]
["ŽB","Drahoňovská","Lucie","45975,SOB0950",2396,71,2003,{"$f":"ExportXML3_SplitTimes[[#This Row],[GivenName]]&\" \"&ExportXML3_SplitTimes[[#This Row],[FamilyName]]","v":"Lucie Drahoňovská"},{"$f":"_xlfn.XLOOKUP(ExportXML3_SplitTimes[[#This Row],[PersonId]],#REF!,#REF!,\"-\")","v":{"$error":"#REF!"}},{"$f":"ExportXML3_SplitTimes[[#This Row],[Kategorie]] & \" - \" & ExportXML3_SplitTimes[[#This Row],[Závodník]] & \" (\" & ExportXML3_SplitTimes[[#This Row],[Číslo čipu]] & \")\"","v":{"$error":"#REF!"}},{"$f":"ExportXML3_SplitTimes[[#This Row],[ControlCode]]","v":71},{"$f":"ExportXML3_SplitTimes[[#This Row],[SplitTimeSeconds]]/3600/24","v":"00:33:23"},{"$f":"COUNTIFS(ExportXML3_SplitTimes[Legenda],ExportXML3_SplitTimes[[#This Row],[Legenda]],ExportXML3_SplitTimes[Čas],\"<=\"&ExportXML3_SplitTimes[[#This Row],[Čas]])","v":461}]
["ŽB","Drahoňovská","Lucie","45975,SOB0950",2396,74,2263,{"$f":"ExportXML3_SplitTimes[[#This Row],[GivenName]]&\" \"&ExportXML3_SplitTimes[[#This Row],[FamilyName]]","v":"Lucie Drahoňovská"},{"$f":"_xlfn.XLOOKUP(ExportXML3_SplitTimes[[#This Row],[PersonId]],#REF!,#REF!,\"-\")","v":{"$error":"#REF!"}},{"$f":"ExportXML3_SplitTimes[[#This Row],[Kategorie]] & \" - \" & ExportXML3_SplitTimes[[#This Row],[Závodník]] & \" (\" & ExportXML3_SplitTimes[[#This Row],[Číslo čipu]] & \")\"","v":{"$error":"#REF!"}},{"$f":"ExportXML3_SplitTimes[[#This Row],[ControlCode]]","v":74},{"$f":"ExportXML3_SplitTimes[[#This Row],[SplitTimeSeconds]]/3600/24","v":"00:37:43"},{"$f":"COUNTIFS(ExportXML3_SplitTimes[Legenda],ExportXML3_SplitTimes[[#This Row],[Legenda]],ExportXML3_SplitTimes[Čas],\"<=\"&ExportXML3_SplitTimes[[#This Row],[Čas]])","v":514}]
["ŽB","Drahoňovská","Lucie","45975,SOB0950",2396,100,2380,{"$f":"ExportXML3_SplitTimes[[#This Row],[GivenName]]&\" \"&ExportXML3_SplitTimes[[#This Row],[FamilyName]]","v":"Lucie Drahoňovská"},{"$f":"_xlfn.XLOOKUP(ExportXML3_SplitTimes[[#This Row],[PersonId]],#REF!,#REF!,\"-\")","v":{"$error":"#REF!"}},{"$f":"ExportXML3_SplitTimes[[#This Row],[Kategorie]] & \" - \" & ExportXML3_SplitTimes[[#This Row],[Závodník]] & \" (\" & ExportXML3_SplitTimes[[#This Row],[Číslo čipu]] & \")\"","v":{"$error":"#REF!"}},{"$f":"ExportXML3_SplitTimes[[#This Row],[ControlCode]]","v":100},{"$f":"ExportXML3_SplitTimes[[#This Row],[SplitTimeSeconds]]/3600/24","v":"00:39:40"},{"$f":"COUNTIFS(ExportXML3_SplitTimes[Legenda],ExportXML3_SplitTimes[[#This Row],[Legenda]],ExportXML3_SplitTimes[Čas],\"<=\"&ExportXML3_SplitTimes[[#This Row],[Čas]])","v":539}]
["ŽB","Němcová","Barbora","0120001",2551,72,278,{"$f":"ExportXML3_SplitTimes[[#This Row],[GivenName]]&\" \"&ExportXML3_SplitTimes[[#This Row],[FamilyName]]","v":"Barbora Němcová"},{"$f":"_xlfn.XLOOKUP(ExportXML3_SplitTimes[[#This Row],[PersonId]],#REF!,#REF!,\"-\")","v":{"$error":"#REF!"}},{"$f":"ExportXML3_SplitTimes[[#This Row],[Kategorie]] & \" - \" & ExportXML3_SplitTimes[[#This Row],[Závodník]] & \" (\" & ExportXML3_SplitTimes[[#This Row],[Číslo čipu]] & \")\"","v":{"$error":"#REF!"}},{"$f":"ExportXML3_SplitTimes[[#This Row],[ControlCode]]","v":72},{"$f":"ExportXML3_SplitTimes[[#This Row],[SplitTimeSeconds]]/3600/24","v":"00:04:38"},{"$f":"COUNTIFS(ExportXML3_SplitTimes[Legenda],ExportXML3_SplitTimes[[#This Row],[Legenda]],ExportXML3_SplitTimes[Čas],\"<=\"&ExportXML3_SplitTimes[[#This Row],[Čas]])","v":25}]
["ŽB","Němcová","Barbora","0120001",2551,50,550,{"$f":"ExportXML3_SplitTimes[[#This Row],[GivenName]]&\" \"&ExportXML3_SplitTimes[[#This Row],[FamilyName]]","v":"Barbora Němcová"},{"$f":"_xlfn.XLOOKUP(ExportXML3_SplitTimes[[#This Row],[PersonId]],#REF!,#REF!,\"-\")","v":{"$error":"#REF!"}},{"$f":"ExportXML3_SplitTimes[[#This Row],[Kategorie]] & \" - \" & ExportXML3_SplitTimes[[#This Row],[Závodník]] & \" (\" & ExportXML3_SplitTimes[[#This Row],[Číslo čipu]] & \")\"","v":{"$error":"#REF!"}},{"$f":"ExportXML3_SplitTimes[[#This Row],[ControlCode]]","v":50},{"$f":"ExportXML3_SplitTimes[[#This Row],[SplitTimeSeconds]]/3600/24","v":"00:09:10"},{"$f":"COUNTIFS(ExportXML3_SplitTimes[Legenda],ExportXML3_SplitTimes[[#This Row],[Legenda]],ExportXML3_SplitTimes[Čas],\"<=\"&ExportXML3_SplitTimes[[#This Row],[Čas]])","v":96}]
["ŽB","Němcová","Barbora","0120001",2551,52,690,{"$f":"ExportXML3_SplitTimes[[#This Row],[GivenName]]&\" \"&ExportXML3_SplitTimes[[#This Row],[FamilyName]]","v":"Barbora Němcová"},{"$f":"_xlfn.XLOOKUP(ExportXML3_SplitTimes[[#This Row],[PersonId]],#REF!,#REF!,\"-\")","v":{"$error":"#REF!"}},{"$f":"ExportXML3_SplitTimes[[#This Row],[Kategorie]] & \" - \" & ExportXML3_SplitTimes[[#This Row],[Závodník]] & \" (\" & ExportXML3_SplitTimes[[#This Row],[Číslo čipu]] & \")\"","v":{"$error":"#REF!"}},{"$f":"ExportXML3_SplitTimes[[#This Row],[ControlCode]]","v":52},{"$f":"ExportXML3_SplitTimes[[#This Row],[SplitTimeSeconds]]/3600/24","v":"00:11:30"},{"$f":"COUNTIFS(ExportXML3_SplitTimes[Legenda],ExportXML3_SplitTimes[[#This Row],[Legenda]],ExportXML3_SplitTimes[Čas],\"<=\"&ExportXML3_SplitTimes[[#This Row],[Čas]])","v":139}]
["ŽB","Němcová","Barbora","0120001",2551,53,939,{"$f":"ExportXML3_SplitTimes[[#This Row],[GivenName]]&\" \"&ExportXML3_SplitTimes[[#This Row],[FamilyName]]","v":"Barbora Němcová"},{"$f":"_xlfn.XLOOKUP(ExportXML3_SplitTimes[[#This Row],[PersonId]],#REF!,#REF!,\"-\")","v":{"$error":"#REF!"}},{"$f":"ExportXML3_SplitTimes[[#This Row],[Kategorie]] & \" - \" & ExportXML3_SplitTimes[[#This Row],[Závodník]] & \" (\" & ExportXML3_SplitTimes[[#This Row],[Číslo čipu]] & \")\"","v":{"$error":"#REF!"}},{"$f":"ExportXML3_SplitTimes[[#This Row],[ControlCode]]","v":53},{"$f":"ExportXML3_SplitTimes[[#This Row],[SplitTimeSeconds]]/3600/24","v":"00:15:39"},{"$f":"COUNTIFS(ExportXML3_SplitTimes[Legenda],ExportXML3_SplitTimes[[#This Row],[Legenda]],ExportXML3_SplitTimes[Čas],\"<=\"&ExportXML3_SplitTimes[[#This Row],[Čas]])","v":205}]
["ŽB","Němcová","Barbora","0120001",2551,54,1122,{"$f":"ExportXML3_SplitTimes[[#This Row],[GivenName]]&\" \"&ExportXML3_SplitTimes[[#This Row],[FamilyName]]","v":"Barbora Němcová"},{"$f":"_xlfn.XLOOKUP(ExportXML3_SplitTimes[[#This Row],[PersonId]],#REF!,#REF!,\"-\")","v":{"$error":"#REF!"}},{"$f":"ExportXML3_SplitTimes[[#This Row],[Kategorie]] & \" - \" & ExportXML3_SplitTimes[[#This Row],[Závodník]] & \" (\" & ExportXML3_SplitTimes[[#This Row],[Číslo čipu]] & \")\"","v":{"$error":"#REF!"}},{"$f":"ExportXML3_SplitTimes[[#This Row],[ControlCode]]","v":54},{"$f":"ExportXML3_SplitTimes[[#This Row],[SplitTimeSeconds]]/3600/24","v":"00:18:42"},{"$f":"COUNTIFS(ExportXML3_SplitTimes[Legenda],ExportXML3_SplitTimes[[#This Row],[Legenda]],ExportXML3_SplitTimes[Čas],\"<=\"&ExportXML3_SplitTimes[[#This Row],[Čas]])","v":250}]
["ŽB","Němcová","Barbora","0120001",2551,67,1673,{"$f":"ExportXML3_SplitTimes[[#This Row],[GivenName]]&\" \"&ExportXML3_SplitTimes[[#This Row],[FamilyName]]","v":"Barbora Němcová"},{"$f":"_xlfn.XLOOKUP(ExportXML3_SplitTimes[[#This Row],[PersonId]],#REF!,#REF!,\"-\")","v":{"$error":"#REF!"}},{"$f":"ExportXML3_SplitTimes[[#This Row],[Kategorie]] & \" - \" & ExportXML3_SplitTimes[[#This Row],[Závodník]] & \" (\" & ExportXML3_SplitTimes[[#This Row],[Číslo čipu]] & \")\"","v":{"$error":"#REF!"}},{"$f":"ExportXML3_SplitTimes[[#This Row],[ControlCode]]","v":67},{"$f":"ExportXML3_SplitTimes[[#This Row],[SplitTimeSeconds]]/3600/24","v":"00:27:53"},{"$f":"COUNTIFS(ExportXML3_SplitTimes[Legenda],ExportXML3_SplitTimes[[#This Row],[Legenda]],ExportXML3_SplitTimes[Čas],\"<=\"&ExportXML3_SplitTimes[[#This Row],[Čas]])","v":375}]
["ŽB","Němcová","Barbora","0120001",2551,75,1815,{"$f":"ExportXML3_SplitTimes[[#This Row],[GivenName]]&\" \"&ExportXML3_SplitTimes[[#This Row],[FamilyName]]","v":"Barbora Němcová"},{"$f":"_xlfn.XLOOKUP(ExportXML3_SplitTimes[[#This Row],[PersonId]],#REF!,#REF!,\"-\")","v":{"$error":"#REF!"}},{"$f":"ExportXML3_SplitTimes[[#This Row],[Kategorie]] & \" - \" & ExportXML3_SplitTimes[[#This Row],[Závodník]] & \" (\" & ExportXML3_SplitTimes[[#This Row],[Číslo čipu]] & \")\"","v":{"$error":"#REF!"}},{"$f":"ExportXML3_SplitTimes[[#This Row],[ControlCode]]","v":75},{"$f":"ExportXML3_SplitTimes[[#This Row],[SplitTimeSeconds]]/3600/24","v":"00:30:15"},{"$f":"COUNTIFS(ExportXML3_SplitTimes[Legenda],ExportXML3_SplitTimes[[#This Row],[Legenda]],ExportXML3_SplitTimes[Čas],\"<=\"&ExportXML3_SplitTimes[[#This Row],[Čas]])","v":415}]
["ŽB","Němcová","Barbora","0120001",2551,77,1964,{"$f":"ExportXML3_SplitTimes[[#This Row],[GivenName]]&\" \"&ExportXML3_SplitTimes[[#This Row],[FamilyName]]","v":"Barbora Němcová"},{"$f":"_xlfn.XLOOKUP(ExportXML3_SplitTimes[[#This Row],[PersonId]],#REF!,#REF!,\"-\")","v":{"$error":"#REF!"}},{"$f":"ExportXML3_SplitTimes[[#This Row],[Kategorie]] & \" - \" & ExportXML3_SplitTimes[[#This Row],[Závodník]] & \" (\" & ExportXML3_SplitTimes[[#This Row],[Číslo čipu]] & \")\"","v":{"$error":"#REF!"}},{"$f":"ExportXML3_SplitTimes[[#This Row],[ControlCode]]","v":77},{"$f":"ExportXML3_SplitTimes[[#This Row],[SplitTimeSeconds]]/3600/24","v":"00:32:44"},{"$f":"COUNTIFS(ExportXML3_SplitTimes[Legenda],ExportXML3_SplitTimes[[#This Row],[Legenda]],ExportXML3_SplitTimes[Čas],\"<=\"&ExportXML3_SplitTimes[[#This Row],[Čas]])","v":454}]
["ŽB","Němcová","Barbora","0120001",2551,71,2182,{"$f":"ExportXML3_SplitTimes[[#This Row],[GivenName]]&\" \"&ExportXML3_SplitTimes[[#This Row],[FamilyName]]","v":"Barbora Němcová"},{"$f":"_xlfn.XLOOKUP(ExportXML3_SplitTimes[[#This Row],[PersonId]],#REF!,#REF!,\"-\")","v":{"$error":"#REF!"}},{"$f":"ExportXML3_SplitTimes[[#This Row],[Kategorie]] & \" - \" & ExportXML3_SplitTimes[[#This Row],[Závodník]] & \" (\" & ExportXML3_SplitTimes[[#This Row],[Číslo čipu]] & \")\"","v":{"$error":"#REF!"}},{"$f":"ExportXML3_SplitTimes[[#This Row],[ControlCode]]","v":71},{"$f":"ExportXML3_SplitTimes[[#This Row],[SplitTimeSeconds]]/3600/24","v":"00:36:22"},{"$f":"COUNTIFS(ExportXML3_SplitTimes[Legenda],ExportXML3_SplitTimes[[#This Row],[Legenda]],ExportXML3_SplitTimes[Čas],\"<=\"&ExportXML3_SplitTimes[[#This Row],[Čas]])","v":495}]
["ŽB","Němcová","Barbora","0120001",2551,74,2377,{"$f":"ExportXML3_SplitTimes[[#This Row],[GivenName]]&\" \"&ExportXML3_SplitTimes[[#This Row],[FamilyName]]","v":"Barbora Němcová"},{"$f":"_xlfn.XLOOKUP(ExportXML3_SplitTimes[[#This Row],[PersonId]],#REF!,#REF!,\"-\")","v":{"$error":"#REF!"}},{"$f":"ExportXML3_SplitTimes[[#This Row],[Kategorie]] & \" - \" & ExportXML3_SplitTimes[[#This Row],[Závodník]] & \" (\" & ExportXML3_SplitTimes[[#This Row],[Číslo čipu]] & \")\"","v":{"$error":"#REF!"}},{"$f":"ExportXML3_SplitTimes[[#This Row],[ControlCode]]","v":74},{"$f":"ExportXML3_SplitTimes[[#This Row],[SplitTimeSeconds]]/3600/24","v":"00:39:37"},{"$f":"COUNTIFS(ExportXML3_SplitTimes[Legenda],ExportXML3_SplitTimes[[#This Row],[Legenda]],ExportXML3_SplitTimes[Čas],\"<=\"&ExportXML3_SplitTimes[[#This Row],[Čas]])","v":538}]
["ŽB","Němcová","Barbora","0120001",2551,100,2530,{"$f":"ExportXML3_SplitTimes[[#This Row],[GivenName]]&\" \"&ExportXML3_SplitTimes[[#This Row],[FamilyName]]","v":"Barbora Němcová"},{"$f":"_xlfn.XLOOKUP(ExportXML3_SplitTimes[[#This Row],[PersonId]],#REF!,#REF!,\"-\")","v":{"$error":"#REF!"}},{"$f":"ExportXML3_SplitTimes[[#This Row],[Kategorie]] & \" - \" & ExportXML3_SplitTimes[[#This Row],[Závodník]] & \" (\" & ExportXML3_SplitTimes[[#This Row],[Číslo čipu]] & \")\"","v":{"$error":"#REF!"}},{"$f":"ExportXML3_SplitTimes[[#This Row],[ControlCode]]","v":100},{"$f":"ExportXML3_SplitTimes[[#This Row],[SplitTimeSeconds]]/3600/24","v":"00:42:10"},{"$f":"COUNTIFS(ExportXML3_SplitTimes[Legenda],ExportXML3_SplitTimes[[#This Row],[Legenda]],ExportXML3_SplitTimes[Čas],\"<=\"&ExportXML3_SplitTimes[[#This Row],[Čas]])","v":572}]
["ŽB","Němcová","Magdalena","0120002",2600,72,358,{"$f":"ExportXML3_SplitTimes[[#This Row],[GivenName]]&\" \"&ExportXML3_SplitTimes[[#This Row],[FamilyName]]","v":"Magdalena Němcová"},{"$f":"_xlfn.XLOOKUP(ExportXML3_SplitTimes[[#This Row],[PersonId]],#REF!,#REF!,\"-\")","v":{"$error":"#REF!"}},{"$f":"ExportXML3_SplitTimes[[#This Row],[Kategorie]] & \" - \" & ExportXML3_SplitTimes[[#This Row],[Závodník]] & \" (\" & ExportXML3_SplitTimes[[#This Row],[Číslo čipu]] & \")\"","v":{"$error":"#REF!"}},{"$f":"ExportXML3_SplitTimes[[#This Row],[ControlCode]]","v":72},{"$f":"ExportXML3_SplitTimes[[#This Row],[SplitTimeSeconds]]/3600/24","v":"00:05:58"},{"$f":"COUNTIFS(ExportXML3_SplitTimes[Legenda],ExportXML3_SplitTimes[[#This Row],[Legenda]],ExportXML3_SplitTimes[Čas],\"<=\"&ExportXML3_SplitTimes[[#This Row],[Čas]])","v":39}]
["ŽB","Němcová","Magdalena","0120002",2600,50,658,{"$f":"ExportXML3_SplitTimes[[#This Row],[GivenName]]&\" \"&ExportXML3_SplitTimes[[#This Row],[FamilyName]]","v":"Magdalena Němcová"},{"$f":"_xlfn.XLOOKUP(ExportXML3_SplitTimes[[#This Row],[PersonId]],#REF!,#REF!,\"-\")","v":{"$error":"#REF!"}},{"$f":"ExportXML3_SplitTimes[[#This Row],[Kategorie]] & \" - \" & ExportXML3_SplitTimes[[#This Row],[Závodník]] & \" (\" & ExportXML3_SplitTimes[[#This Row],[Číslo čipu]] & \")\"","v":{"$error":"#REF!"}},{"$f":"ExportXML3_SplitTimes[[#This Row],[ControlCode]]","v":50},{"$f":"ExportXML3_SplitTimes[[#This Row],[SplitTimeSeconds]]/3600/24","v":"00:10:58"},{"$f":"COUNTIFS(ExportXML3_SplitTimes[Legenda],ExportXML3_SplitTimes[[#This Row],[Legenda]],ExportXML3_SplitTimes[Čas],\"<=\"&ExportXML3_SplitTimes[[#This Row],[Čas]])","v":130}]
["ŽB","Němcová","Magdalena","0120002",2600,52,812,{"$f":"ExportXML3_SplitTimes[[#This Row],[GivenName]]&\" \"&ExportXML3_SplitTimes[[#This Row],[FamilyName]]","v":"Magdalena Němcová"},{"$f":"_xlfn.XLOOKUP(ExportXML3_SplitTimes[[#This Row],[PersonId]],#REF!,#REF!,\"-\")","v":{"$error":"#REF!"}},{"$f":"ExportXML3_SplitTimes[[#This Row],[Kategorie]] & \" - \" & ExportXML3_SplitTimes[[#This Row],[Závodník]] & \" (\" & ExportXML3_SplitTimes[[#This Row],[Číslo čipu]] & \")\"","v":{"$error":"#REF!"}},{"$f":"ExportXML3_SplitTimes[[#This Row],[ControlCode]]","v":52},{"$f":"ExportXML3_SplitTimes[[#This Row],[SplitTimeSeconds]]/3600/24","v":"00:13:32"},{"$f":"COUNTIFS(ExportXML3_SplitTimes[Legenda],ExportXML3_SplitTimes[[#This Row],[Legenda]],ExportXML3_SplitTimes[Čas],\"<=\"&ExportXML3_SplitTimes[[#This Row],[Čas]])","v":170}]
["ŽB","Němcová","Magdalena","0120002",2600,53,1016,{"$f":"ExportXML3_SplitTimes[[#This Row],[GivenName]]&\" \"&ExportXML3_SplitTimes[[#This Row],[FamilyName]]","v":"Magdalena Němcová"},{"$f":"_xlfn.XLOOKUP(ExportXML3_SplitTimes[[#This Row],[PersonId]],#REF!,#REF!,\"-\")","v":{"$error":"#REF!"}},{"$f":"ExportXML3_SplitTimes[[#This Row],[Kategorie]] & \" - \" & ExportXML3_SplitTimes[[#This Row],[Závodník]] & \" (\" & ExportXML3_SplitTimes[[#This Row],[Číslo čipu]] & \")\"","v":{"$error":"#REF!"}},{"$f":"ExportXML3_SplitTimes[[#This Row],[ControlCode]]","v":53},{"$f":"ExportXML3_SplitTimes[[#This Row],[SplitTimeSeconds]]/3600/24","v":"00:16:56"},{"$f":"COUNTIFS(ExportXML3_SplitTimes[Legenda],ExportXML3_SplitTimes[[#This Row],[Legenda]],ExportXML3_SplitTimes[Čas],\"<=\"&ExportXML3_SplitTimes[[#This Row],[Čas]])","v":226}]
["ŽB","Němcová","Magdalena","0120002",2600,54,1233,{"$f":"ExportXML3_SplitTimes[[#This Row],[GivenName]]&\" \"&ExportXML3_SplitTimes[[#This Row],[FamilyName]]","v":"Magdalena Němcová"},{"$f":"_xlfn.XLOOKUP(ExportXML3_SplitTimes[[#This Row],[PersonId]],#REF!,#REF!,\"-\")","v":{"$error":"#REF!"}},{"$f":"ExportXML3_SplitTimes[[#This Row],[Kategorie]] & \" - \" & ExportXML3_SplitTimes[[#This Row],[Závodník]] & \" (\" & ExportXML3_SplitTimes[[#This Row],[Číslo čipu]] & \")\"","v":{"$error":"#REF!"}},{"$f":"ExportXML3_SplitTimes[[#This Row],[ControlCode]]","v":54},{"$f":"ExportXML3_SplitTimes[[#This Row],[SplitTimeSeconds]]/3600/24","v":"00:20:33"},{"$f":"COUNTIFS(ExportXML3_SplitTimes[Legenda],ExportXML3_SplitTimes[[#This Row],[Legenda]],ExportXML3_SplitTimes[Čas],\"<=\"&ExportXML3_SplitTimes[[#This Row],[Čas]])","v":281}]
["ŽB","Němcová","Magdalena","0120002",2600,67,1611,{"$f":"ExportXML3_SplitTimes[[#This Row],[GivenName]]&\" \"&ExportXML3_SplitTimes[[#This Row],[FamilyName]]","v":"Magdalena Němcová"},{"$f":"_xlfn.XLOOKUP(ExportXML3_SplitTimes[[#This Row],[PersonId]],#REF!,#REF!,\"-\")","v":{"$error":"#REF!"}},{"$f":"ExportXML3_SplitTimes[[#This Row],[Kategorie]] & \" - \" & ExportXML3_SplitTimes[[#This Row],[Závodník]] & \" (\" & ExportXML3_SplitTimes[[#This Row],[Číslo čipu]] & \")\"","v":{"$error":"#REF!"}},{"$f":"ExportXML3_SplitTimes[[#This Row],[ControlCode]]","v":67},{"$f":"ExportXML3_SplitTimes[[#This Row],[SplitTimeSeconds]]/3600/24","v":"00:26:51"},{"$f":"COUNTIFS(ExportXML3_SplitTimes[Legenda],ExportXML3_SplitTimes[[#This Row],[Legenda]],ExportXML3_SplitTimes[Čas],\"<=\"&ExportXML3_SplitTimes[[#This Row],[Čas]])","v":364}]
["ŽB","Němcová","Magdalena","0120002",2600,75,1766,{"$f":"ExportXML3_SplitTimes[[#This Row],[GivenName]]&\" \"&ExportXML3_SplitTimes[[#This Row],[FamilyName]]","v":"Magdalena Němcová"},{"$f":"_xlfn.XLOOKUP(ExportXML3_SplitTimes[[#This Row],[PersonId]],#REF!,#REF!,\"-\")","v":{"$error":"#REF!"}},{"$f":"ExportXML3_SplitTimes[[#This Row],[Kategorie]] & \" - \" & ExportXML3_SplitTimes[[#This Row],[Závodník]] & \" (\" & ExportXML3_SplitTimes[[#This Row],[Číslo čipu]] & \")\"","v":{"$error":"#REF!"}},{"$f":"ExportXML3_SplitTimes[[#This Row],[ControlCode]]","v":75},{"$f":"ExportXML3_SplitTimes[[#This Row],[SplitTimeSeconds]]/3600/24","v":"00:29:26"},{"$f":"COUNTIFS(ExportXML3_SplitTimes[Legenda],ExportXML3_SplitTimes[[#This Row],[Legenda]],ExportXML3_SplitTimes[Čas],\"<=\"&ExportXML3_SplitTimes[[#This Row],[Čas]])","v":403}]
["ŽB","Němcová","Magdalena","0120002",2600,77,1930,{"$f":"ExportXML3_SplitTimes[[#This Row],[GivenName]]&\" \"&ExportXML3_SplitTimes[[#This Row],[FamilyName]]","v":"Magdalena Němcová"},{"$f":"_xlfn.XLOOKUP(ExportXML3_SplitTimes[[#This Row],[PersonId]],#REF!,#REF!,\"-\")","v":{"$error":"#REF!"}},{"$f":"ExportXML3_SplitTimes[[#This Row],[Kategorie]] & \" - \" & ExportXML3_SplitTimes[[#This Row],[Závodník]] & \" (\" & ExportXML3_SplitTimes[[#This Row],[Číslo čipu]] & \")\"","v":{"$error":"#REF!"}},{"$f":"ExportXML3_SplitTimes[[#This Row],[ControlCode]]","v":77},{"$f":"ExportXML3_SplitTimes[[#This Row],[SplitTimeSeconds]]/3600/24","v":"00:32:10"},{"$f":"COUNTIFS(ExportXML3_SplitTimes[Legenda],ExportXML3_SplitTimes[[#This Row],[Legenda]],ExportXML3_SplitTimes[Čas],\"<=\"&ExportXML3_SplitTimes[[#This Row],[Čas]])","v":441}]
["ŽB","Němcová","Magdalena","0120002",2600,71,2240,{"$f":"ExportXML3_SplitTimes[[#This Row],[GivenName]]&\" \"&ExportXML3_SplitTimes[[#This Row],[FamilyName]]","v":"Magdalena Němcová"},{"$f":"_xlfn.XLOOKUP(ExportXML3_SplitTimes[[#This Row],[PersonId]],#REF!,#REF!,\"-\")","v":{"$error":"#REF!"}},{"$f":"ExportXML3_SplitTimes[[#This Row],[Kategorie]] & \" - \" & ExportXML3_SplitTimes[[#This Row],[Závodník]] & \" (\" & ExportXML3_SplitTimes[[#This Row],[Číslo čipu]] & \")\"","v":{"$error":"#REF!"}},{"$f":"ExportXML3_SplitTimes[[#This Row],[ControlCode]]","v":71},{"$f":"ExportXML3_SplitTimes[[#This Row],[SplitTimeSeconds]]/3600/24","v":"00:37:20"},{"$f":"COUNTIFS(ExportXML3_SplitTimes[Legenda],ExportXML3_SplitTimes[[#This Row],[Legenda]],ExportXML3_SplitTimes[Čas],\"<=\"&ExportXML3_SplitTimes[[#This Row],[Čas]])","v":507}]
["ŽB","Němcová","Magdalena","0120002",2600,74,2441,{"$f":"ExportXML3_SplitTimes[[#This Row],[GivenName]]&\" \"&ExportXML3_SplitTimes[[#This Row],[FamilyName]]","v":"Magdalena Němcová"},{"$f":"_xlfn.XLOOKUP(ExportXML3_SplitTimes[[#This Row],[PersonId]],#REF!,#REF!,\"-\")","v":{"$error":"#REF!"}},{"$f":"ExportXML3_SplitTimes[[#This Row],[Kategorie]] & \" - \" & ExportXML3_SplitTimes[[#This Row],[Závodník]] & \" (\" & ExportXML3_SplitTimes[[#This Row],[Číslo čipu]] & \")\"","v":{"$error":"#REF!"}},{"$f":"ExportXML3_SplitTimes[[#This Row],[ControlCode]]","v":74},{"$f":"ExportXML3_SplitTimes[[#This Row],[SplitTimeSeconds]]/3600/24","v":"00:40:41"},{"$f":"COUNTIFS(ExportXML3_SplitTimes[Legenda],ExportXML3_SplitTimes[[#This Row],[Legenda]],ExportXML3_SplitTimes[Čas],\"<=\"&ExportXML3_SplitTimes[[#This Row],[Čas]])","v":555}]
["ŽB","Němcová","Magdalena","0120002",2600,100,2578,{"$f":"ExportXML3_SplitTimes[[#This Row],[GivenName]]&\" \"&ExportXML3_SplitTimes[[#This Row],[FamilyName]]","v":"Magdalena Němcová"},{"$f":"_xlfn.XLOOKUP(ExportXML3_SplitTimes[[#This Row],[PersonId]],#REF!,#REF!,\"-\")","v":{"$error":"#REF!"}},{"$f":"ExportXML3_SplitTimes[[#This Row],[Kategorie]] & \" - \" & ExportXML3_SplitTimes[[#This Row],[Závodník]] & \" (\" & ExportXML3_SplitTimes[[#This Row],[Číslo čipu]] & \")\"","v":{"$error":"#REF!"}},{"$f":"ExportXML3_SplitTimes[[#This Row],[ControlCode]]","v":100},{"$f":"ExportXML3_SplitTimes[[#This Row],[SplitTimeSeconds]]/3600/24","v":"00:42:58"},{"$f":"COUNTIFS(ExportXML3_SplitTimes[Legenda],ExportXML3_SplitTimes[[#This Row],[Legenda]],ExportXML3_SplitTimes[Čas],\"<=\"&ExportXML3_SplitTimes[[#This Row],[Čas]])","v":581}]
["ŽB","Vaiglová","Marie/ČSOB","0050002",2849,72,301,{"$f":"ExportXML3_SplitTimes[[#This Row],[GivenName]]&\" \"&ExportXML3_SplitTimes[[#This Row],[FamilyName]]","v":"Marie/ČSOB Vaiglová"},{"$f":"_xlfn.XLOOKUP(ExportXML3_SplitTimes[[#This Row],[PersonId]],#REF!,#REF!,\"-\")","v":{"$error":"#REF!"}},{"$f":"ExportXML3_SplitTimes[[#This Row],[Kategorie]] & \" - \" & ExportXML3_SplitTimes[[#This Row],[Závodník]] & \" (\" & ExportXML3_SplitTimes[[#This Row],[Číslo čipu]] & \")\"","v":{"$error":"#REF!"}},{"$f":"ExportXML3_SplitTimes[[#This Row],[ControlCode]]","v":72},{"$f":"ExportXML3_SplitTimes[[#This Row],[SplitTimeSeconds]]/3600/24","v":"00:05:01"},{"$f":"COUNTIFS(ExportXML3_SplitTimes[Legenda],ExportXML3_SplitTimes[[#This Row],[Legenda]],ExportXML3_SplitTimes[Čas],\"<=\"&ExportXML3_SplitTimes[[#This Row],[Čas]])","v":28}]
["ŽB","Vaiglová","Marie/ČSOB","0050002",2849,50,541,{"$f":"ExportXML3_SplitTimes[[#This Row],[GivenName]]&\" \"&ExportXML3_SplitTimes[[#This Row],[FamilyName]]","v":"Marie/ČSOB Vaiglová"},{"$f":"_xlfn.XLOOKUP(ExportXML3_SplitTimes[[#This Row],[PersonId]],#REF!,#REF!,\"-\")","v":{"$error":"#REF!"}},{"$f":"ExportXML3_SplitTimes[[#This Row],[Kategorie]] & \" - \" & ExportXML3_SplitTimes[[#This Row],[Závodník]] & \" (\" & ExportXML3_SplitTimes[[#This Row],[Číslo čipu]] & \")\"","v":{"$error":"#REF!"}},{"$f":"ExportXML3_SplitTimes[[#This Row],[ControlCode]]","v":50},{"$f":"ExportXML3_SplitTimes[[#This Row],[SplitTimeSeconds]]/3600/24","v":"00:09:01"},{"$f":"COUNTIFS(ExportXML3_SplitTimes[Legenda],ExportXML3_SplitTimes[[#This Row],[Legenda]],ExportXML3_SplitTimes[Čas],\"<=\"&ExportXML3_SplitTimes[[#This Row],[Čas]])","v":94}]
["ŽB","Vaiglová","Marie/ČSOB","0050002",2849,52,699,{"$f":"ExportXML3_SplitTimes[[#This Row],[GivenName]]&\" \"&ExportXML3_SplitTimes[[#This Row],[FamilyName]]","v":"Marie/ČSOB Vaiglová"},{"$f":"_xlfn.XLOOKUP(ExportXML3_SplitTimes[[#This Row],[PersonId]],#REF!,#REF!,\"-\")","v":{"$error":"#REF!"}},{"$f":"ExportXML3_SplitTimes[[#This Row],[Kategorie]] & \" - \" & ExportXML3_SplitTimes[[#This Row],[Závodník]] & \" (\" & ExportXML3_SplitTimes[[#This Row],[Číslo čipu]] & \")\"","v":{"$error":"#REF!"}},{"$f":"ExportXML3_SplitTimes[[#This Row],[ControlCode]]","v":52},{"$f":"ExportXML3_SplitTimes[[#This Row],[SplitTimeSeconds]]/3600/24","v":"00:11:39"},{"$f":"COUNTIFS(ExportXML3_SplitTimes[Legenda],ExportXML3_SplitTimes[[#This Row],[Legenda]],ExportXML3_SplitTimes[Čas],\"<=\"&ExportXML3_SplitTimes[[#This Row],[Čas]])","v":141}]
["ŽB","Vaiglová","Marie/ČSOB","0050002",2849,53,926,{"$f":"ExportXML3_SplitTimes[[#This Row],[GivenName]]&\" \"&ExportXML3_SplitTimes[[#This Row],[FamilyName]]","v":"Marie/ČSOB Vaiglová"},{"$f":"_xlfn.XLOOKUP(ExportXML3_SplitTimes[[#This Row],[PersonId]],#REF!,#REF!,\"-\")","v":{"$error":"#REF!"}},{"$f":"ExportXML3_SplitTimes[[#This Row],[Kategorie]] & \" - \" & ExportXML3_SplitTimes[[#This Row],[Závodník]] & \" (\" & ExportXML3_SplitTimes[[#This Row],[Číslo čipu]] & \")\"","v":{"$error":"#REF!"}},{"$f":"ExportXML3_SplitTimes[[#This Row],[ControlCode]]","v":53},{"$f":"ExportXML3_SplitTimes[[#This Row],[SplitTimeSeconds]]/3600/24","v":"00:15:26"},{"$f":"COUNTIFS(ExportXML3_SplitTimes[Legenda],ExportXML3_SplitTimes[[#This Row],[Legenda]],ExportXML3_SplitTimes[Čas],\"<=\"&ExportXML3_SplitTimes[[#This Row],[Čas]])","v":200}]
["ŽB","Vaiglová","Marie/ČSOB","0050002",2849,54,1174,{"$f":"ExportXML3_SplitTimes[[#This Row],[GivenName]]&\" \"&ExportXML3_SplitTimes[[#This Row],[FamilyName]]","v":"Marie/ČSOB Vaiglová"},{"$f":"_xlfn.XLOOKUP(ExportXML3_SplitTimes[[#This Row],[PersonId]],#REF!,#REF!,\"-\")","v":{"$error":"#REF!"}},{"$f":"ExportXML3_SplitTimes[[#This Row],[Kategorie]] & \" - \" & ExportXML3_SplitTimes[[#This Row],[Závodník]] & \" (\" & ExportXML3_SplitTimes[[#This Row],[Číslo čipu]] & \")\"","v":{"$error":"#REF!"}},{"$f":"ExportXML3_SplitTimes[[#This Row],[ControlCode]]","v":54},{"$f":"ExportXML3_SplitTimes[[#This Row],[SplitTimeSeconds]]/3600/24","v":"00:19:34"},{"$f":"COUNTIFS(ExportXML3_SplitTimes[Legenda],ExportXML3_SplitTimes[[#This Row],[Legenda]],ExportXML3_SplitTimes[Čas],\"<=\"&ExportXML3_SplitTimes[[#This Row],[Čas]])","v":267}]
["ŽB","Vaiglová","Marie/ČSOB","0050002",2849,67,1579,{"$f":"ExportXML3_SplitTimes[[#This Row],[GivenName]]&\" \"&ExportXML3_SplitTimes[[#This Row],[FamilyName]]","v":"Marie/ČSOB Vaiglová"},{"$f":"_xlfn.XLOOKUP(ExportXML3_SplitTimes[[#This Row],[PersonId]],#REF!,#REF!,\"-\")","v":{"$error":"#REF!"}},{"$f":"ExportXML3_SplitTimes[[#This Row],[Kategorie]] & \" - \" & ExportXML3_SplitTimes[[#This Row],[Závodník]] & \" (\" & ExportXML3_SplitTimes[[#This Row],[Číslo čipu]] & \")\"","v":{"$error":"#REF!"}},{"$f":"ExportXML3_SplitTimes[[#This Row],[ControlCode]]","v":67},{"$f":"ExportXML3_SplitTimes[[#This Row],[SplitTimeSeconds]]/3600/24","v":"00:26:19"},{"$f":"COUNTIFS(ExportXML3_SplitTimes[Legenda],ExportXML3_SplitTimes[[#This Row],[Legenda]],ExportXML3_SplitTimes[Čas],\"<=\"&ExportXML3_SplitTimes[[#This Row],[Čas]])","v":357}]
["ŽB","Vaiglová","Marie/ČSOB","0050002",2849,75,1759,{"$f":"ExportXML3_SplitTimes[[#This Row],[GivenName]]&\" \"&ExportXML3_SplitTimes[[#This Row],[FamilyName]]","v":"Marie/ČSOB Vaiglová"},{"$f":"_xlfn.XLOOKUP(ExportXML3_SplitTimes[[#This Row],[PersonId]],#REF!,#REF!,\"-\")","v":{"$error":"#REF!"}},{"$f":"ExportXML3_SplitTimes[[#This Row],[Kategorie]] & \" - \" & ExportXML3_SplitTimes[[#This Row],[Závodník]] & \" (\" & ExportXML3_SplitTimes[[#This Row],[Číslo čipu]] & \")\"","v":{"$error":"#REF!"}},{"$f":"ExportXML3_SplitTimes[[#This Row],[ControlCode]]","v":75},{"$f":"ExportXML3_SplitTimes[[#This Row],[SplitTimeSeconds]]/3600/24","v":"00:29:19"},{"$f":"COUNTIFS(ExportXML3_SplitTimes[Legenda],ExportXML3_SplitTimes[[#This Row],[Legenda]],ExportXML3_SplitTimes[Čas],\"<=\"&ExportXML3_SplitTimes[[#This Row],[Čas]])","v":399}]
["ŽB","Vaiglová","Marie/ČSOB","0050002",2849,77,1960,{"$f":"ExportXML3_SplitTimes[[#This Row],[GivenName]]&\" \"&ExportXML3_SplitTimes[[#This Row],[FamilyName]]","v":"Marie/ČSOB Vaiglová"},{"$f":"_xlfn.XLOOKUP(ExportXML3_SplitTimes[[#This Row],[PersonId]],#REF!,#REF!,\"-\")","v":{"$error":"#REF!"}},{"$f":"ExportXML3_SplitTimes[[#This Row],[Kategorie]] & \" - \" & ExportXML3_SplitTimes[[#This Row],[Závodník]] & \" (\" & ExportXML3_SplitTimes[[#This Row],[Číslo čipu]] & \")\"","v":{"$error":"#REF!"}},{"$f":"ExportXML3_SplitTimes[[#This Row],[ControlCode]]","v":77},{"$f":"ExportXML3_SplitTimes[[#This Row],[SplitTimeSeconds]]/3600/24","v":"00:32:40"},{"$f":"COUNTIFS(ExportXML3_SplitTimes[Legenda],ExportXML3_SplitTimes[[#This Row],[Legenda]],ExportXML3_SplitTimes[Čas],\"<=\"&ExportXML3_SplitTimes[[#This Row],[Čas]])","v":451}]
["ŽB","Vaiglová","Marie/ČSOB","0050002",2849,71,2223,{"$f":"ExportXML3_SplitTimes[[#This Row],[GivenName]]&\" \"&ExportXML3_SplitTimes[[#This Row],[FamilyName]]","v":"Marie/ČSOB Vaiglová"},{"$f":"_xlfn.XLOOKUP(ExportXML3_SplitTimes[[#This Row],[PersonId]],#REF!,#REF!,\"-\")","v":{"$error":"#REF!"}},{"$f":"ExportXML3_SplitTimes[[#This Row],[Kategorie]] & \" - \" & ExportXML3_SplitTimes[[#This Row],[Závodník]] & \" (\" & ExportXML3_SplitTimes[[#This Row],[Číslo čipu]] & \")\"","v":{"$error":"#REF!"}},{"$f":"ExportXML3_SplitTimes[[#This Row],[ControlCode]]","v":71},{"$f":"ExportXML3_SplitTimes[[#This Row],[SplitTimeSeconds]]/3600/24","v":"00:37:03"},{"$f":"COUNTIFS(ExportXML3_SplitTimes[Legenda],ExportXML3_SplitTimes[[#This Row],[Legenda]],ExportXML3_SplitTimes[Čas],\"<=\"&ExportXML3_SplitTimes[[#This Row],[Čas]])","v":504}]
["ŽB","Vaiglová","Marie/ČSOB","0050002",2849,74,2481,{"$f":"ExportXML3_SplitTimes[[#This Row],[GivenName]]&\" \"&ExportXML3_SplitTimes[[#This Row],[FamilyName]]","v":"Marie/ČSOB Vaiglová"},{"$f":"_xlfn.XLOOKUP(ExportXML3_SplitTimes[[#This Row],[PersonId]],#REF!,#REF!,\"-\")","v":{"$error":"#REF!"}},{"$f":"ExportXML3_SplitTimes[[#This Row],[Kategorie]] & \" - \" & ExportXML3_SplitTimes[[#This Row],[Závodník]] & \" (\" & ExportXML3_SplitTimes[[#This Row],[Číslo čipu]] & \")\"","v":{"$error":"#REF!"}},{"$f":"ExportXML3_SplitTimes[[#This Row],[ControlCode]]","v":74},{"$f":"ExportXML3_SplitTimes[[#This Row],[SplitTimeSeconds]]/3600/24","v":"00:41:21"},{"$f":"COUNTIFS(ExportXML3_SplitTimes[Legenda],ExportXML3_SplitTimes[[#This Row],[Legenda]],ExportXML3_SplitTimes[Čas],\"<=\"&ExportXML3_SplitTimes[[#This Row],[Čas]])","v":563}]
["ŽB","Vaiglová","Marie/ČSOB","0050002",2849,100,2824,{"$f":"ExportXML3_SplitTimes[[#This Row],[GivenName]]&\" \"&ExportXML3_SplitTimes[[#This Row],[FamilyName]]","v":"Marie/ČSOB Vaiglová"},{"$f":"_xlfn.XLOOKUP(ExportXML3_SplitTimes[[#This Row],[PersonId]],#REF!,#REF!,\"-\")","v":{"$error":"#REF!"}},{"$f":"ExportXML3_SplitTimes[[#This Row],[Kategorie]] & \" - \" & ExportXML3_SplitTimes[[#This Row],[Závodník]] & \" (\" & ExportXML3_SplitTimes[[#This Row],[Číslo čipu]] & \")\"","v":{"$error":"#REF!"}},{"$f":"ExportXML3_SplitTimes[[#This Row],[ControlCode]]","v":100},{"$f":"ExportXML3_SplitTimes[[#This Row],[SplitTimeSeconds]]/3600/24","v":"00:47:04"},{"$f":"COUNTIFS(ExportXML3_SplitTimes[Legenda],ExportXML3_SplitTimes[[#This Row],[Legenda]],ExportXML3_SplitTimes[Čas],\"<=\"&ExportXML3_SplitTimes[[#This Row],[Čas]])","v":634}]
["ŽB","Benešová","Nina","0150001",2876,72,361,{"$f":"ExportXML3_SplitTimes[[#This Row],[GivenName]]&\" \"&ExportXML3_SplitTimes[[#This Row],[FamilyName]]","v":"Nina Benešová"},{"$f":"_xlfn.XLOOKUP(ExportXML3_SplitTimes[[#This Row],[PersonId]],#REF!,#REF!,\"-\")","v":{"$error":"#REF!"}},{"$f":"ExportXML3_SplitTimes[[#This Row],[Kategorie]] & \" - \" & ExportXML3_SplitTimes[[#This Row],[Závodník]] & \" (\" & ExportXML3_SplitTimes[[#This Row],[Číslo čipu]] & \")\"","v":{"$error":"#REF!"}},{"$f":"ExportXML3_SplitTimes[[#This Row],[ControlCode]]","v":72},{"$f":"ExportXML3_SplitTimes[[#This Row],[SplitTimeSeconds]]/3600/24","v":"00:06:01"},{"$f":"COUNTIFS(ExportXML3_SplitTimes[Legenda],ExportXML3_SplitTimes[[#This Row],[Legenda]],ExportXML3_SplitTimes[Čas],\"<=\"&ExportXML3_SplitTimes[[#This Row],[Čas]])","v":42}]
["ŽB","Benešová","Nina","0150001",2876,50,644,{"$f":"ExportXML3_SplitTimes[[#This Row],[GivenName]]&\" \"&ExportXML3_SplitTimes[[#This Row],[FamilyName]]","v":"Nina Benešová"},{"$f":"_xlfn.XLOOKUP(ExportXML3_SplitTimes[[#This Row],[PersonId]],#REF!,#REF!,\"-\")","v":{"$error":"#REF!"}},{"$f":"ExportXML3_SplitTimes[[#This Row],[Kategorie]] & \" - \" & ExportXML3_SplitTimes[[#This Row],[Závodník]] & \" (\" & ExportXML3_SplitTimes[[#This Row],[Číslo čipu]] & \")\"","v":{"$error":"#REF!"}},{"$f":"ExportXML3_SplitTimes[[#This Row],[ControlCode]]","v":50},{"$f":"ExportXML3_SplitTimes[[#This Row],[SplitTimeSeconds]]/3600/24","v":"00:10:44"},{"$f":"COUNTIFS(ExportXML3_SplitTimes[Legenda],ExportXML3_SplitTimes[[#This Row],[Legenda]],ExportXML3_SplitTimes[Čas],\"<=\"&ExportXML3_SplitTimes[[#This Row],[Čas]])","v":127}]
["ŽB","Benešová","Nina","0150001",2876,52,825,{"$f":"ExportXML3_SplitTimes[[#This Row],[GivenName]]&\" \"&ExportXML3_SplitTimes[[#This Row],[FamilyName]]","v":"Nina Benešová"},{"$f":"_xlfn.XLOOKUP(ExportXML3_SplitTimes[[#This Row],[PersonId]],#REF!,#REF!,\"-\")","v":{"$error":"#REF!"}},{"$f":"ExportXML3_SplitTimes[[#This Row],[Kategorie]] & \" - \" & ExportXML3_SplitTimes[[#This Row],[Závodník]] & \" (\" & ExportXML3_SplitTimes[[#This Row],[Číslo čipu]] & \")\"","v":{"$error":"#REF!"}},{"$f":"ExportXML3_SplitTimes[[#This Row],[ControlCode]]","v":52},{"$f":"ExportXML3_SplitTimes[[#This Row],[SplitTimeSeconds]]/3600/24","v":"00:13:45"},{"$f":"COUNTIFS(ExportXML3_SplitTimes[Legenda],ExportXML3_SplitTimes[[#This Row],[Legenda]],ExportXML3_SplitTimes[Čas],\"<=\"&ExportXML3_SplitTimes[[#This Row],[Čas]])","v":174}]
["ŽB","Benešová","Nina","0150001",2876,53,1025,{"$f":"ExportXML3_SplitTimes[[#This Row],[GivenName]]&\" \"&ExportXML3_SplitTimes[[#This Row],[FamilyName]]","v":"Nina Benešová"},{"$f":"_xlfn.XLOOKUP(ExportXML3_SplitTimes[[#This Row],[PersonId]],#REF!,#REF!,\"-\")","v":{"$error":"#REF!"}},{"$f":"ExportXML3_SplitTimes[[#This Row],[Kategorie]] & \" - \" & ExportXML3_SplitTimes[[#This Row],[Závodník]] & \" (\" & ExportXML3_SplitTimes[[#This Row],[Číslo čipu]] & \")\"","v":{"$error":"#REF!"}},{"$f":"ExportXML3_SplitTimes[[#This Row],[ControlCode]]","v":53},{"$f":"ExportXML3_SplitTimes[[#This Row],[SplitTimeSeconds]]/3600/24","v":"00:17:05"},{"$f":"COUNTIFS(ExportXML3_SplitTimes[Legenda],ExportXML3_SplitTimes[[#This Row],[Legenda]],ExportXML3_SplitTimes[Čas],\"<=\"&ExportXML3_SplitTimes[[#This Row],[Čas]])","v":230}]
["ŽB","Benešová","Nina","0150001",2876,54,1340,{"$f":"ExportXML3_SplitTimes[[#This Row],[GivenName]]&\" \"&ExportXML3_SplitTimes[[#This Row],[FamilyName]]","v":"Nina Benešová"},{"$f":"_xlfn.XLOOKUP(ExportXML3_SplitTimes[[#This Row],[PersonId]],#REF!,#REF!,\"-\")","v":{"$error":"#REF!"}},{"$f":"ExportXML3_SplitTimes[[#This Row],[Kategorie]] & \" - \" & ExportXML3_SplitTimes[[#This Row],[Závodník]] & \" (\" & ExportXML3_SplitTimes[[#This Row],[Číslo čipu]] & \")\"","v":{"$error":"#REF!"}},{"$f":"ExportXML3_SplitTimes[[#This Row],[ControlCode]]","v":54},{"$f":"ExportXML3_SplitTimes[[#This Row],[SplitTimeSeconds]]/3600/24","v":"00:22:20"},{"$f":"COUNTIFS(ExportXML3_SplitTimes[Legenda],ExportXML3_SplitTimes[[#This Row],[Legenda]],ExportXML3_SplitTimes[Čas],\"<=\"&ExportXML3_SplitTimes[[#This Row],[Čas]])","v":303}]
["ŽB","Benešová","Nina","0150001",2876,67,1717,{"$f":"ExportXML3_SplitTimes[[#This Row],[GivenName]]&\" \"&ExportXML3_SplitTimes[[#This Row],[FamilyName]]","v":"Nina Benešová"},{"$f":"_xlfn.XLOOKUP(ExportXML3_SplitTimes[[#This Row],[PersonId]],#REF!,#REF!,\"-\")","v":{"$error":"#REF!"}},{"$f":"ExportXML3_SplitTimes[[#This Row],[Kategorie]] & \" - \" & ExportXML3_SplitTimes[[#This Row],[Závodník]] & \" (\" & ExportXML3_SplitTimes[[#This Row],[Číslo čipu]] & \")\"","v":{"$error":"#REF!"}},{"$f":"ExportXML3_SplitTimes[[#This Row],[ControlCode]]","v":67},{"$f":"ExportXML3_SplitTimes[[#This Row],[SplitTimeSeconds]]/3600/24","v":"00:28:37"},{"$f":"COUNTIFS(ExportXML3_SplitTimes[Legenda],ExportXML3_SplitTimes[[#This Row],[Legenda]],ExportXML3_SplitTimes[Čas],\"<=\"&ExportXML3_SplitTimes[[#This Row],[Čas]])","v":388}]
["ŽB","Benešová","Nina","0150001",2876,75,1964,{"$f":"ExportXML3_SplitTimes[[#This Row],[GivenName]]&\" \"&ExportXML3_SplitTimes[[#This Row],[FamilyName]]","v":"Nina Benešová"},{"$f":"_xlfn.XLOOKUP(ExportXML3_SplitTimes[[#This Row],[PersonId]],#REF!,#REF!,\"-\")","v":{"$error":"#REF!"}},{"$f":"ExportXML3_SplitTimes[[#This Row],[Kategorie]] & \" - \" & ExportXML3_SplitTimes[[#This Row],[Závodník]] & \" (\" & ExportXML3_SplitTimes[[#This Row],[Číslo čipu]] & \")\"","v":{"$error":"#REF!"}},{"$f":"ExportXML3_SplitTimes[[#This Row],[ControlCode]]","v":75},{"$f":"ExportXML3_SplitTimes[[#This Row],[SplitTimeSeconds]]/3600/24","v":"00:32:44"},{"$f":"COUNTIFS(ExportXML3_SplitTimes[Legenda],ExportXML3_SplitTimes[[#This Row],[Legenda]],ExportXML3_SplitTimes[Čas],\"<=\"&ExportXML3_SplitTimes[[#This Row],[Čas]])","v":454}]
["ŽB","Benešová","Nina","0150001",2876,77,2137,{"$f":"ExportXML3_SplitTimes[[#This Row],[GivenName]]&\" \"&ExportXML3_SplitTimes[[#This Row],[FamilyName]]","v":"Nina Benešová"},{"$f":"_xlfn.XLOOKUP(ExportXML3_SplitTimes[[#This Row],[PersonId]],#REF!,#REF!,\"-\")","v":{"$error":"#REF!"}},{"$f":"ExportXML3_SplitTimes[[#This Row],[Kategorie]] & \" - \" & ExportXML3_SplitTimes[[#This Row],[Závodník]] & \" (\" & ExportXML3_SplitTimes[[#This Row],[Číslo čipu]] & \")\"","v":{"$error":"#REF!"}},{"$f":"ExportXML3_SplitTimes[[#This Row],[ControlCode]]","v":77},{"$f":"ExportXML3_SplitTimes[[#This Row],[SplitTimeSeconds]]/3600/24","v":"00:35:37"},{"$f":"COUNTIFS(ExportXML3_SplitTimes[Legenda],ExportXML3_SplitTimes[[#This Row],[Legenda]],ExportXML3_SplitTimes[Čas],\"<=\"&ExportXML3_SplitTimes[[#This Row],[Čas]])","v":486}]
["ŽB","Benešová","Nina","0150001",2876,71,2414,{"$f":"ExportXML3_SplitTimes[[#This Row],[GivenName]]&\" \"&ExportXML3_SplitTimes[[#This Row],[FamilyName]]","v":"Nina Benešová"},{"$f":"_xlfn.XLOOKUP(ExportXML3_SplitTimes[[#This Row],[PersonId]],#REF!,#REF!,\"-\")","v":{"$error":"#REF!"}},{"$f":"ExportXML3_SplitTimes[[#This Row],[Kategorie]] & \" - \" & ExportXML3_SplitTimes[[#This Row],[Závodník]] & \" (\" & ExportXML3_SplitTimes[[#This Row],[Číslo čipu]] & \")\"","v":{"$error":"#REF!"}},{"$f":"ExportXML3_SplitTimes[[#This Row],[ControlCode]]","v":71},{"$f":"ExportXML3_SplitTimes[[#This Row],[SplitTimeSeconds]]/3600/24","v":"00:40:14"},{"$f":"COUNTIFS(ExportXML3_SplitTimes[Legenda],ExportXML3_SplitTimes[[#This Row],[Legenda]],ExportXML3_SplitTimes[Čas],\"<=\"&ExportXML3_SplitTimes[[#This Row],[Čas]])","v":545}]
["ŽB","Benešová","Nina","0150001",2876,74,2672,{"$f":"ExportXML3_SplitTimes[[#This Row],[GivenName]]&\" \"&ExportXML3_SplitTimes[[#This Row],[FamilyName]]","v":"Nina Benešová"},{"$f":"_xlfn.XLOOKUP(ExportXML3_SplitTimes[[#This Row],[PersonId]],#REF!,#REF!,\"-\")","v":{"$error":"#REF!"}},{"$f":"ExportXML3_SplitTimes[[#This Row],[Kategorie]] & \" - \" & ExportXML3_SplitTimes[[#This Row],[Závodník]] & \" (\" & ExportXML3_SplitTimes[[#This Row],[Číslo čipu]] & \")\"","v":{"$error":"#REF!"}},{"$f":"ExportXML3_SplitTimes[[#This Row],[ControlCode]]","v":74},{"$f":"ExportXML3_SplitTimes[[#This Row],[SplitTimeSeconds]]/3600/24","v":"00:44:32"},{"$f":"COUNTIFS(ExportXML3_SplitTimes[Legenda],ExportXML3_SplitTimes[[#This Row],[Legenda]],ExportXML3_SplitTimes[Čas],\"<=\"&ExportXML3_SplitTimes[[#This Row],[Čas]])","v":602}]
["ŽB","Benešová","Nina","0150001",2876,100,2851,{"$f":"ExportXML3_SplitTimes[[#This Row],[GivenName]]&\" \"&ExportXML3_SplitTimes[[#This Row],[FamilyName]]","v":"Nina Benešová"},{"$f":"_xlfn.XLOOKUP(ExportXML3_SplitTimes[[#This Row],[PersonId]],#REF!,#REF!,\"-\")","v":{"$error":"#REF!"}},{"$f":"ExportXML3_SplitTimes[[#This Row],[Kategorie]] & \" - \" & ExportXML3_SplitTimes[[#This Row],[Závodník]] & \" (\" & ExportXML3_SplitTimes[[#This Row],[Číslo čipu]] & \")\"","v":{"$error":"#REF!"}},{"$f":"ExportXML3_SplitTimes[[#This Row],[ControlCode]]","v":100},{"$f":"ExportXML3_SplitTimes[[#This Row],[SplitTimeSeconds]]/3600/24","v":"00:47:31"},{"$f":"COUNTIFS(ExportXML3_SplitTimes[Legenda],ExportXML3_SplitTimes[[#This Row],[Legenda]],ExportXML3_SplitTimes[Čas],\"<=\"&ExportXML3_SplitTimes[[#This Row],[Čas]])","v":637}]
["ŽB","Sedláčková","Eliška","0060004",2917,72,254,{"$f":"ExportXML3_SplitTimes[[#This Row],[GivenName]]&\" \"&ExportXML3_SplitTimes[[#This Row],[FamilyName]]","v":"Eliška Sedláčková"},{"$f":"_xlfn.XLOOKUP(ExportXML3_SplitTimes[[#This Row],[PersonId]],#REF!,#REF!,\"-\")","v":{"$error":"#REF!"}},{"$f":"ExportXML3_SplitTimes[[#This Row],[Kategorie]] & \" - \" & ExportXML3_SplitTimes[[#This Row],[Závodník]] & \" (\" & ExportXML3_SplitTimes[[#This Row],[Číslo čipu]] & \")\"","v":{"$error":"#REF!"}},{"$f":"ExportXML3_SplitTimes[[#This Row],[ControlCode]]","v":72},{"$f":"ExportXML3_SplitTimes[[#This Row],[SplitTimeSeconds]]/3600/24","v":"00:04:14"},{"$f":"COUNTIFS(ExportXML3_SplitTimes[Legenda],ExportXML3_SplitTimes[[#This Row],[Legenda]],ExportXML3_SplitTimes[Čas],\"<=\"&ExportXML3_SplitTimes[[#This Row],[Čas]])","v":18}]
["ŽB","Sedláčková","Eliška","0060004",2917,50,463,{"$f":"ExportXML3_SplitTimes[[#This Row],[GivenName]]&\" \"&ExportXML3_SplitTimes[[#This Row],[FamilyName]]","v":"Eliška Sedláčková"},{"$f":"_xlfn.XLOOKUP(ExportXML3_SplitTimes[[#This Row],[PersonId]],#REF!,#REF!,\"-\")","v":{"$error":"#REF!"}},{"$f":"ExportXML3_SplitTimes[[#This Row],[Kategorie]] & \" - \" & ExportXML3_SplitTimes[[#This Row],[Závodník]] & \" (\" & ExportXML3_SplitTimes[[#This Row],[Číslo čipu]] & \")\"","v":{"$error":"#REF!"}},{"$f":"ExportXML3_SplitTimes[[#This Row],[ControlCode]]","v":50},{"$f":"ExportXML3_SplitTimes[[#This Row],[SplitTimeSeconds]]/3600/24","v":"00:07:43"},{"$f":"COUNTIFS(ExportXML3_SplitTimes[Legenda],ExportXML3_SplitTimes[[#This Row],[Legenda]],ExportXML3_SplitTimes[Čas],\"<=\"&ExportXML3_SplitTimes[[#This Row],[Čas]])","v":64}]
["ŽB","Sedláčková","Eliška","0060004",2917,52,568,{"$f":"ExportXML3_SplitTimes[[#This Row],[GivenName]]&\" \"&ExportXML3_SplitTimes[[#This Row],[FamilyName]]","v":"Eliška Sedláčková"},{"$f":"_xlfn.XLOOKUP(ExportXML3_SplitTimes[[#This Row],[PersonId]],#REF!,#REF!,\"-\")","v":{"$error":"#REF!"}},{"$f":"ExportXML3_SplitTimes[[#This Row],[Kategorie]] & \" - \" & ExportXML3_SplitTimes[[#This Row],[Závodník]] & \" (\" & ExportXML3_SplitTimes[[#This Row],[Číslo čipu]] & \")\"","v":{"$error":"#REF!"}},{"$f":"ExportXML3_SplitTimes[[#This Row],[ControlCode]]","v":52},{"$f":"ExportXML3_SplitTimes[[#This Row],[SplitTimeSeconds]]/3600/24","v":"00:09:28"},{"$f":"COUNTIFS(ExportXML3_SplitTimes[Legenda],ExportXML3_SplitTimes[[#This Row],[Legenda]],ExportXML3_SplitTimes[Čas],\"<=\"&ExportXML3_SplitTimes[[#This Row],[Čas]])","v":100}]
["ŽB","Sedláčková","Eliška","0060004",2917,53,878,{"$f":"ExportXML3_SplitTimes[[#This Row],[GivenName]]&\" \"&ExportXML3_SplitTimes[[#This Row],[FamilyName]]","v":"Eliška Sedláčková"},{"$f":"_xlfn.XLOOKUP(ExportXML3_SplitTimes[[#This Row],[PersonId]],#REF!,#REF!,\"-\")","v":{"$error":"#REF!"}},{"$f":"ExportXML3_SplitTimes[[#This Row],[Kategorie]] & \" - \" & ExportXML3_SplitTimes[[#This Row],[Závodník]] & \" (\" & ExportXML3_SplitTimes[[#This Row],[Číslo čipu]] & \")\"","v":{"$error":"#REF!"}},{"$f":"ExportXML3_SplitTimes[[#This Row],[ControlCode]]","v":53},{"$f":"ExportXML3_SplitTimes[[#This Row],[SplitTimeSeconds]]/3600/24","v":"00:14:38"},{"$f":"COUNTIFS(ExportXML3_SplitTimes[Legenda],ExportXML3_SplitTimes[[#This Row],[Legenda]],ExportXML3_SplitTimes[Čas],\"<=\"&ExportXML3_SplitTimes[[#This Row],[Čas]])","v":186}]
["ŽB","Sedláčková","Eliška","0060004",2917,54,1178,{"$f":"ExportXML3_SplitTimes[[#This Row],[GivenName]]&\" \"&ExportXML3_SplitTimes[[#This Row],[FamilyName]]","v":"Eliška Sedláčková"},{"$f":"_xlfn.XLOOKUP(ExportXML3_SplitTimes[[#This Row],[PersonId]],#REF!,#REF!,\"-\")","v":{"$error":"#REF!"}},{"$f":"ExportXML3_SplitTimes[[#This Row],[Kategorie]] & \" - \" & ExportXML3_SplitTimes[[#This Row],[Závodník]] & \" (\" & ExportXML3_SplitTimes[[#This Row],[Číslo čipu]] & \")\"","v":{"$error":"#REF!"}},{"$f":"ExportXML3_SplitTimes[[#This Row],[ControlCode]]","v":54},{"$f":"ExportXML3_SplitTimes[[#This Row],[SplitTimeSeconds]]/3600/24","v":"00:19:38"},{"$f":"COUNTIFS(ExportXML3_SplitTimes[Legenda],ExportXML3_SplitTimes[[#This Row],[Legenda]],ExportXML3_SplitTimes[Čas],\"<=\"&ExportXML3_SplitTimes[[#This Row],[Čas]])","v":268}]
["ŽB","Sedláčková","Eliška","0060004",2917,67,1659,{"$f":"ExportXML3_SplitTimes[[#This Row],[GivenName]]&\" \"&ExportXML3_SplitTimes[[#This Row],[FamilyName]]","v":"Eliška Sedláčková"},{"$f":"_xlfn.XLOOKUP(ExportXML3_SplitTimes[[#This Row],[PersonId]],#REF!,#REF!,\"-\")","v":{"$error":"#REF!"}},{"$f":"ExportXML3_SplitTimes[[#This Row],[Kategorie]] & \" - \" & ExportXML3_SplitTimes[[#This Row],[Závodník]] & \" (\" & ExportXML3_SplitTimes[[#This Row],[Číslo čipu]] & \")\"","v":{"$error":"#REF!"}},{"$f":"ExportXML3_SplitTimes[[#This Row],[ControlCode]]","v":67},{"$f":"ExportXML3_SplitTimes[[#This Row],[SplitTimeSeconds]]/3600/24","v":"00:27:39"},{"$f":"COUNTIFS(ExportXML3_SplitTimes[Legenda],ExportXML3_SplitTimes[[#This Row],[Legenda]],ExportXML3_SplitTimes[Čas],\"<=\"&ExportXML3_SplitTimes[[#This Row],[Čas]])","v":371}]
["ŽB","Sedláčková","Eliška","0060004",2917,75,1868,{"$f":"ExportXML3_SplitTimes[[#This Row],[GivenName]]&\" \"&ExportXML3_SplitTimes[[#This Row],[FamilyName]]","v":"Eliška Sedláčková"},{"$f":"_xlfn.XLOOKUP(ExportXML3_SplitTimes[[#This Row],[PersonId]],#REF!,#REF!,\"-\")","v":{"$error":"#REF!"}},{"$f":"ExportXML3_SplitTimes[[#This Row],[Kategorie]] & \" - \" & ExportXML3_SplitTimes[[#This Row],[Závodník]] & \" (\" & ExportXML3_SplitTimes[[#This Row],[Číslo čipu]] & \")\"","v":{"$error":"#REF!"}},{"$f":"ExportXML3_SplitTimes[[#This Row],[ControlCode]]","v":75},{"$f":"ExportXML3_SplitTimes[[#This Row],[SplitTimeSeconds]]/3600/24","v":"00:31:08"},{"$f":"COUNTIFS(ExportXML3_SplitTimes[Legenda],ExportXML3_SplitTimes[[#This Row],[Legenda]],ExportXML3_SplitTimes[Čas],\"<=\"&ExportXML3_SplitTimes[[#This Row],[Čas]])","v":429}]
["ŽB","Sedláčková","Eliška","0060004",2917,77,2035,{"$f":"ExportXML3_SplitTimes[[#This Row],[GivenName]]&\" \"&ExportXML3_SplitTimes[[#This Row],[FamilyName]]","v":"Eliška Sedláčková"},{"$f":"_xlfn.XLOOKUP(ExportXML3_SplitTimes[[#This Row],[PersonId]],#REF!,#REF!,\"-\")","v":{"$error":"#REF!"}},{"$f":"ExportXML3_SplitTimes[[#This Row],[Kategorie]] & \" - \" & ExportXML3_SplitTimes[[#This Row],[Závodník]] & \" (\" & ExportXML3_SplitTimes[[#This Row],[Číslo čipu]] & \")\"","v":{"$error":"#REF!"}},{"$f":"ExportXML3_SplitTimes[[#This Row],[ControlCode]]","v":77},{"$f":"ExportXML3_SplitTimes[[#This Row],[SplitTimeSeconds]]/3600/24","v":"00:33:55"},{"$f":"COUNTIFS(ExportXML3_SplitTimes[Legenda],ExportXML3_SplitTimes[[#This Row],[Legenda]],ExportXML3_SplitTimes[Čas],\"<=\"&ExportXML3_SplitTimes[[#This Row],[Čas]])","v":469}]
["ŽB","Sedláčková","Eliška","0060004",2917,71,2337,{"$f":"ExportXML3_SplitTimes[[#This Row],[GivenName]]&\" \"&ExportXML3_SplitTimes[[#This Row],[FamilyName]]","v":"Eliška Sedláčková"},{"$f":"_xlfn.XLOOKUP(ExportXML3_SplitTimes[[#This Row],[PersonId]],#REF!,#REF!,\"-\")","v":{"$error":"#REF!"}},{"$f":"ExportXML3_SplitTimes[[#This Row],[Kategorie]] & \" - \" & ExportXML3_SplitTimes[[#This Row],[Závodník]] & \" (\" & ExportXML3_SplitTimes[[#This Row],[Číslo čipu]] & \")\"","v":{"$error":"#REF!"}},{"$f":"ExportXML3_SplitTimes[[#This Row],[ControlCode]]","v":71},{"$f":"ExportXML3_SplitTimes[[#This Row],[SplitTimeSeconds]]/3600/24","v":"00:38:57"},{"$f":"COUNTIFS(ExportXML3_SplitTimes[Legenda],ExportXML3_SplitTimes[[#This Row],[Legenda]],ExportXML3_SplitTimes[Čas],\"<=\"&ExportXML3_SplitTimes[[#This Row],[Čas]])","v":530}]
["ŽB","Sedláčková","Eliška","0060004",2917,74,2669,{"$f":"ExportXML3_SplitTimes[[#This Row],[GivenName]]&\" \"&ExportXML3_SplitTimes[[#This Row],[FamilyName]]","v":"Eliška Sedláčková"},{"$f":"_xlfn.XLOOKUP(ExportXML3_SplitTimes[[#This Row],[PersonId]],#REF!,#REF!,\"-\")","v":{"$error":"#REF!"}},{"$f":"ExportXML3_SplitTimes[[#This Row],[Kategorie]] & \" - \" & ExportXML3_SplitTimes[[#This Row],[Závodník]] & \" (\" & ExportXML3_SplitTimes[[#This Row],[Číslo čipu]] & \")\"","v":{"$error":"#REF!"}},{"$f":"ExportXML3_SplitTimes[[#This Row],[ControlCode]]","v":74},{"$f":"ExportXML3_SplitTimes[[#This Row],[SplitTimeSeconds]]/3600/24","v":"00:44:29"},{"$f":"COUNTIFS(ExportXML3_SplitTimes[Legenda],ExportXML3_SplitTimes[[#This Row],[Legenda]],ExportXML3_SplitTimes[Čas],\"<=\"&ExportXML3_SplitTimes[[#This Row],[Čas]])","v":601}]
["ŽB","Sedláčková","Eliška","0060004",2917,100,2882,{"$f":"ExportXML3_SplitTimes[[#This Row],[GivenName]]&\" \"&ExportXML3_SplitTimes[[#This Row],[FamilyName]]","v":"Eliška Sedláčková"},{"$f":"_xlfn.XLOOKUP(ExportXML3_SplitTimes[[#This Row],[PersonId]],#REF!,#REF!,\"-\")","v":{"$error":"#REF!"}},{"$f":"ExportXML3_SplitTimes[[#This Row],[Kategorie]] & \" - \" & ExportXML3_SplitTimes[[#This Row],[Závodník]] & \" (\" & ExportXML3_SplitTimes[[#This Row],[Číslo čipu]] & \")\"","v":{"$error":"#REF!"}},{"$f":"ExportXML3_SplitTimes[[#This Row],[ControlCode]]","v":100},{"$f":"ExportXML3_SplitTimes[[#This Row],[SplitTimeSeconds]]/3600/24","v":"00:48:02"},{"$f":"COUNTIFS(ExportXML3_SplitTimes[Legenda],ExportXML3_SplitTimes[[#This Row],[Legenda]],ExportXML3_SplitTimes[Čas],\"<=\"&ExportXML3_SplitTimes[[#This Row],[Čas]])","v":644}]
["ŽB","Matušková","Klára","0250001",3556,72,472,{"$f":"ExportXML3_SplitTimes[[#This Row],[GivenName]]&\" \"&ExportXML3_SplitTimes[[#This Row],[FamilyName]]","v":"Klára Matušková"},{"$f":"_xlfn.XLOOKUP(ExportXML3_SplitTimes[[#This Row],[PersonId]],#REF!,#REF!,\"-\")","v":{"$error":"#REF!"}},{"$f":"ExportXML3_SplitTimes[[#This Row],[Kategorie]] & \" - \" & ExportXML3_SplitTimes[[#This Row],[Závodník]] & \" (\" & ExportXML3_SplitTimes[[#This Row],[Číslo čipu]] & \")\"","v":{"$error":"#REF!"}},{"$f":"ExportXML3_SplitTimes[[#This Row],[ControlCode]]","v":72},{"$f":"ExportXML3_SplitTimes[[#This Row],[SplitTimeSeconds]]/3600/24","v":"00:07:52"},{"$f":"COUNTIFS(ExportXML3_SplitTimes[Legenda],ExportXML3_SplitTimes[[#This Row],[Legenda]],ExportXML3_SplitTimes[Čas],\"<=\"&ExportXML3_SplitTimes[[#This Row],[Čas]])","v":70}]
["ŽB","Matušková","Klára","0250001",3556,50,667,{"$f":"ExportXML3_SplitTimes[[#This Row],[GivenName]]&\" \"&ExportXML3_SplitTimes[[#This Row],[FamilyName]]","v":"Klára Matušková"},{"$f":"_xlfn.XLOOKUP(ExportXML3_SplitTimes[[#This Row],[PersonId]],#REF!,#REF!,\"-\")","v":{"$error":"#REF!"}},{"$f":"ExportXML3_SplitTimes[[#This Row],[Kategorie]] & \" - \" & ExportXML3_SplitTimes[[#This Row],[Závodník]] & \" (\" & ExportXML3_SplitTimes[[#This Row],[Číslo čipu]] & \")\"","v":{"$error":"#REF!"}},{"$f":"ExportXML3_SplitTimes[[#This Row],[ControlCode]]","v":50},{"$f":"ExportXML3_SplitTimes[[#This Row],[SplitTimeSeconds]]/3600/24","v":"00:11:07"},{"$f":"COUNTIFS(ExportXML3_SplitTimes[Legenda],ExportXML3_SplitTimes[[#This Row],[Legenda]],ExportXML3_SplitTimes[Čas],\"<=\"&ExportXML3_SplitTimes[[#This Row],[Čas]])","v":136}]
["ŽB","Matušková","Klára","0250001",3556,52,829,{"$f":"ExportXML3_SplitTimes[[#This Row],[GivenName]]&\" \"&ExportXML3_SplitTimes[[#This Row],[FamilyName]]","v":"Klára Matušková"},{"$f":"_xlfn.XLOOKUP(ExportXML3_SplitTimes[[#This Row],[PersonId]],#REF!,#REF!,\"-\")","v":{"$error":"#REF!"}},{"$f":"ExportXML3_SplitTimes[[#This Row],[Kategorie]] & \" - \" & ExportXML3_SplitTimes[[#This Row],[Závodník]] & \" (\" & ExportXML3_SplitTimes[[#This Row],[Číslo čipu]] & \")\"","v":{"$error":"#REF!"}},{"$f":"ExportXML3_SplitTimes[[#This Row],[ControlCode]]","v":52},{"$f":"ExportXML3_SplitTimes[[#This Row],[SplitTimeSeconds]]/3600/24","v":"00:13:49"},{"$f":"COUNTIFS(ExportXML3_SplitTimes[Legenda],ExportXML3_SplitTimes[[#This Row],[Legenda]],ExportXML3_SplitTimes[Čas],\"<=\"&ExportXML3_SplitTimes[[#This Row],[Čas]])","v":175}]
["ŽB","Matušková","Klára","0250001",3556,53,1029,{"$f":"ExportXML3_SplitTimes[[#This Row],[GivenName]]&\" \"&ExportXML3_SplitTimes[[#This Row],[FamilyName]]","v":"Klára Matušková"},{"$f":"_xlfn.XLOOKUP(ExportXML3_SplitTimes[[#This Row],[PersonId]],#REF!,#REF!,\"-\")","v":{"$error":"#REF!"}},{"$f":"ExportXML3_SplitTimes[[#This Row],[Kategorie]] & \" - \" & ExportXML3_SplitTimes[[#This Row],[Závodník]] & \" (\" & ExportXML3_SplitTimes[[#This Row],[Číslo čipu]] & \")\"","v":{"$error":"#REF!"}},{"$f":"ExportXML3_SplitTimes[[#This Row],[ControlCode]]","v":53},{"$f":"ExportXML3_SplitTimes[[#This Row],[SplitTimeSeconds]]/3600/24","v":"00:17:09"},{"$f":"COUNTIFS(ExportXML3_SplitTimes[Legenda],ExportXML3_SplitTimes[[#This Row],[Legenda]],ExportXML3_SplitTimes[Čas],\"<=\"&ExportXML3_SplitTimes[[#This Row],[Čas]])","v":231}]
["ŽB","Matušková","Klára","0250001",3556,54,1222,{"$f":"ExportXML3_SplitTimes[[#This Row],[GivenName]]&\" \"&ExportXML3_SplitTimes[[#This Row],[FamilyName]]","v":"Klára Matušková"},{"$f":"_xlfn.XLOOKUP(ExportXML3_SplitTimes[[#This Row],[PersonId]],#REF!,#REF!,\"-\")","v":{"$error":"#REF!"}},{"$f":"ExportXML3_SplitTimes[[#This Row],[Kategorie]] & \" - \" & ExportXML3_SplitTimes[[#This Row],[Závodník]] & \" (\" & ExportXML3_SplitTimes[[#This Row],[Číslo čipu]] & \")\"","v":{"$error":"#REF!"}},{"$f":"ExportXML3_SplitTimes[[#This Row],[ControlCode]]","v":54},{"$f":"ExportXML3_SplitTimes[[#This Row],[SplitTimeSeconds]]/3600/24","v":"00:20:22"},{"$f":"COUNTIFS(ExportXML3_SplitTimes[Legenda],ExportXML3_SplitTimes[[#This Row],[Legenda]],ExportXML3_SplitTimes[Čas],\"<=\"&ExportXML3_SplitTimes[[#This Row],[Čas]])","v":278}]
["ŽB","Matušková","Klára","0250001",3556,67,1708,{"$f":"ExportXML3_SplitTimes[[#This Row],[GivenName]]&\" \"&ExportXML3_SplitTimes[[#This Row],[FamilyName]]","v":"Klára Matušková"},{"$f":"_xlfn.XLOOKUP(ExportXML3_SplitTimes[[#This Row],[PersonId]],#REF!,#REF!,\"-\")","v":{"$error":"#REF!"}},{"$f":"ExportXML3_SplitTimes[[#This Row],[Kategorie]] & \" - \" & ExportXML3_SplitTimes[[#This Row],[Závodník]] & \" (\" & ExportXML3_SplitTimes[[#This Row],[Číslo čipu]] & \")\"","v":{"$error":"#REF!"}},{"$f":"ExportXML3_SplitTimes[[#This Row],[ControlCode]]","v":67},{"$f":"ExportXML3_SplitTimes[[#This Row],[SplitTimeSeconds]]/3600/24","v":"00:28:28"},{"$f":"COUNTIFS(ExportXML3_SplitTimes[Legenda],ExportXML3_SplitTimes[[#This Row],[Legenda]],ExportXML3_SplitTimes[Čas],\"<=\"&ExportXML3_SplitTimes[[#This Row],[Čas]])","v":385}]
["ŽB","Matušková","Klára","0250001",3556,75,1875,{"$f":"ExportXML3_SplitTimes[[#This Row],[GivenName]]&\" \"&ExportXML3_SplitTimes[[#This Row],[FamilyName]]","v":"Klára Matušková"},{"$f":"_xlfn.XLOOKUP(ExportXML3_SplitTimes[[#This Row],[PersonId]],#REF!,#REF!,\"-\")","v":{"$error":"#REF!"}},{"$f":"ExportXML3_SplitTimes[[#This Row],[Kategorie]] & \" - \" & ExportXML3_SplitTimes[[#This Row],[Závodník]] & \" (\" & ExportXML3_SplitTimes[[#This Row],[Číslo čipu]] & \")\"","v":{"$error":"#REF!"}},{"$f":"ExportXML3_SplitTimes[[#This Row],[ControlCode]]","v":75},{"$f":"ExportXML3_SplitTimes[[#This Row],[SplitTimeSeconds]]/3600/24","v":"00:31:15"},{"$f":"COUNTIFS(ExportXML3_SplitTimes[Legenda],ExportXML3_SplitTimes[[#This Row],[Legenda]],ExportXML3_SplitTimes[Čas],\"<=\"&ExportXML3_SplitTimes[[#This Row],[Čas]])","v":430}]
["ŽB","Matušková","Klára","0250001",3556,77,2735,{"$f":"ExportXML3_SplitTimes[[#This Row],[GivenName]]&\" \"&ExportXML3_SplitTimes[[#This Row],[FamilyName]]","v":"Klára Matušková"},{"$f":"_xlfn.XLOOKUP(ExportXML3_SplitTimes[[#This Row],[PersonId]],#REF!,#REF!,\"-\")","v":{"$error":"#REF!"}},{"$f":"ExportXML3_SplitTimes[[#This Row],[Kategorie]] & \" - \" & ExportXML3_SplitTimes[[#This Row],[Závodník]] & \" (\" & ExportXML3_SplitTimes[[#This Row],[Číslo čipu]] & \")\"","v":{"$error":"#REF!"}},{"$f":"ExportXML3_SplitTimes[[#This Row],[ControlCode]]","v":77},{"$f":"ExportXML3_SplitTimes[[#This Row],[SplitTimeSeconds]]/3600/24","v":"00:45:35"},{"$f":"COUNTIFS(ExportXML3_SplitTimes[Legenda],ExportXML3_SplitTimes[[#This Row],[Legenda]],ExportXML3_SplitTimes[Čas],\"<=\"&ExportXML3_SplitTimes[[#This Row],[Čas]])","v":615}]
["ŽB","Matušková","Klára","0250001",3556,71,3014,{"$f":"ExportXML3_SplitTimes[[#This Row],[GivenName]]&\" \"&ExportXML3_SplitTimes[[#This Row],[FamilyName]]","v":"Klára Matušková"},{"$f":"_xlfn.XLOOKUP(ExportXML3_SplitTimes[[#This Row],[PersonId]],#REF!,#REF!,\"-\")","v":{"$error":"#REF!"}},{"$f":"ExportXML3_SplitTimes[[#This Row],[Kategorie]] & \" - \" & ExportXML3_SplitTimes[[#This Row],[Závodník]] & \" (\" & ExportXML3_SplitTimes[[#This Row],[Číslo čipu]] & \")\"","v":{"$error":"#REF!"}},{"$f":"ExportXML3_SplitTimes[[#This Row],[ControlCode]]","v":71},{"$f":"ExportXML3_SplitTimes[[#This Row],[SplitTimeSeconds]]/3600/24","v":"00:50:14"},{"$f":"COUNTIFS(ExportXML3_SplitTimes[Legenda],ExportXML3_SplitTimes[[#This Row],[Legenda]],ExportXML3_SplitTimes[Čas],\"<=\"&ExportXML3_SplitTimes[[#This Row],[Čas]])","v":670}]
["ŽB","Matušková","Klára","0250001",3556,74,3329,{"$f":"ExportXML3_SplitTimes[[#This Row],[GivenName]]&\" \"&ExportXML3_SplitTimes[[#This Row],[FamilyName]]","v":"Klára Matušková"},{"$f":"_xlfn.XLOOKUP(ExportXML3_SplitTimes[[#This Row],[PersonId]],#REF!,#REF!,\"-\")","v":{"$error":"#REF!"}},{"$f":"ExportXML3_SplitTimes[[#This Row],[Kategorie]] & \" - \" & ExportXML3_SplitTimes[[#This Row],[Závodník]] & \" (\" & ExportXML3_SplitTimes[[#This Row],[Číslo čipu]] & \")\"","v":{"$error":"#REF!"}},{"$f":"ExportXML3_SplitTimes[[#This Row],[ControlCode]]","v":74},{"$f":"ExportXML3_SplitTimes[[#This Row],[SplitTimeSeconds]]/3600/24","v":"00:55:29"},{"$f":"COUNTIFS(ExportXML3_SplitTimes[Legenda],ExportXML3_SplitTimes[[#This Row],[Legenda]],ExportXML3_SplitTimes[Čas],\"<=\"&ExportXML3_SplitTimes[[#This Row],[Čas]])","v":712}]
["ŽB","Matušková","Klára","0250001",3556,100,3530,{"$f":"ExportXML3_SplitTimes[[#This Row],[GivenName]]&\" \"&ExportXML3_SplitTimes[[#This Row],[FamilyName]]","v":"Klára Matušková"},{"$f":"_xlfn.XLOOKUP(ExportXML3_SplitTimes[[#This Row],[PersonId]],#REF!,#REF!,\"-\")","v":{"$error":"#REF!"}},{"$f":"ExportXML3_SplitTimes[[#This Row],[Kategorie]] & \" - \" & ExportXML3_SplitTimes[[#This Row],[Závodník]] & \" (\" & ExportXML3_SplitTimes[[#This Row],[Číslo čipu]] & \")\"","v":{"$error":"#REF!"}},{"$f":"ExportXML3_SplitTimes[[#This Row],[ControlCode]]","v":100},{"$f":"ExportXML3_SplitTimes[[#This Row],[SplitTimeSeconds]]/3600/24","v":"00:58:50"},{"$f":"COUNTIFS(ExportXML3_SplitTimes[Legenda],ExportXML3_SplitTimes[[#This Row],[Legenda]],ExportXML3_SplitTimes[Čas],\"<=\"&ExportXML3_SplitTimes[[#This Row],[Čas]])","v":733}]
["ŽB","Ransdorfová","Šárka","0140002",3734,72,274,{"$f":"ExportXML3_SplitTimes[[#This Row],[GivenName]]&\" \"&ExportXML3_SplitTimes[[#This Row],[FamilyName]]","v":"Šárka Ransdorfová"},{"$f":"_xlfn.XLOOKUP(ExportXML3_SplitTimes[[#This Row],[PersonId]],#REF!,#REF!,\"-\")","v":{"$error":"#REF!"}},{"$f":"ExportXML3_SplitTimes[[#This Row],[Kategorie]] & \" - \" & ExportXML3_SplitTimes[[#This Row],[Závodník]] & \" (\" & ExportXML3_SplitTimes[[#This Row],[Číslo čipu]] & \")\"","v":{"$error":"#REF!"}},{"$f":"ExportXML3_SplitTimes[[#This Row],[ControlCode]]","v":72},{"$f":"ExportXML3_SplitTimes[[#This Row],[SplitTimeSeconds]]/3600/24","v":"00:04:34"},{"$f":"COUNTIFS(ExportXML3_SplitTimes[Legenda],ExportXML3_SplitTimes[[#This Row],[Legenda]],ExportXML3_SplitTimes[Čas],\"<=\"&ExportXML3_SplitTimes[[#This Row],[Čas]])","v":22}]
["ŽB","Ransdorfová","Šárka","0140002",3734,50,470,{"$f":"ExportXML3_SplitTimes[[#This Row],[GivenName]]&\" \"&ExportXML3_SplitTimes[[#This Row],[FamilyName]]","v":"Šárka Ransdorfová"},{"$f":"_xlfn.XLOOKUP(ExportXML3_SplitTimes[[#This Row],[PersonId]],#REF!,#REF!,\"-\")","v":{"$error":"#REF!"}},{"$f":"ExportXML3_SplitTimes[[#This Row],[Kategorie]] & \" - \" & ExportXML3_SplitTimes[[#This Row],[Závodník]] & \" (\" & ExportXML3_SplitTimes[[#This Row],[Číslo čipu]] & \")\"","v":{"$error":"#REF!"}},{"$f":"ExportXML3_SplitTimes[[#This Row],[ControlCode]]","v":50},{"$f":"ExportXML3_SplitTimes[[#This Row],[SplitTimeSeconds]]/3600/24","v":"00:07:50"},{"$f":"COUNTIFS(ExportXML3_SplitTimes[Legenda],ExportXML3_SplitTimes[[#This Row],[Legenda]],ExportXML3_SplitTimes[Čas],\"<=\"&ExportXML3_SplitTimes[[#This Row],[Čas]])","v":69}]
["ŽB","Ransdorfová","Šárka","0140002",3734,52,581,{"$f":"ExportXML3_SplitTimes[[#This Row],[GivenName]]&\" \"&ExportXML3_SplitTimes[[#This Row],[FamilyName]]","v":"Šárka Ransdorfová"},{"$f":"_xlfn.XLOOKUP(ExportXML3_SplitTimes[[#This Row],[PersonId]],#REF!,#REF!,\"-\")","v":{"$error":"#REF!"}},{"$f":"ExportXML3_SplitTimes[[#This Row],[Kategorie]] & \" - \" & ExportXML3_SplitTimes[[#This Row],[Závodník]] & \" (\" & ExportXML3_SplitTimes[[#This Row],[Číslo čipu]] & \")\"","v":{"$error":"#REF!"}},{"$f":"ExportXML3_SplitTimes[[#This Row],[ControlCode]]","v":52},{"$f":"ExportXML3_SplitTimes[[#This Row],[SplitTimeSeconds]]/3600/24","v":"00:09:41"},{"$f":"COUNTIFS(ExportXML3_SplitTimes[Legenda],ExportXML3_SplitTimes[[#This Row],[Legenda]],ExportXML3_SplitTimes[Čas],\"<=\"&ExportXML3_SplitTimes[[#This Row],[Čas]])","v":105}]
["ŽB","Ransdorfová","Šárka","0140002",3734,53,911,{"$f":"ExportXML3_SplitTimes[[#This Row],[GivenName]]&\" \"&ExportXML3_SplitTimes[[#This Row],[FamilyName]]","v":"Šárka Ransdorfová"},{"$f":"_xlfn.XLOOKUP(ExportXML3_SplitTimes[[#This Row],[PersonId]],#REF!,#REF!,\"-\")","v":{"$error":"#REF!"}},{"$f":"ExportXML3_SplitTimes[[#This Row],[Kategorie]] & \" - \" & ExportXML3_SplitTimes[[#This Row],[Závodník]] & \" (\" & ExportXML3_SplitTimes[[#This Row],[Číslo čipu]] & \")\"","v":{"$error":"#REF!"}},{"$f":"ExportXML3_SplitTimes[[#This Row],[ControlCode]]","v":53},{"$f":"ExportXML3_SplitTimes[[#This Row],[SplitTimeSeconds]]/3600/24","v":"00:15:11"},{"$f":"COUNTIFS(ExportXML3_SplitTimes[Legenda],ExportXML3_SplitTimes[[#This Row],[Legenda]],ExportXML3_SplitTimes[Čas],\"<=\"&ExportXML3_SplitTimes[[#This Row],[Čas]])","v":195}]
["ŽB","Ransdorfová","Šárka","0140002",3734,54,1288,{"$f":"ExportXML3_SplitTimes[[#This Row],[GivenName]]&\" \"&ExportXML3_SplitTimes[[#This Row],[FamilyName]]","v":"Šárka Ransdorfová"},{"$f":"_xlfn.XLOOKUP(ExportXML3_SplitTimes[[#This Row],[PersonId]],#REF!,#REF!,\"-\")","v":{"$error":"#REF!"}},{"$f":"ExportXML3_SplitTimes[[#This Row],[Kategorie]] & \" - \" & ExportXML3_SplitTimes[[#This Row],[Závodník]] & \" (\" & ExportXML3_SplitTimes[[#This Row],[Číslo čipu]] & \")\"","v":{"$error":"#REF!"}},{"$f":"ExportXML3_SplitTimes[[#This Row],[ControlCode]]","v":54},{"$f":"ExportXML3_SplitTimes[[#This Row],[SplitTimeSeconds]]/3600/24","v":"00:21:28"},{"$f":"COUNTIFS(ExportXML3_SplitTimes[Legenda],ExportXML3_SplitTimes[[#This Row],[Legenda]],ExportXML3_SplitTimes[Čas],\"<=\"&ExportXML3_SplitTimes[[#This Row],[Čas]])","v":292}]
["ŽB","Ransdorfová","Šárka","0140002",3734,67,1837,{"$f":"ExportXML3_SplitTimes[[#This Row],[GivenName]]&\" \"&ExportXML3_SplitTimes[[#This Row],[FamilyName]]","v":"Šárka Ransdorfová"},{"$f":"_xlfn.XLOOKUP(ExportXML3_SplitTimes[[#This Row],[PersonId]],#REF!,#REF!,\"-\")","v":{"$error":"#REF!"}},{"$f":"ExportXML3_SplitTimes[[#This Row],[Kategorie]] & \" - \" & ExportXML3_SplitTimes[[#This Row],[Závodník]] & \" (\" & ExportXML3_SplitTimes[[#This Row],[Číslo čipu]] & \")\"","v":{"$error":"#REF!"}},{"$f":"ExportXML3_SplitTimes[[#This Row],[ControlCode]]","v":67},{"$f":"ExportXML3_SplitTimes[[#This Row],[SplitTimeSeconds]]/3600/24","v":"00:30:37"},{"$f":"COUNTIFS(ExportXML3_SplitTimes[Legenda],ExportXML3_SplitTimes[[#This Row],[Legenda]],ExportXML3_SplitTimes[Čas],\"<=\"&ExportXML3_SplitTimes[[#This Row],[Čas]])","v":420}]
["ŽB","Ransdorfová","Šárka","0140002",3734,75,2065,{"$f":"ExportXML3_SplitTimes[[#This Row],[GivenName]]&\" \"&ExportXML3_SplitTimes[[#This Row],[FamilyName]]","v":"Šárka Ransdorfová"},{"$f":"_xlfn.XLOOKUP(ExportXML3_SplitTimes[[#This Row],[PersonId]],#REF!,#REF!,\"-\")","v":{"$error":"#REF!"}},{"$f":"ExportXML3_SplitTimes[[#This Row],[Kategorie]] & \" - \" & ExportXML3_SplitTimes[[#This Row],[Závodník]] & \" (\" & ExportXML3_SplitTimes[[#This Row],[Číslo čipu]] & \")\"","v":{"$error":"#REF!"}},{"$f":"ExportXML3_SplitTimes[[#This Row],[ControlCode]]","v":75},{"$f":"ExportXML3_SplitTimes[[#This Row],[SplitTimeSeconds]]/3600/24","v":"00:34:25"},{"$f":"COUNTIFS(ExportXML3_SplitTimes[Legenda],ExportXML3_SplitTimes[[#This Row],[Legenda]],ExportXML3_SplitTimes[Čas],\"<=\"&ExportXML3_SplitTimes[[#This Row],[Čas]])","v":476}]
["ŽB","Ransdorfová","Šárka","0140002",3734,77,2983,{"$f":"ExportXML3_SplitTimes[[#This Row],[GivenName]]&\" \"&ExportXML3_SplitTimes[[#This Row],[FamilyName]]","v":"Šárka Ransdorfová"},{"$f":"_xlfn.XLOOKUP(ExportXML3_SplitTimes[[#This Row],[PersonId]],#REF!,#REF!,\"-\")","v":{"$error":"#REF!"}},{"$f":"ExportXML3_SplitTimes[[#This Row],[Kategorie]] & \" - \" & ExportXML3_SplitTimes[[#This Row],[Závodník]] & \" (\" & ExportXML3_SplitTimes[[#This Row],[Číslo čipu]] & \")\"","v":{"$error":"#REF!"}},{"$f":"ExportXML3_SplitTimes[[#This Row],[ControlCode]]","v":77},{"$f":"ExportXML3_SplitTimes[[#This Row],[SplitTimeSeconds]]/3600/24","v":"00:49:43"},{"$f":"COUNTIFS(ExportXML3_SplitTimes[Legenda],ExportXML3_SplitTimes[[#This Row],[Legenda]],ExportXML3_SplitTimes[Čas],\"<=\"&ExportXML3_SplitTimes[[#This Row],[Čas]])","v":664}]
["ŽB","Ransdorfová","Šárka","0140002",3734,71,3311,{"$f":"ExportXML3_SplitTimes[[#This Row],[GivenName]]&\" \"&ExportXML3_SplitTimes[[#This Row],[FamilyName]]","v":"Šárka Ransdorfová"},{"$f":"_xlfn.XLOOKUP(ExportXML3_SplitTimes[[#This Row],[PersonId]],#REF!,#REF!,\"-\")","v":{"$error":"#REF!"}},{"$f":"ExportXML3_SplitTimes[[#This Row],[Kategorie]] & \" - \" & ExportXML3_SplitTimes[[#This Row],[Závodník]] & \" (\" & ExportXML3_SplitTimes[[#This Row],[Číslo čipu]] & \")\"","v":{"$error":"#REF!"}},{"$f":"ExportXML3_SplitTimes[[#This Row],[ControlCode]]","v":71},{"$f":"ExportXML3_SplitTimes[[#This Row],[SplitTimeSeconds]]/3600/24","v":"00:55:11"},{"$f":"COUNTIFS(ExportXML3_SplitTimes[Legenda],ExportXML3_SplitTimes[[#This Row],[Legenda]],ExportXML3_SplitTimes[Čas],\"<=\"&ExportXML3_SplitTimes[[#This Row],[Čas]])","v":711}]
["ŽB","Ransdorfová","Šárka","0140002",3734,74,3525,{"$f":"ExportXML3_SplitTimes[[#This Row],[GivenName]]&\" \"&ExportXML3_SplitTimes[[#This Row],[FamilyName]]","v":"Šárka Ransdorfová"},{"$f":"_xlfn.XLOOKUP(ExportXML3_SplitTimes[[#This Row],[PersonId]],#REF!,#REF!,\"-\")","v":{"$error":"#REF!"}},{"$f":"ExportXML3_SplitTimes[[#This Row],[Kategorie]] & \" - \" & ExportXML3_SplitTimes[[#This Row],[Závodník]] & \" (\" & ExportXML3_SplitTimes[[#This Row],[Číslo čipu]] & \")\"","v":{"$error":"#REF!"}},{"$f":"ExportXML3_SplitTimes[[#This Row],[ControlCode]]","v":74},{"$f":"ExportXML3_SplitTimes[[#This Row],[SplitTimeSeconds]]/3600/24","v":"00:58:45"},{"$f":"COUNTIFS(ExportXML3_SplitTimes[Legenda],ExportXML3_SplitTimes[[#This Row],[Legenda]],ExportXML3_SplitTimes[Čas],\"<=\"&ExportXML3_SplitTimes[[#This Row],[Čas]])","v":731}]
["ŽB","Ransdorfová","Šárka","0140002",3734,100,3708,{"$f":"ExportXML3_SplitTimes[[#This Row],[GivenName]]&\" \"&ExportXML3_SplitTimes[[#This Row],[FamilyName]]","v":"Šárka Ransdorfová"},{"$f":"_xlfn.XLOOKUP(ExportXML3_SplitTimes[[#This Row],[PersonId]],#REF!,#REF!,\"-\")","v":{"$error":"#REF!"}},{"$f":"ExportXML3_SplitTimes[[#This Row],[Kategorie]] & \" - \" & ExportXML3_SplitTimes[[#This Row],[Závodník]] & \" (\" & ExportXML3_SplitTimes[[#This Row],[Číslo čipu]] & \")\"","v":{"$error":"#REF!"}},{"$f":"ExportXML3_SplitTimes[[#This Row],[ControlCode]]","v":100},{"$f":"ExportXML3_SplitTimes[[#This Row],[SplitTimeSeconds]]/3600/24","v":"01:01:48"},{"$f":"COUNTIFS(ExportXML3_SplitTimes[Legenda],ExportXML3_SplitTimes[[#This Row],[Legenda]],ExportXML3_SplitTimes[Čas],\"<=\"&ExportXML3_SplitTimes[[#This Row],[Čas]])","v":748}]
["ŽB","Kateřina","Štěpánková","0190003",3942,72,443,{"$f":"ExportXML3_SplitTimes[[#This Row],[GivenName]]&\" \"&ExportXML3_SplitTimes[[#This Row],[FamilyName]]","v":"Štěpánková Kateřina"},{"$f":"_xlfn.XLOOKUP(ExportXML3_SplitTimes[[#This Row],[PersonId]],#REF!,#REF!,\"-\")","v":{"$error":"#REF!"}},{"$f":"ExportXML3_SplitTimes[[#This Row],[Kategorie]] & \" - \" & ExportXML3_SplitTimes[[#This Row],[Závodník]] & \" (\" & ExportXML3_SplitTimes[[#This Row],[Číslo čipu]] & \")\"","v":{"$error":"#REF!"}},{"$f":"ExportXML3_SplitTimes[[#This Row],[ControlCode]]","v":72},{"$f":"ExportXML3_SplitTimes[[#This Row],[SplitTimeSeconds]]/3600/24","v":"00:07:23"},{"$f":"COUNTIFS(ExportXML3_SplitTimes[Legenda],ExportXML3_SplitTimes[[#This Row],[Legenda]],ExportXML3_SplitTimes[Čas],\"<=\"&ExportXML3_SplitTimes[[#This Row],[Čas]])","v":61}]
["ŽB","Kateřina","Štěpánková","0190003",3942,50,736,{"$f":"ExportXML3_SplitTimes[[#This Row],[GivenName]]&\" \"&ExportXML3_SplitTimes[[#This Row],[FamilyName]]","v":"Štěpánková Kateřina"},{"$f":"_xlfn.XLOOKUP(ExportXML3_SplitTimes[[#This Row],[PersonId]],#REF!,#REF!,\"-\")","v":{"$error":"#REF!"}},{"$f":"ExportXML3_SplitTimes[[#This Row],[Kategorie]] & \" - \" & ExportXML3_SplitTimes[[#This Row],[Závodník]] & \" (\" & ExportXML3_SplitTimes[[#This Row],[Číslo čipu]] & \")\"","v":{"$error":"#REF!"}},{"$f":"ExportXML3_SplitTimes[[#This Row],[ControlCode]]","v":50},{"$f":"ExportXML3_SplitTimes[[#This Row],[SplitTimeSeconds]]/3600/24","v":"00:12:16"},{"$f":"COUNTIFS(ExportXML3_SplitTimes[Legenda],ExportXML3_SplitTimes[[#This Row],[Legenda]],ExportXML3_SplitTimes[Čas],\"<=\"&ExportXML3_SplitTimes[[#This Row],[Čas]])","v":151}]
["ŽB","Kateřina","Štěpánková","0190003",3942,52,888,{"$f":"ExportXML3_SplitTimes[[#This Row],[GivenName]]&\" \"&ExportXML3_SplitTimes[[#This Row],[FamilyName]]","v":"Štěpánková Kateřina"},{"$f":"_xlfn.XLOOKUP(ExportXML3_SplitTimes[[#This Row],[PersonId]],#REF!,#REF!,\"-\")","v":{"$error":"#REF!"}},{"$f":"ExportXML3_SplitTimes[[#This Row],[Kategorie]] & \" - \" & ExportXML3_SplitTimes[[#This Row],[Závodník]] & \" (\" & ExportXML3_SplitTimes[[#This Row],[Číslo čipu]] & \")\"","v":{"$error":"#REF!"}},{"$f":"ExportXML3_SplitTimes[[#This Row],[ControlCode]]","v":52},{"$f":"ExportXML3_SplitTimes[[#This Row],[SplitTimeSeconds]]/3600/24","v":"00:14:48"},{"$f":"COUNTIFS(ExportXML3_SplitTimes[Legenda],ExportXML3_SplitTimes[[#This Row],[Legenda]],ExportXML3_SplitTimes[Čas],\"<=\"&ExportXML3_SplitTimes[[#This Row],[Čas]])","v":188}]
["ŽB","Kateřina","Štěpánková","0190003",3942,53,1160,{"$f":"ExportXML3_SplitTimes[[#This Row],[GivenName]]&\" \"&ExportXML3_SplitTimes[[#This Row],[FamilyName]]","v":"Štěpánková Kateřina"},{"$f":"_xlfn.XLOOKUP(ExportXML3_SplitTimes[[#This Row],[PersonId]],#REF!,#REF!,\"-\")","v":{"$error":"#REF!"}},{"$f":"ExportXML3_SplitTimes[[#This Row],[Kategorie]] & \" - \" & ExportXML3_SplitTimes[[#This Row],[Závodník]] & \" (\" & ExportXML3_SplitTimes[[#This Row],[Číslo čipu]] & \")\"","v":{"$error":"#REF!"}},{"$f":"ExportXML3_SplitTimes[[#This Row],[ControlCode]]","v":53},{"$f":"ExportXML3_SplitTimes[[#This Row],[SplitTimeSeconds]]/3600/24","v":"00:19:20"},{"$f":"COUNTIFS(ExportXML3_SplitTimes[Legenda],ExportXML3_SplitTimes[[#This Row],[Legenda]],ExportXML3_SplitTimes[Čas],\"<=\"&ExportXML3_SplitTimes[[#This Row],[Čas]])","v":264}]
["ŽB","Kateřina","Štěpánková","0190003",3942,54,1465,{"$f":"ExportXML3_SplitTimes[[#This Row],[GivenName]]&\" \"&ExportXML3_SplitTimes[[#This Row],[FamilyName]]","v":"Štěpánková Kateřina"},{"$f":"_xlfn.XLOOKUP(ExportXML3_SplitTimes[[#This Row],[PersonId]],#REF!,#REF!,\"-\")","v":{"$error":"#REF!"}},{"$f":"ExportXML3_SplitTimes[[#This Row],[Kategorie]] & \" - \" & ExportXML3_SplitTimes[[#This Row],[Závodník]] & \" (\" & ExportXML3_SplitTimes[[#This Row],[Číslo čipu]] & \")\"","v":{"$error":"#REF!"}},{"$f":"ExportXML3_SplitTimes[[#This Row],[ControlCode]]","v":54},{"$f":"ExportXML3_SplitTimes[[#This Row],[SplitTimeSeconds]]/3600/24","v":"00:24:25"},{"$f":"COUNTIFS(ExportXML3_SplitTimes[Legenda],ExportXML3_SplitTimes[[#This Row],[Legenda]],ExportXML3_SplitTimes[Čas],\"<=\"&ExportXML3_SplitTimes[[#This Row],[Čas]])","v":328}]
["ŽB","Kateřina","Štěpánková","0190003",3942,67,2301,{"$f":"ExportXML3_SplitTimes[[#This Row],[GivenName]]&\" \"&ExportXML3_SplitTimes[[#This Row],[FamilyName]]","v":"Štěpánková Kateřina"},{"$f":"_xlfn.XLOOKUP(ExportXML3_SplitTimes[[#This Row],[PersonId]],#REF!,#REF!,\"-\")","v":{"$error":"#REF!"}},{"$f":"ExportXML3_SplitTimes[[#This Row],[Kategorie]] & \" - \" & ExportXML3_SplitTimes[[#This Row],[Závodník]] & \" (\" & ExportXML3_SplitTimes[[#This Row],[Číslo čipu]] & \")\"","v":{"$error":"#REF!"}},{"$f":"ExportXML3_SplitTimes[[#This Row],[ControlCode]]","v":67},{"$f":"ExportXML3_SplitTimes[[#This Row],[SplitTimeSeconds]]/3600/24","v":"00:38:21"},{"$f":"COUNTIFS(ExportXML3_SplitTimes[Legenda],ExportXML3_SplitTimes[[#This Row],[Legenda]],ExportXML3_SplitTimes[Čas],\"<=\"&ExportXML3_SplitTimes[[#This Row],[Čas]])","v":524}]
["ŽB","Kateřina","Štěpánková","0190003",3942,75,2511,{"$f":"ExportXML3_SplitTimes[[#This Row],[GivenName]]&\" \"&ExportXML3_SplitTimes[[#This Row],[FamilyName]]","v":"Štěpánková Kateřina"},{"$f":"_xlfn.XLOOKUP(ExportXML3_SplitTimes[[#This Row],[PersonId]],#REF!,#REF!,\"-\")","v":{"$error":"#REF!"}},{"$f":"ExportXML3_SplitTimes[[#This Row],[Kategorie]] & \" - \" & ExportXML3_SplitTimes[[#This Row],[Závodník]] & \" (\" & ExportXML3_SplitTimes[[#This Row],[Číslo čipu]] & \")\"","v":{"$error":"#REF!"}},{"$f":"ExportXML3_SplitTimes[[#This Row],[ControlCode]]","v":75},{"$f":"ExportXML3_SplitTimes[[#This Row],[SplitTimeSeconds]]/3600/24","v":"00:41:51"},{"$f":"COUNTIFS(ExportXML3_SplitTimes[Legenda],ExportXML3_SplitTimes[[#This Row],[Legenda]],ExportXML3_SplitTimes[Čas],\"<=\"&ExportXML3_SplitTimes[[#This Row],[Čas]])","v":567}]
["ŽB","Kateřina","Štěpánková","0190003",3942,77,2757,{"$f":"ExportXML3_SplitTimes[[#This Row],[GivenName]]&\" \"&ExportXML3_SplitTimes[[#This Row],[FamilyName]]","v":"Štěpánková Kateřina"},{"$f":"_xlfn.XLOOKUP(ExportXML3_SplitTimes[[#This Row],[PersonId]],#REF!,#REF!,\"-\")","v":{"$error":"#REF!"}},{"$f":"ExportXML3_SplitTimes[[#This Row],[Kategorie]] & \" - \" & ExportXML3_SplitTimes[[#This Row],[Závodník]] & \" (\" & ExportXML3_SplitTimes[[#This Row],[Číslo čipu]] & \")\"","v":{"$error":"#REF!"}},{"$f":"ExportXML3_SplitTimes[[#This Row],[ControlCode]]","v":77},{"$f":"ExportXML3_SplitTimes[[#This Row],[SplitTimeSeconds]]/3600/24","v":"00:45:57"},{"$f":"COUNTIFS(ExportXML3_SplitTimes[Legenda],ExportXML3_SplitTimes[[#This Row],[Legenda]],ExportXML3_SplitTimes[Čas],\"<=\"&ExportXML3_SplitTimes[[#This Row],[Čas]])","v":621}]
["ŽB","Kateřina","Štěpánková","0190003",3942,71,3099,{"$f":"ExportXML3_SplitTimes[[#This Row],[GivenName]]&\" \"&ExportXML3_SplitTimes[[#This Row],[FamilyName]]","v":"Štěpánková Kateřina"},{"$f":"_xlfn.XLOOKUP(ExportXML3_SplitTimes[[#This Row],[PersonId]],#REF!,#REF!,\"-\")","v":{"$error":"#REF!"}},{"$f":"ExportXML3_SplitTimes[[#This Row],[Kategorie]] & \" - \" & ExportXML3_SplitTimes[[#This Row],[Závodník]] & \" (\" & ExportXML3_SplitTimes[[#This Row],[Číslo čipu]] & \")\"","v":{"$error":"#REF!"}},{"$f":"ExportXML3_SplitTimes[[#This Row],[ControlCode]]","v":71},{"$f":"ExportXML3_SplitTimes[[#This Row],[SplitTimeSeconds]]/3600/24","v":"00:51:39"},{"$f":"COUNTIFS(ExportXML3_SplitTimes[Legenda],ExportXML3_SplitTimes[[#This Row],[Legenda]],ExportXML3_SplitTimes[Čas],\"<=\"&ExportXML3_SplitTimes[[#This Row],[Čas]])","v":681}]
["ŽB","Kateřina","Štěpánková","0190003",3942,74,3483,{"$f":"ExportXML3_SplitTimes[[#This Row],[GivenName]]&\" \"&ExportXML3_SplitTimes[[#This Row],[FamilyName]]","v":"Štěpánková Kateřina"},{"$f":"_xlfn.XLOOKUP(ExportXML3_SplitTimes[[#This Row],[PersonId]],#REF!,#REF!,\"-\")","v":{"$error":"#REF!"}},{"$f":"ExportXML3_SplitTimes[[#This Row],[Kategorie]] & \" - \" & ExportXML3_SplitTimes[[#This Row],[Závodník]] & \" (\" & ExportXML3_SplitTimes[[#This Row],[Číslo čipu]] & \")\"","v":{"$error":"#REF!"}},{"$f":"ExportXML3_SplitTimes[[#This Row],[ControlCode]]","v":74},{"$f":"ExportXML3_SplitTimes[[#This Row],[SplitTimeSeconds]]/3600/24","v":"00:58:03"},{"$f":"COUNTIFS(ExportXML3_SplitTimes[Legenda],ExportXML3_SplitTimes[[#This Row],[Legenda]],ExportXML3_SplitTimes[Čas],\"<=\"&ExportXML3_SplitTimes[[#This Row],[Čas]])","v":726}]
["ŽB","Kateřina","Štěpánková","0190003",3942,100,3901,{"$f":"ExportXML3_SplitTimes[[#This Row],[GivenName]]&\" \"&ExportXML3_SplitTimes[[#This Row],[FamilyName]]","v":"Štěpánková Kateřina"},{"$f":"_xlfn.XLOOKUP(ExportXML3_SplitTimes[[#This Row],[PersonId]],#REF!,#REF!,\"-\")","v":{"$error":"#REF!"}},{"$f":"ExportXML3_SplitTimes[[#This Row],[Kategorie]] & \" - \" & ExportXML3_SplitTimes[[#This Row],[Závodník]] & \" (\" & ExportXML3_SplitTimes[[#This Row],[Číslo čipu]] & \")\"","v":{"$error":"#REF!"}},{"$f":"ExportXML3_SplitTimes[[#This Row],[ControlCode]]","v":100},{"$f":"ExportXML3_SplitTimes[[#This Row],[SplitTimeSeconds]]/3600/24","v":"01:05:01"},{"$f":"COUNTIFS(ExportXML3_SplitTimes[Legenda],ExportXML3_SplitTimes[[#This Row],[Legenda]],ExportXML3_SplitTimes[Čas],\"<=\"&ExportXML3_SplitTimes[[#This Row],[Čas]])","v":759}]
["ŽB","Hanková","Mája","0170002",4413,72,508,{"$f":"ExportXML3_SplitTimes[[#This Row],[GivenName]]&\" \"&ExportXML3_SplitTimes[[#This Row],[FamilyName]]","v":"Mája Hanková"},{"$f":"_xlfn.XLOOKUP(ExportXML3_SplitTimes[[#This Row],[PersonId]],#REF!,#REF!,\"-\")","v":{"$error":"#REF!"}},{"$f":"ExportXML3_SplitTimes[[#This Row],[Kategorie]] & \" - \" & ExportXML3_SplitTimes[[#This Row],[Závodník]] & \" (\" & ExportXML3_SplitTimes[[#This Row],[Číslo čipu]] & \")\"","v":{"$error":"#REF!"}},{"$f":"ExportXML3_SplitTimes[[#This Row],[ControlCode]]","v":72},{"$f":"ExportXML3_SplitTimes[[#This Row],[SplitTimeSeconds]]/3600/24","v":"00:08:28"},{"$f":"COUNTIFS(ExportXML3_SplitTimes[Legenda],ExportXML3_SplitTimes[[#This Row],[Legenda]],ExportXML3_SplitTimes[Čas],\"<=\"&ExportXML3_SplitTimes[[#This Row],[Čas]])","v":82}]
["ŽB","Hanková","Mája","0170002",4413,50,991,{"$f":"ExportXML3_SplitTimes[[#This Row],[GivenName]]&\" \"&ExportXML3_SplitTimes[[#This Row],[FamilyName]]","v":"Mája Hanková"},{"$f":"_xlfn.XLOOKUP(ExportXML3_SplitTimes[[#This Row],[PersonId]],#REF!,#REF!,\"-\")","v":{"$error":"#REF!"}},{"$f":"ExportXML3_SplitTimes[[#This Row],[Kategorie]] & \" - \" & ExportXML3_SplitTimes[[#This Row],[Závodník]] & \" (\" & ExportXML3_SplitTimes[[#This Row],[Číslo čipu]] & \")\"","v":{"$error":"#REF!"}},{"$f":"ExportXML3_SplitTimes[[#This Row],[ControlCode]]","v":50},{"$f":"ExportXML3_SplitTimes[[#This Row],[SplitTimeSeconds]]/3600/24","v":"00:16:31"},{"$f":"COUNTIFS(ExportXML3_SplitTimes[Legenda],ExportXML3_SplitTimes[[#This Row],[Legenda]],ExportXML3_SplitTimes[Čas],\"<=\"&ExportXML3_SplitTimes[[#This Row],[Čas]])","v":222}]
["ŽB","Hanková","Mája","0170002",4413,52,1269,{"$f":"ExportXML3_SplitTimes[[#This Row],[GivenName]]&\" \"&ExportXML3_SplitTimes[[#This Row],[FamilyName]]","v":"Mája Hanková"},{"$f":"_xlfn.XLOOKUP(ExportXML3_SplitTimes[[#This Row],[PersonId]],#REF!,#REF!,\"-\")","v":{"$error":"#REF!"}},{"$f":"ExportXML3_SplitTimes[[#This Row],[Kategorie]] & \" - \" & ExportXML3_SplitTimes[[#This Row],[Závodník]] & \" (\" & ExportXML3_SplitTimes[[#This Row],[Číslo čipu]] & \")\"","v":{"$error":"#REF!"}},{"$f":"ExportXML3_SplitTimes[[#This Row],[ControlCode]]","v":52},{"$f":"ExportXML3_SplitTimes[[#This Row],[SplitTimeSeconds]]/3600/24","v":"00:21:09"},{"$f":"COUNTIFS(ExportXML3_SplitTimes[Legenda],ExportXML3_SplitTimes[[#This Row],[Legenda]],ExportXML3_SplitTimes[Čas],\"<=\"&ExportXML3_SplitTimes[[#This Row],[Čas]])","v":287}]
["ŽB","Hanková","Mája","0170002",4413,53,1691,{"$f":"ExportXML3_SplitTimes[[#This Row],[GivenName]]&\" \"&ExportXML3_SplitTimes[[#This Row],[FamilyName]]","v":"Mája Hanková"},{"$f":"_xlfn.XLOOKUP(ExportXML3_SplitTimes[[#This Row],[PersonId]],#REF!,#REF!,\"-\")","v":{"$error":"#REF!"}},{"$f":"ExportXML3_SplitTimes[[#This Row],[Kategorie]] & \" - \" & ExportXML3_SplitTimes[[#This Row],[Závodník]] & \" (\" & ExportXML3_SplitTimes[[#This Row],[Číslo čipu]] & \")\"","v":{"$error":"#REF!"}},{"$f":"ExportXML3_SplitTimes[[#This Row],[ControlCode]]","v":53},{"$f":"ExportXML3_SplitTimes[[#This Row],[SplitTimeSeconds]]/3600/24","v":"00:28:11"},{"$f":"COUNTIFS(ExportXML3_SplitTimes[Legenda],ExportXML3_SplitTimes[[#This Row],[Legenda]],ExportXML3_SplitTimes[Čas],\"<=\"&ExportXML3_SplitTimes[[#This Row],[Čas]])","v":381}]
["ŽB","Hanková","Mája","0170002",4413,54,2077,{"$f":"ExportXML3_SplitTimes[[#This Row],[GivenName]]&\" \"&ExportXML3_SplitTimes[[#This Row],[FamilyName]]","v":"Mája Hanková"},{"$f":"_xlfn.XLOOKUP(ExportXML3_SplitTimes[[#This Row],[PersonId]],#REF!,#REF!,\"-\")","v":{"$error":"#REF!"}},{"$f":"ExportXML3_SplitTimes[[#This Row],[Kategorie]] & \" - \" & ExportXML3_SplitTimes[[#This Row],[Závodník]] & \" (\" & ExportXML3_SplitTimes[[#This Row],[Číslo čipu]] & \")\"","v":{"$error":"#REF!"}},{"$f":"ExportXML3_SplitTimes[[#This Row],[ControlCode]]","v":54},{"$f":"ExportXML3_SplitTimes[[#This Row],[SplitTimeSeconds]]/3600/24","v":"00:34:37"},{"$f":"COUNTIFS(ExportXML3_SplitTimes[Legenda],ExportXML3_SplitTimes[[#This Row],[Legenda]],ExportXML3_SplitTimes[Čas],\"<=\"&ExportXML3_SplitTimes[[#This Row],[Čas]])","v":477}]
["ŽB","Hanková","Mája","0170002",4413,67,2713,{"$f":"ExportXML3_SplitTimes[[#This Row],[GivenName]]&\" \"&ExportXML3_SplitTimes[[#This Row],[FamilyName]]","v":"Mája Hanková"},{"$f":"_xlfn.XLOOKUP(ExportXML3_SplitTimes[[#This Row],[PersonId]],#REF!,#REF!,\"-\")","v":{"$error":"#REF!"}},{"$f":"ExportXML3_SplitTimes[[#This Row],[Kategorie]] & \" - \" & ExportXML3_SplitTimes[[#This Row],[Závodník]] & \" (\" & ExportXML3_SplitTimes[[#This Row],[Číslo čipu]] & \")\"","v":{"$error":"#REF!"}},{"$f":"ExportXML3_SplitTimes[[#This Row],[ControlCode]]","v":67},{"$f":"ExportXML3_SplitTimes[[#This Row],[SplitTimeSeconds]]/3600/24","v":"00:45:13"},{"$f":"COUNTIFS(ExportXML3_SplitTimes[Legenda],ExportXML3_SplitTimes[[#This Row],[Legenda]],ExportXML3_SplitTimes[Čas],\"<=\"&ExportXML3_SplitTimes[[#This Row],[Čas]])","v":610}]
["ŽB","Hanková","Mája","0170002",4413,75,2940,{"$f":"ExportXML3_SplitTimes[[#This Row],[GivenName]]&\" \"&ExportXML3_SplitTimes[[#This Row],[FamilyName]]","v":"Mája Hanková"},{"$f":"_xlfn.XLOOKUP(ExportXML3_SplitTimes[[#This Row],[PersonId]],#REF!,#REF!,\"-\")","v":{"$error":"#REF!"}},{"$f":"ExportXML3_SplitTimes[[#This Row],[Kategorie]] & \" - \" & ExportXML3_SplitTimes[[#This Row],[Závodník]] & \" (\" & ExportXML3_SplitTimes[[#This Row],[Číslo čipu]] & \")\"","v":{"$error":"#REF!"}},{"$f":"ExportXML3_SplitTimes[[#This Row],[ControlCode]]","v":75},{"$f":"ExportXML3_SplitTimes[[#This Row],[SplitTimeSeconds]]/3600/24","v":"00:49:00"},{"$f":"COUNTIFS(ExportXML3_SplitTimes[Legenda],ExportXML3_SplitTimes[[#This Row],[Legenda]],ExportXML3_SplitTimes[Čas],\"<=\"&ExportXML3_SplitTimes[[#This Row],[Čas]])","v":657}]
["ŽB","Hanková","Mája","0170002",4413,77,3288,{"$f":"ExportXML3_SplitTimes[[#This Row],[GivenName]]&\" \"&ExportXML3_SplitTimes[[#This Row],[FamilyName]]","v":"Mája Hanková"},{"$f":"_xlfn.XLOOKUP(ExportXML3_SplitTimes[[#This Row],[PersonId]],#REF!,#REF!,\"-\")","v":{"$error":"#REF!"}},{"$f":"ExportXML3_SplitTimes[[#This Row],[Kategorie]] & \" - \" & ExportXML3_SplitTimes[[#This Row],[Závodník]] & \" (\" & ExportXML3_SplitTimes[[#This Row],[Číslo čipu]] & \")\"","v":{"$error":"#REF!"}},{"$f":"ExportXML3_SplitTimes[[#This Row],[ControlCode]]","v":77},{"$f":"ExportXML3_SplitTimes[[#This Row],[SplitTimeSeconds]]/3600/24","v":"00:54:48"},{"$f":"COUNTIFS(ExportXML3_SplitTimes[Legenda],ExportXML3_SplitTimes[[#This Row],[Legenda]],ExportXML3_SplitTimes[Čas],\"<=\"&ExportXML3_SplitTimes[[#This Row],[Čas]])","v":708}]
["ŽB","Hanková","Mája","0170002",4413,71,3659,{"$f":"ExportXML3_SplitTimes[[#This Row],[GivenName]]&\" \"&ExportXML3_SplitTimes[[#This Row],[FamilyName]]","v":"Mája Hanková"},{"$f":"_xlfn.XLOOKUP(ExportXML3_SplitTimes[[#This Row],[PersonId]],#REF!,#REF!,\"-\")","v":{"$error":"#REF!"}},{"$f":"ExportXML3_SplitTimes[[#This Row],[Kategorie]] & \" - \" & ExportXML3_SplitTimes[[#This Row],[Závodník]] & \" (\" & ExportXML3_SplitTimes[[#This Row],[Číslo čipu]] & \")\"","v":{"$error":"#REF!"}},{"$f":"ExportXML3_SplitTimes[[#This Row],[ControlCode]]","v":71},{"$f":"ExportXML3_SplitTimes[[#This Row],[SplitTimeSeconds]]/3600/24","v":"01:00:59"},{"$f":"COUNTIFS(ExportXML3_SplitTimes[Legenda],ExportXML3_SplitTimes[[#This Row],[Legenda]],ExportXML3_SplitTimes[Čas],\"<=\"&ExportXML3_SplitTimes[[#This Row],[Čas]])","v":745}]
["ŽB","Hanková","Mája","0170002",4413,74,4244,{"$f":"ExportXML3_SplitTimes[[#This Row],[GivenName]]&\" \"&ExportXML3_SplitTimes[[#This Row],[FamilyName]]","v":"Mája Hanková"},{"$f":"_xlfn.XLOOKUP(ExportXML3_SplitTimes[[#This Row],[PersonId]],#REF!,#REF!,\"-\")","v":{"$error":"#REF!"}},{"$f":"ExportXML3_SplitTimes[[#This Row],[Kategorie]] & \" - \" & ExportXML3_SplitTimes[[#This Row],[Závodník]] & \" (\" & ExportXML3_SplitTimes[[#This Row],[Číslo čipu]] & \")\"","v":{"$error":"#REF!"}},{"$f":"ExportXML3_SplitTimes[[#This Row],[ControlCode]]","v":74},{"$f":"ExportXML3_SplitTimes[[#This Row],[SplitTimeSeconds]]/3600/24","v":"01:10:44"},{"$f":"COUNTIFS(ExportXML3_SplitTimes[Legenda],ExportXML3_SplitTimes[[#This Row],[Legenda]],ExportXML3_SplitTimes[Čas],\"<=\"&ExportXML3_SplitTimes[[#This Row],[Čas]])","v":773}]
["ŽB","Hanková","Mája","0170002",4413,100,4390,{"$f":"ExportXML3_SplitTimes[[#This Row],[GivenName]]&\" \"&ExportXML3_SplitTimes[[#This Row],[FamilyName]]","v":"Mája Hanková"},{"$f":"_xlfn.XLOOKUP(ExportXML3_SplitTimes[[#This Row],[PersonId]],#REF!,#REF!,\"-\")","v":{"$error":"#REF!"}},{"$f":"ExportXML3_SplitTimes[[#This Row],[Kategorie]] & \" - \" & ExportXML3_SplitTimes[[#This Row],[Závodník]] & \" (\" & ExportXML3_SplitTimes[[#This Row],[Číslo čipu]] & \")\"","v":{"$error":"#REF!"}},{"$f":"ExportXML3_SplitTimes[[#This Row],[ControlCode]]","v":100},{"$f":"ExportXML3_SplitTimes[[#This Row],[SplitTimeSeconds]]/3600/24","v":"01:13:10"},{"$f":"COUNTIFS(ExportXML3_SplitTimes[Legenda],ExportXML3_SplitTimes[[#This Row],[Legenda]],ExportXML3_SplitTimes[Čas],\"<=\"&ExportXML3_SplitTimes[[#This Row],[Čas]])","v":778}]
["ŽB","Křivánková","Iva","0220001",5353,72,592,{"$f":"ExportXML3_SplitTimes[[#This Row],[GivenName]]&\" \"&ExportXML3_SplitTimes[[#This Row],[FamilyName]]","v":"Iva Křivánková"},{"$f":"_xlfn.XLOOKUP(ExportXML3_SplitTimes[[#This Row],[PersonId]],#REF!,#REF!,\"-\")","v":{"$error":"#REF!"}},{"$f":"ExportXML3_SplitTimes[[#This Row],[Kategorie]] & \" - \" & ExportXML3_SplitTimes[[#This Row],[Závodník]] & \" (\" & ExportXML3_SplitTimes[[#This Row],[Číslo čipu]] & \")\"","v":{"$error":"#REF!"}},{"$f":"ExportXML3_SplitTimes[[#This Row],[ControlCode]]","v":72},{"$f":"ExportXML3_SplitTimes[[#This Row],[SplitTimeSeconds]]/3600/24","v":"00:09:52"},{"$f":"COUNTIFS(ExportXML3_SplitTimes[Legenda],ExportXML3_SplitTimes[[#This Row],[Legenda]],ExportXML3_SplitTimes[Čas],\"<=\"&ExportXML3_SplitTimes[[#This Row],[Čas]])","v":110}]
["ŽB","Křivánková","Iva","0220001",5353,50,940,{"$f":"ExportXML3_SplitTimes[[#This Row],[GivenName]]&\" \"&ExportXML3_SplitTimes[[#This Row],[FamilyName]]","v":"Iva Křivánková"},{"$f":"_xlfn.XLOOKUP(ExportXML3_SplitTimes[[#This Row],[PersonId]],#REF!,#REF!,\"-\")","v":{"$error":"#REF!"}},{"$f":"ExportXML3_SplitTimes[[#This Row],[Kategorie]] & \" - \" & ExportXML3_SplitTimes[[#This Row],[Závodník]] & \" (\" & ExportXML3_SplitTimes[[#This Row],[Číslo čipu]] & \")\"","v":{"$error":"#REF!"}},{"$f":"ExportXML3_SplitTimes[[#This Row],[ControlCode]]","v":50},{"$f":"ExportXML3_SplitTimes[[#This Row],[SplitTimeSeconds]]/3600/24","v":"00:15:40"},{"$f":"COUNTIFS(ExportXML3_SplitTimes[Legenda],ExportXML3_SplitTimes[[#This Row],[Legenda]],ExportXML3_SplitTimes[Čas],\"<=\"&ExportXML3_SplitTimes[[#This Row],[Čas]])","v":206}]
["ŽB","Křivánková","Iva","0220001",5353,52,1156,{"$f":"ExportXML3_SplitTimes[[#This Row],[GivenName]]&\" \"&ExportXML3_SplitTimes[[#This Row],[FamilyName]]","v":"Iva Křivánková"},{"$f":"_xlfn.XLOOKUP(ExportXML3_SplitTimes[[#This Row],[PersonId]],#REF!,#REF!,\"-\")","v":{"$error":"#REF!"}},{"$f":"ExportXML3_SplitTimes[[#This Row],[Kategorie]] & \" - \" & ExportXML3_SplitTimes[[#This Row],[Závodník]] & \" (\" & ExportXML3_SplitTimes[[#This Row],[Číslo čipu]] & \")\"","v":{"$error":"#REF!"}},{"$f":"ExportXML3_SplitTimes[[#This Row],[ControlCode]]","v":52},{"$f":"ExportXML3_SplitTimes[[#This Row],[SplitTimeSeconds]]/3600/24","v":"00:19:16"},{"$f":"COUNTIFS(ExportXML3_SplitTimes[Legenda],ExportXML3_SplitTimes[[#This Row],[Legenda]],ExportXML3_SplitTimes[Čas],\"<=\"&ExportXML3_SplitTimes[[#This Row],[Čas]])","v":262}]
["ŽB","Křivánková","Iva","0220001",5353,53,1888,{"$f":"ExportXML3_SplitTimes[[#This Row],[GivenName]]&\" \"&ExportXML3_SplitTimes[[#This Row],[FamilyName]]","v":"Iva Křivánková"},{"$f":"_xlfn.XLOOKUP(ExportXML3_SplitTimes[[#This Row],[PersonId]],#REF!,#REF!,\"-\")","v":{"$error":"#REF!"}},{"$f":"ExportXML3_SplitTimes[[#This Row],[Kategorie]] & \" - \" & ExportXML3_SplitTimes[[#This Row],[Závodník]] & \" (\" & ExportXML3_SplitTimes[[#This Row],[Číslo čipu]] & \")\"","v":{"$error":"#REF!"}},{"$f":"ExportXML3_SplitTimes[[#This Row],[ControlCode]]","v":53},{"$f":"ExportXML3_SplitTimes[[#This Row],[SplitTimeSeconds]]/3600/24","v":"00:31:28"},{"$f":"COUNTIFS(ExportXML3_SplitTimes[Legenda],ExportXML3_SplitTimes[[#This Row],[Legenda]],ExportXML3_SplitTimes[Čas],\"<=\"&ExportXML3_SplitTimes[[#This Row],[Čas]])","v":432}]
["ŽB","Křivánková","Iva","0220001",5353,54,2341,{"$f":"ExportXML3_SplitTimes[[#This Row],[GivenName]]&\" \"&ExportXML3_SplitTimes[[#This Row],[FamilyName]]","v":"Iva Křivánková"},{"$f":"_xlfn.XLOOKUP(ExportXML3_SplitTimes[[#This Row],[PersonId]],#REF!,#REF!,\"-\")","v":{"$error":"#REF!"}},{"$f":"ExportXML3_SplitTimes[[#This Row],[Kategorie]] & \" - \" & ExportXML3_SplitTimes[[#This Row],[Závodník]] & \" (\" & ExportXML3_SplitTimes[[#This Row],[Číslo čipu]] & \")\"","v":{"$error":"#REF!"}},{"$f":"ExportXML3_SplitTimes[[#This Row],[ControlCode]]","v":54},{"$f":"ExportXML3_SplitTimes[[#This Row],[SplitTimeSeconds]]/3600/24","v":"00:39:01"},{"$f":"COUNTIFS(ExportXML3_SplitTimes[Legenda],ExportXML3_SplitTimes[[#This Row],[Legenda]],ExportXML3_SplitTimes[Čas],\"<=\"&ExportXML3_SplitTimes[[#This Row],[Čas]])","v":531}]
["ŽB","Křivánková","Iva","0220001",5353,67,3515,{"$f":"ExportXML3_SplitTimes[[#This Row],[GivenName]]&\" \"&ExportXML3_SplitTimes[[#This Row],[FamilyName]]","v":"Iva Křivánková"},{"$f":"_xlfn.XLOOKUP(ExportXML3_SplitTimes[[#This Row],[PersonId]],#REF!,#REF!,\"-\")","v":{"$error":"#REF!"}},{"$f":"ExportXML3_SplitTimes[[#This Row],[Kategorie]] & \" - \" & ExportXML3_SplitTimes[[#This Row],[Závodník]] & \" (\" & ExportXML3_SplitTimes[[#This Row],[Číslo čipu]] & \")\"","v":{"$error":"#REF!"}},{"$f":"ExportXML3_SplitTimes[[#This Row],[ControlCode]]","v":67},{"$f":"ExportXML3_SplitTimes[[#This Row],[SplitTimeSeconds]]/3600/24","v":"00:58:35"},{"$f":"COUNTIFS(ExportXML3_SplitTimes[Legenda],ExportXML3_SplitTimes[[#This Row],[Legenda]],ExportXML3_SplitTimes[Čas],\"<=\"&ExportXML3_SplitTimes[[#This Row],[Čas]])","v":728}]
["ŽB","Křivánková","Iva","0220001",5353,75,3857,{"$f":"ExportXML3_SplitTimes[[#This Row],[GivenName]]&\" \"&ExportXML3_SplitTimes[[#This Row],[FamilyName]]","v":"Iva Křivánková"},{"$f":"_xlfn.XLOOKUP(ExportXML3_SplitTimes[[#This Row],[PersonId]],#REF!,#REF!,\"-\")","v":{"$error":"#REF!"}},{"$f":"ExportXML3_SplitTimes[[#This Row],[Kategorie]] & \" - \" & ExportXML3_SplitTimes[[#This Row],[Závodník]] & \" (\" & ExportXML3_SplitTimes[[#This Row],[Číslo čipu]] & \")\"","v":{"$error":"#REF!"}},{"$f":"ExportXML3_SplitTimes[[#This Row],[ControlCode]]","v":75},{"$f":"ExportXML3_SplitTimes[[#This Row],[SplitTimeSeconds]]/3600/24","v":"01:04:17"},{"$f":"COUNTIFS(ExportXML3_SplitTimes[Legenda],ExportXML3_SplitTimes[[#This Row],[Legenda]],ExportXML3_SplitTimes[Čas],\"<=\"&ExportXML3_SplitTimes[[#This Row],[Čas]])","v":758}]
["ŽB","Křivánková","Iva","0220001",5353,77,4186,{"$f":"ExportXML3_SplitTimes[[#This Row],[GivenName]]&\" \"&ExportXML3_SplitTimes[[#This Row],[FamilyName]]","v":"Iva Křivánková"},{"$f":"_xlfn.XLOOKUP(ExportXML3_SplitTimes[[#This Row],[PersonId]],#REF!,#REF!,\"-\")","v":{"$error":"#REF!"}},{"$f":"ExportXML3_SplitTimes[[#This Row],[Kategorie]] & \" - \" & ExportXML3_SplitTimes[[#This Row],[Závodník]] & \" (\" & ExportXML3_SplitTimes[[#This Row],[Číslo čipu]] & \")\"","v":{"$error":"#REF!"}},{"$f":"ExportXML3_SplitTimes[[#This Row],[ControlCode]]","v":77},{"$f":"ExportXML3_SplitTimes[[#This Row],[SplitTimeSeconds]]/3600/24","v":"01:09:46"},{"$f":"COUNTIFS(ExportXML3_SplitTimes[Legenda],ExportXML3_SplitTimes[[#This Row],[Legenda]],ExportXML3_SplitTimes[Čas],\"<=\"&ExportXML3_SplitTimes[[#This Row],[Čas]])","v":769}]
["ŽB","Křivánková","Iva","0220001",5353,71,4582,{"$f":"ExportXML3_SplitTimes[[#This Row],[GivenName]]&\" \"&ExportXML3_SplitTimes[[#This Row],[FamilyName]]","v":"Iva Křivánková"},{"$f":"_xlfn.XLOOKUP(ExportXML3_SplitTimes[[#This Row],[PersonId]],#REF!,#REF!,\"-\")","v":{"$error":"#REF!"}},{"$f":"ExportXML3_SplitTimes[[#This Row],[Kategorie]] & \" - \" & ExportXML3_SplitTimes[[#This Row],[Závodník]] & \" (\" & ExportXML3_SplitTimes[[#This Row],[Číslo čipu]] & \")\"","v":{"$error":"#REF!"}},{"$f":"ExportXML3_SplitTimes[[#This Row],[ControlCode]]","v":71},{"$f":"ExportXML3_SplitTimes[[#This Row],[SplitTimeSeconds]]/3600/24","v":"01:16:22"},{"$f":"COUNTIFS(ExportXML3_SplitTimes[Legenda],ExportXML3_SplitTimes[[#This Row],[Legenda]],ExportXML3_SplitTimes[Čas],\"<=\"&ExportXML3_SplitTimes[[#This Row],[Čas]])","v":783}]
["ŽB","Křivánková","Iva","0220001",5353,74,5029,{"$f":"ExportXML3_SplitTimes[[#This Row],[GivenName]]&\" \"&ExportXML3_SplitTimes[[#This Row],[FamilyName]]","v":"Iva Křivánková"},{"$f":"_xlfn.XLOOKUP(ExportXML3_SplitTimes[[#This Row],[PersonId]],#REF!,#REF!,\"-\")","v":{"$error":"#REF!"}},{"$f":"ExportXML3_SplitTimes[[#This Row],[Kategorie]] & \" - \" & ExportXML3_SplitTimes[[#This Row],[Závodník]] & \" (\" & ExportXML3_SplitTimes[[#This Row],[Číslo čipu]] & \")\"","v":{"$error":"#REF!"}},{"$f":"ExportXML3_SplitTimes[[#This Row],[ControlCode]]","v":74},{"$f":"ExportXML3_SplitTimes[[#This Row],[SplitTimeSeconds]]/3600/24","v":"01:23:49"},{"$f":"COUNTIFS(ExportXML3_SplitTimes[Legenda],ExportXML3_SplitTimes[[#This Row],[Legenda]],ExportXML3_SplitTimes[Čas],\"<=\"&ExportXML3_SplitTimes[[#This Row],[Čas]])","v":791}]
["ŽB","Křivánková","Iva","0220001",5353,100,5309,{"$f":"ExportXML3_SplitTimes[[#This Row],[GivenName]]&\" \"&ExportXML3_SplitTimes[[#This Row],[FamilyName]]","v":"Iva Křivánková"},{"$f":"_xlfn.XLOOKUP(ExportXML3_SplitTimes[[#This Row],[PersonId]],#REF!,#REF!,\"-\")","v":{"$error":"#REF!"}},{"$f":"ExportXML3_SplitTimes[[#This Row],[Kategorie]] & \" - \" & ExportXML3_SplitTimes[[#This Row],[Závodník]] & \" (\" & ExportXML3_SplitTimes[[#This Row],[Číslo čipu]] & \")\"","v":{"$error":"#REF!"}},{"$f":"ExportXML3_SplitTimes[[#This Row],[ControlCode]]","v":100},{"$f":"ExportXML3_SplitTimes[[#This Row],[SplitTimeSeconds]]/3600/24","v":"01:28:29"},{"$f":"COUNTIFS(ExportXML3_SplitTimes[Legenda],ExportXML3_SplitTimes[[#This Row],[Legenda]],ExportXML3_SplitTimes[Čas],\"<=\"&ExportXML3_SplitTimes[[#This Row],[Čas]])","v":796}]